Workbook

Sheet Contacts
A1: First name | B1: Last name | C1: Group | D1: Phone | E1: Email | F1: Street | G1: City | H1: State | I1: ZIP | J1: Birthday | K1: Next birthday | L1: Days away | M1: Turns | N1: Name on envelope | O1: Holiday card | P1: Card sent | Q1: Mailing address | R1: Notes | S1: Birth month
A2: Linda | B2: Morales | C2: Family | D2: (312) 555-0142 | E2: linda.morales@email.com | F2: 2218 W Belden Ave | G2: Chicago | H2: IL | I2: 60647 | J2: 21258 | K2: =IF(ISNUMBER(J2),DATE(YEAR(Summary!$B$2)+IF(DATE(YEAR(Summary!$B$2),MONTH(J2+0),DAY(J2+0))<Summary!$B$2,1,0),MONTH(J2+0),DAY(J2+0)),"") -> 46460 | L2: =IF(ISNUMBER(K2),K2-Summary!$B$2,"") -> 130 | M2: =IF(ISNUMBER(J2),YEAR(Summary!$B$2)-YEAR(J2+0)+IF(DATE(YEAR(Summary!$B$2),MONTH(J2+0),DAY(J2+0))<Summary!$B$2,1,0),"") -> 69 | N2: Mom and Dad | O2: TRUE | P2: TRUE | Q2: =IF(ISBLANK(F2),"",IF(ISBLANK(N2),A2&" "&B2,N2)&", "&F2&", "&G2&", "&H2&" "&I2) -> Mom and Dad, 2218 W Belden Ave, Chicago, IL 60647 | S2: =IF(ISNUMBER(J2),MONTH(J2+0),"") -> 3
A3: Daniel | B3: Morales | C3: Family | D3: (773) 555-0198 | E3: dan.morales@email.com | F3: 415 Maple St | G3: Evanston | H3: IL | I3: 60201 | J3: 31735 | K3: =IF(ISNUMBER(J3),DATE(YEAR(Summary!$B$2)+IF(DATE(YEAR(Summary!$B$2),MONTH(J3+0),DAY(J3+0))<Summary!$B$2,1,0),MONTH(J3+0),DAY(J3+0)),"") -> 46345 | L3: =IF(ISNUMBER(K3),K3-Summary!$B$2,"") -> 15 | M3: =IF(ISNUMBER(J3),YEAR(Summary!$B$2)-YEAR(J3+0)+IF(DATE(YEAR(Summary!$B$2),MONTH(J3+0),DAY(J3+0))<Summary!$B$2,1,0),"") -> 40 | N3: The Morales family | O3: TRUE | P3: FALSE | Q3: =IF(ISBLANK(F3),"",IF(ISBLANK(N3),A3&" "&B3,N3)&", "&F3&", "&G3&", "&H3&" "&I3) -> The Morales family, 415 Maple St, Evanston, IL 60201 | R3: Kids: Mia (8), Leo (5) | S3: =IF(ISNUMBER(J3),MONTH(J3+0),"") -> 11
A4: Rosa | B4: Alvarez | C4: Family | D4: (708) 555-0117 | E4: rosa.alvarez@email.com | F4: 90 Oak Park Ave | G4: Oak Park | H4: IL | I4: 60302 | J4: 18081 | K4: =IF(ISNUMBER(J4),DATE(YEAR(Summary!$B$2)+IF(DATE(YEAR(Summary!$B$2),MONTH(J4+0),DAY(J4+0))<Summary!$B$2,1,0),MONTH(J4+0),DAY(J4+0)),"") -> 46570 | L4: =IF(ISNUMBER(K4),K4-Summary!$B$2,"") -> 240 | M4: =IF(ISNUMBER(J4),YEAR(Summary!$B$2)-YEAR(J4+0)+IF(DATE(YEAR(Summary!$B$2),MONTH(J4+0),DAY(J4+0))<Summary!$B$2,1,0),"") -> 78 | N4: Aunt Rosa | O4: TRUE | P4: TRUE | Q4: =IF(ISBLANK(F4),"",IF(ISBLANK(N4),A4&" "&B4,N4)&", "&F4&", "&G4&", "&H4&" "&I4) -> Aunt Rosa, 90 Oak Park Ave, Oak Park, IL 60302 | R4: Likes handwritten cards | S4: =IF(ISNUMBER(J4),MONTH(J4+0),"") -> 7
A5: Priya | B5: Shah | C5: Friends | D5: (312) 555-0163 | E5: priya.shah@email.com | F5: 1840 N Halsted St, Apt 3B | G5: Chicago | H5: IL | I5: 60614 | J5: 33204 | K5: =IF(ISNUMBER(J5),DATE(YEAR(Summary!$B$2)+IF(DATE(YEAR(Summary!$B$2),MONTH(J5+0),DAY(J5+0))<Summary!$B$2,1,0),MONTH(J5+0),DAY(J5+0)),"") -> 46353 | L5: =IF(ISNUMBER(K5),K5-Summary!$B$2,"") -> 23 | M5: =IF(ISNUMBER(J5),YEAR(Summary!$B$2)-YEAR(J5+0)+IF(DATE(YEAR(Summary!$B$2),MONTH(J5+0),DAY(J5+0))<Summary!$B$2,1,0),"") -> 36 | N5: Priya and Sam | O5: TRUE | P5: FALSE | Q5: =IF(ISBLANK(F5),"",IF(ISBLANK(N5),A5&" "&B5,N5)&", "&F5&", "&G5&", "&H5&" "&I5) -> Priya and Sam, 1840 N Halsted St, Apt 3B, Chicago, IL 60614 | S5: =IF(ISNUMBER(J5),MONTH(J5+0),"") -> 11
A6: Marcus | B6: Bell | C6: Friends | D6: (617) 555-0131 | E6: marcus.bell@email.com | F6: 22 Elm St | G6: Somerville | H6: MA | I6: 02144 | J6: 32151 | K6: =IF(ISNUMBER(J6),DATE(YEAR(Summary!$B$2)+IF(DATE(YEAR(Summary!$B$2),MONTH(J6+0),DAY(J6+0))<Summary!$B$2,1,0),MONTH(J6+0),DAY(J6+0)),"") -> 46396 | L6: =IF(ISNUMBER(K6),K6-Summary!$B$2,"") -> 66 | M6: =IF(ISNUMBER(J6),YEAR(Summary!$B$2)-YEAR(J6+0)+IF(DATE(YEAR(Summary!$B$2),MONTH(J6+0),DAY(J6+0))<Summary!$B$2,1,0),"") -> 39 | O6: TRUE | P6: FALSE | Q6: =IF(ISBLANK(F6),"",IF(ISBLANK(N6),A6&" "&B6,N6)&", "&F6&", "&G6&", "&H6&" "&I6) -> Marcus Bell, 22 Elm St, Somerville, MA 02144 | R6: College roommate | S6: =IF(ISNUMBER(J6),MONTH(J6+0),"") -> 1
A7: Hannah | B7: Kim | C7: Friends | D7: (206) 555-0185 | E7: hannah.kim@email.com | F7: 5120 Ballard Ave NW | G7: Seattle | H7: WA | I7: 98107 | J7: 33575 | K7: =IF(ISNUMBER(J7),DATE(YEAR(Summary!$B$2)+IF(DATE(YEAR(Summary!$B$2),MONTH(J7+0),DAY(J7+0))<Summary!$B$2,1,0),MONTH(J7+0),DAY(J7+0)),"") -> 46359 | L7: =IF(ISNUMBER(K7),K7-Summary!$B$2,"") -> 29 | M7: =IF(ISNUMBER(J7),YEAR(Summary!$B$2)-YEAR(J7+0)+IF(DATE(YEAR(Summary!$B$2),MONTH(J7+0),DAY(J7+0))<Summary!$B$2,1,0),"") -> 35 | N7: The Kim family | O7: TRUE | P7: FALSE | Q7: =IF(ISBLANK(F7),"",IF(ISBLANK(N7),A7&" "&B7,N7)&", "&F7&", "&G7&", "&H7&" "&I7) -> The Kim family, 5120 Ballard Ave NW, Seattle, WA 98107 | S7: =IF(ISNUMBER(J7),MONTH(J7+0),"") -> 12
A8: Tom | B8: Becker | C8: Neighbors | D8: (312) 555-0109 | E8: tbecker@email.com | F8: 2216 W Belden Ave | G8: Chicago | H8: IL | I8: 60647 | J8: 22787 | K8: =IF(ISNUMBER(J8),DATE(YEAR(Summary!$B$2)+IF(DATE(YEAR(Summary!$B$2),MONTH(J8+0),DAY(J8+0))<Summary!$B$2,1,0),MONTH(J8+0),DAY(J8+0)),"") -> 46528 | L8: =IF(ISNUMBER(K8),K8-Summary!$B$2,"") -> 198 | M8: =IF(ISNUMBER(J8),YEAR(Summary!$B$2)-YEAR(J8+0)+IF(DATE(YEAR(Summary!$B$2),MONTH(J8+0),DAY(J8+0))<Summary!$B$2,1,0),"") -> 65 | N8: Tom and Ellen | O8: TRUE | P8: TRUE | Q8: =IF(ISBLANK(F8),"",IF(ISBLANK(N8),A8&" "&B8,N8)&", "&F8&", "&G8&", "&H8&" "&I8) -> Tom and Ellen, 2216 W Belden Ave, Chicago, IL 60647 | R8: Has our spare key | S8: =IF(ISNUMBER(J8),MONTH(J8+0),"") -> 5
A9: Ellen | B9: Becker | C9: Neighbors | D9: (312) 555-0110 | E9: ellen.becker@email.com | F9: 2216 W Belden Ave | G9: Chicago | H9: IL | I9: 60647 | J9: 23689 | K9: =IF(ISNUMBER(J9),DATE(YEAR(Summary!$B$2)+IF(DATE(YEAR(Summary!$B$2),MONTH(J9+0),DAY(J9+0))<Summary!$B$2,1,0),MONTH(J9+0),DAY(J9+0)),"") -> 46334 | L9: =IF(ISNUMBER(K9),K9-Summary!$B$2,"") -> 4 | M9: =IF(ISNUMBER(J9),YEAR(Summary!$B$2)-YEAR(J9+0)+IF(DATE(YEAR(Summary!$B$2),MONTH(J9+0),DAY(J9+0))<Summary!$B$2,1,0),"") -> 62 | O9: FALSE | P9: FALSE | Q9: =IF(ISBLANK(F9),"",IF(ISBLANK(N9),A9&" "&B9,N9)&", "&F9&", "&G9&", "&H9&" "&I9) -> Ellen Becker, 2216 W Belden Ave, Chicago, IL 60647 | R9: Same card as Tom | S9: =IF(ISNUMBER(J9),MONTH(J9+0),"") -> 11
A10: Grace | B10: Okafor | C10: Work | D10: (312) 555-0176 | E10: grace.okafor@work.com | F10: 300 N LaSalle St | G10: Chicago | H10: IL | I10: 60654 | J10: 30589 | K10: =IF(ISNUMBER(J10),DATE(YEAR(Summary!$B$2)+IF(DATE(YEAR(Summary!$B$2),MONTH(J10+0),DAY(J10+0))<Summary!$B$2,1,0),MONTH(J10+0),DAY(J10+0)),"") -> 46660 | L10: =IF(ISNUMBER(K10),K10-Summary!$B$2,"") -> 330 | M10: =IF(ISNUMBER(J10),YEAR(Summary!$B$2)-YEAR(J10+0)+IF(DATE(YEAR(Summary!$B$2),MONTH(J10+0),DAY(J10+0))<Summary!$B$2,1,0),"") -> 44 | O10: FALSE | P10: FALSE | Q10: =IF(ISBLANK(F10),"",IF(ISBLANK(N10),A10&" "&B10,N10)&", "&F10&", "&G10&", "&H10&" "&I10) -> Grace Okafor, 300 N LaSalle St, Chicago, IL 60654 | R10: Manager | S10: =IF(ISNUMBER(J10),MONTH(J10+0),"") -> 9
A11: Jason | B11: Wu | C11: Work | D11: (312) 555-0127 | E11: jason.wu@work.com | J11: 34315 | K11: =IF(ISNUMBER(J11),DATE(YEAR(Summary!$B$2)+IF(DATE(YEAR(Summary!$B$2),MONTH(J11+0),DAY(J11+0))<Summary!$B$2,1,0),MONTH(J11+0),DAY(J11+0)),"") -> 46368 | L11: =IF(ISNUMBER(K11),K11-Summary!$B$2,"") -> 38 | M11: =IF(ISNUMBER(J11),YEAR(Summary!$B$2)-YEAR(J11+0)+IF(DATE(YEAR(Summary!$B$2),MONTH(J11+0),DAY(J11+0))<Summary!$B$2,1,0),"") -> 33 | O11: FALSE | P11: FALSE | Q11: =IF(ISBLANK(F11),"",IF(ISBLANK(N11),A11&" "&B11,N11)&", "&F11&", "&G11&", "&H11&" "&I11) | S11: =IF(ISNUMBER(J11),MONTH(J11+0),"") -> 12
A12: Carol | B12: Jensen | C12: Friends | D12: (414) 555-0152 | E12: carol.jensen@email.com | F12: 781 E Lake Dr | G12: Milwaukee | H12: WI | I12: 53202 | J12: 20138 | K12: =IF(ISNUMBER(J12),DATE(YEAR(Summary!$B$2)+IF(DATE(YEAR(Summary!$B$2),MONTH(J12+0),DAY(J12+0))<Summary!$B$2,1,0),MONTH(J12+0),DAY(J12+0)),"") -> 46436 | L12: =IF(ISNUMBER(K12),K12-Summary!$B$2,"") -> 106 | M12: =IF(ISNUMBER(J12),YEAR(Summary!$B$2)-YEAR(J12+0)+IF(DATE(YEAR(Summary!$B$2),MONTH(J12+0),DAY(J12+0))<Summary!$B$2,1,0),"") -> 72 | N12: Carol and Pete | O12: TRUE | P12: TRUE | Q12: =IF(ISBLANK(F12),"",IF(ISBLANK(N12),A12&" "&B12,N12)&", "&F12&", "&G12&", "&H12&" "&I12) -> Carol and Pete, 781 E Lake Dr, Milwaukee, WI 53202 | S12: =IF(ISNUMBER(J12),MONTH(J12+0),"") -> 2
A13: Dr. Anita | B13: Rao | C13: Services | D13: (312) 555-0190 | E13: frontdesk@raodental.com | F13: 1100 N State St | G13: Chicago | H13: IL | I13: 60610 | K13: =IF(ISNUMBER(J13),DATE(YEAR(Summary!$B$2)+IF(DATE(YEAR(Summary!$B$2),MONTH(J13+0),DAY(J13+0))<Summary!$B$2,1,0),MONTH(J13+0),DAY(J13+0)),"") | L13: =IF(ISNUMBER(K13),K13-Summary!$B$2,"") | M13: =IF(ISNUMBER(J13),YEAR(Summary!$B$2)-YEAR(J13+0)+IF(DATE(YEAR(Summary!$B$2),MONTH(J13+0),DAY(J13+0))<Summary!$B$2,1,0),"") | O13: FALSE | P13: FALSE | Q13: =IF(ISBLANK(F13),"",IF(ISBLANK(N13),A13&" "&B13,N13)&", "&F13&", "&G13&", "&H13&" "&I13) -> Dr. Anita Rao, 1100 N State St, Chicago, IL 60610 | R13: Dentist | S13: =IF(ISNUMBER(J13),MONTH(J13+0),"")
A14: Mike | B14: Duran | C14: Services | D14: (773) 555-0144 | K14: =IF(ISNUMBER(J14),DATE(YEAR(Summary!$B$2)+IF(DATE(YEAR(Summary!$B$2),MONTH(J14+0),DAY(J14+0))<Summary!$B$2,1,0),MONTH(J14+0),DAY(J14+0)),"") | L14: =IF(ISNUMBER(K14),K14-Summary!$B$2,"") | M14: =IF(ISNUMBER(J14),YEAR(Summary!$B$2)-YEAR(J14+0)+IF(DATE(YEAR(Summary!$B$2),MONTH(J14+0),DAY(J14+0))<Summary!$B$2,1,0),"") | O14: FALSE | P14: FALSE | Q14: =IF(ISBLANK(F14),"",IF(ISBLANK(N14),A14&" "&B14,N14)&", "&F14&", "&G14&", "&H14&" "&I14) | R14: Plumber, Duran Plumbing | S14: =IF(ISNUMBER(J14),MONTH(J14+0),"")
A15: Sofia | B15: Morales | C15: Family | D15: (872) 555-0168 | E15: sofia.m@email.com | F15: 66 Lincoln Ave, Apt 2 | G15: Brooklyn | H15: NY | I15: 11225 | J15: 35744 | K15: =IF(ISNUMBER(J15),DATE(YEAR(Summary!$B$2)+IF(DATE(YEAR(Summary!$B$2),MONTH(J15+0),DAY(J15+0))<Summary!$B$2,1,0),MONTH(J15+0),DAY(J15+0)),"") -> 46336 | L15: =IF(ISNUMBER(K15),K15-Summary!$B$2,"") -> 6 | M15: =IF(ISNUMBER(J15),YEAR(Summary!$B$2)-YEAR(J15+0)+IF(DATE(YEAR(Summary!$B$2),MONTH(J15+0),DAY(J15+0))<Summary!$B$2,1,0),"") -> 29 | O15: TRUE | P15: FALSE | Q15: =IF(ISBLANK(F15),"",IF(ISBLANK(N15),A15&" "&B15,N15)&", "&F15&", "&G15&", "&H15&" "&I15) -> Sofia Morales, 66 Lincoln Ave, Apt 2, Brooklyn, NY 11225 | R15: Sister | S15: =IF(ISNUMBER(J15),MONTH(J15+0),"") -> 11
A16: Ben | B16: Carter | C16: Friends | D16: (512) 555-0121 | E16: ben.carter@email.com | F16: 4308 Avenue F | G16: Austin | H16: TX | I16: 78751 | J16: 32684 | K16: =IF(ISNUMBER(J16),DATE(YEAR(Summary!$B$2)+IF(DATE(YEAR(Summary!$B$2),MONTH(J16+0),DAY(J16+0))<Summary!$B$2,1,0),MONTH(J16+0),DAY(J16+0)),"") -> 46563 | L16: =IF(ISNUMBER(K16),K16-Summary!$B$2,"") -> 233 | M16: =IF(ISNUMBER(J16),YEAR(Summary!$B$2)-YEAR(J16+0)+IF(DATE(YEAR(Summary!$B$2),MONTH(J16+0),DAY(J16+0))<Summary!$B$2,1,0),"") -> 38 | N16: Ben and Jess | O16: TRUE | P16: FALSE | Q16: =IF(ISBLANK(F16),"",IF(ISBLANK(N16),A16&" "&B16,N16)&", "&F16&", "&G16&", "&H16&" "&I16) -> Ben and Jess, 4308 Avenue F, Austin, TX 78751 | S16: =IF(ISNUMBER(J16),MONTH(J16+0),"") -> 6
A17: Joyce | B17: Hill | C17: Neighbors | D17: (312) 555-0139 | F17: 2220 W Belden Ave | G17: Chicago | H17: IL | I17: 60647 | J17: 17160 | K17: =IF(ISNUMBER(J17),DATE(YEAR(Summary!$B$2)+IF(DATE(YEAR(Summary!$B$2),MONTH(J17+0),DAY(J17+0))<Summary!$B$2,1,0),MONTH(J17+0),DAY(J17+0)),"") -> 46380 | L17: =IF(ISNUMBER(K17),K17-Summary!$B$2,"") -> 50 | M17: =IF(ISNUMBER(J17),YEAR(Summary!$B$2)-YEAR(J17+0)+IF(DATE(YEAR(Summary!$B$2),MONTH(J17+0),DAY(J17+0))<Summary!$B$2,1,0),"") -> 80 | O17: TRUE | P17: FALSE | Q17: =IF(ISBLANK(F17),"",IF(ISBLANK(N17),A17&" "&B17,N17)&", "&F17&", "&G17&", "&H17&" "&I17) -> Joyce Hill, 2220 W Belden Ave, Chicago, IL 60647 | R17: Bring cookies at Christmas | S17: =IF(ISNUMBER(J17),MONTH(J17+0),"") -> 12
K18: =IF(ISNUMBER(J18),DATE(YEAR(Summary!$B$2)+IF(DATE(YEAR(Summary!$B$2),MONTH(J18+0),DAY(J18+0))<Summary!$B$2,1,0),MONTH(J18+0),DAY(J18+0)),"") | L18: =IF(ISNUMBER(K18),K18-Summary!$B$2,"") | M18: =IF(ISNUMBER(J18),YEAR(Summary!$B$2)-YEAR(J18+0)+IF(DATE(YEAR(Summary!$B$2),MONTH(J18+0),DAY(J18+0))<Summary!$B$2,1,0),"") | O18: FALSE | P18: FALSE | Q18: =IF(ISBLANK(F18),"",IF(ISBLANK(N18),A18&" "&B18,N18)&", "&F18&", "&G18&", "&H18&" "&I18) | S18: =IF(ISNUMBER(J18),MONTH(J18+0),"")
K19: =IF(ISNUMBER(J19),DATE(YEAR(Summary!$B$2)+IF(DATE(YEAR(Summary!$B$2),MONTH(J19+0),DAY(J19+0))<Summary!$B$2,1,0),MONTH(J19+0),DAY(J19+0)),"") | L19: =IF(ISNUMBER(K19),K19-Summary!$B$2,"") | M19: =IF(ISNUMBER(J19),YEAR(Summary!$B$2)-YEAR(J19+0)+IF(DATE(YEAR(Summary!$B$2),MONTH(J19+0),DAY(J19+0))<Summary!$B$2,1,0),"") | O19: FALSE | P19: FALSE | Q19: =IF(ISBLANK(F19),"",IF(ISBLANK(N19),A19&" "&B19,N19)&", "&F19&", "&G19&", "&H19&" "&I19) | S19: =IF(ISNUMBER(J19),MONTH(J19+0),"")
K20: =IF(ISNUMBER(J20),DATE(YEAR(Summary!$B$2)+IF(DATE(YEAR(Summary!$B$2),MONTH(J20+0),DAY(J20+0))<Summary!$B$2,1,0),MONTH(J20+0),DAY(J20+0)),"") | L20: =IF(ISNUMBER(K20),K20-Summary!$B$2,"") | M20: =IF(ISNUMBER(J20),YEAR(Summary!$B$2)-YEAR(J20+0)+IF(DATE(YEAR(Summary!$B$2),MONTH(J20+0),DAY(J20+0))<Summary!$B$2,1,0),"") | O20: FALSE | P20: FALSE | Q20: =IF(ISBLANK(F20),"",IF(ISBLANK(N20),A20&" "&B20,N20)&", "&F20&", "&G20&", "&H20&" "&I20) | S20: =IF(ISNUMBER(J20),MONTH(J20+0),"")
K21: =IF(ISNUMBER(J21),DATE(YEAR(Summary!$B$2)+IF(DATE(YEAR(Summary!$B$2),MONTH(J21+0),DAY(J21+0))<Summary!$B$2,1,0),MONTH(J21+0),DAY(J21+0)),"") | L21: =IF(ISNUMBER(K21),K21-Summary!$B$2,"") | M21: =IF(ISNUMBER(J21),YEAR(Summary!$B$2)-YEAR(J21+0)+IF(DATE(YEAR(Summary!$B$2),MONTH(J21+0),DAY(J21+0))<Summary!$B$2,1,0),"") | O21: FALSE | P21: FALSE | Q21: =IF(ISBLANK(F21),"",IF(ISBLANK(N21),A21&" "&B21,N21)&", "&F21&", "&G21&", "&H21&" "&I21) | S21: =IF(ISNUMBER(J21),MONTH(J21+0),"")
K22: =IF(ISNUMBER(J22),DATE(YEAR(Summary!$B$2)+IF(DATE(YEAR(Summary!$B$2),MONTH(J22+0),DAY(J22+0))<Summary!$B$2,1,0),MONTH(J22+0),DAY(J22+0)),"") | L22: =IF(ISNUMBER(K22),K22-Summary!$B$2,"") | M22: =IF(ISNUMBER(J22),YEAR(Summary!$B$2)-YEAR(J22+0)+IF(DATE(YEAR(Summary!$B$2),MONTH(J22+0),DAY(J22+0))<Summary!$B$2,1,0),"") | O22: FALSE | P22: FALSE | Q22: =IF(ISBLANK(F22),"",IF(ISBLANK(N22),A22&" "&B22,N22)&", "&F22&", "&G22&", "&H22&" "&I22) | S22: =IF(ISNUMBER(J22),MONTH(J22+0),"")
K23: =IF(ISNUMBER(J23),DATE(YEAR(Summary!$B$2)+IF(DATE(YEAR(Summary!$B$2),MONTH(J23+0),DAY(J23+0))<Summary!$B$2,1,0),MONTH(J23+0),DAY(J23+0)),"") | L23: =IF(ISNUMBER(K23),K23-Summary!$B$2,"") | M23: =IF(ISNUMBER(J23),YEAR(Summary!$B$2)-YEAR(J23+0)+IF(DATE(YEAR(Summary!$B$2),MONTH(J23+0),DAY(J23+0))<Summary!$B$2,1,0),"") | O23: FALSE | P23: FALSE | Q23: =IF(ISBLANK(F23),"",IF(ISBLANK(N23),A23&" "&B23,N23)&", "&F23&", "&G23&", "&H23&" "&I23) | S23: =IF(ISNUMBER(J23),MONTH(J23+0),"")
K24: =IF(ISNUMBER(J24),DATE(YEAR(Summary!$B$2)+IF(DATE(YEAR(Summary!$B$2),MONTH(J24+0),DAY(J24+0))<Summary!$B$2,1,0),MONTH(J24+0),DAY(J24+0)),"") | L24: =IF(ISNUMBER(K24),K24-Summary!$B$2,"") | M24: =IF(ISNUMBER(J24),YEAR(Summary!$B$2)-YEAR(J24+0)+IF(DATE(YEAR(Summary!$B$2),MONTH(J24+0),DAY(J24+0))<Summary!$B$2,1,0),"") | O24: FALSE | P24: FALSE | Q24: =IF(ISBLANK(F24),"",IF(ISBLANK(N24),A24&" "&B24,N24)&", "&F24&", "&G24&", "&H24&" "&I24) | S24: =IF(ISNUMBER(J24),MONTH(J24+0),"")
K25: =IF(ISNUMBER(J25),DATE(YEAR(Summary!$B$2)+IF(DATE(YEAR(Summary!$B$2),MONTH(J25+0),DAY(J25+0))<Summary!$B$2,1,0),MONTH(J25+0),DAY(J25+0)),"") | L25: =IF(ISNUMBER(K25),K25-Summary!$B$2,"") | M25: =IF(ISNUMBER(J25),YEAR(Summary!$B$2)-YEAR(J25+0)+IF(DATE(YEAR(Summary!$B$2),MONTH(J25+0),DAY(J25+0))<Summary!$B$2,1,0),"") | O25: FALSE | P25: FALSE | Q25: =IF(ISBLANK(F25),"",IF(ISBLANK(N25),A25&" "&B25,N25)&", "&F25&", "&G25&", "&H25&" "&I25) | S25: =IF(ISNUMBER(J25),MONTH(J25+0),"")
K26: =IF(ISNUMBER(J26),DATE(YEAR(Summary!$B$2)+IF(DATE(YEAR(Summary!$B$2),MONTH(J26+0),DAY(J26+0))<Summary!$B$2,1,0),MONTH(J26+0),DAY(J26+0)),"") | L26: =IF(ISNUMBER(K26),K26-Summary!$B$2,"") | M26: =IF(ISNUMBER(J26),YEAR(Summary!$B$2)-YEAR(J26+0)+IF(DATE(YEAR(Summary!$B$2),MONTH(J26+0),DAY(J26+0))<Summary!$B$2,1,0),"") | O26: FALSE | P26: FALSE | Q26: =IF(ISBLANK(F26),"",IF(ISBLANK(N26),A26&" "&B26,N26)&", "&F26&", "&G26&", "&H26&" "&I26) | S26: =IF(ISNUMBER(J26),MONTH(J26+0),"")
K27: =IF(ISNUMBER(J27),DATE(YEAR(Summary!$B$2)+IF(DATE(YEAR(Summary!$B$2),MONTH(J27+0),DAY(J27+0))<Summary!$B$2,1,0),MONTH(J27+0),DAY(J27+0)),"") | L27: =IF(ISNUMBER(K27),K27-Summary!$B$2,"") | M27: =IF(ISNUMBER(J27),YEAR(Summary!$B$2)-YEAR(J27+0)+IF(DATE(YEAR(Summary!$B$2),MONTH(J27+0),DAY(J27+0))<Summary!$B$2,1,0),"") | O27: FALSE | P27: FALSE | Q27: =IF(ISBLANK(F27),"",IF(ISBLANK(N27),A27&" "&B27,N27)&", "&F27&", "&G27&", "&H27&" "&I27) | S27: =IF(ISNUMBER(J27),MONTH(J27+0),"")

Sheet Summary
A1: Item | B1: Value
A2: Today's date | B2: =DATE(2026,11,4) -> 46330
A3: Contacts | B3: =COUNTA(Contacts!A2:A300) -> 16
A4: Birthdays in the next 30 days | B4: =COUNTIFS(Contacts!L2:L300,">=0",Contacts!L2:L300,"<=30") -> 5
A5: Days to the next birthday | B5: =MIN(Contacts!L2:L300) -> 4
A6: On the holiday card list | B6: =COUNTIF(Contacts!O2:O300,TRUE) -> 11
A7: Cards sent | B7: =COUNTIFS(Contacts!O2:O300,TRUE,Contacts!P2:P300,TRUE) -> 4
A8: Cards still to send | B8: =B6-B7 -> 7
A9: Contacts by group
A10: Family | B10: =COUNTIF(Contacts!$C$2:$C$300,A10) -> 4
A11: Friends | B11: =COUNTIF(Contacts!$C$2:$C$300,A11) -> 5
A12: Neighbors | B12: =COUNTIF(Contacts!$C$2:$C$300,A12) -> 3
A13: Work | B13: =COUNTIF(Contacts!$C$2:$C$300,A13) -> 2
A14: Services | B14: =COUNTIF(Contacts!$C$2:$C$300,A14) -> 2
A15: Birthdays by month
A16: January | B16: =COUNTIF(Contacts!$S$2:$S$300,1) -> 1
A17: February | B17: =COUNTIF(Contacts!$S$2:$S$300,2) -> 1
A18: March | B18: =COUNTIF(Contacts!$S$2:$S$300,3) -> 1
A19: April | B19: =COUNTIF(Contacts!$S$2:$S$300,4) -> 0
A20: May | B20: =COUNTIF(Contacts!$S$2:$S$300,5) -> 1
A21: June | B21: =COUNTIF(Contacts!$S$2:$S$300,6) -> 1
A22: July | B22: =COUNTIF(Contacts!$S$2:$S$300,7) -> 1
A23: August | B23: =COUNTIF(Contacts!$S$2:$S$300,8) -> 0
A24: September | B24: =COUNTIF(Contacts!$S$2:$S$300,9) -> 1
A25: October | B25: =COUNTIF(Contacts!$S$2:$S$300,10) -> 0
A26: November | B26: =COUNTIF(Contacts!$S$2:$S$300,11) -> 4
A27: December | B27: =COUNTIF(Contacts!$S$2:$S$300,12) -> 3
