Workbook

Sheet Assignments
A1: Class | B1: Assignment | C1: Type | D1: Due date | E1: Done | F1: Score | G1: Out of | H1: Grade | I1: Letter | J1: Notes
A2: Biology | B2: Lab 1: Microscope basics | C2: Lab | D2: 46276 | E2: TRUE | F2: 18 | G2: 20 | H2: =IF(ISNUMBER(F2),IFERROR(F2/G2,""),"") -> 0.9 | I2: =IF(H2="","",IF(H2>=0.9,"A",IF(H2>=0.8,"B",IF(H2>=0.7,"C",IF(H2>=0.6,"D","F"))))) -> A
A3: English | B3: Personal narrative essay | C3: Essay | D3: 46283 | E3: TRUE | F3: 88 | G3: 100 | H3: =IF(ISNUMBER(F3),IFERROR(F3/G3,""),"") -> 0.88 | I3: =IF(H3="","",IF(H3>=0.9,"A",IF(H3>=0.8,"B",IF(H3>=0.7,"C",IF(H3>=0.6,"D","F"))))) -> B
A4: Statistics | B4: Homework 1 | C4: Homework | D4: 46283 | E4: TRUE | F4: 9 | G4: 10 | H4: =IF(ISNUMBER(F4),IFERROR(F4/G4,""),"") -> 0.9 | I4: =IF(H4="","",IF(H4>=0.9,"A",IF(H4>=0.8,"B",IF(H4>=0.7,"C",IF(H4>=0.6,"D","F"))))) -> A
A5: History | B5: Reading response 1 | C5: Homework | D5: 46287 | E5: TRUE | F5: 10 | G5: 10 | H5: =IF(ISNUMBER(F5),IFERROR(F5/G5,""),"") -> 1 | I5: =IF(H5="","",IF(H5>=0.9,"A",IF(H5>=0.8,"B",IF(H5>=0.7,"C",IF(H5>=0.6,"D","F"))))) -> A
A6: Spanish | B6: Vocab quiz 1 | C6: Quiz | D6: 46290 | E6: TRUE | F6: 17 | G6: 20 | H6: =IF(ISNUMBER(F6),IFERROR(F6/G6,""),"") -> 0.85 | I6: =IF(H6="","",IF(H6>=0.9,"A",IF(H6>=0.8,"B",IF(H6>=0.7,"C",IF(H6>=0.6,"D","F"))))) -> B
A7: Statistics | B7: Homework 2 | C7: Homework | D7: 46290 | E7: TRUE | F7: 8 | G7: 10 | H7: =IF(ISNUMBER(F7),IFERROR(F7/G7,""),"") -> 0.8 | I7: =IF(H7="","",IF(H7>=0.9,"A",IF(H7>=0.8,"B",IF(H7>=0.7,"C",IF(H7>=0.6,"D","F"))))) -> B
A8: Biology | B8: Cell structure quiz | C8: Quiz | D8: 46297 | E8: TRUE | F8: 21 | G8: 25 | H8: =IF(ISNUMBER(F8),IFERROR(F8/G8,""),"") -> 0.84 | I8: =IF(H8="","",IF(H8>=0.9,"A",IF(H8>=0.8,"B",IF(H8>=0.7,"C",IF(H8>=0.6,"D","F"))))) -> B
A9: History | B9: Map assignment | C9: Homework | D9: 46301 | E9: TRUE | F9: 14 | G9: 15 | H9: =IF(ISNUMBER(F9),IFERROR(F9/G9,""),"") -> 0.93333333 | I9: =IF(H9="","",IF(H9>=0.9,"A",IF(H9>=0.8,"B",IF(H9>=0.7,"C",IF(H9>=0.6,"D","F"))))) -> A
A10: Statistics | B10: Midterm exam | C10: Exam | D10: 46304 | E10: TRUE | F10: 82 | G10: 100 | H10: =IF(ISNUMBER(F10),IFERROR(F10/G10,""),"") -> 0.82 | I10: =IF(H10="","",IF(H10>=0.9,"A",IF(H10>=0.8,"B",IF(H10>=0.7,"C",IF(H10>=0.6,"D","F"))))) -> B | J10: Review chapter 4 mistakes
A11: English | B11: Poetry analysis | C11: Essay | D11: 46308 | E11: TRUE | F11: 45 | G11: 50 | H11: =IF(ISNUMBER(F11),IFERROR(F11/G11,""),"") -> 0.9 | I11: =IF(H11="","",IF(H11>=0.9,"A",IF(H11>=0.8,"B",IF(H11>=0.7,"C",IF(H11>=0.6,"D","F"))))) -> A
A12: Biology | B12: Lab 2: Osmosis | C12: Lab | D12: 46311 | E12: TRUE | G12: 20 | H12: =IF(ISNUMBER(F12),IFERROR(F12/G12,""),"") | I12: =IF(H12="","",IF(H12>=0.9,"A",IF(H12>=0.8,"B",IF(H12>=0.7,"C",IF(H12>=0.6,"D","F"))))) | J12: Submitted, not graded yet
A13: Spanish | B13: Oral presentation | C13: Project | D13: 46311 | E13: TRUE | G13: 50 | H13: =IF(ISNUMBER(F13),IFERROR(F13/G13,""),"") | I13: =IF(H13="","",IF(H13>=0.9,"A",IF(H13>=0.8,"B",IF(H13>=0.7,"C",IF(H13>=0.6,"D","F"))))) | J13: Not graded yet
A14: Statistics | B14: Homework 3 | C14: Homework | D14: 46315 | E14: FALSE | G14: 10 | H14: =IF(ISNUMBER(F14),IFERROR(F14/G14,""),"") | I14: =IF(H14="","",IF(H14>=0.9,"A",IF(H14>=0.8,"B",IF(H14>=0.7,"C",IF(H14>=0.6,"D","F"))))) | J14: Problems 1 to 24, odd only
A15: History | B15: Reading response 2 | C15: Homework | D15: 46316 | E15: FALSE | G15: 10 | H15: =IF(ISNUMBER(F15),IFERROR(F15/G15,""),"") | I15: =IF(H15="","",IF(H15>=0.9,"A",IF(H15>=0.8,"B",IF(H15>=0.7,"C",IF(H15>=0.6,"D","F")))))
A16: Biology | B16: Midterm exam | C16: Exam | D16: 46318 | E16: FALSE | G16: 100 | H16: =IF(ISNUMBER(F16),IFERROR(F16/G16,""),"") | I16: =IF(H16="","",IF(H16>=0.9,"A",IF(H16>=0.8,"B",IF(H16>=0.7,"C",IF(H16>=0.6,"D","F"))))) | J16: Chapters 1 to 6. Study group Wed.
A17: English | B17: Research paper outline | C17: Essay | D17: 46322 | E17: FALSE | G17: 20 | H17: =IF(ISNUMBER(F17),IFERROR(F17/G17,""),"") | I17: =IF(H17="","",IF(H17>=0.9,"A",IF(H17>=0.8,"B",IF(H17>=0.7,"C",IF(H17>=0.6,"D","F")))))
A18: Spanish | B18: Vocab quiz 2 | C18: Quiz | D18: 46325 | E18: FALSE | G18: 20 | H18: =IF(ISNUMBER(F18),IFERROR(F18/G18,""),"") | I18: =IF(H18="","",IF(H18>=0.9,"A",IF(H18>=0.8,"B",IF(H18>=0.7,"C",IF(H18>=0.6,"D","F")))))
A19: History | B19: Midterm exam | C19: Exam | D19: 46330 | E19: FALSE | G19: 100 | H19: =IF(ISNUMBER(F19),IFERROR(F19/G19,""),"") | I19: =IF(H19="","",IF(H19>=0.9,"A",IF(H19>=0.8,"B",IF(H19>=0.7,"C",IF(H19>=0.6,"D","F")))))
A20: Statistics | B20: Group project | C20: Project | D20: 46339 | E20: FALSE | G20: 50 | H20: =IF(ISNUMBER(F20),IFERROR(F20/G20,""),"") | I20: =IF(H20="","",IF(H20>=0.9,"A",IF(H20>=0.8,"B",IF(H20>=0.7,"C",IF(H20>=0.6,"D","F"))))) | J20: Partners: Maya and Leo
A21: Biology | B21: Lab 3: Enzymes | C21: Lab | D21: 46346 | E21: FALSE | G21: 20 | H21: =IF(ISNUMBER(F21),IFERROR(F21/G21,""),"") | I21: =IF(H21="","",IF(H21>=0.9,"A",IF(H21>=0.8,"B",IF(H21>=0.7,"C",IF(H21>=0.6,"D","F")))))
A22: English | B22: Research paper | C22: Essay | D22: 46350 | E22: FALSE | G22: 100 | H22: =IF(ISNUMBER(F22),IFERROR(F22/G22,""),"") | I22: =IF(H22="","",IF(H22>=0.9,"A",IF(H22>=0.8,"B",IF(H22>=0.7,"C",IF(H22>=0.6,"D","F")))))
A23: Spanish | B23: Final exam | C23: Exam | D23: 46367 | E23: FALSE | G23: 100 | H23: =IF(ISNUMBER(F23),IFERROR(F23/G23,""),"") | I23: =IF(H23="","",IF(H23>=0.9,"A",IF(H23>=0.8,"B",IF(H23>=0.7,"C",IF(H23>=0.6,"D","F")))))

Sheet Classes
A1: Class | B1: Assignments | C1: Done | D1: Left to do | E1: Points earned | F1: Points graded | G1: Grade so far | H1: Letter
A2: Biology | B2: =COUNTIF(Assignments!$A$2:$A$300,A2) -> 5 | C2: =COUNTIFS(Assignments!$A$2:$A$300,A2,Assignments!$E$2:$E$300,TRUE) -> 3 | D2: =B2-C2 -> 2 | E2: =SUMIFS(Assignments!$F$2:$F$300,Assignments!$A$2:$A$300,A2) -> 39 | F2: =SUMIFS(Assignments!$G$2:$G$300,Assignments!$A$2:$A$300,A2,Assignments!$F$2:$F$300,"<>") -> 45 | G2: =IFERROR(E2/F2,"") -> 0.86666667 | H2: =IF(G2="","",IF(G2>=0.9,"A",IF(G2>=0.8,"B",IF(G2>=0.7,"C",IF(G2>=0.6,"D","F"))))) -> B
A3: English | B3: =COUNTIF(Assignments!$A$2:$A$300,A3) -> 4 | C3: =COUNTIFS(Assignments!$A$2:$A$300,A3,Assignments!$E$2:$E$300,TRUE) -> 2 | D3: =B3-C3 -> 2 | E3: =SUMIFS(Assignments!$F$2:$F$300,Assignments!$A$2:$A$300,A3) -> 133 | F3: =SUMIFS(Assignments!$G$2:$G$300,Assignments!$A$2:$A$300,A3,Assignments!$F$2:$F$300,"<>") -> 150 | G3: =IFERROR(E3/F3,"") -> 0.88666667 | H3: =IF(G3="","",IF(G3>=0.9,"A",IF(G3>=0.8,"B",IF(G3>=0.7,"C",IF(G3>=0.6,"D","F"))))) -> B
A4: Statistics | B4: =COUNTIF(Assignments!$A$2:$A$300,A4) -> 5 | C4: =COUNTIFS(Assignments!$A$2:$A$300,A4,Assignments!$E$2:$E$300,TRUE) -> 3 | D4: =B4-C4 -> 2 | E4: =SUMIFS(Assignments!$F$2:$F$300,Assignments!$A$2:$A$300,A4) -> 99 | F4: =SUMIFS(Assignments!$G$2:$G$300,Assignments!$A$2:$A$300,A4,Assignments!$F$2:$F$300,"<>") -> 120 | G4: =IFERROR(E4/F4,"") -> 0.825 | H4: =IF(G4="","",IF(G4>=0.9,"A",IF(G4>=0.8,"B",IF(G4>=0.7,"C",IF(G4>=0.6,"D","F"))))) -> B
A5: History | B5: =COUNTIF(Assignments!$A$2:$A$300,A5) -> 4 | C5: =COUNTIFS(Assignments!$A$2:$A$300,A5,Assignments!$E$2:$E$300,TRUE) -> 2 | D5: =B5-C5 -> 2 | E5: =SUMIFS(Assignments!$F$2:$F$300,Assignments!$A$2:$A$300,A5) -> 24 | F5: =SUMIFS(Assignments!$G$2:$G$300,Assignments!$A$2:$A$300,A5,Assignments!$F$2:$F$300,"<>") -> 25 | G5: =IFERROR(E5/F5,"") -> 0.96 | H5: =IF(G5="","",IF(G5>=0.9,"A",IF(G5>=0.8,"B",IF(G5>=0.7,"C",IF(G5>=0.6,"D","F"))))) -> A
A6: Spanish | B6: =COUNTIF(Assignments!$A$2:$A$300,A6) -> 4 | C6: =COUNTIFS(Assignments!$A$2:$A$300,A6,Assignments!$E$2:$E$300,TRUE) -> 2 | D6: =B6-C6 -> 2 | E6: =SUMIFS(Assignments!$F$2:$F$300,Assignments!$A$2:$A$300,A6) -> 17 | F6: =SUMIFS(Assignments!$G$2:$G$300,Assignments!$A$2:$A$300,A6,Assignments!$F$2:$F$300,"<>") -> 20 | G6: =IFERROR(E6/F6,"") -> 0.85 | H6: =IF(G6="","",IF(G6>=0.9,"A",IF(G6>=0.8,"B",IF(G6>=0.7,"C",IF(G6>=0.6,"D","F"))))) -> B
A7: All classes | B7: =SUM(B2:B6) -> 22 | C7: =SUM(C2:C6) -> 12 | D7: =SUM(D2:D6) -> 10 | E7: =SUM(E2:E6) -> 312 | F7: =SUM(F2:F6) -> 360 | G7: =IFERROR(E7/F7,"") -> 0.86666667 | H7: =IF(G7="","",IF(G7>=0.9,"A",IF(G7>=0.8,"B",IF(G7>=0.7,"C",IF(G7>=0.6,"D","F"))))) -> B

Sheet By Week
A1: Week of | B1: Due | C1: Not done | D1: Quizzes and exams
A2: 46272 | B2: =COUNTIFS(Assignments!$D$2:$D$300,">="&A2,Assignments!$D$2:$D$300,"<"&(A2+7)) -> 1 | C2: =COUNTIFS(Assignments!$D$2:$D$300,">="&A2,Assignments!$D$2:$D$300,"<"&(A2+7),Assignments!$E$2:$E$300,FALSE) -> 0 | D2: =COUNTIFS(Assignments!$D$2:$D$300,">="&A2,Assignments!$D$2:$D$300,"<"&(A2+7),Assignments!$C$2:$C$300,"Exam")+COUNTIFS(Assignments!$D$2:$D$300,">="&A2,Assignments!$D$2:$D$300,"<"&(A2+7),Assignments!$C$2:$C$300,"Quiz") -> 0
A3: =A2+7 -> 46279 | B3: =COUNTIFS(Assignments!$D$2:$D$300,">="&A3,Assignments!$D$2:$D$300,"<"&(A3+7)) -> 2 | C3: =COUNTIFS(Assignments!$D$2:$D$300,">="&A3,Assignments!$D$2:$D$300,"<"&(A3+7),Assignments!$E$2:$E$300,FALSE) -> 0 | D3: =COUNTIFS(Assignments!$D$2:$D$300,">="&A3,Assignments!$D$2:$D$300,"<"&(A3+7),Assignments!$C$2:$C$300,"Exam")+COUNTIFS(Assignments!$D$2:$D$300,">="&A3,Assignments!$D$2:$D$300,"<"&(A3+7),Assignments!$C$2:$C$300,"Quiz") -> 0
A4: =A3+7 -> 46286 | B4: =COUNTIFS(Assignments!$D$2:$D$300,">="&A4,Assignments!$D$2:$D$300,"<"&(A4+7)) -> 3 | C4: =COUNTIFS(Assignments!$D$2:$D$300,">="&A4,Assignments!$D$2:$D$300,"<"&(A4+7),Assignments!$E$2:$E$300,FALSE) -> 0 | D4: =COUNTIFS(Assignments!$D$2:$D$300,">="&A4,Assignments!$D$2:$D$300,"<"&(A4+7),Assignments!$C$2:$C$300,"Exam")+COUNTIFS(Assignments!$D$2:$D$300,">="&A4,Assignments!$D$2:$D$300,"<"&(A4+7),Assignments!$C$2:$C$300,"Quiz") -> 1
A5: =A4+7 -> 46293 | B5: =COUNTIFS(Assignments!$D$2:$D$300,">="&A5,Assignments!$D$2:$D$300,"<"&(A5+7)) -> 1 | C5: =COUNTIFS(Assignments!$D$2:$D$300,">="&A5,Assignments!$D$2:$D$300,"<"&(A5+7),Assignments!$E$2:$E$300,FALSE) -> 0 | D5: =COUNTIFS(Assignments!$D$2:$D$300,">="&A5,Assignments!$D$2:$D$300,"<"&(A5+7),Assignments!$C$2:$C$300,"Exam")+COUNTIFS(Assignments!$D$2:$D$300,">="&A5,Assignments!$D$2:$D$300,"<"&(A5+7),Assignments!$C$2:$C$300,"Quiz") -> 1
A6: =A5+7 -> 46300 | B6: =COUNTIFS(Assignments!$D$2:$D$300,">="&A6,Assignments!$D$2:$D$300,"<"&(A6+7)) -> 2 | C6: =COUNTIFS(Assignments!$D$2:$D$300,">="&A6,Assignments!$D$2:$D$300,"<"&(A6+7),Assignments!$E$2:$E$300,FALSE) -> 0 | D6: =COUNTIFS(Assignments!$D$2:$D$300,">="&A6,Assignments!$D$2:$D$300,"<"&(A6+7),Assignments!$C$2:$C$300,"Exam")+COUNTIFS(Assignments!$D$2:$D$300,">="&A6,Assignments!$D$2:$D$300,"<"&(A6+7),Assignments!$C$2:$C$300,"Quiz") -> 1
A7: =A6+7 -> 46307 | B7: =COUNTIFS(Assignments!$D$2:$D$300,">="&A7,Assignments!$D$2:$D$300,"<"&(A7+7)) -> 3 | C7: =COUNTIFS(Assignments!$D$2:$D$300,">="&A7,Assignments!$D$2:$D$300,"<"&(A7+7),Assignments!$E$2:$E$300,FALSE) -> 0 | D7: =COUNTIFS(Assignments!$D$2:$D$300,">="&A7,Assignments!$D$2:$D$300,"<"&(A7+7),Assignments!$C$2:$C$300,"Exam")+COUNTIFS(Assignments!$D$2:$D$300,">="&A7,Assignments!$D$2:$D$300,"<"&(A7+7),Assignments!$C$2:$C$300,"Quiz") -> 0
A8: =A7+7 -> 46314 | B8: =COUNTIFS(Assignments!$D$2:$D$300,">="&A8,Assignments!$D$2:$D$300,"<"&(A8+7)) -> 3 | C8: =COUNTIFS(Assignments!$D$2:$D$300,">="&A8,Assignments!$D$2:$D$300,"<"&(A8+7),Assignments!$E$2:$E$300,FALSE) -> 3 | D8: =COUNTIFS(Assignments!$D$2:$D$300,">="&A8,Assignments!$D$2:$D$300,"<"&(A8+7),Assignments!$C$2:$C$300,"Exam")+COUNTIFS(Assignments!$D$2:$D$300,">="&A8,Assignments!$D$2:$D$300,"<"&(A8+7),Assignments!$C$2:$C$300,"Quiz") -> 1
A9: =A8+7 -> 46321 | B9: =COUNTIFS(Assignments!$D$2:$D$300,">="&A9,Assignments!$D$2:$D$300,"<"&(A9+7)) -> 2 | C9: =COUNTIFS(Assignments!$D$2:$D$300,">="&A9,Assignments!$D$2:$D$300,"<"&(A9+7),Assignments!$E$2:$E$300,FALSE) -> 2 | D9: =COUNTIFS(Assignments!$D$2:$D$300,">="&A9,Assignments!$D$2:$D$300,"<"&(A9+7),Assignments!$C$2:$C$300,"Exam")+COUNTIFS(Assignments!$D$2:$D$300,">="&A9,Assignments!$D$2:$D$300,"<"&(A9+7),Assignments!$C$2:$C$300,"Quiz") -> 1
A10: =A9+7 -> 46328 | B10: =COUNTIFS(Assignments!$D$2:$D$300,">="&A10,Assignments!$D$2:$D$300,"<"&(A10+7)) -> 1 | C10: =COUNTIFS(Assignments!$D$2:$D$300,">="&A10,Assignments!$D$2:$D$300,"<"&(A10+7),Assignments!$E$2:$E$300,FALSE) -> 1 | D10: =COUNTIFS(Assignments!$D$2:$D$300,">="&A10,Assignments!$D$2:$D$300,"<"&(A10+7),Assignments!$C$2:$C$300,"Exam")+COUNTIFS(Assignments!$D$2:$D$300,">="&A10,Assignments!$D$2:$D$300,"<"&(A10+7),Assignments!$C$2:$C$300,"Quiz") -> 1
A11: =A10+7 -> 46335 | B11: =COUNTIFS(Assignments!$D$2:$D$300,">="&A11,Assignments!$D$2:$D$300,"<"&(A11+7)) -> 1 | C11: =COUNTIFS(Assignments!$D$2:$D$300,">="&A11,Assignments!$D$2:$D$300,"<"&(A11+7),Assignments!$E$2:$E$300,FALSE) -> 1 | D11: =COUNTIFS(Assignments!$D$2:$D$300,">="&A11,Assignments!$D$2:$D$300,"<"&(A11+7),Assignments!$C$2:$C$300,"Exam")+COUNTIFS(Assignments!$D$2:$D$300,">="&A11,Assignments!$D$2:$D$300,"<"&(A11+7),Assignments!$C$2:$C$300,"Quiz") -> 0
A12: =A11+7 -> 46342 | B12: =COUNTIFS(Assignments!$D$2:$D$300,">="&A12,Assignments!$D$2:$D$300,"<"&(A12+7)) -> 1 | C12: =COUNTIFS(Assignments!$D$2:$D$300,">="&A12,Assignments!$D$2:$D$300,"<"&(A12+7),Assignments!$E$2:$E$300,FALSE) -> 1 | D12: =COUNTIFS(Assignments!$D$2:$D$300,">="&A12,Assignments!$D$2:$D$300,"<"&(A12+7),Assignments!$C$2:$C$300,"Exam")+COUNTIFS(Assignments!$D$2:$D$300,">="&A12,Assignments!$D$2:$D$300,"<"&(A12+7),Assignments!$C$2:$C$300,"Quiz") -> 0
A13: =A12+7 -> 46349 | B13: =COUNTIFS(Assignments!$D$2:$D$300,">="&A13,Assignments!$D$2:$D$300,"<"&(A13+7)) -> 1 | C13: =COUNTIFS(Assignments!$D$2:$D$300,">="&A13,Assignments!$D$2:$D$300,"<"&(A13+7),Assignments!$E$2:$E$300,FALSE) -> 1 | D13: =COUNTIFS(Assignments!$D$2:$D$300,">="&A13,Assignments!$D$2:$D$300,"<"&(A13+7),Assignments!$C$2:$C$300,"Exam")+COUNTIFS(Assignments!$D$2:$D$300,">="&A13,Assignments!$D$2:$D$300,"<"&(A13+7),Assignments!$C$2:$C$300,"Quiz") -> 0
A14: =A13+7 -> 46356 | B14: =COUNTIFS(Assignments!$D$2:$D$300,">="&A14,Assignments!$D$2:$D$300,"<"&(A14+7)) -> 0 | C14: =COUNTIFS(Assignments!$D$2:$D$300,">="&A14,Assignments!$D$2:$D$300,"<"&(A14+7),Assignments!$E$2:$E$300,FALSE) -> 0 | D14: =COUNTIFS(Assignments!$D$2:$D$300,">="&A14,Assignments!$D$2:$D$300,"<"&(A14+7),Assignments!$C$2:$C$300,"Exam")+COUNTIFS(Assignments!$D$2:$D$300,">="&A14,Assignments!$D$2:$D$300,"<"&(A14+7),Assignments!$C$2:$C$300,"Quiz") -> 0
... A17: =A16+7 -> 46377 | B17: =COUNTIFS(Assignments!$D$2:$D$300,">="&A17,Assignments!$D$2:$D$300,"<"&(A17+7)) -> 0 | C17: =COUNTIFS(Assignments!$D$2:$D$300,">="&A17,Assignments!$D$2:$D$300,"<"&(A17+7),Assignments!$E$2:$E$300,FALSE) -> 0 | D17: =COUNTIFS(Assignments!$D$2:$D$300,">="&A17,Assignments!$D$2:$D$300,"<"&(A17+7),Assignments!$C$2:$C$300,"Exam")+COUNTIFS(Assignments!$D$2:$D$300,">="&A17,Assignments!$D$2:$D$300,"<"&(A17+7),Assignments!$C$2:$C$300,"Quiz") -> 0
