Workbook

Sheet Attendance
A1: Student | B1: Oct 1 | C1: Oct 2 | D1: Oct 5 | E1: Oct 6 | F1: Oct 7 | G1: Oct 8 | H1: Oct 9 | I1: Oct 12 | J1: Oct 13 | K1: Oct 14 | L1: Oct 15 | M1: Oct 16 | N1: Present | O1: Late | P1: Absent | Q1: Excused | R1: Rate | S1: Flag
A2: Aiden Bell | B2: P | C2: P | D2: P | E2: P | F2: P | G2: P | H2: P | I2: P | J2: P | K2: P | L2: P | M2: P | N2: =COUNTIF(B2:M2,"P") -> 12 | O2: =COUNTIF(B2:M2,"L") -> 0 | P2: =COUNTIF(B2:M2,"A") -> 0 | Q2: =COUNTIF(B2:M2,"E") -> 0 | R2: =IFERROR((N2+O2)/(N2+O2+P2+Q2),"") -> 1 | S2: =IF(ISNUMBER(R2),IF(R2<Key!$B$2,"Check in",""),"")
A3: Brianna Cole | B3: P | C3: P | D3: L | E3: P | F3: P | G3: P | H3: P | I3: P | J3: L | K3: P | L3: P | M3: P | N3: =COUNTIF(B3:M3,"P") -> 10 | O3: =COUNTIF(B3:M3,"L") -> 2 | P3: =COUNTIF(B3:M3,"A") -> 0 | Q3: =COUNTIF(B3:M3,"E") -> 0 | R3: =IFERROR((N3+O3)/(N3+O3+P3+Q3),"") -> 1 | S3: =IF(ISNUMBER(R3),IF(R3<Key!$B$2,"Check in",""),"")
A4: Carlos Mendez | B4: P | C4: A | D4: P | E4: P | F4: P | G4: P | H4: E | I4: P | J4: P | K4: P | L4: P | M4: P | N4: =COUNTIF(B4:M4,"P") -> 10 | O4: =COUNTIF(B4:M4,"L") -> 0 | P4: =COUNTIF(B4:M4,"A") -> 1 | Q4: =COUNTIF(B4:M4,"E") -> 1 | R4: =IFERROR((N4+O4)/(N4+O4+P4+Q4),"") -> 0.83333333 | S4: =IF(ISNUMBER(R4),IF(R4<Key!$B$2,"Check in",""),"") -> Check in
A5: Destiny Ross | B5: P | C5: P | D5: P | E5: P | F5: A | G5: A | H5: P | I5: P | J5: P | K5: A | L5: P | M5: P | N5: =COUNTIF(B5:M5,"P") -> 9 | O5: =COUNTIF(B5:M5,"L") -> 0 | P5: =COUNTIF(B5:M5,"A") -> 3 | Q5: =COUNTIF(B5:M5,"E") -> 0 | R5: =IFERROR((N5+O5)/(N5+O5+P5+Q5),"") -> 0.75 | S5: =IF(ISNUMBER(R5),IF(R5<Key!$B$2,"Check in",""),"") -> Check in
A6: Ethan Walsh | B6: P | C6: P | D6: P | E6: P | F6: P | G6: P | H6: P | I6: P | J6: P | K6: P | L6: L | M6: P | N6: =COUNTIF(B6:M6,"P") -> 11 | O6: =COUNTIF(B6:M6,"L") -> 1 | P6: =COUNTIF(B6:M6,"A") -> 0 | Q6: =COUNTIF(B6:M6,"E") -> 0 | R6: =IFERROR((N6+O6)/(N6+O6+P6+Q6),"") -> 1 | S6: =IF(ISNUMBER(R6),IF(R6<Key!$B$2,"Check in",""),"")
A7: Fatima Ali | B7: P | C7: P | D7: P | E7: P | F7: P | G7: P | H7: P | I7: P | J7: P | K7: P | L7: P | M7: P | N7: =COUNTIF(B7:M7,"P") -> 12 | O7: =COUNTIF(B7:M7,"L") -> 0 | P7: =COUNTIF(B7:M7,"A") -> 0 | Q7: =COUNTIF(B7:M7,"E") -> 0 | R7: =IFERROR((N7+O7)/(N7+O7+P7+Q7),"") -> 1 | S7: =IF(ISNUMBER(R7),IF(R7<Key!$B$2,"Check in",""),"")
A8: Grace Kim | B8: L | C8: L | D8: P | E8: P | F8: L | G8: P | H8: P | I8: L | J8: P | K8: P | L8: L | M8: P | N8: =COUNTIF(B8:M8,"P") -> 7 | O8: =COUNTIF(B8:M8,"L") -> 5 | P8: =COUNTIF(B8:M8,"A") -> 0 | Q8: =COUNTIF(B8:M8,"E") -> 0 | R8: =IFERROR((N8+O8)/(N8+O8+P8+Q8),"") -> 1 | S8: =IF(ISNUMBER(R8),IF(R8<Key!$B$2,"Check in",""),"")
A9: Henry Owens | B9: P | C9: P | D9: P | E9: E | F9: E | G9: P | H9: P | I9: P | J9: P | K9: P | L9: P | M9: P | N9: =COUNTIF(B9:M9,"P") -> 10 | O9: =COUNTIF(B9:M9,"L") -> 0 | P9: =COUNTIF(B9:M9,"A") -> 0 | Q9: =COUNTIF(B9:M9,"E") -> 2 | R9: =IFERROR((N9+O9)/(N9+O9+P9+Q9),"") -> 0.83333333 | S9: =IF(ISNUMBER(R9),IF(R9<Key!$B$2,"Check in",""),"") -> Check in
A10: Isabella Reyes | B10: P | C10: P | D10: P | E10: P | F10: P | G10: P | H10: P | I10: P | J10: P | K10: P | L10: P | M10: P | N10: =COUNTIF(B10:M10,"P") -> 12 | O10: =COUNTIF(B10:M10,"L") -> 0 | P10: =COUNTIF(B10:M10,"A") -> 0 | Q10: =COUNTIF(B10:M10,"E") -> 0 | R10: =IFERROR((N10+O10)/(N10+O10+P10+Q10),"") -> 1 | S10: =IF(ISNUMBER(R10),IF(R10<Key!$B$2,"Check in",""),"")
A11: Jordan Price | B11: A | C11: A | D11: P | E11: L | F11: P | G11: A | H11: P | I11: P | J11: A | K11: P | L11: P | M11: A | N11: =COUNTIF(B11:M11,"P") -> 6 | O11: =COUNTIF(B11:M11,"L") -> 1 | P11: =COUNTIF(B11:M11,"A") -> 5 | Q11: =COUNTIF(B11:M11,"E") -> 0 | R11: =IFERROR((N11+O11)/(N11+O11+P11+Q11),"") -> 0.58333333 | S11: =IF(ISNUMBER(R11),IF(R11<Key!$B$2,"Check in",""),"") -> Check in
A12: Kayla Stewart | B12: P | C12: P | D12: P | E12: P | F12: P | G12: P | H12: P | I12: A | J12: P | K12: P | L12: P | M12: P | N12: =COUNTIF(B12:M12,"P") -> 11 | O12: =COUNTIF(B12:M12,"L") -> 0 | P12: =COUNTIF(B12:M12,"A") -> 1 | Q12: =COUNTIF(B12:M12,"E") -> 0 | R12: =IFERROR((N12+O12)/(N12+O12+P12+Q12),"") -> 0.91666667 | S12: =IF(ISNUMBER(R12),IF(R12<Key!$B$2,"Check in",""),"")
A13: Lucas Grant | B13: P | C13: P | D13: P | E13: P | F13: P | G13: P | H13: L | I13: P | J13: P | K13: P | L13: P | M13: P | N13: =COUNTIF(B13:M13,"P") -> 11 | O13: =COUNTIF(B13:M13,"L") -> 1 | P13: =COUNTIF(B13:M13,"A") -> 0 | Q13: =COUNTIF(B13:M13,"E") -> 0 | R13: =IFERROR((N13+O13)/(N13+O13+P13+Q13),"") -> 1 | S13: =IF(ISNUMBER(R13),IF(R13<Key!$B$2,"Check in",""),"")
A14: Mia Thompson | B14: P | C14: P | D14: P | E14: P | F14: P | G14: P | H14: P | I14: P | J14: P | K14: P | L14: P | M14: P | N14: =COUNTIF(B14:M14,"P") -> 12 | O14: =COUNTIF(B14:M14,"L") -> 0 | P14: =COUNTIF(B14:M14,"A") -> 0 | Q14: =COUNTIF(B14:M14,"E") -> 0 | R14: =IFERROR((N14+O14)/(N14+O14+P14+Q14),"") -> 1 | S14: =IF(ISNUMBER(R14),IF(R14<Key!$B$2,"Check in",""),"")
A15: Noah Rivera | E15: P | F15: P | G15: P | H15: P | I15: P | J15: P | K15: L | L15: P | M15: P | N15: =COUNTIF(B15:M15,"P") -> 8 | O15: =COUNTIF(B15:M15,"L") -> 1 | P15: =COUNTIF(B15:M15,"A") -> 0 | Q15: =COUNTIF(B15:M15,"E") -> 0 | R15: =IFERROR((N15+O15)/(N15+O15+P15+Q15),"") -> 1 | S15: =IF(ISNUMBER(R15),IF(R15<Key!$B$2,"Check in",""),"")
A16: Olivia Chen | B16: P | C16: P | D16: P | E16: P | F16: P | G16: P | H16: P | I16: P | J16: A | K16: P | L16: P | M16: P | N16: =COUNTIF(B16:M16,"P") -> 11 | O16: =COUNTIF(B16:M16,"L") -> 0 | P16: =COUNTIF(B16:M16,"A") -> 1 | Q16: =COUNTIF(B16:M16,"E") -> 0 | R16: =IFERROR((N16+O16)/(N16+O16+P16+Q16),"") -> 0.91666667 | S16: =IF(ISNUMBER(R16),IF(R16<Key!$B$2,"Check in",""),"")

Sheet By Day
A1: Date | B1: Present | C1: Late | D1: Absent | E1: Excused | F1: Not marked | G1: Rate
A2: 46296 | B2: =COUNTIF(Attendance!B$2:B$16,"P") -> 12 | C2: =COUNTIF(Attendance!B$2:B$16,"L") -> 1 | D2: =COUNTIF(Attendance!B$2:B$16,"A") -> 1 | E2: =COUNTIF(Attendance!B$2:B$16,"E") -> 0 | F2: =COUNTBLANK(Attendance!B$2:B$16) -> 1 | G2: =IFERROR((B2+C2)/(B2+C2+D2+E2),"") -> 0.92857143
A3: 46297 | B3: =COUNTIF(Attendance!C$2:C$16,"P") -> 11 | C3: =COUNTIF(Attendance!C$2:C$16,"L") -> 1 | D3: =COUNTIF(Attendance!C$2:C$16,"A") -> 2 | E3: =COUNTIF(Attendance!C$2:C$16,"E") -> 0 | F3: =COUNTBLANK(Attendance!C$2:C$16) -> 1 | G3: =IFERROR((B3+C3)/(B3+C3+D3+E3),"") -> 0.85714286
A4: 46300 | B4: =COUNTIF(Attendance!D$2:D$16,"P") -> 13 | C4: =COUNTIF(Attendance!D$2:D$16,"L") -> 1 | D4: =COUNTIF(Attendance!D$2:D$16,"A") -> 0 | E4: =COUNTIF(Attendance!D$2:D$16,"E") -> 0 | F4: =COUNTBLANK(Attendance!D$2:D$16) -> 1 | G4: =IFERROR((B4+C4)/(B4+C4+D4+E4),"") -> 1
A5: 46301 | B5: =COUNTIF(Attendance!E$2:E$16,"P") -> 13 | C5: =COUNTIF(Attendance!E$2:E$16,"L") -> 1 | D5: =COUNTIF(Attendance!E$2:E$16,"A") -> 0 | E5: =COUNTIF(Attendance!E$2:E$16,"E") -> 1 | F5: =COUNTBLANK(Attendance!E$2:E$16) -> 0 | G5: =IFERROR((B5+C5)/(B5+C5+D5+E5),"") -> 0.93333333
A6: 46302 | B6: =COUNTIF(Attendance!F$2:F$16,"P") -> 12 | C6: =COUNTIF(Attendance!F$2:F$16,"L") -> 1 | D6: =COUNTIF(Attendance!F$2:F$16,"A") -> 1 | E6: =COUNTIF(Attendance!F$2:F$16,"E") -> 1 | F6: =COUNTBLANK(Attendance!F$2:F$16) -> 0 | G6: =IFERROR((B6+C6)/(B6+C6+D6+E6),"") -> 0.86666667
A7: 46303 | B7: =COUNTIF(Attendance!G$2:G$16,"P") -> 13 | C7: =COUNTIF(Attendance!G$2:G$16,"L") -> 0 | D7: =COUNTIF(Attendance!G$2:G$16,"A") -> 2 | E7: =COUNTIF(Attendance!G$2:G$16,"E") -> 0 | F7: =COUNTBLANK(Attendance!G$2:G$16) -> 0 | G7: =IFERROR((B7+C7)/(B7+C7+D7+E7),"") -> 0.86666667
A8: 46304 | B8: =COUNTIF(Attendance!H$2:H$16,"P") -> 13 | C8: =COUNTIF(Attendance!H$2:H$16,"L") -> 1 | D8: =COUNTIF(Attendance!H$2:H$16,"A") -> 0 | E8: =COUNTIF(Attendance!H$2:H$16,"E") -> 1 | F8: =COUNTBLANK(Attendance!H$2:H$16) -> 0 | G8: =IFERROR((B8+C8)/(B8+C8+D8+E8),"") -> 0.93333333
A9: 46307 | B9: =COUNTIF(Attendance!I$2:I$16,"P") -> 13 | C9: =COUNTIF(Attendance!I$2:I$16,"L") -> 1 | D9: =COUNTIF(Attendance!I$2:I$16,"A") -> 1 | E9: =COUNTIF(Attendance!I$2:I$16,"E") -> 0 | F9: =COUNTBLANK(Attendance!I$2:I$16) -> 0 | G9: =IFERROR((B9+C9)/(B9+C9+D9+E9),"") -> 0.93333333
A10: 46308 | B10: =COUNTIF(Attendance!J$2:J$16,"P") -> 12 | C10: =COUNTIF(Attendance!J$2:J$16,"L") -> 1 | D10: =COUNTIF(Attendance!J$2:J$16,"A") -> 2 | E10: =COUNTIF(Attendance!J$2:J$16,"E") -> 0 | F10: =COUNTBLANK(Attendance!J$2:J$16) -> 0 | G10: =IFERROR((B10+C10)/(B10+C10+D10+E10),"") -> 0.86666667
A11: 46309 | B11: =COUNTIF(Attendance!K$2:K$16,"P") -> 13 | C11: =COUNTIF(Attendance!K$2:K$16,"L") -> 1 | D11: =COUNTIF(Attendance!K$2:K$16,"A") -> 1 | E11: =COUNTIF(Attendance!K$2:K$16,"E") -> 0 | F11: =COUNTBLANK(Attendance!K$2:K$16) -> 0 | G11: =IFERROR((B11+C11)/(B11+C11+D11+E11),"") -> 0.93333333
A12: 46310 | B12: =COUNTIF(Attendance!L$2:L$16,"P") -> 13 | C12: =COUNTIF(Attendance!L$2:L$16,"L") -> 2 | D12: =COUNTIF(Attendance!L$2:L$16,"A") -> 0 | E12: =COUNTIF(Attendance!L$2:L$16,"E") -> 0 | F12: =COUNTBLANK(Attendance!L$2:L$16) -> 0 | G12: =IFERROR((B12+C12)/(B12+C12+D12+E12),"") -> 1
A13: 46311 | B13: =COUNTIF(Attendance!M$2:M$16,"P") -> 14 | C13: =COUNTIF(Attendance!M$2:M$16,"L") -> 0 | D13: =COUNTIF(Attendance!M$2:M$16,"A") -> 1 | E13: =COUNTIF(Attendance!M$2:M$16,"E") -> 0 | F13: =COUNTBLANK(Attendance!M$2:M$16) -> 0 | G13: =IFERROR((B13+C13)/(B13+C13+D13+E13),"") -> 0.93333333
A14: All days | B14: =SUM(B2:B13) -> 152 | C14: =SUM(C2:C13) -> 11 | D14: =SUM(D2:D13) -> 11 | E14: =SUM(E2:E13) -> 3 | F14: =SUM(F2:F13) -> 3 | G14: =IFERROR((B14+C14)/(B14+C14+D14+E14),"") -> 0.92090395

Sheet Summary
A1: Item | B1: Value
A2: Students | B2: =COUNTA(Attendance!A2:A16) -> 15
A3: Days in this sheet | B3: =COUNTA('By Day'!A2:A13) -> 12
A4: Overall attendance rate | B4: ='By Day'!G14 -> 0.92090395
A5: Students with perfect attendance | B5: =COUNTIFS(Attendance!R2:R16,1) -> 9
A6: Students flagged to check in | B6: =COUNTIF(Attendance!S2:S16,"Check in") -> 4
A7: Total absences | B7: =SUM(Attendance!P2:P16) -> 11
A8: Total lates | B8: =SUM(Attendance!O2:O16) -> 11
A9: Lowest student rate | B9: =MIN(Attendance!R2:R16) -> 0.58333333

Sheet Key
A1: Code or setting | B1: Value | C1: What it means
A2: Flag students below | B2: =0.9 -> 0.9 | C2: A student whose rate drops under this gets "Check in"
A3: Present | B3: P | C3: In class. Counts toward the rate.
A4: Late | B4: L | C4: Arrived late. Counts as there.
A5: Absent | B5: A | C5: Not there. Counts against the rate.
A6: Excused | B6: E | C6: Excused absence. Counts against the rate, tracked on its own.
A7: Blank | C7: Not marked, not enrolled yet, or no class. Left out of the rate.
