Workbook

Sheet Bills
B1: Bills | J1: rowsandcells.com
B2: Every bill, its due date, and a paid box for each month. | J2: Free template
B5: Bill | C5: Category | D5: Due day | E5: Amount | F5: Autopay | G5: Paid from | H5: Due this month | I5: Days left | J5: Status | K5: Paid now | L5: Notes
B6: Rent | C6: Housing | D6: 1 | E6: 1650 | F6: FALSE | G6: Checking | H6: =IF(OR(ISBLANK(B6),NOT(ISNUMBER(D6))),"",DATE(YEAR(Summary!$C$6),MONTH(Summary!$C$6),MIN(D6,DAY(DATE(YEAR(Summary!$C$6),MONTH(Summary!$C$6)+1,0))))) -> 46296 | I6: =IF(AND(ISNUMBER(H6),K6=0),H6-Summary!$C$6,"") | J6: =IF(ISBLANK(B6),"",IF(K6=1,"Paid",IF(NOT(ISNUMBER(I6)),"",IF(I6<0,"Overdue",IF(I6<=Summary!$C$8,"Due soon","Coming up"))))) -> Paid | K6: =IF(ISNUMBER('Paid Grid'!S6),'Paid Grid'!S6,0) -> 1 | L6: Pay through the landlord portal
B7: Spotify Family | C7: Subscriptions | D7: 3 | E7: 19.99 | F7: TRUE | G7: Credit card | H7: =IF(OR(ISBLANK(B7),NOT(ISNUMBER(D7))),"",DATE(YEAR(Summary!$C$6),MONTH(Summary!$C$6),MIN(D7,DAY(DATE(YEAR(Summary!$C$6),MONTH(Summary!$C$6)+1,0))))) -> 46298 | I7: =IF(AND(ISNUMBER(H7),K7=0),H7-Summary!$C$6,"") | J7: =IF(ISBLANK(B7),"",IF(K7=1,"Paid",IF(NOT(ISNUMBER(I7)),"",IF(I7<0,"Overdue",IF(I7<=Summary!$C$8,"Due soon","Coming up"))))) -> Paid | K7: =IF(ISNUMBER('Paid Grid'!S7),'Paid Grid'!S7,0) -> 1
B8: Renters insurance | C8: Insurance | D8: 3 | E8: 18 | F8: TRUE | G8: Checking | H8: =IF(OR(ISBLANK(B8),NOT(ISNUMBER(D8))),"",DATE(YEAR(Summary!$C$6),MONTH(Summary!$C$6),MIN(D8,DAY(DATE(YEAR(Summary!$C$6),MONTH(Summary!$C$6)+1,0))))) -> 46298 | I8: =IF(AND(ISNUMBER(H8),K8=0),H8-Summary!$C$6,"") | J8: =IF(ISBLANK(B8),"",IF(K8=1,"Paid",IF(NOT(ISNUMBER(I8)),"",IF(I8<0,"Overdue",IF(I8<=Summary!$C$8,"Due soon","Coming up"))))) -> Paid | K8: =IF(ISNUMBER('Paid Grid'!S8),'Paid Grid'!S8,0) -> 1
B9: Car loan | C9: Loans | D9: 5 | E9: 389 | F9: TRUE | G9: Checking | H9: =IF(OR(ISBLANK(B9),NOT(ISNUMBER(D9))),"",DATE(YEAR(Summary!$C$6),MONTH(Summary!$C$6),MIN(D9,DAY(DATE(YEAR(Summary!$C$6),MONTH(Summary!$C$6)+1,0))))) -> 46300 | I9: =IF(AND(ISNUMBER(H9),K9=0),H9-Summary!$C$6,"") | J9: =IF(ISBLANK(B9),"",IF(K9=1,"Paid",IF(NOT(ISNUMBER(I9)),"",IF(I9<0,"Overdue",IF(I9<=Summary!$C$8,"Due soon","Coming up"))))) -> Paid | K9: =IF(ISNUMBER('Paid Grid'!S9),'Paid Grid'!S9,0) -> 1 | L9: Paid off Aug 2027
B10: Internet | C10: Utilities | D10: 8 | E10: 70 | F10: TRUE | G10: Checking | H10: =IF(OR(ISBLANK(B10),NOT(ISNUMBER(D10))),"",DATE(YEAR(Summary!$C$6),MONTH(Summary!$C$6),MIN(D10,DAY(DATE(YEAR(Summary!$C$6),MONTH(Summary!$C$6)+1,0))))) -> 46303 | I10: =IF(AND(ISNUMBER(H10),K10=0),H10-Summary!$C$6,"") | J10: =IF(ISBLANK(B10),"",IF(K10=1,"Paid",IF(NOT(ISNUMBER(I10)),"",IF(I10<0,"Overdue",IF(I10<=Summary!$C$8,"Due soon","Coming up"))))) -> Paid | K10: =IF(ISNUMBER('Paid Grid'!S10),'Paid Grid'!S10,0) -> 1
B11: Gym membership | C11: Subscriptions | D11: 10 | E11: 40 | F11: TRUE | G11: Credit card | H11: =IF(OR(ISBLANK(B11),NOT(ISNUMBER(D11))),"",DATE(YEAR(Summary!$C$6),MONTH(Summary!$C$6),MIN(D11,DAY(DATE(YEAR(Summary!$C$6),MONTH(Summary!$C$6)+1,0))))) -> 46305 | I11: =IF(AND(ISNUMBER(H11),K11=0),H11-Summary!$C$6,"") | J11: =IF(ISBLANK(B11),"",IF(K11=1,"Paid",IF(NOT(ISNUMBER(I11)),"",IF(I11<0,"Overdue",IF(I11<=Summary!$C$8,"Due soon","Coming up"))))) -> Paid | K11: =IF(ISNUMBER('Paid Grid'!S11),'Paid Grid'!S11,0) -> 1 | L11: Thinking of cancelling
B12: Cell phones | C12: Utilities | D12: 12 | E12: 95 | F12: TRUE | G12: Credit card | H12: =IF(OR(ISBLANK(B12),NOT(ISNUMBER(D12))),"",DATE(YEAR(Summary!$C$6),MONTH(Summary!$C$6),MIN(D12,DAY(DATE(YEAR(Summary!$C$6),MONTH(Summary!$C$6)+1,0))))) -> 46307 | I12: =IF(AND(ISNUMBER(H12),K12=0),H12-Summary!$C$6,"") | J12: =IF(ISBLANK(B12),"",IF(K12=1,"Paid",IF(NOT(ISNUMBER(I12)),"",IF(I12<0,"Overdue",IF(I12<=Summary!$C$8,"Due soon","Coming up"))))) -> Paid | K12: =IF(ISNUMBER('Paid Grid'!S12),'Paid Grid'!S12,0) -> 1 | L12: Two lines
B13: Electric | C13: Utilities | D13: 14 | E13: 118 | F13: TRUE | G13: Checking | H13: =IF(OR(ISBLANK(B13),NOT(ISNUMBER(D13))),"",DATE(YEAR(Summary!$C$6),MONTH(Summary!$C$6),MIN(D13,DAY(DATE(YEAR(Summary!$C$6),MONTH(Summary!$C$6)+1,0))))) -> 46309 | I13: =IF(AND(ISNUMBER(H13),K13=0),H13-Summary!$C$6,"") | J13: =IF(ISBLANK(B13),"",IF(K13=1,"Paid",IF(NOT(ISNUMBER(I13)),"",IF(I13<0,"Overdue",IF(I13<=Summary!$C$8,"Due soon","Coming up"))))) -> Paid | K13: =IF(ISNUMBER('Paid Grid'!S13),'Paid Grid'!S13,0) -> 1 | L13: Amount changes each month
B14: Student loan | C14: Loans | D14: 15 | E14: 245 | F14: TRUE | G14: Checking | H14: =IF(OR(ISBLANK(B14),NOT(ISNUMBER(D14))),"",DATE(YEAR(Summary!$C$6),MONTH(Summary!$C$6),MIN(D14,DAY(DATE(YEAR(Summary!$C$6),MONTH(Summary!$C$6)+1,0))))) -> 46310 | I14: =IF(AND(ISNUMBER(H14),K14=0),H14-Summary!$C$6,"") | J14: =IF(ISBLANK(B14),"",IF(K14=1,"Paid",IF(NOT(ISNUMBER(I14)),"",IF(I14<0,"Overdue",IF(I14<=Summary!$C$8,"Due soon","Coming up"))))) -> Paid | K14: =IF(ISNUMBER('Paid Grid'!S14),'Paid Grid'!S14,0) -> 1
B15: Natural gas | C15: Utilities | D15: 16 | E15: 64 | F15: FALSE | G15: Checking | H15: =IF(OR(ISBLANK(B15),NOT(ISNUMBER(D15))),"",DATE(YEAR(Summary!$C$6),MONTH(Summary!$C$6),MIN(D15,DAY(DATE(YEAR(Summary!$C$6),MONTH(Summary!$C$6)+1,0))))) -> 46311 | I15: =IF(AND(ISNUMBER(H15),K15=0),H15-Summary!$C$6,"") -> -2 | J15: =IF(ISBLANK(B15),"",IF(K15=1,"Paid",IF(NOT(ISNUMBER(I15)),"",IF(I15<0,"Overdue",IF(I15<=Summary!$C$8,"Due soon","Coming up"))))) -> Overdue | K15: =IF(ISNUMBER('Paid Grid'!S15),'Paid Grid'!S15,0) -> 0 | L15: Pay online, no autopay
B16: Car insurance | C16: Insurance | D16: 20 | E16: 141 | F16: TRUE | G16: Credit card | H16: =IF(OR(ISBLANK(B16),NOT(ISNUMBER(D16))),"",DATE(YEAR(Summary!$C$6),MONTH(Summary!$C$6),MIN(D16,DAY(DATE(YEAR(Summary!$C$6),MONTH(Summary!$C$6)+1,0))))) -> 46315 | I16: =IF(AND(ISNUMBER(H16),K16=0),H16-Summary!$C$6,"") -> 2 | J16: =IF(ISBLANK(B16),"",IF(K16=1,"Paid",IF(NOT(ISNUMBER(I16)),"",IF(I16<0,"Overdue",IF(I16<=Summary!$C$8,"Due soon","Coming up"))))) -> Due soon | K16: =IF(ISNUMBER('Paid Grid'!S16),'Paid Grid'!S16,0) -> 0
B17: Water and sewer | C17: Utilities | D17: 22 | E17: 62 | F17: FALSE | G17: Checking | H17: =IF(OR(ISBLANK(B17),NOT(ISNUMBER(D17))),"",DATE(YEAR(Summary!$C$6),MONTH(Summary!$C$6),MIN(D17,DAY(DATE(YEAR(Summary!$C$6),MONTH(Summary!$C$6)+1,0))))) -> 46317 | I17: =IF(AND(ISNUMBER(H17),K17=0),H17-Summary!$C$6,"") -> 4 | J17: =IF(ISBLANK(B17),"",IF(K17=1,"Paid",IF(NOT(ISNUMBER(I17)),"",IF(I17<0,"Overdue",IF(I17<=Summary!$C$8,"Due soon","Coming up"))))) -> Due soon | K17: =IF(ISNUMBER('Paid Grid'!S17),'Paid Grid'!S17,0) -> 0
B18: Netflix | C18: Subscriptions | D18: 22 | E18: 15.49 | F18: TRUE | G18: Credit card | H18: =IF(OR(ISBLANK(B18),NOT(ISNUMBER(D18))),"",DATE(YEAR(Summary!$C$6),MONTH(Summary!$C$6),MIN(D18,DAY(DATE(YEAR(Summary!$C$6),MONTH(Summary!$C$6)+1,0))))) -> 46317 | I18: =IF(AND(ISNUMBER(H18),K18=0),H18-Summary!$C$6,"") -> 4 | J18: =IF(ISBLANK(B18),"",IF(K18=1,"Paid",IF(NOT(ISNUMBER(I18)),"",IF(I18<0,"Overdue",IF(I18<=Summary!$C$8,"Due soon","Coming up"))))) -> Due soon | K18: =IF(ISNUMBER('Paid Grid'!S18),'Paid Grid'!S18,0) -> 0
B19: Life insurance | C19: Insurance | D19: 25 | E19: 38 | F19: TRUE | G19: Checking | H19: =IF(OR(ISBLANK(B19),NOT(ISNUMBER(D19))),"",DATE(YEAR(Summary!$C$6),MONTH(Summary!$C$6),MIN(D19,DAY(DATE(YEAR(Summary!$C$6),MONTH(Summary!$C$6)+1,0))))) -> 46320 | I19: =IF(AND(ISNUMBER(H19),K19=0),H19-Summary!$C$6,"") -> 7 | J19: =IF(ISBLANK(B19),"",IF(K19=1,"Paid",IF(NOT(ISNUMBER(I19)),"",IF(I19<0,"Overdue",IF(I19<=Summary!$C$8,"Due soon","Coming up"))))) -> Due soon | K19: =IF(ISNUMBER('Paid Grid'!S19),'Paid Grid'!S19,0) -> 0
B20: Credit card (Visa) | C20: Credit cards | D20: 28 | E20: 150 | F20: FALSE | G20: Checking | H20: =IF(OR(ISBLANK(B20),NOT(ISNUMBER(D20))),"",DATE(YEAR(Summary!$C$6),MONTH(Summary!$C$6),MIN(D20,DAY(DATE(YEAR(Summary!$C$6),MONTH(Summary!$C$6)+1,0))))) -> 46323 | I20: =IF(AND(ISNUMBER(H20),K20=0),H20-Summary!$C$6,"") -> 10 | J20: =IF(ISBLANK(B20),"",IF(K20=1,"Paid",IF(NOT(ISNUMBER(I20)),"",IF(I20<0,"Overdue",IF(I20<=Summary!$C$8,"Due soon","Coming up"))))) -> Coming up | K20: =IF(ISNUMBER('Paid Grid'!S20),'Paid Grid'!S20,0) -> 0 | L20: Pay more than the minimum when you can
F21: FALSE | H21: =IF(OR(ISBLANK(B21),NOT(ISNUMBER(D21))),"",DATE(YEAR(Summary!$C$6),MONTH(Summary!$C$6),MIN(D21,DAY(DATE(YEAR(Summary!$C$6),MONTH(Summary!$C$6)+1,0))))) | I21: =IF(AND(ISNUMBER(H21),K21=0),H21-Summary!$C$6,"") | J21: =IF(ISBLANK(B21),"",IF(K21=1,"Paid",IF(NOT(ISNUMBER(I21)),"",IF(I21<0,"Overdue",IF(I21<=Summary!$C$8,"Due soon","Coming up"))))) | K21: =IF(ISNUMBER('Paid Grid'!S21),'Paid Grid'!S21,0) -> 0
F22: FALSE | H22: =IF(OR(ISBLANK(B22),NOT(ISNUMBER(D22))),"",DATE(YEAR(Summary!$C$6),MONTH(Summary!$C$6),MIN(D22,DAY(DATE(YEAR(Summary!$C$6),MONTH(Summary!$C$6)+1,0))))) | I22: =IF(AND(ISNUMBER(H22),K22=0),H22-Summary!$C$6,"") | J22: =IF(ISBLANK(B22),"",IF(K22=1,"Paid",IF(NOT(ISNUMBER(I22)),"",IF(I22<0,"Overdue",IF(I22<=Summary!$C$8,"Due soon","Coming up"))))) | K22: =IF(ISNUMBER('Paid Grid'!S22),'Paid Grid'!S22,0) -> 0
F23: FALSE | H23: =IF(OR(ISBLANK(B23),NOT(ISNUMBER(D23))),"",DATE(YEAR(Summary!$C$6),MONTH(Summary!$C$6),MIN(D23,DAY(DATE(YEAR(Summary!$C$6),MONTH(Summary!$C$6)+1,0))))) | I23: =IF(AND(ISNUMBER(H23),K23=0),H23-Summary!$C$6,"") | J23: =IF(ISBLANK(B23),"",IF(K23=1,"Paid",IF(NOT(ISNUMBER(I23)),"",IF(I23<0,"Overdue",IF(I23<=Summary!$C$8,"Due soon","Coming up"))))) | K23: =IF(ISNUMBER('Paid Grid'!S23),'Paid Grid'!S23,0) -> 0
F24: FALSE | H24: =IF(OR(ISBLANK(B24),NOT(ISNUMBER(D24))),"",DATE(YEAR(Summary!$C$6),MONTH(Summary!$C$6),MIN(D24,DAY(DATE(YEAR(Summary!$C$6),MONTH(Summary!$C$6)+1,0))))) | I24: =IF(AND(ISNUMBER(H24),K24=0),H24-Summary!$C$6,"") | J24: =IF(ISBLANK(B24),"",IF(K24=1,"Paid",IF(NOT(ISNUMBER(I24)),"",IF(I24<0,"Overdue",IF(I24<=Summary!$C$8,"Due soon","Coming up"))))) | K24: =IF(ISNUMBER('Paid Grid'!S24),'Paid Grid'!S24,0) -> 0
F25: FALSE | H25: =IF(OR(ISBLANK(B25),NOT(ISNUMBER(D25))),"",DATE(YEAR(Summary!$C$6),MONTH(Summary!$C$6),MIN(D25,DAY(DATE(YEAR(Summary!$C$6),MONTH(Summary!$C$6)+1,0))))) | I25: =IF(AND(ISNUMBER(H25),K25=0),H25-Summary!$C$6,"") | J25: =IF(ISBLANK(B25),"",IF(K25=1,"Paid",IF(NOT(ISNUMBER(I25)),"",IF(I25<0,"Overdue",IF(I25<=Summary!$C$8,"Due soon","Coming up"))))) | K25: =IF(ISNUMBER('Paid Grid'!S25),'Paid Grid'!S25,0) -> 0

Sheet Paid Grid
B1: Paid Grid | Q1: rowsandcells.com
B2: Type in the cream cells. Shaded cells are formulas and fill in on their own. | Q2: Free template
B5: Bill | C5: Due day | D5: Amount | E5: Jan | F5: Feb | G5: Mar | H5: Apr | I5: May | J5: Jun | K5: Jul | L5: Aug | M5: Sep | N5: Oct | O5: Nov | P5: Dec | Q5: Months paid | R5: Paid this year | S5: This month
B6: =IF(ISBLANK(Bills!B6),"",Bills!B6) -> Rent | C6: =IF(ISBLANK(Bills!B6),"",Bills!D6) -> 1 | D6: =IF(ISBLANK(Bills!B6),"",Bills!E6) -> 1650 | E6: TRUE | F6: TRUE | G6: TRUE | H6: TRUE | I6: TRUE | J6: TRUE | K6: TRUE | L6: TRUE | M6: TRUE | N6: TRUE | O6: FALSE | P6: FALSE | Q6: =COUNTIF(E6:P6,TRUE) -> 10 | R6: =IF(ISNUMBER(D6),Q6*D6,0) -> 16500 | S6: =IF(IF(MONTH(Summary!$C$6)=1,E6,IF(MONTH(Summary!$C$6)=2,F6,IF(MONTH(Summary!$C$6)=3,G6,IF(MONTH(Summary!$C$6)=4,H6,IF(MONTH(Summary!$C$6)=5,I6,IF(MONTH(Summary!$C$6)=6,J6,IF(MONTH(Summary!$C$6)=7,K6,IF(MONTH(Summary!$C$6)=8,L6,IF(MONTH(Summary!$C$6)=9,M6,IF(MONTH(Summary!$C$6)=10,N6,IF(MONTH(Summary!$C$6)=11,O6,P6)))))))))))=TRUE,1,0) -> 1
B7: =IF(ISBLANK(Bills!B7),"",Bills!B7) -> Spotify Family | C7: =IF(ISBLANK(Bills!B7),"",Bills!D7) -> 3 | D7: =IF(ISBLANK(Bills!B7),"",Bills!E7) -> 19.99 | E7: TRUE | F7: TRUE | G7: TRUE | H7: TRUE | I7: TRUE | J7: TRUE | K7: TRUE | L7: TRUE | M7: TRUE | N7: TRUE | O7: FALSE | P7: FALSE | Q7: =COUNTIF(E7:P7,TRUE) -> 10 | R7: =IF(ISNUMBER(D7),Q7*D7,0) -> 199.9 | S7: =IF(IF(MONTH(Summary!$C$6)=1,E7,IF(MONTH(Summary!$C$6)=2,F7,IF(MONTH(Summary!$C$6)=3,G7,IF(MONTH(Summary!$C$6)=4,H7,IF(MONTH(Summary!$C$6)=5,I7,IF(MONTH(Summary!$C$6)=6,J7,IF(MONTH(Summary!$C$6)=7,K7,IF(MONTH(Summary!$C$6)=8,L7,IF(MONTH(Summary!$C$6)=9,M7,IF(MONTH(Summary!$C$6)=10,N7,IF(MONTH(Summary!$C$6)=11,O7,P7)))))))))))=TRUE,1,0) -> 1
B8: =IF(ISBLANK(Bills!B8),"",Bills!B8) -> Renters insurance | C8: =IF(ISBLANK(Bills!B8),"",Bills!D8) -> 3 | D8: =IF(ISBLANK(Bills!B8),"",Bills!E8) -> 18 | E8: TRUE | F8: TRUE | G8: TRUE | H8: TRUE | I8: TRUE | J8: TRUE | K8: TRUE | L8: TRUE | M8: TRUE | N8: TRUE | O8: FALSE | P8: FALSE | Q8: =COUNTIF(E8:P8,TRUE) -> 10 | R8: =IF(ISNUMBER(D8),Q8*D8,0) -> 180 | S8: =IF(IF(MONTH(Summary!$C$6)=1,E8,IF(MONTH(Summary!$C$6)=2,F8,IF(MONTH(Summary!$C$6)=3,G8,IF(MONTH(Summary!$C$6)=4,H8,IF(MONTH(Summary!$C$6)=5,I8,IF(MONTH(Summary!$C$6)=6,J8,IF(MONTH(Summary!$C$6)=7,K8,IF(MONTH(Summary!$C$6)=8,L8,IF(MONTH(Summary!$C$6)=9,M8,IF(MONTH(Summary!$C$6)=10,N8,IF(MONTH(Summary!$C$6)=11,O8,P8)))))))))))=TRUE,1,0) -> 1
B9: =IF(ISBLANK(Bills!B9),"",Bills!B9) -> Car loan | C9: =IF(ISBLANK(Bills!B9),"",Bills!D9) -> 5 | D9: =IF(ISBLANK(Bills!B9),"",Bills!E9) -> 389 | E9: TRUE | F9: TRUE | G9: TRUE | H9: TRUE | I9: TRUE | J9: TRUE | K9: TRUE | L9: TRUE | M9: TRUE | N9: TRUE | O9: FALSE | P9: FALSE | Q9: =COUNTIF(E9:P9,TRUE) -> 10 | R9: =IF(ISNUMBER(D9),Q9*D9,0) -> 3890 | S9: =IF(IF(MONTH(Summary!$C$6)=1,E9,IF(MONTH(Summary!$C$6)=2,F9,IF(MONTH(Summary!$C$6)=3,G9,IF(MONTH(Summary!$C$6)=4,H9,IF(MONTH(Summary!$C$6)=5,I9,IF(MONTH(Summary!$C$6)=6,J9,IF(MONTH(Summary!$C$6)=7,K9,IF(MONTH(Summary!$C$6)=8,L9,IF(MONTH(Summary!$C$6)=9,M9,IF(MONTH(Summary!$C$6)=10,N9,IF(MONTH(Summary!$C$6)=11,O9,P9)))))))))))=TRUE,1,0) -> 1
B10: =IF(ISBLANK(Bills!B10),"",Bills!B10) -> Internet | C10: =IF(ISBLANK(Bills!B10),"",Bills!D10) -> 8 | D10: =IF(ISBLANK(Bills!B10),"",Bills!E10) -> 70 | E10: TRUE | F10: TRUE | G10: TRUE | H10: TRUE | I10: TRUE | J10: TRUE | K10: TRUE | L10: TRUE | M10: TRUE | N10: TRUE | O10: FALSE | P10: FALSE | Q10: =COUNTIF(E10:P10,TRUE) -> 10 | R10: =IF(ISNUMBER(D10),Q10*D10,0) -> 700 | S10: =IF(IF(MONTH(Summary!$C$6)=1,E10,IF(MONTH(Summary!$C$6)=2,F10,IF(MONTH(Summary!$C$6)=3,G10,IF(MONTH(Summary!$C$6)=4,H10,IF(MONTH(Summary!$C$6)=5,I10,IF(MONTH(Summary!$C$6)=6,J10,IF(MONTH(Summary!$C$6)=7,K10,IF(MONTH(Summary!$C$6)=8,L10,IF(MONTH(Summary!$C$6)=9,M10,IF(MONTH(Summary!$C$6)=10,N10,IF(MONTH(Summary!$C$6)=11,O10,P10)))))))))))=TRUE,1,0) -> 1
B11: =IF(ISBLANK(Bills!B11),"",Bills!B11) -> Gym membership | C11: =IF(ISBLANK(Bills!B11),"",Bills!D11) -> 10 | D11: =IF(ISBLANK(Bills!B11),"",Bills!E11) -> 40 | E11: TRUE | F11: TRUE | G11: TRUE | H11: TRUE | I11: TRUE | J11: TRUE | K11: TRUE | L11: TRUE | M11: TRUE | N11: TRUE | O11: FALSE | P11: FALSE | Q11: =COUNTIF(E11:P11,TRUE) -> 10 | R11: =IF(ISNUMBER(D11),Q11*D11,0) -> 400 | S11: =IF(IF(MONTH(Summary!$C$6)=1,E11,IF(MONTH(Summary!$C$6)=2,F11,IF(MONTH(Summary!$C$6)=3,G11,IF(MONTH(Summary!$C$6)=4,H11,IF(MONTH(Summary!$C$6)=5,I11,IF(MONTH(Summary!$C$6)=6,J11,IF(MONTH(Summary!$C$6)=7,K11,IF(MONTH(Summary!$C$6)=8,L11,IF(MONTH(Summary!$C$6)=9,M11,IF(MONTH(Summary!$C$6)=10,N11,IF(MONTH(Summary!$C$6)=11,O11,P11)))))))))))=TRUE,1,0) -> 1
B12: =IF(ISBLANK(Bills!B12),"",Bills!B12) -> Cell phones | C12: =IF(ISBLANK(Bills!B12),"",Bills!D12) -> 12 | D12: =IF(ISBLANK(Bills!B12),"",Bills!E12) -> 95 | E12: TRUE | F12: TRUE | G12: TRUE | H12: TRUE | I12: TRUE | J12: TRUE | K12: TRUE | L12: TRUE | M12: TRUE | N12: TRUE | O12: FALSE | P12: FALSE | Q12: =COUNTIF(E12:P12,TRUE) -> 10 | R12: =IF(ISNUMBER(D12),Q12*D12,0) -> 950 | S12: =IF(IF(MONTH(Summary!$C$6)=1,E12,IF(MONTH(Summary!$C$6)=2,F12,IF(MONTH(Summary!$C$6)=3,G12,IF(MONTH(Summary!$C$6)=4,H12,IF(MONTH(Summary!$C$6)=5,I12,IF(MONTH(Summary!$C$6)=6,J12,IF(MONTH(Summary!$C$6)=7,K12,IF(MONTH(Summary!$C$6)=8,L12,IF(MONTH(Summary!$C$6)=9,M12,IF(MONTH(Summary!$C$6)=10,N12,IF(MONTH(Summary!$C$6)=11,O12,P12)))))))))))=TRUE,1,0) -> 1
B13: =IF(ISBLANK(Bills!B13),"",Bills!B13) -> Electric | C13: =IF(ISBLANK(Bills!B13),"",Bills!D13) -> 14 | D13: =IF(ISBLANK(Bills!B13),"",Bills!E13) -> 118 | E13: TRUE | F13: TRUE | G13: TRUE | H13: TRUE | I13: TRUE | J13: TRUE | K13: TRUE | L13: TRUE | M13: TRUE | N13: TRUE | O13: FALSE | P13: FALSE | Q13: =COUNTIF(E13:P13,TRUE) -> 10 | R13: =IF(ISNUMBER(D13),Q13*D13,0) -> 1180 | S13: =IF(IF(MONTH(Summary!$C$6)=1,E13,IF(MONTH(Summary!$C$6)=2,F13,IF(MONTH(Summary!$C$6)=3,G13,IF(MONTH(Summary!$C$6)=4,H13,IF(MONTH(Summary!$C$6)=5,I13,IF(MONTH(Summary!$C$6)=6,J13,IF(MONTH(Summary!$C$6)=7,K13,IF(MONTH(Summary!$C$6)=8,L13,IF(MONTH(Summary!$C$6)=9,M13,IF(MONTH(Summary!$C$6)=10,N13,IF(MONTH(Summary!$C$6)=11,O13,P13)))))))))))=TRUE,1,0) -> 1
B14: =IF(ISBLANK(Bills!B14),"",Bills!B14) -> Student loan | C14: =IF(ISBLANK(Bills!B14),"",Bills!D14) -> 15 | D14: =IF(ISBLANK(Bills!B14),"",Bills!E14) -> 245 | E14: TRUE | F14: TRUE | G14: TRUE | H14: TRUE | I14: TRUE | J14: TRUE | K14: TRUE | L14: TRUE | M14: TRUE | N14: TRUE | O14: FALSE | P14: FALSE | Q14: =COUNTIF(E14:P14,TRUE) -> 10 | R14: =IF(ISNUMBER(D14),Q14*D14,0) -> 2450 | S14: =IF(IF(MONTH(Summary!$C$6)=1,E14,IF(MONTH(Summary!$C$6)=2,F14,IF(MONTH(Summary!$C$6)=3,G14,IF(MONTH(Summary!$C$6)=4,H14,IF(MONTH(Summary!$C$6)=5,I14,IF(MONTH(Summary!$C$6)=6,J14,IF(MONTH(Summary!$C$6)=7,K14,IF(MONTH(Summary!$C$6)=8,L14,IF(MONTH(Summary!$C$6)=9,M14,IF(MONTH(Summary!$C$6)=10,N14,IF(MONTH(Summary!$C$6)=11,O14,P14)))))))))))=TRUE,1,0) -> 1
B15: =IF(ISBLANK(Bills!B15),"",Bills!B15) -> Natural gas | C15: =IF(ISBLANK(Bills!B15),"",Bills!D15) -> 16 | D15: =IF(ISBLANK(Bills!B15),"",Bills!E15) -> 64 | E15: TRUE | F15: TRUE | G15: TRUE | H15: TRUE | I15: TRUE | J15: TRUE | K15: TRUE | L15: TRUE | M15: TRUE | N15: FALSE | O15: FALSE | P15: FALSE | Q15: =COUNTIF(E15:P15,TRUE) -> 9 | R15: =IF(ISNUMBER(D15),Q15*D15,0) -> 576 | S15: =IF(IF(MONTH(Summary!$C$6)=1,E15,IF(MONTH(Summary!$C$6)=2,F15,IF(MONTH(Summary!$C$6)=3,G15,IF(MONTH(Summary!$C$6)=4,H15,IF(MONTH(Summary!$C$6)=5,I15,IF(MONTH(Summary!$C$6)=6,J15,IF(MONTH(Summary!$C$6)=7,K15,IF(MONTH(Summary!$C$6)=8,L15,IF(MONTH(Summary!$C$6)=9,M15,IF(MONTH(Summary!$C$6)=10,N15,IF(MONTH(Summary!$C$6)=11,O15,P15)))))))))))=TRUE,1,0) -> 0
B16: =IF(ISBLANK(Bills!B16),"",Bills!B16) -> Car insurance | C16: =IF(ISBLANK(Bills!B16),"",Bills!D16) -> 20 | D16: =IF(ISBLANK(Bills!B16),"",Bills!E16) -> 141 | E16: TRUE | F16: TRUE | G16: TRUE | H16: TRUE | I16: TRUE | J16: TRUE | K16: TRUE | L16: TRUE | M16: TRUE | N16: FALSE | O16: FALSE | P16: FALSE | Q16: =COUNTIF(E16:P16,TRUE) -> 9 | R16: =IF(ISNUMBER(D16),Q16*D16,0) -> 1269 | S16: =IF(IF(MONTH(Summary!$C$6)=1,E16,IF(MONTH(Summary!$C$6)=2,F16,IF(MONTH(Summary!$C$6)=3,G16,IF(MONTH(Summary!$C$6)=4,H16,IF(MONTH(Summary!$C$6)=5,I16,IF(MONTH(Summary!$C$6)=6,J16,IF(MONTH(Summary!$C$6)=7,K16,IF(MONTH(Summary!$C$6)=8,L16,IF(MONTH(Summary!$C$6)=9,M16,IF(MONTH(Summary!$C$6)=10,N16,IF(MONTH(Summary!$C$6)=11,O16,P16)))))))))))=TRUE,1,0) -> 0
B17: =IF(ISBLANK(Bills!B17),"",Bills!B17) -> Water and sewer | C17: =IF(ISBLANK(Bills!B17),"",Bills!D17) -> 22 | D17: =IF(ISBLANK(Bills!B17),"",Bills!E17) -> 62 | E17: TRUE | F17: TRUE | G17: TRUE | H17: TRUE | I17: TRUE | J17: TRUE | K17: TRUE | L17: TRUE | M17: TRUE | N17: FALSE | O17: FALSE | P17: FALSE | Q17: =COUNTIF(E17:P17,TRUE) -> 9 | R17: =IF(ISNUMBER(D17),Q17*D17,0) -> 558 | S17: =IF(IF(MONTH(Summary!$C$6)=1,E17,IF(MONTH(Summary!$C$6)=2,F17,IF(MONTH(Summary!$C$6)=3,G17,IF(MONTH(Summary!$C$6)=4,H17,IF(MONTH(Summary!$C$6)=5,I17,IF(MONTH(Summary!$C$6)=6,J17,IF(MONTH(Summary!$C$6)=7,K17,IF(MONTH(Summary!$C$6)=8,L17,IF(MONTH(Summary!$C$6)=9,M17,IF(MONTH(Summary!$C$6)=10,N17,IF(MONTH(Summary!$C$6)=11,O17,P17)))))))))))=TRUE,1,0) -> 0
... B25: =IF(ISBLANK(Bills!B25),"",Bills!B25) | C25: =IF(ISBLANK(Bills!B25),"",Bills!D25) | D25: =IF(ISBLANK(Bills!B25),"",Bills!E25) | E25: FALSE | F25: FALSE | G25: FALSE | H25: FALSE | I25: FALSE | J25: FALSE | K25: FALSE | L25: FALSE | M25: FALSE | N25: FALSE | O25: FALSE | P25: FALSE | Q25: =COUNTIF(E25:P25,TRUE) -> 0 | R25: =IF(ISNUMBER(D25),Q25*D25,0) -> 0 | S25: =IF(IF(MONTH(Summary!$C$6)=1,E25,IF(MONTH(Summary!$C$6)=2,F25,IF(MONTH(Summary!$C$6)=3,G25,IF(MONTH(Summary!$C$6)=4,H25,IF(MONTH(Summary!$C$6)=5,I25,IF(MONTH(Summary!$C$6)=6,J25,IF(MONTH(Summary!$C$6)=7,K25,IF(MONTH(Summary!$C$6)=8,L25,IF(MONTH(Summary!$C$6)=9,M25,IF(MONTH(Summary!$C$6)=10,N25,IF(MONTH(Summary!$C$6)=11,O25,P25)))))))))))=TRUE,1,0) -> 0
B26: Paid each month | D26: =SUM(D6:D25) -> 3115.48 | E26: =SUMIF(E6:E25,TRUE,$D$6:$D$25) -> 3115.48 | F26: =SUMIF(F6:F25,TRUE,$D$6:$D$25) -> 3115.48 | G26: =SUMIF(G6:G25,TRUE,$D$6:$D$25) -> 3115.48 | H26: =SUMIF(H6:H25,TRUE,$D$6:$D$25) -> 3115.48 | I26: =SUMIF(I6:I25,TRUE,$D$6:$D$25) -> 3115.48 | J26: =SUMIF(J6:J25,TRUE,$D$6:$D$25) -> 3115.48 | K26: =SUMIF(K6:K25,TRUE,$D$6:$D$25) -> 3115.48 | L26: =SUMIF(L6:L25,TRUE,$D$6:$D$25) -> 3115.48 | ... P26: =SUMIF(P6:P25,TRUE,$D$6:$D$25) -> 0 | Q26: =SUM(Q6:Q25) -> 144 | R26: =SUM(R6:R25) -> 30684.31

Sheet Summary
B1: Summary | D1: rowsandcells.com
B2: Type in the cream cells. Shaded cells are formulas and fill in on their own. | D2: Free template
B5: Item | C5: Value
B6: Today's date | C6: =DATE(2026,10,18) -> 46313
B7: This month | C7: =DATE(YEAR(C6),MONTH(C6),1) -> 46296
B8: Due soon means within (days) | C8: 7
B9: Bills each month | C9: =SUM(Bills!E6:E25) -> 3115.48
B10: Paid this month | C10: =SUMIF(Bills!K6:K25,1,Bills!E6:E25) -> 2644.99
B11: Still to pay this month | C11: =C9-C10 -> 470.49
B12: Bills overdue | C12: =COUNTIF(Bills!J6:J25,"Overdue") -> 1
B13: Bills due soon | C13: =COUNTIF(Bills!J6:J25,"Due soon") -> 4
B14: Bills on autopay | C14: =COUNTIF(Bills!F6:F25,TRUE)&" of "&COUNTA(Bills!B6:B25) -> 11 of 15
B15: Bills over a full year | C15: =C9*12 -> 37385.76
B16: Paid so far this year | C16: ='Paid Grid'!R26 -> 30684.31
B17: Subscriptions each month | C17: =SUMIF(Bills!C6:C25,"Subscriptions",Bills!E6:E25) -> 75.48
B18: Subscriptions over a year | C18: =C17*12 -> 905.76
