Workbook

Sheet Card
A1: B | B1: I | C1: N | D1: G | E1: O
A2: =IF(1>$B$9,"",IFERROR(VLOOKUP(1,'Word List'!$A$2:$C$51,3,FALSE),"")) -> Hat | B2: =IF(2>$B$9,"",IFERROR(VLOOKUP(2,'Word List'!$A$2:$C$51,3,FALSE),"")) -> Stroller | C2: =IF(3>$B$9,"",IFERROR(VLOOKUP(3,'Word List'!$A$2:$C$51,3,FALSE),"")) -> Onesie | D2: =IF(4>$B$9,"",IFERROR(VLOOKUP(4,'Word List'!$A$2:$C$51,3,FALSE),"")) -> Bib | E2: =IF(5>$B$9,"",IFERROR(VLOOKUP(5,'Word List'!$A$2:$C$51,3,FALSE),"")) -> Burp cloth
A3: =IF(6>$B$9,"",IFERROR(VLOOKUP(6,'Word List'!$A$2:$C$51,3,FALSE),"")) -> Board book | B3: =IF(7>$B$9,"",IFERROR(VLOOKUP(7,'Word List'!$A$2:$C$51,3,FALSE),"")) -> Baby wipes | C3: =IF(8>$B$9,"",IFERROR(VLOOKUP(8,'Word List'!$A$2:$C$51,3,FALSE),"")) -> Diaper | D3: =IF(9>$B$9,"",IFERROR(VLOOKUP(9,'Word List'!$A$2:$C$51,3,FALSE),"")) -> Night light | E3: =IF(10>$B$9,"",IFERROR(VLOOKUP(10,'Word List'!$A$2:$C$51,3,FALSE),"")) -> Sippy cup
A4: =IF(11>$B$9,"",IFERROR(VLOOKUP(11,'Word List'!$A$2:$C$51,3,FALSE),"")) -> Bouncer | B4: =IF(12>$B$9,"",IFERROR(VLOOKUP(12,'Word List'!$A$2:$C$51,3,FALSE),"")) -> Footie pajamas | C4: FREE | D4: =IF(13>$B$9,"",IFERROR(VLOOKUP(13,'Word List'!$A$2:$C$51,3,FALSE),"")) -> Baby carrier | E4: =IF(14>$B$9,"",IFERROR(VLOOKUP(14,'Word List'!$A$2:$C$51,3,FALSE),"")) -> Car seat
A5: =IF(15>$B$9,"",IFERROR(VLOOKUP(15,'Word List'!$A$2:$C$51,3,FALSE),"")) -> Play mat | B5: =IF(16>$B$9,"",IFERROR(VLOOKUP(16,'Word List'!$A$2:$C$51,3,FALSE),"")) -> Diaper bag | C5: =IF(17>$B$9,"",IFERROR(VLOOKUP(17,'Word List'!$A$2:$C$51,3,FALSE),"")) -> Thermometer | D5: =IF(18>$B$9,"",IFERROR(VLOOKUP(18,'Word List'!$A$2:$C$51,3,FALSE),"")) -> Bottle | E5: =IF(19>$B$9,"",IFERROR(VLOOKUP(19,'Word List'!$A$2:$C$51,3,FALSE),"")) -> Swaddle
A6: =IF(20>$B$9,"",IFERROR(VLOOKUP(20,'Word List'!$A$2:$C$51,3,FALSE),"")) -> Baby lotion | B6: =IF(21>$B$9,"",IFERROR(VLOOKUP(21,'Word List'!$A$2:$C$51,3,FALSE),"")) -> Rattle | C6: =IF(22>$B$9,"",IFERROR(VLOOKUP(22,'Word List'!$A$2:$C$51,3,FALSE),"")) -> High chair | D6: =IF(23>$B$9,"",IFERROR(VLOOKUP(23,'Word List'!$A$2:$C$51,3,FALSE),"")) -> Bottle brush | E6: =IF(24>$B$9,"",IFERROR(VLOOKUP(24,'Word List'!$A$2:$C$51,3,FALSE),"")) -> Socks
A8: Card number | B8: 1 | D8: Change to get a new card
A9: Words in list | B9: =COUNTA('Word List'!$C$2:$C$51) -> 36 | D9: =IF(B9<24,"Add at least 24 words","")

Sheet Word List
A1: Card spot | B1: Call order | C1: Word or phrase | D1: No. | E1: Card key | F1: Caller key
A2: =IF(ISNUMBER(E2),COUNTIFS($E$2:$E$51,"<"&E2)+1,"") -> 8 | B2: =IF(ISNUMBER(F2),COUNTIFS($F$2:$F$51,"<"&F2)+1,"") -> 6 | C2: Diaper | D2: 1 | E2: =IF(ISBLANK(C2),"",MOD(D2*D2*37+D2*Card!$B$8*101+Card!$B$8*Card!$B$8*53+D2*17,997)*1000+D2) -> 208001 | F2: =IF(ISBLANK(C2),"",MOD(D2*D2*41+D2*Caller!$B$2*89+Caller!$B$2*Caller!$B$2*61+D2*29,991)*1000+D2) -> 220001
A3: =IF(ISNUMBER(E3),COUNTIFS($E$2:$E$51,"<"&E3)+1,"") -> 18 | B3: =IF(ISNUMBER(F3),COUNTIFS($F$2:$F$51,"<"&F3)+1,"") -> 15 | C3: Bottle | D3: 2 | E3: =IF(ISBLANK(C3),"",MOD(D3*D3*37+D3*Card!$B$8*101+Card!$B$8*Card!$B$8*53+D3*17,997)*1000+D3) -> 437002 | F3: =IF(ISBLANK(C3),"",MOD(D3*D3*41+D3*Caller!$B$2*89+Caller!$B$2*Caller!$B$2*61+D3*29,991)*1000+D3) -> 461002
A4: =IF(ISNUMBER(E4),COUNTIFS($E$2:$E$51,"<"&E4)+1,"") -> 27 | B4: =IF(ISNUMBER(F4),COUNTIFS($F$2:$F$51,"<"&F4)+1,"") -> 26 | C4: Pacifier | D4: 3 | E4: =IF(ISBLANK(C4),"",MOD(D4*D4*37+D4*Card!$B$8*101+Card!$B$8*Card!$B$8*53+D4*17,997)*1000+D4) -> 740003 | F4: =IF(ISBLANK(C4),"",MOD(D4*D4*41+D4*Caller!$B$2*89+Caller!$B$2*Caller!$B$2*61+D4*29,991)*1000+D4) -> 784003
A5: =IF(ISNUMBER(E5),COUNTIFS($E$2:$E$51,"<"&E5)+1,"") -> 3 | B5: =IF(ISNUMBER(F5),COUNTIFS($F$2:$F$51,"<"&F5)+1,"") -> 5 | C5: Onesie | D5: 4 | E5: =IF(ISBLANK(C5),"",MOD(D5*D5*37+D5*Card!$B$8*101+Card!$B$8*Card!$B$8*53+D5*17,997)*1000+D5) -> 120004 | F5: =IF(ISBLANK(C5),"",MOD(D5*D5*41+D5*Caller!$B$2*89+Caller!$B$2*Caller!$B$2*61+D5*29,991)*1000+D5) -> 198004
A6: =IF(ISNUMBER(E6),COUNTIFS($E$2:$E$51,"<"&E6)+1,"") -> 21 | B6: =IF(ISNUMBER(F6),COUNTIFS($F$2:$F$51,"<"&F6)+1,"") -> 23 | C6: Rattle | D6: 5 | E6: =IF(ISBLANK(C6),"",MOD(D6*D6*37+D6*Card!$B$8*101+Card!$B$8*Card!$B$8*53+D6*17,997)*1000+D6) -> 571005 | F6: =IF(ISBLANK(C6),"",MOD(D6*D6*41+D6*Caller!$B$2*89+Caller!$B$2*Caller!$B$2*61+D6*29,991)*1000+D6) -> 685005
A7: =IF(ISNUMBER(E7),COUNTIFS($E$2:$E$51,"<"&E7)+1,"") -> 2 | B7: =IF(ISNUMBER(F7),COUNTIFS($F$2:$F$51,"<"&F7)+1,"") -> 9 | C7: Stroller | D7: 6 | E7: =IF(ISBLANK(C7),"",MOD(D7*D7*37+D7*Card!$B$8*101+Card!$B$8*Card!$B$8*53+D7*17,997)*1000+D7) -> 99006 | F7: =IF(ISBLANK(C7),"",MOD(D7*D7*41+D7*Caller!$B$2*89+Caller!$B$2*Caller!$B$2*61+D7*29,991)*1000+D7) -> 263006
A8: =IF(ISNUMBER(E8),COUNTIFS($E$2:$E$51,"<"&E8)+1,"") -> 26 | B8: =IF(ISNUMBER(F8),COUNTIFS($F$2:$F$51,"<"&F8)+1,"") -> 33 | C8: Crib | D8: 7 | E8: =IF(ISBLANK(C8),"",MOD(D8*D8*37+D8*Card!$B$8*101+Card!$B$8*Card!$B$8*53+D8*17,997)*1000+D8) -> 698007 | F8: =IF(ISBLANK(C8),"",MOD(D8*D8*41+D8*Caller!$B$2*89+Caller!$B$2*Caller!$B$2*61+D8*29,991)*1000+D8) -> 914007
A9: =IF(ISNUMBER(E9),COUNTIFS($E$2:$E$51,"<"&E9)+1,"") -> 14 | B9: =IF(ISNUMBER(F9),COUNTIFS($F$2:$F$51,"<"&F9)+1,"") -> 21 | C9: Car seat | D9: 8 | E9: =IF(ISBLANK(C9),"",MOD(D9*D9*37+D9*Card!$B$8*101+Card!$B$8*Card!$B$8*53+D9*17,997)*1000+D9) -> 374008 | F9: =IF(ISBLANK(C9),"",MOD(D9*D9*41+D9*Caller!$B$2*89+Caller!$B$2*Caller!$B$2*61+D9*29,991)*1000+D9) -> 656008
A10: =IF(ISNUMBER(E10),COUNTIFS($E$2:$E$51,"<"&E10)+1,"") -> 4 | B10: =IF(ISNUMBER(F10),COUNTIFS($F$2:$F$51,"<"&F10)+1,"") -> 16 | C10: Bib | D10: 9 | E10: =IF(ISBLANK(C10),"",MOD(D10*D10*37+D10*Card!$B$8*101+Card!$B$8*Card!$B$8*53+D10*17,997)*1000+D10) -> 124009 | F10: =IF(ISBLANK(C10),"",MOD(D10*D10*41+D10*Caller!$B$2*89+Caller!$B$2*Caller!$B$2*61+D10*29,991)*1000+D10) -> 480009
A11: =IF(ISNUMBER(E11),COUNTIFS($E$2:$E$51,"<"&E11)+1,"") -> 34 | B11: =IF(ISNUMBER(F11),COUNTIFS($F$2:$F$51,"<"&F11)+1,"") -> 12 | C11: Blanket | D11: 10 | E11: =IF(ISBLANK(C11),"",MOD(D11*D11*37+D11*Card!$B$8*101+Card!$B$8*Card!$B$8*53+D11*17,997)*1000+D11) -> 945010 | F11: =IF(ISBLANK(C11),"",MOD(D11*D11*41+D11*Caller!$B$2*89+Caller!$B$2*Caller!$B$2*61+D11*29,991)*1000+D11) -> 386010
A12: =IF(ISNUMBER(E12),COUNTIFS($E$2:$E$51,"<"&E12)+1,"") -> 31 | B12: =IF(ISNUMBER(F12),COUNTIFS($F$2:$F$51,"<"&F12)+1,"") -> 11 | C12: Teddy bear | D12: 11 | E12: =IF(ISBLANK(C12),"",MOD(D12*D12*37+D12*Card!$B$8*101+Card!$B$8*Card!$B$8*53+D12*17,997)*1000+D12) -> 843011 | F12: =IF(ISBLANK(C12),"",MOD(D12*D12*41+D12*Caller!$B$2*89+Caller!$B$2*Caller!$B$2*61+D12*29,991)*1000+D12) -> 374011
A13: =IF(ISNUMBER(E13),COUNTIFS($E$2:$E$51,"<"&E13)+1,"") -> 29 | B13: =IF(ISNUMBER(F13),COUNTIFS($F$2:$F$51,"<"&F13)+1,"") -> 14 | C13: Lullaby | D13: 12 | E13: =IF(ISBLANK(C13),"",MOD(D13*D13*37+D13*Card!$B$8*101+Card!$B$8*Card!$B$8*53+D13*17,997)*1000+D13) -> 815012 | F13: =IF(ISBLANK(C13),"",MOD(D13*D13*41+D13*Caller!$B$2*89+Caller!$B$2*Caller!$B$2*61+D13*29,991)*1000+D13) -> 444012
... A37: =IF(ISNUMBER(E37),COUNTIFS($E$2:$E$51,"<"&E37)+1,"") -> 17 | B37: =IF(ISNUMBER(F37),COUNTIFS($F$2:$F$51,"<"&F37)+1,"") -> 35 | C37: Thermometer | D37: 36 | E37: =IF(ISBLANK(C37),"",MOD(D37*D37*37+D37*Card!$B$8*101+Card!$B$8*Card!$B$8*53+D37*17,997)*1000+D37) -> 409036 | F37: =IF(ISBLANK(C37),"",MOD(D37*D37*41+D37*Caller!$B$2*89+Caller!$B$2*Caller!$B$2*61+D37*29,991)*1000+D37) -> 958036
A38: =IF(ISNUMBER(E38),COUNTIFS($E$2:$E$51,"<"&E38)+1,"") | B38: =IF(ISNUMBER(F38),COUNTIFS($F$2:$F$51,"<"&F38)+1,"") | D38: 37 | E38: =IF(ISBLANK(C38),"",MOD(D38*D38*37+D38*Card!$B$8*101+Card!$B$8*Card!$B$8*53+D38*17,997)*1000+D38) | F38: =IF(ISBLANK(C38),"",MOD(D38*D38*41+D38*Caller!$B$2*89+Caller!$B$2*Caller!$B$2*61+D38*29,991)*1000+D38)
A39: =IF(ISNUMBER(E39),COUNTIFS($E$2:$E$51,"<"&E39)+1,"") | B39: =IF(ISNUMBER(F39),COUNTIFS($F$2:$F$51,"<"&F39)+1,"") | D39: 38 | E39: =IF(ISBLANK(C39),"",MOD(D39*D39*37+D39*Card!$B$8*101+Card!$B$8*Card!$B$8*53+D39*17,997)*1000+D39) | F39: =IF(ISBLANK(C39),"",MOD(D39*D39*41+D39*Caller!$B$2*89+Caller!$B$2*Caller!$B$2*61+D39*29,991)*1000+D39)
A40: =IF(ISNUMBER(E40),COUNTIFS($E$2:$E$51,"<"&E40)+1,"") | B40: =IF(ISNUMBER(F40),COUNTIFS($F$2:$F$51,"<"&F40)+1,"") | D40: 39 | E40: =IF(ISBLANK(C40),"",MOD(D40*D40*37+D40*Card!$B$8*101+Card!$B$8*Card!$B$8*53+D40*17,997)*1000+D40) | F40: =IF(ISBLANK(C40),"",MOD(D40*D40*41+D40*Caller!$B$2*89+Caller!$B$2*Caller!$B$2*61+D40*29,991)*1000+D40)
A41: =IF(ISNUMBER(E41),COUNTIFS($E$2:$E$51,"<"&E41)+1,"") | B41: =IF(ISNUMBER(F41),COUNTIFS($F$2:$F$51,"<"&F41)+1,"") | D41: 40 | E41: =IF(ISBLANK(C41),"",MOD(D41*D41*37+D41*Card!$B$8*101+Card!$B$8*Card!$B$8*53+D41*17,997)*1000+D41) | F41: =IF(ISBLANK(C41),"",MOD(D41*D41*41+D41*Caller!$B$2*89+Caller!$B$2*Caller!$B$2*61+D41*29,991)*1000+D41)
A42: =IF(ISNUMBER(E42),COUNTIFS($E$2:$E$51,"<"&E42)+1,"") | B42: =IF(ISNUMBER(F42),COUNTIFS($F$2:$F$51,"<"&F42)+1,"") | D42: 41 | E42: =IF(ISBLANK(C42),"",MOD(D42*D42*37+D42*Card!$B$8*101+Card!$B$8*Card!$B$8*53+D42*17,997)*1000+D42) | F42: =IF(ISBLANK(C42),"",MOD(D42*D42*41+D42*Caller!$B$2*89+Caller!$B$2*Caller!$B$2*61+D42*29,991)*1000+D42)
A43: =IF(ISNUMBER(E43),COUNTIFS($E$2:$E$51,"<"&E43)+1,"") | B43: =IF(ISNUMBER(F43),COUNTIFS($F$2:$F$51,"<"&F43)+1,"") | D43: 42 | E43: =IF(ISBLANK(C43),"",MOD(D43*D43*37+D43*Card!$B$8*101+Card!$B$8*Card!$B$8*53+D43*17,997)*1000+D43) | F43: =IF(ISBLANK(C43),"",MOD(D43*D43*41+D43*Caller!$B$2*89+Caller!$B$2*Caller!$B$2*61+D43*29,991)*1000+D43)
A44: =IF(ISNUMBER(E44),COUNTIFS($E$2:$E$51,"<"&E44)+1,"") | B44: =IF(ISNUMBER(F44),COUNTIFS($F$2:$F$51,"<"&F44)+1,"") | D44: 43 | E44: =IF(ISBLANK(C44),"",MOD(D44*D44*37+D44*Card!$B$8*101+Card!$B$8*Card!$B$8*53+D44*17,997)*1000+D44) | F44: =IF(ISBLANK(C44),"",MOD(D44*D44*41+D44*Caller!$B$2*89+Caller!$B$2*Caller!$B$2*61+D44*29,991)*1000+D44)
A45: =IF(ISNUMBER(E45),COUNTIFS($E$2:$E$51,"<"&E45)+1,"") | B45: =IF(ISNUMBER(F45),COUNTIFS($F$2:$F$51,"<"&F45)+1,"") | D45: 44 | E45: =IF(ISBLANK(C45),"",MOD(D45*D45*37+D45*Card!$B$8*101+Card!$B$8*Card!$B$8*53+D45*17,997)*1000+D45) | F45: =IF(ISBLANK(C45),"",MOD(D45*D45*41+D45*Caller!$B$2*89+Caller!$B$2*Caller!$B$2*61+D45*29,991)*1000+D45)
A46: =IF(ISNUMBER(E46),COUNTIFS($E$2:$E$51,"<"&E46)+1,"") | B46: =IF(ISNUMBER(F46),COUNTIFS($F$2:$F$51,"<"&F46)+1,"") | D46: 45 | E46: =IF(ISBLANK(C46),"",MOD(D46*D46*37+D46*Card!$B$8*101+Card!$B$8*Card!$B$8*53+D46*17,997)*1000+D46) | F46: =IF(ISBLANK(C46),"",MOD(D46*D46*41+D46*Caller!$B$2*89+Caller!$B$2*Caller!$B$2*61+D46*29,991)*1000+D46)
A47: =IF(ISNUMBER(E47),COUNTIFS($E$2:$E$51,"<"&E47)+1,"") | B47: =IF(ISNUMBER(F47),COUNTIFS($F$2:$F$51,"<"&F47)+1,"") | D47: 46 | E47: =IF(ISBLANK(C47),"",MOD(D47*D47*37+D47*Card!$B$8*101+Card!$B$8*Card!$B$8*53+D47*17,997)*1000+D47) | F47: =IF(ISBLANK(C47),"",MOD(D47*D47*41+D47*Caller!$B$2*89+Caller!$B$2*Caller!$B$2*61+D47*29,991)*1000+D47)
A48: =IF(ISNUMBER(E48),COUNTIFS($E$2:$E$51,"<"&E48)+1,"") | B48: =IF(ISNUMBER(F48),COUNTIFS($F$2:$F$51,"<"&F48)+1,"") | D48: 47 | E48: =IF(ISBLANK(C48),"",MOD(D48*D48*37+D48*Card!$B$8*101+Card!$B$8*Card!$B$8*53+D48*17,997)*1000+D48) | F48: =IF(ISBLANK(C48),"",MOD(D48*D48*41+D48*Caller!$B$2*89+Caller!$B$2*Caller!$B$2*61+D48*29,991)*1000+D48)
A49: =IF(ISNUMBER(E49),COUNTIFS($E$2:$E$51,"<"&E49)+1,"") | B49: =IF(ISNUMBER(F49),COUNTIFS($F$2:$F$51,"<"&F49)+1,"") | D49: 48 | E49: =IF(ISBLANK(C49),"",MOD(D49*D49*37+D49*Card!$B$8*101+Card!$B$8*Card!$B$8*53+D49*17,997)*1000+D49) | F49: =IF(ISBLANK(C49),"",MOD(D49*D49*41+D49*Caller!$B$2*89+Caller!$B$2*Caller!$B$2*61+D49*29,991)*1000+D49)
... A51: =IF(ISNUMBER(E51),COUNTIFS($E$2:$E$51,"<"&E51)+1,"") | B51: =IF(ISNUMBER(F51),COUNTIFS($F$2:$F$51,"<"&F51)+1,"") | D51: 50 | E51: =IF(ISBLANK(C51),"",MOD(D51*D51*37+D51*Card!$B$8*101+Card!$B$8*Card!$B$8*53+D51*17,997)*1000+D51) | F51: =IF(ISBLANK(C51),"",MOD(D51*D51*41+D51*Caller!$B$2*89+Caller!$B$2*Caller!$B$2*61+D51*29,991)*1000+D51)

Sheet Caller
A1: Call | B1: Word or phrase | C1: Called
A2: Shuffle number | B2: 1 | C2: FALSE
A3: 1 | B3: =IF(A3>Card!$B$9,"",IFERROR(VLOOKUP(A3,'Word List'!$B$2:$C$51,2,FALSE),"")) -> Bath tub | C3: TRUE
A4: 2 | B4: =IF(A4>Card!$B$9,"",IFERROR(VLOOKUP(A4,'Word List'!$B$2:$C$51,2,FALSE),"")) -> Baby carrier | C4: TRUE
A5: 3 | B5: =IF(A5>Card!$B$9,"",IFERROR(VLOOKUP(A5,'Word List'!$B$2:$C$51,2,FALSE),"")) -> Night light | C5: TRUE
A6: 4 | B6: =IF(A6>Card!$B$9,"",IFERROR(VLOOKUP(A6,'Word List'!$B$2:$C$51,2,FALSE),"")) -> Burp cloth | C6: TRUE
A7: 5 | B7: =IF(A7>Card!$B$9,"",IFERROR(VLOOKUP(A7,'Word List'!$B$2:$C$51,2,FALSE),"")) -> Onesie | C7: TRUE
A8: 6 | B8: =IF(A8>Card!$B$9,"",IFERROR(VLOOKUP(A8,'Word List'!$B$2:$C$51,2,FALSE),"")) -> Diaper | C8: TRUE
A9: 7 | B9: =IF(A9>Card!$B$9,"",IFERROR(VLOOKUP(A9,'Word List'!$B$2:$C$51,2,FALSE),"")) -> Sleep sack | C9: TRUE
A10: 8 | B10: =IF(A10>Card!$B$9,"",IFERROR(VLOOKUP(A10,'Word List'!$B$2:$C$51,2,FALSE),"")) -> Mobile | C10: FALSE
A11: 9 | B11: =IF(A11>Card!$B$9,"",IFERROR(VLOOKUP(A11,'Word List'!$B$2:$C$51,2,FALSE),"")) -> Stroller | C11: FALSE
A12: 10 | B12: =IF(A12>Card!$B$9,"",IFERROR(VLOOKUP(A12,'Word List'!$B$2:$C$51,2,FALSE),"")) -> Socks | C12: FALSE
A13: 11 | B13: =IF(A13>Card!$B$9,"",IFERROR(VLOOKUP(A13,'Word List'!$B$2:$C$51,2,FALSE),"")) -> Teddy bear | C13: FALSE
A14: 12 | B14: =IF(A14>Card!$B$9,"",IFERROR(VLOOKUP(A14,'Word List'!$B$2:$C$51,2,FALSE),"")) -> Blanket | C14: FALSE
... A38: 36 | B38: =IF(A38>Card!$B$9,"",IFERROR(VLOOKUP(A38,'Word List'!$B$2:$C$51,2,FALSE),"")) -> Sippy cup | C38: FALSE
