Workbook

Sheet BP Log
A1: Date | B1: Time | C1: When | D1: Systolic (top) | E1: Diastolic (bottom) | F1: Pulse | G1: Category | H1: Arm | I1: Notes | J1: Week of
A2: 46300 | B2: 0.29861111 | C2: =IF(ISNUMBER(B2),IF(B2<0.5,"Morning","Evening"),"") -> Morning | D2: 134 | E2: 86 | F2: 72 | G2: =IF(NOT(AND(ISNUMBER(D2),ISNUMBER(E2))),"",IF(OR(D2>180,E2>120),"Crisis: call doctor",IF(OR(D2>=140,E2>=90),"Stage 2",IF(OR(D2>=130,E2>=80),"Stage 1",IF(D2>=120,"Elevated","Normal"))))) -> Stage 1 | H2: Left | I2: Before coffee | J2: =IF(ISNUMBER(A2),A2-WEEKDAY(A2,2)+1,"") -> 46300
A3: 46300 | B3: 0.87847222 | C3: =IF(ISNUMBER(B3),IF(B3<0.5,"Morning","Evening"),"") -> Evening | D3: 128 | E3: 82 | F3: 68 | G3: =IF(NOT(AND(ISNUMBER(D3),ISNUMBER(E3))),"",IF(OR(D3>180,E3>120),"Crisis: call doctor",IF(OR(D3>=140,E3>=90),"Stage 2",IF(OR(D3>=130,E3>=80),"Stage 1",IF(D3>=120,"Elevated","Normal"))))) -> Stage 1 | H3: Left | J3: =IF(ISNUMBER(A3),A3-WEEKDAY(A3,2)+1,"") -> 46300
A4: 46301 | B4: 0.29513889 | C4: =IF(ISNUMBER(B4),IF(B4<0.5,"Morning","Evening"),"") -> Morning | D4: 138 | E4: 88 | F4: 74 | G4: =IF(NOT(AND(ISNUMBER(D4),ISNUMBER(E4))),"",IF(OR(D4>180,E4>120),"Crisis: call doctor",IF(OR(D4>=140,E4>=90),"Stage 2",IF(OR(D4>=130,E4>=80),"Stage 1",IF(D4>=120,"Elevated","Normal"))))) -> Stage 1 | H4: Left | I4: Slept badly | J4: =IF(ISNUMBER(A4),A4-WEEKDAY(A4,2)+1,"") -> 46300
A5: 46301 | B5: 0.86805556 | C5: =IF(ISNUMBER(B5),IF(B5<0.5,"Morning","Evening"),"") -> Evening | D5: 131 | E5: 84 | F5: 70 | G5: =IF(NOT(AND(ISNUMBER(D5),ISNUMBER(E5))),"",IF(OR(D5>180,E5>120),"Crisis: call doctor",IF(OR(D5>=140,E5>=90),"Stage 2",IF(OR(D5>=130,E5>=80),"Stage 1",IF(D5>=120,"Elevated","Normal"))))) -> Stage 1 | H5: Left | J5: =IF(ISNUMBER(A5),A5-WEEKDAY(A5,2)+1,"") -> 46300
A6: 46302 | B6: 0.30208333 | C6: =IF(ISNUMBER(B6),IF(B6<0.5,"Morning","Evening"),"") -> Morning | D6: 129 | E6: 83 | F6: 71 | G6: =IF(NOT(AND(ISNUMBER(D6),ISNUMBER(E6))),"",IF(OR(D6>180,E6>120),"Crisis: call doctor",IF(OR(D6>=140,E6>=90),"Stage 2",IF(OR(D6>=130,E6>=80),"Stage 1",IF(D6>=120,"Elevated","Normal"))))) -> Stage 1 | H6: Left | J6: =IF(ISNUMBER(A6),A6-WEEKDAY(A6,2)+1,"") -> 46300
A7: 46302 | B7: 0.88888889 | C7: =IF(ISNUMBER(B7),IF(B7<0.5,"Morning","Evening"),"") -> Evening | D7: 124 | E7: 79 | F7: 66 | G7: =IF(NOT(AND(ISNUMBER(D7),ISNUMBER(E7))),"",IF(OR(D7>180,E7>120),"Crisis: call doctor",IF(OR(D7>=140,E7>=90),"Stage 2",IF(OR(D7>=130,E7>=80),"Stage 1",IF(D7>=120,"Elevated","Normal"))))) -> Elevated | H7: Left | I7: Walked 30 min after dinner | J7: =IF(ISNUMBER(A7),A7-WEEKDAY(A7,2)+1,"") -> 46300
A8: 46303 | B8: 0.28819444 | C8: =IF(ISNUMBER(B8),IF(B8<0.5,"Morning","Evening"),"") -> Morning | D8: 142 | E8: 91 | F8: 76 | G8: =IF(NOT(AND(ISNUMBER(D8),ISNUMBER(E8))),"",IF(OR(D8>180,E8>120),"Crisis: call doctor",IF(OR(D8>=140,E8>=90),"Stage 2",IF(OR(D8>=130,E8>=80),"Stage 1",IF(D8>=120,"Elevated","Normal"))))) -> Stage 2 | H8: Left | I8: Rushed, measured right after waking | J8: =IF(ISNUMBER(A8),A8-WEEKDAY(A8,2)+1,"") -> 46300
A9: 46303 | B9: 0.29305556 | C9: =IF(ISNUMBER(B9),IF(B9<0.5,"Morning","Evening"),"") -> Morning | D9: 136 | E9: 87 | F9: 74 | G9: =IF(NOT(AND(ISNUMBER(D9),ISNUMBER(E9))),"",IF(OR(D9>180,E9>120),"Crisis: call doctor",IF(OR(D9>=140,E9>=90),"Stage 2",IF(OR(D9>=130,E9>=80),"Stage 1",IF(D9>=120,"Elevated","Normal"))))) -> Stage 1 | H9: Left | I9: Second reading after 5 min rest | J9: =IF(ISNUMBER(A9),A9-WEEKDAY(A9,2)+1,"") -> 46300
A10: 46303 | B10: 0.88194444 | C10: =IF(ISNUMBER(B10),IF(B10<0.5,"Morning","Evening"),"") -> Evening | D10: 127 | E10: 81 | F10: 69 | G10: =IF(NOT(AND(ISNUMBER(D10),ISNUMBER(E10))),"",IF(OR(D10>180,E10>120),"Crisis: call doctor",IF(OR(D10>=140,E10>=90),"Stage 2",IF(OR(D10>=130,E10>=80),"Stage 1",IF(D10>=120,"Elevated","Normal"))))) -> Stage 1 | H10: Left | J10: =IF(ISNUMBER(A10),A10-WEEKDAY(A10,2)+1,"") -> 46300
A11: 46304 | B11: 0.30555556 | C11: =IF(ISNUMBER(B11),IF(B11<0.5,"Morning","Evening"),"") -> Morning | D11: 133 | E11: 85 | F11: 72 | G11: =IF(NOT(AND(ISNUMBER(D11),ISNUMBER(E11))),"",IF(OR(D11>180,E11>120),"Crisis: call doctor",IF(OR(D11>=140,E11>=90),"Stage 2",IF(OR(D11>=130,E11>=80),"Stage 1",IF(D11>=120,"Elevated","Normal"))))) -> Stage 1 | H11: Left | J11: =IF(ISNUMBER(A11),A11-WEEKDAY(A11,2)+1,"") -> 46300
A12: 46304 | B12: 0.875 | C12: =IF(ISNUMBER(B12),IF(B12<0.5,"Morning","Evening"),"") -> Evening | D12: 126 | E12: 80 | F12: 67 | G12: =IF(NOT(AND(ISNUMBER(D12),ISNUMBER(E12))),"",IF(OR(D12>180,E12>120),"Crisis: call doctor",IF(OR(D12>=140,E12>=90),"Stage 2",IF(OR(D12>=130,E12>=80),"Stage 1",IF(D12>=120,"Elevated","Normal"))))) -> Stage 1 | H12: Left | J12: =IF(ISNUMBER(A12),A12-WEEKDAY(A12,2)+1,"") -> 46300
A13: 46305 | B13: 0.35416667 | C13: =IF(ISNUMBER(B13),IF(B13<0.5,"Morning","Evening"),"") -> Morning | D13: 130 | E13: 84 | F13: 70 | G13: =IF(NOT(AND(ISNUMBER(D13),ISNUMBER(E13))),"",IF(OR(D13>180,E13>120),"Crisis: call doctor",IF(OR(D13>=140,E13>=90),"Stage 2",IF(OR(D13>=130,E13>=80),"Stage 1",IF(D13>=120,"Elevated","Normal"))))) -> Stage 1 | H13: Left | I13: Weekend, slept in | J13: =IF(ISNUMBER(A13),A13-WEEKDAY(A13,2)+1,"") -> 46300
A14: 46305 | B14: 0.90277778 | C14: =IF(ISNUMBER(B14),IF(B14<0.5,"Morning","Evening"),"") -> Evening | D14: 122 | E14: 78 | F14: 66 | G14: =IF(NOT(AND(ISNUMBER(D14),ISNUMBER(E14))),"",IF(OR(D14>180,E14>120),"Crisis: call doctor",IF(OR(D14>=140,E14>=90),"Stage 2",IF(OR(D14>=130,E14>=80),"Stage 1",IF(D14>=120,"Elevated","Normal"))))) -> Elevated | H14: Left | J14: =IF(ISNUMBER(A14),A14-WEEKDAY(A14,2)+1,"") -> 46300
A15: 46306 | B15: 0.36458333 | C15: =IF(ISNUMBER(B15),IF(B15<0.5,"Morning","Evening"),"") -> Morning | D15: 128 | E15: 82 | F15: 69 | G15: =IF(NOT(AND(ISNUMBER(D15),ISNUMBER(E15))),"",IF(OR(D15>180,E15>120),"Crisis: call doctor",IF(OR(D15>=140,E15>=90),"Stage 2",IF(OR(D15>=130,E15>=80),"Stage 1",IF(D15>=120,"Elevated","Normal"))))) -> Stage 1 | H15: Left | J15: =IF(ISNUMBER(A15),A15-WEEKDAY(A15,2)+1,"") -> 46300
A16: 46306 | B16: 0.88541667 | C16: =IF(ISNUMBER(B16),IF(B16<0.5,"Morning","Evening"),"") -> Evening | D16: 121 | E16: 77 | F16: 65 | G16: =IF(NOT(AND(ISNUMBER(D16),ISNUMBER(E16))),"",IF(OR(D16>180,E16>120),"Crisis: call doctor",IF(OR(D16>=140,E16>=90),"Stage 2",IF(OR(D16>=130,E16>=80),"Stage 1",IF(D16>=120,"Elevated","Normal"))))) -> Elevated | H16: Left | I16: Relaxed evening | J16: =IF(ISNUMBER(A16),A16-WEEKDAY(A16,2)+1,"") -> 46300
A17: 46307 | B17: 0.29861111 | C17: =IF(ISNUMBER(B17),IF(B17<0.5,"Morning","Evening"),"") -> Morning | D17: 131 | E17: 83 | F17: 71 | G17: =IF(NOT(AND(ISNUMBER(D17),ISNUMBER(E17))),"",IF(OR(D17>180,E17>120),"Crisis: call doctor",IF(OR(D17>=140,E17>=90),"Stage 2",IF(OR(D17>=130,E17>=80),"Stage 1",IF(D17>=120,"Elevated","Normal"))))) -> Stage 1 | H17: Left | J17: =IF(ISNUMBER(A17),A17-WEEKDAY(A17,2)+1,"") -> 46307
A18: 46307 | B18: 0.875 | C18: =IF(ISNUMBER(B18),IF(B18<0.5,"Morning","Evening"),"") -> Evening | D18: 125 | E18: 79 | F18: 67 | G18: =IF(NOT(AND(ISNUMBER(D18),ISNUMBER(E18))),"",IF(OR(D18>180,E18>120),"Crisis: call doctor",IF(OR(D18>=140,E18>=90),"Stage 2",IF(OR(D18>=130,E18>=80),"Stage 1",IF(D18>=120,"Elevated","Normal"))))) -> Elevated | H18: Left | J18: =IF(ISNUMBER(A18),A18-WEEKDAY(A18,2)+1,"") -> 46307
A19: 46308 | B19: 0.29513889 | C19: =IF(ISNUMBER(B19),IF(B19<0.5,"Morning","Evening"),"") -> Morning | D19: 127 | E19: 81 | F19: 70 | G19: =IF(NOT(AND(ISNUMBER(D19),ISNUMBER(E19))),"",IF(OR(D19>180,E19>120),"Crisis: call doctor",IF(OR(D19>=140,E19>=90),"Stage 2",IF(OR(D19>=130,E19>=80),"Stage 1",IF(D19>=120,"Elevated","Normal"))))) -> Stage 1 | H19: Left | J19: =IF(ISNUMBER(A19),A19-WEEKDAY(A19,2)+1,"") -> 46307
A20: 46308 | B20: 0.87152778 | C20: =IF(ISNUMBER(B20),IF(B20<0.5,"Morning","Evening"),"") -> Evening | D20: 118 | E20: 76 | F20: 64 | G20: =IF(NOT(AND(ISNUMBER(D20),ISNUMBER(E20))),"",IF(OR(D20>180,E20>120),"Crisis: call doctor",IF(OR(D20>=140,E20>=90),"Stage 2",IF(OR(D20>=130,E20>=80),"Stage 1",IF(D20>=120,"Elevated","Normal"))))) -> Normal | H20: Left | I20: After evening walk | J20: =IF(ISNUMBER(A20),A20-WEEKDAY(A20,2)+1,"") -> 46307
A21: 46309 | B21: 0.30208333 | C21: =IF(ISNUMBER(B21),IF(B21<0.5,"Morning","Evening"),"") -> Morning | D21: 129 | E21: 82 | F21: 71 | G21: =IF(NOT(AND(ISNUMBER(D21),ISNUMBER(E21))),"",IF(OR(D21>180,E21>120),"Crisis: call doctor",IF(OR(D21>=140,E21>=90),"Stage 2",IF(OR(D21>=130,E21>=80),"Stage 1",IF(D21>=120,"Elevated","Normal"))))) -> Stage 1 | H21: Left | J21: =IF(ISNUMBER(A21),A21-WEEKDAY(A21,2)+1,"") -> 46307
A22: 46309 | B22: 0.87847222 | C22: =IF(ISNUMBER(B22),IF(B22<0.5,"Morning","Evening"),"") -> Evening | D22: 123 | E22: 78 | F22: 66 | G22: =IF(NOT(AND(ISNUMBER(D22),ISNUMBER(E22))),"",IF(OR(D22>180,E22>120),"Crisis: call doctor",IF(OR(D22>=140,E22>=90),"Stage 2",IF(OR(D22>=130,E22>=80),"Stage 1",IF(D22>=120,"Elevated","Normal"))))) -> Elevated | H22: Left | J22: =IF(ISNUMBER(A22),A22-WEEKDAY(A22,2)+1,"") -> 46307

Sheet Weekly Averages
A1: Week of | B1: Readings | C1: Avg systolic | D1: Avg diastolic | E1: Avg pulse | F1: Category of average | G1: Systolic change
A2: 46300 | B2: =COUNTIFS('BP Log'!J:J,A2) -> 15 | C2: =IF(B2=0,"",ROUND(AVERAGEIFS('BP Log'!D:D,'BP Log'!J:J,A2),0)) -> 130 | D2: =IF(B2=0,"",ROUND(AVERAGEIFS('BP Log'!E:E,'BP Log'!J:J,A2),0)) -> 83 | E2: =IF(B2=0,"",ROUND(AVERAGEIFS('BP Log'!F:F,'BP Log'!J:J,A2),0)) -> 70 | F2: =IF(B2=0,"",IF(OR(C2>180,D2>120),"Crisis: call doctor",IF(OR(C2>=140,D2>=90),"Stage 2",IF(OR(C2>=130,D2>=80),"Stage 1",IF(C2>=120,"Elevated","Normal"))))) -> Stage 1
A3: =A2+7 -> 46307 | B3: =COUNTIFS('BP Log'!J:J,A3) -> 6 | C3: =IF(B3=0,"",ROUND(AVERAGEIFS('BP Log'!D:D,'BP Log'!J:J,A3),0)) -> 126 | D3: =IF(B3=0,"",ROUND(AVERAGEIFS('BP Log'!E:E,'BP Log'!J:J,A3),0)) -> 80 | E3: =IF(B3=0,"",ROUND(AVERAGEIFS('BP Log'!F:F,'BP Log'!J:J,A3),0)) -> 68 | F3: =IF(B3=0,"",IF(OR(C3>180,D3>120),"Crisis: call doctor",IF(OR(C3>=140,D3>=90),"Stage 2",IF(OR(C3>=130,D3>=80),"Stage 1",IF(C3>=120,"Elevated","Normal"))))) -> Stage 1 | G3: =IF(AND(B3>0,B2>0),C3-C2,"") -> -4
A4: =A3+7 -> 46314 | B4: =COUNTIFS('BP Log'!J:J,A4) -> 0 | C4: =IF(B4=0,"",ROUND(AVERAGEIFS('BP Log'!D:D,'BP Log'!J:J,A4),0)) | D4: =IF(B4=0,"",ROUND(AVERAGEIFS('BP Log'!E:E,'BP Log'!J:J,A4),0)) | E4: =IF(B4=0,"",ROUND(AVERAGEIFS('BP Log'!F:F,'BP Log'!J:J,A4),0)) | F4: =IF(B4=0,"",IF(OR(C4>180,D4>120),"Crisis: call doctor",IF(OR(C4>=140,D4>=90),"Stage 2",IF(OR(C4>=130,D4>=80),"Stage 1",IF(C4>=120,"Elevated","Normal"))))) | G4: =IF(AND(B4>0,B3>0),C4-C3,"")
A5: =A4+7 -> 46321 | B5: =COUNTIFS('BP Log'!J:J,A5) -> 0 | C5: =IF(B5=0,"",ROUND(AVERAGEIFS('BP Log'!D:D,'BP Log'!J:J,A5),0)) | D5: =IF(B5=0,"",ROUND(AVERAGEIFS('BP Log'!E:E,'BP Log'!J:J,A5),0)) | E5: =IF(B5=0,"",ROUND(AVERAGEIFS('BP Log'!F:F,'BP Log'!J:J,A5),0)) | F5: =IF(B5=0,"",IF(OR(C5>180,D5>120),"Crisis: call doctor",IF(OR(C5>=140,D5>=90),"Stage 2",IF(OR(C5>=130,D5>=80),"Stage 1",IF(C5>=120,"Elevated","Normal"))))) | G5: =IF(AND(B5>0,B4>0),C5-C4,"")
A6: =A5+7 -> 46328 | B6: =COUNTIFS('BP Log'!J:J,A6) -> 0 | C6: =IF(B6=0,"",ROUND(AVERAGEIFS('BP Log'!D:D,'BP Log'!J:J,A6),0)) | D6: =IF(B6=0,"",ROUND(AVERAGEIFS('BP Log'!E:E,'BP Log'!J:J,A6),0)) | E6: =IF(B6=0,"",ROUND(AVERAGEIFS('BP Log'!F:F,'BP Log'!J:J,A6),0)) | F6: =IF(B6=0,"",IF(OR(C6>180,D6>120),"Crisis: call doctor",IF(OR(C6>=140,D6>=90),"Stage 2",IF(OR(C6>=130,D6>=80),"Stage 1",IF(C6>=120,"Elevated","Normal"))))) | G6: =IF(AND(B6>0,B5>0),C6-C5,"")
A7: =A6+7 -> 46335 | B7: =COUNTIFS('BP Log'!J:J,A7) -> 0 | C7: =IF(B7=0,"",ROUND(AVERAGEIFS('BP Log'!D:D,'BP Log'!J:J,A7),0)) | D7: =IF(B7=0,"",ROUND(AVERAGEIFS('BP Log'!E:E,'BP Log'!J:J,A7),0)) | E7: =IF(B7=0,"",ROUND(AVERAGEIFS('BP Log'!F:F,'BP Log'!J:J,A7),0)) | F7: =IF(B7=0,"",IF(OR(C7>180,D7>120),"Crisis: call doctor",IF(OR(C7>=140,D7>=90),"Stage 2",IF(OR(C7>=130,D7>=80),"Stage 1",IF(C7>=120,"Elevated","Normal"))))) | G7: =IF(AND(B7>0,B6>0),C7-C6,"")
A8: =A7+7 -> 46342 | B8: =COUNTIFS('BP Log'!J:J,A8) -> 0 | C8: =IF(B8=0,"",ROUND(AVERAGEIFS('BP Log'!D:D,'BP Log'!J:J,A8),0)) | D8: =IF(B8=0,"",ROUND(AVERAGEIFS('BP Log'!E:E,'BP Log'!J:J,A8),0)) | E8: =IF(B8=0,"",ROUND(AVERAGEIFS('BP Log'!F:F,'BP Log'!J:J,A8),0)) | F8: =IF(B8=0,"",IF(OR(C8>180,D8>120),"Crisis: call doctor",IF(OR(C8>=140,D8>=90),"Stage 2",IF(OR(C8>=130,D8>=80),"Stage 1",IF(C8>=120,"Elevated","Normal"))))) | G8: =IF(AND(B8>0,B7>0),C8-C7,"")
A9: =A8+7 -> 46349 | B9: =COUNTIFS('BP Log'!J:J,A9) -> 0 | C9: =IF(B9=0,"",ROUND(AVERAGEIFS('BP Log'!D:D,'BP Log'!J:J,A9),0)) | D9: =IF(B9=0,"",ROUND(AVERAGEIFS('BP Log'!E:E,'BP Log'!J:J,A9),0)) | E9: =IF(B9=0,"",ROUND(AVERAGEIFS('BP Log'!F:F,'BP Log'!J:J,A9),0)) | F9: =IF(B9=0,"",IF(OR(C9>180,D9>120),"Crisis: call doctor",IF(OR(C9>=140,D9>=90),"Stage 2",IF(OR(C9>=130,D9>=80),"Stage 1",IF(C9>=120,"Elevated","Normal"))))) | G9: =IF(AND(B9>0,B8>0),C9-C8,"")

Sheet Summary
A1: Group | B1: Readings | C1: Systolic | D1: Diastolic | E1: Pulse
A2: All readings | B2: =COUNT('BP Log'!D2:D1000) -> 21 | C2: =IF(B2=0,"",ROUND(AVERAGE('BP Log'!D2:D1000),0)) -> 129 | D2: =IF(B2=0,"",ROUND(AVERAGE('BP Log'!E2:E1000),0)) -> 82 | E2: =IF(B2=0,"",ROUND(AVERAGE('BP Log'!F2:F1000),0)) -> 69
A3: Morning readings | B3: =COUNTIFS('BP Log'!C2:C1000,"Morning") -> 11 | C3: =IF(B3=0,"",ROUND(AVERAGEIFS('BP Log'!D2:D1000,'BP Log'!C2:C1000,"Morning"),0)) -> 132 | D3: =IF(B3=0,"",ROUND(AVERAGEIFS('BP Log'!E2:E1000,'BP Log'!C2:C1000,"Morning"),0)) -> 85 | E3: =IF(B3=0,"",ROUND(AVERAGEIFS('BP Log'!F2:F1000,'BP Log'!C2:C1000,"Morning"),0)) -> 72
A4: Evening readings | B4: =COUNTIFS('BP Log'!C2:C1000,"Evening") -> 10 | C4: =IF(B4=0,"",ROUND(AVERAGEIFS('BP Log'!D2:D1000,'BP Log'!C2:C1000,"Evening"),0)) -> 125 | D4: =IF(B4=0,"",ROUND(AVERAGEIFS('BP Log'!E2:E1000,'BP Log'!C2:C1000,"Evening"),0)) -> 79 | E4: =IF(B4=0,"",ROUND(AVERAGEIFS('BP Log'!F2:F1000,'BP Log'!C2:C1000,"Evening"),0)) -> 67
A5: Highest | C5: =IF(B2=0,"",MAX('BP Log'!D2:D1000)) -> 142 | D5: =IF(B2=0,"",MAX('BP Log'!E2:E1000)) -> 91 | E5: =IF(B2=0,"",MAX('BP Log'!F2:F1000)) -> 76
A6: Lowest | C6: =IF(B2=0,"",MIN('BP Log'!D2:D1000)) -> 118 | D6: =IF(B2=0,"",MIN('BP Log'!E2:E1000)) -> 76 | E6: =IF(B2=0,"",MIN('BP Log'!F2:F1000)) -> 64
A7: Category of your average | C7: =IF(B2=0,"",IF(OR(C2>180,D2>120),"Crisis: call doctor",IF(OR(C2>=140,D2>=90),"Stage 2",IF(OR(C2>=130,D2>=80),"Stage 1",IF(C2>=120,"Elevated","Normal"))))) -> Stage 1

Sheet Categories
A1: Category | B1: Systolic (top) | C1: Diastolic (bottom) | D1: Your readings | E1: Share
A2: Normal | B2: Under 120 | C2: and under 80 | D2: =COUNTIF('BP Log'!G2:G1000,A2) -> 1 | E2: =IF(SUM(D$2:D$6)=0,0,D2/SUM(D$2:D$6)) -> 0.047619048
A3: Elevated | B3: 120 to 129 | C3: and under 80 | D3: =COUNTIF('BP Log'!G2:G1000,A3) -> 5 | E3: =IF(SUM(D$2:D$6)=0,0,D3/SUM(D$2:D$6)) -> 0.23809524
A4: Stage 1 | B4: 130 to 139 | C4: or 80 to 89 | D4: =COUNTIF('BP Log'!G2:G1000,A4) -> 14 | E4: =IF(SUM(D$2:D$6)=0,0,D4/SUM(D$2:D$6)) -> 0.66666667
A5: Stage 2 | B5: 140 or higher | C5: or 90 or higher | D5: =COUNTIF('BP Log'!G2:G1000,A5) -> 1 | E5: =IF(SUM(D$2:D$6)=0,0,D5/SUM(D$2:D$6)) -> 0.047619048
A6: Crisis: call doctor | B6: Higher than 180 | C6: and/or higher than 120 | D6: =COUNTIF('BP Log'!G2:G1000,A6) -> 0 | E6: =IF(SUM(D$2:D$6)=0,0,D6/SUM(D$2:D$6)) -> 0
