Workbook

Sheet Weekly Checklist
A1: Room | B1: Task | C1: Times a week | D1: Who | E1: Mon | F1: Tue | G1: Wed | H1: Thu | I1: Fri | J1: Sat | K1: Sun | L1: Done | M1: To go
A2: Kitchen | B2: Wash dishes or run the dishwasher | C2: 7 | D2: Everyone | E2: TRUE | F2: TRUE | G2: TRUE | H2: FALSE | I2: FALSE | J2: FALSE | K2: FALSE | L2: =COUNTIF(E2:K2,TRUE) -> 3 | M2: =IF(ISBLANK(B2),0,MAX(0,C2-L2)) -> 4
A3: Kitchen | B3: Wipe counters and stovetop | C3: 7 | D3: Jordan | E3: TRUE | F3: TRUE | G3: FALSE | H3: FALSE | I3: FALSE | J3: FALSE | K3: FALSE | L3: =COUNTIF(E3:K3,TRUE) -> 2 | M3: =IF(ISBLANK(B3),0,MAX(0,C3-L3)) -> 5
A4: Kitchen | B4: Sweep the kitchen floor | C4: 3 | D4: Sam | E4: TRUE | F4: FALSE | G4: TRUE | H4: FALSE | I4: FALSE | J4: FALSE | K4: FALSE | L4: =COUNTIF(E4:K4,TRUE) -> 2 | M4: =IF(ISBLANK(B4),0,MAX(0,C4-L4)) -> 1
A5: Kitchen | B5: Take out trash and recycling | C5: 2 | D5: Alex | E5: TRUE | F5: FALSE | G5: FALSE | H5: FALSE | I5: FALSE | J5: FALSE | K5: FALSE | L5: =COUNTIF(E5:K5,TRUE) -> 1 | M5: =IF(ISBLANK(B5),0,MAX(0,C5-L5)) -> 1
A6: Kitchen | B6: Wipe microwave and fridge handles | C6: 1 | D6: Jordan | E6: FALSE | F6: FALSE | G6: FALSE | H6: FALSE | I6: FALSE | J6: FALSE | K6: FALSE | L6: =COUNTIF(E6:K6,TRUE) -> 0 | M6: =IF(ISBLANK(B6),0,MAX(0,C6-L6)) -> 1
A7: Kitchen | B7: Mop the kitchen floor | C7: 1 | D7: Sam | E7: FALSE | F7: FALSE | G7: FALSE | H7: FALSE | I7: FALSE | J7: FALSE | K7: FALSE | L7: =COUNTIF(E7:K7,TRUE) -> 0 | M7: =IF(ISBLANK(B7),0,MAX(0,C7-L7)) -> 1
A8: Bathroom | B8: Wipe sink, faucet and mirror | C8: 3 | D8: Alex | E8: TRUE | F8: FALSE | G8: TRUE | H8: FALSE | I8: FALSE | J8: FALSE | K8: FALSE | L8: =COUNTIF(E8:K8,TRUE) -> 2 | M8: =IF(ISBLANK(B8),0,MAX(0,C8-L8)) -> 1
A9: Bathroom | B9: Clean the toilet | C9: 1 | D9: Alex | E9: FALSE | F9: TRUE | G9: FALSE | H9: FALSE | I9: FALSE | J9: FALSE | K9: FALSE | L9: =COUNTIF(E9:K9,TRUE) -> 1 | M9: =IF(ISBLANK(B9),0,MAX(0,C9-L9)) -> 0
A10: Bathroom | B10: Scrub the shower or tub | C10: 1 | D10: Jordan | E10: FALSE | F10: FALSE | G10: FALSE | H10: FALSE | I10: FALSE | J10: FALSE | K10: FALSE | L10: =COUNTIF(E10:K10,TRUE) -> 0 | M10: =IF(ISBLANK(B10),0,MAX(0,C10-L10)) -> 1
A11: Bathroom | B11: Swap in clean towels | C11: 1 | D11: Alex | E11: TRUE | F11: FALSE | G11: FALSE | H11: FALSE | I11: FALSE | J11: FALSE | K11: FALSE | L11: =COUNTIF(E11:K11,TRUE) -> 1 | M11: =IF(ISBLANK(B11),0,MAX(0,C11-L11)) -> 0
A12: Living room | B12: 10-minute tidy | C12: 7 | D12: Everyone | E12: TRUE | F12: TRUE | G12: FALSE | H12: FALSE | I12: FALSE | J12: FALSE | K12: FALSE | L12: =COUNTIF(E12:K12,TRUE) -> 2 | M12: =IF(ISBLANK(B12),0,MAX(0,C12-L12)) -> 5
A13: Living room | B13: Vacuum rugs and floors | C13: 2 | D13: Sam | E13: TRUE | F13: FALSE | G13: FALSE | H13: FALSE | I13: FALSE | J13: FALSE | K13: FALSE | L13: =COUNTIF(E13:K13,TRUE) -> 1 | M13: =IF(ISBLANK(B13),0,MAX(0,C13-L13)) -> 1
... A19: Whole house | B19: Water the plants | C19: 1 | D19: Sam | E19: FALSE | F19: FALSE | G19: FALSE | H19: FALSE | I19: FALSE | J19: FALSE | K19: FALSE | L19: =COUNTIF(E19:K19,TRUE) -> 0 | M19: =IF(ISBLANK(B19),0,MAX(0,C19-L19)) -> 1
E20: FALSE | F20: FALSE | G20: FALSE | H20: FALSE | I20: FALSE | J20: FALSE | K20: FALSE | L20: =COUNTIF(E20:K20,TRUE) -> 0 | M20: =IF(ISBLANK(B20),0,MAX(0,C20-L20)) -> 0
E21: FALSE | F21: FALSE | G21: FALSE | H21: FALSE | I21: FALSE | J21: FALSE | K21: FALSE | L21: =COUNTIF(E21:K21,TRUE) -> 0 | M21: =IF(ISBLANK(B21),0,MAX(0,C21-L21)) -> 0
E22: FALSE | F22: FALSE | G22: FALSE | H22: FALSE | I22: FALSE | J22: FALSE | K22: FALSE | L22: =COUNTIF(E22:K22,TRUE) -> 0 | M22: =IF(ISBLANK(B22),0,MAX(0,C22-L22)) -> 0
E23: FALSE | F23: FALSE | G23: FALSE | H23: FALSE | I23: FALSE | J23: FALSE | K23: FALSE | L23: =COUNTIF(E23:K23,TRUE) -> 0 | M23: =IF(ISBLANK(B23),0,MAX(0,C23-L23)) -> 0
E24: FALSE | F24: FALSE | G24: FALSE | H24: FALSE | I24: FALSE | J24: FALSE | K24: FALSE | L24: =COUNTIF(E24:K24,TRUE) -> 0 | M24: =IF(ISBLANK(B24),0,MAX(0,C24-L24)) -> 0
E25: FALSE | F25: FALSE | G25: FALSE | H25: FALSE | I25: FALSE | J25: FALSE | K25: FALSE | L25: =COUNTIF(E25:K25,TRUE) -> 0 | M25: =IF(ISBLANK(B25),0,MAX(0,C25-L25)) -> 0

Sheet Monthly and Seasonal
A1: Room | B1: Task | C1: How often | D1: Every (days) | E1: Who | F1: Minutes | G1: Last done | H1: Next due | I1: Days left | J1: Status
A2: Kitchen | B2: Clean out the fridge | C2: Monthly | D2: =IFERROR(VLOOKUP(C2,Frequencies!$A$2:$B$20,2,FALSE),"") -> 30 | E2: Jordan | F2: 30 | G2: 46301 | H2: =IF(AND(ISNUMBER(G2),ISNUMBER(D2)),G2+D2,"") -> 46331 | I2: =IF(ISNUMBER(H2),H2-Summary!$B$2,"") -> 1 | J2: =IF(ISBLANK(B2),"",IF(NOT(ISNUMBER(G2)),"Not done yet",IF(I2<0,"Overdue",IF(I2=0,"Due today",IF(I2<=7,"This week","Later"))))) -> This week
A3: Kitchen | B3: Clean the oven | C3: Every 3 months | D3: =IFERROR(VLOOKUP(C3,Frequencies!$A$2:$B$20,2,FALSE),"") -> 91 | E3: Alex | F3: 60 | G3: 46223 | H3: =IF(AND(ISNUMBER(G3),ISNUMBER(D3)),G3+D3,"") -> 46314 | I3: =IF(ISNUMBER(H3),H3-Summary!$B$2,"") -> -16 | J3: =IF(ISBLANK(B3),"",IF(NOT(ISNUMBER(G3)),"Not done yet",IF(I3<0,"Overdue",IF(I3=0,"Due today",IF(I3<=7,"This week","Later"))))) -> Overdue
A4: Kitchen | B4: Wipe cabinet fronts | C4: Monthly | D4: =IFERROR(VLOOKUP(C4,Frequencies!$A$2:$B$20,2,FALSE),"") -> 30 | E4: Sam | F4: 20 | G4: 46307 | H4: =IF(AND(ISNUMBER(G4),ISNUMBER(D4)),G4+D4,"") -> 46337 | I4: =IF(ISNUMBER(H4),H4-Summary!$B$2,"") -> 7 | J4: =IF(ISBLANK(B4),"",IF(NOT(ISNUMBER(G4)),"Not done yet",IF(I4<0,"Overdue",IF(I4=0,"Due today",IF(I4<=7,"This week","Later"))))) -> This week
A5: Kitchen | B5: Run a dishwasher cleaning cycle | C5: Monthly | D5: =IFERROR(VLOOKUP(C5,Frequencies!$A$2:$B$20,2,FALSE),"") -> 30 | E5: Jordan | F5: 5 | G5: 46296 | H5: =IF(AND(ISNUMBER(G5),ISNUMBER(D5)),G5+D5,"") -> 46326 | I5: =IF(ISNUMBER(H5),H5-Summary!$B$2,"") -> -4 | J5: =IF(ISBLANK(B5),"",IF(NOT(ISNUMBER(G5)),"Not done yet",IF(I5<0,"Overdue",IF(I5=0,"Due today",IF(I5<=7,"This week","Later"))))) -> Overdue
A6: Kitchen | B6: Descale the coffee maker | C6: Every 3 months | D6: =IFERROR(VLOOKUP(C6,Frequencies!$A$2:$B$20,2,FALSE),"") -> 91 | E6: Jordan | F6: 15 | G6: 46267 | H6: =IF(AND(ISNUMBER(G6),ISNUMBER(D6)),G6+D6,"") -> 46358 | I6: =IF(ISNUMBER(H6),H6-Summary!$B$2,"") -> 28 | J6: =IF(ISBLANK(B6),"",IF(NOT(ISNUMBER(G6)),"Not done yet",IF(I6<0,"Overdue",IF(I6=0,"Due today",IF(I6<=7,"This week","Later"))))) -> Later
A7: Kitchen | B7: Clear out the pantry | C7: Every 3 months | D7: =IFERROR(VLOOKUP(C7,Frequencies!$A$2:$B$20,2,FALSE),"") -> 91 | E7: Sam | F7: 30 | G7: 46254 | H7: =IF(AND(ISNUMBER(G7),ISNUMBER(D7)),G7+D7,"") -> 46345 | I7: =IF(ISNUMBER(H7),H7-Summary!$B$2,"") -> 15 | J7: =IF(ISBLANK(B7),"",IF(NOT(ISNUMBER(G7)),"Not done yet",IF(I7<0,"Overdue",IF(I7=0,"Due today",IF(I7<=7,"This week","Later"))))) -> Later
A8: Bathroom | B8: Wash the shower curtain and bath mats | C8: Monthly | D8: =IFERROR(VLOOKUP(C8,Frequencies!$A$2:$B$20,2,FALSE),"") -> 30 | E8: Alex | F8: 15 | G8: 46315 | H8: =IF(AND(ISNUMBER(G8),ISNUMBER(D8)),G8+D8,"") -> 46345 | I8: =IF(ISNUMBER(H8),H8-Summary!$B$2,"") -> 15 | J8: =IF(ISBLANK(B8),"",IF(NOT(ISNUMBER(G8)),"Not done yet",IF(I8<0,"Overdue",IF(I8=0,"Due today",IF(I8<=7,"This week","Later"))))) -> Later
A9: Bathroom | B9: Scrub the grout | C9: Every 3 months | D9: =IFERROR(VLOOKUP(C9,Frequencies!$A$2:$B$20,2,FALSE),"") -> 91 | E9: Alex | F9: 45 | H9: =IF(AND(ISNUMBER(G9),ISNUMBER(D9)),G9+D9,"") | I9: =IF(ISNUMBER(H9),H9-Summary!$B$2,"") | J9: =IF(ISBLANK(B9),"",IF(NOT(ISNUMBER(G9)),"Not done yet",IF(I9<0,"Overdue",IF(I9=0,"Due today",IF(I9<=7,"This week","Later"))))) -> Not done yet
A10: Living room | B10: Vacuum the couch and under cushions | C10: Monthly | D10: =IFERROR(VLOOKUP(C10,Frequencies!$A$2:$B$20,2,FALSE),"") -> 30 | E10: Sam | F10: 20 | G10: 46313 | H10: =IF(AND(ISNUMBER(G10),ISNUMBER(D10)),G10+D10,"") -> 46343 | I10: =IF(ISNUMBER(H10),H10-Summary!$B$2,"") -> 13 | J10: =IF(ISBLANK(B10),"",IF(NOT(ISNUMBER(G10)),"Not done yet",IF(I10<0,"Overdue",IF(I10=0,"Due today",IF(I10<=7,"This week","Later"))))) -> Later
A11: Living room | B11: Wash windows (inside) | C11: Every 3 months | D11: =IFERROR(VLOOKUP(C11,Frequencies!$A$2:$B$20,2,FALSE),"") -> 91 | E11: Jordan | F11: 45 | G11: 46249 | H11: =IF(AND(ISNUMBER(G11),ISNUMBER(D11)),G11+D11,"") -> 46340 | I11: =IF(ISNUMBER(H11),H11-Summary!$B$2,"") -> 10 | J11: =IF(ISBLANK(B11),"",IF(NOT(ISNUMBER(G11)),"Not done yet",IF(I11<0,"Overdue",IF(I11=0,"Due today",IF(I11<=7,"This week","Later"))))) -> Later
A12: Bedrooms | B12: Rotate the mattresses | C12: Twice a year | D12: =IFERROR(VLOOKUP(C12,Frequencies!$A$2:$B$20,2,FALSE),"") -> 182 | E12: Alex | F12: 20 | G12: 46152 | H12: =IF(AND(ISNUMBER(G12),ISNUMBER(D12)),G12+D12,"") -> 46334 | I12: =IF(ISNUMBER(H12),H12-Summary!$B$2,"") -> 4 | J12: =IF(ISBLANK(B12),"",IF(NOT(ISNUMBER(G12)),"Not done yet",IF(I12<0,"Overdue",IF(I12=0,"Due today",IF(I12<=7,"This week","Later"))))) -> This week
A13: Bedrooms | B13: Wash pillows and comforters | C13: Every 3 months | D13: =IFERROR(VLOOKUP(C13,Frequencies!$A$2:$B$20,2,FALSE),"") -> 91 | E13: Jordan | F13: 30 | G13: 46235 | H13: =IF(AND(ISNUMBER(G13),ISNUMBER(D13)),G13+D13,"") -> 46326 | I13: =IF(ISNUMBER(H13),H13-Summary!$B$2,"") -> -4 | J13: =IF(ISBLANK(B13),"",IF(NOT(ISNUMBER(G13)),"Not done yet",IF(I13<0,"Overdue",IF(I13=0,"Due today",IF(I13<=7,"This week","Later"))))) -> Overdue
A14: Laundry | B14: Clean the washing machine | C14: Monthly | D14: =IFERROR(VLOOKUP(C14,Frequencies!$A$2:$B$20,2,FALSE),"") -> 30 | E14: Jordan | F14: 15 | G14: 46299 | H14: =IF(AND(ISNUMBER(G14),ISNUMBER(D14)),G14+D14,"") -> 46329 | I14: =IF(ISNUMBER(H14),H14-Summary!$B$2,"") -> -1 | J14: =IF(ISBLANK(B14),"",IF(NOT(ISNUMBER(G14)),"Not done yet",IF(I14<0,"Overdue",IF(I14=0,"Due today",IF(I14<=7,"This week","Later"))))) -> Overdue
A15: Whole house | B15: Dust ceiling fans and vents | C15: Monthly | D15: =IFERROR(VLOOKUP(C15,Frequencies!$A$2:$B$20,2,FALSE),"") -> 30 | E15: Sam | F15: 25 | G15: 46320 | H15: =IF(AND(ISNUMBER(G15),ISNUMBER(D15)),G15+D15,"") -> 46350 | I15: =IF(ISNUMBER(H15),H15-Summary!$B$2,"") -> 20 | J15: =IF(ISBLANK(B15),"",IF(NOT(ISNUMBER(G15)),"Not done yet",IF(I15<0,"Overdue",IF(I15=0,"Due today",IF(I15<=7,"This week","Later"))))) -> Later
A16: Whole house | B16: Wipe light switches and door handles | C16: Every 2 weeks | D16: =IFERROR(VLOOKUP(C16,Frequencies!$A$2:$B$20,2,FALSE),"") -> 14 | E16: Alex | F16: 10 | G16: 46319 | H16: =IF(AND(ISNUMBER(G16),ISNUMBER(D16)),G16+D16,"") -> 46333 | I16: =IF(ISNUMBER(H16),H16-Summary!$B$2,"") -> 3 | J16: =IF(ISBLANK(B16),"",IF(NOT(ISNUMBER(G16)),"Not done yet",IF(I16<0,"Overdue",IF(I16=0,"Due today",IF(I16<=7,"This week","Later"))))) -> This week
A17: Whole house | B17: Test smoke and CO alarms | C17: Monthly | D17: =IFERROR(VLOOKUP(C17,Frequencies!$A$2:$B$20,2,FALSE),"") -> 30 | E17: Alex | F17: 10 | G17: 46300 | H17: =IF(AND(ISNUMBER(G17),ISNUMBER(D17)),G17+D17,"") -> 46330 | I17: =IF(ISNUMBER(H17),H17-Summary!$B$2,"") -> 0 | J17: =IF(ISBLANK(B17),"",IF(NOT(ISNUMBER(G17)),"Not done yet",IF(I17<0,"Overdue",IF(I17=0,"Due today",IF(I17<=7,"This week","Later"))))) -> Due today
A18: Whole house | B18: Change the furnace or AC filter | C18: Every 3 months | D18: =IFERROR(VLOOKUP(C18,Frequencies!$A$2:$B$20,2,FALSE),"") -> 91 | E18: Jordan | F18: 10 | G18: 46280 | H18: =IF(AND(ISNUMBER(G18),ISNUMBER(D18)),G18+D18,"") -> 46371 | I18: =IF(ISNUMBER(H18),H18-Summary!$B$2,"") -> 41 | J18: =IF(ISBLANK(B18),"",IF(NOT(ISNUMBER(G18)),"Not done yet",IF(I18<0,"Overdue",IF(I18=0,"Due today",IF(I18<=7,"This week","Later"))))) -> Later
A19: Whole house | B19: Clean the gutters | C19: Twice a year | D19: =IFERROR(VLOOKUP(C19,Frequencies!$A$2:$B$20,2,FALSE),"") -> 182 | E19: Alex | F19: 120 | G19: 46174 | H19: =IF(AND(ISNUMBER(G19),ISNUMBER(D19)),G19+D19,"") -> 46356 | I19: =IF(ISNUMBER(H19),H19-Summary!$B$2,"") -> 26 | J19: =IF(ISBLANK(B19),"",IF(NOT(ISNUMBER(G19)),"Not done yet",IF(I19<0,"Overdue",IF(I19=0,"Due today",IF(I19<=7,"This week","Later"))))) -> Later
A20: Whole house | B20: Shampoo the carpets | C20: Yearly | D20: =IFERROR(VLOOKUP(C20,Frequencies!$A$2:$B$20,2,FALSE),"") -> 365 | E20: Jordan | F20: 180 | G20: 46095 | H20: =IF(AND(ISNUMBER(G20),ISNUMBER(D20)),G20+D20,"") -> 46460 | I20: =IF(ISNUMBER(H20),H20-Summary!$B$2,"") -> 130 | J20: =IF(ISBLANK(B20),"",IF(NOT(ISNUMBER(G20)),"Not done yet",IF(I20<0,"Overdue",IF(I20=0,"Due today",IF(I20<=7,"This week","Later"))))) -> Later
D21: =IFERROR(VLOOKUP(C21,Frequencies!$A$2:$B$20,2,FALSE),"") | H21: =IF(AND(ISNUMBER(G21),ISNUMBER(D21)),G21+D21,"") | I21: =IF(ISNUMBER(H21),H21-Summary!$B$2,"") | J21: =IF(ISBLANK(B21),"",IF(NOT(ISNUMBER(G21)),"Not done yet",IF(I21<0,"Overdue",IF(I21=0,"Due today",IF(I21<=7,"This week","Later")))))
D22: =IFERROR(VLOOKUP(C22,Frequencies!$A$2:$B$20,2,FALSE),"") | H22: =IF(AND(ISNUMBER(G22),ISNUMBER(D22)),G22+D22,"") | I22: =IF(ISNUMBER(H22),H22-Summary!$B$2,"") | J22: =IF(ISBLANK(B22),"",IF(NOT(ISNUMBER(G22)),"Not done yet",IF(I22<0,"Overdue",IF(I22=0,"Due today",IF(I22<=7,"This week","Later")))))
D23: =IFERROR(VLOOKUP(C23,Frequencies!$A$2:$B$20,2,FALSE),"") | H23: =IF(AND(ISNUMBER(G23),ISNUMBER(D23)),G23+D23,"") | I23: =IF(ISNUMBER(H23),H23-Summary!$B$2,"") | J23: =IF(ISBLANK(B23),"",IF(NOT(ISNUMBER(G23)),"Not done yet",IF(I23<0,"Overdue",IF(I23=0,"Due today",IF(I23<=7,"This week","Later")))))
D24: =IFERROR(VLOOKUP(C24,Frequencies!$A$2:$B$20,2,FALSE),"") | H24: =IF(AND(ISNUMBER(G24),ISNUMBER(D24)),G24+D24,"") | I24: =IF(ISNUMBER(H24),H24-Summary!$B$2,"") | J24: =IF(ISBLANK(B24),"",IF(NOT(ISNUMBER(G24)),"Not done yet",IF(I24<0,"Overdue",IF(I24=0,"Due today",IF(I24<=7,"This week","Later")))))
D25: =IFERROR(VLOOKUP(C25,Frequencies!$A$2:$B$20,2,FALSE),"") | H25: =IF(AND(ISNUMBER(G25),ISNUMBER(D25)),G25+D25,"") | I25: =IF(ISNUMBER(H25),H25-Summary!$B$2,"") | J25: =IF(ISBLANK(B25),"",IF(NOT(ISNUMBER(G25)),"Not done yet",IF(I25<0,"Overdue",IF(I25=0,"Due today",IF(I25<=7,"This week","Later")))))
D26: =IFERROR(VLOOKUP(C26,Frequencies!$A$2:$B$20,2,FALSE),"") | H26: =IF(AND(ISNUMBER(G26),ISNUMBER(D26)),G26+D26,"") | I26: =IF(ISNUMBER(H26),H26-Summary!$B$2,"") | J26: =IF(ISBLANK(B26),"",IF(NOT(ISNUMBER(G26)),"Not done yet",IF(I26<0,"Overdue",IF(I26=0,"Due today",IF(I26<=7,"This week","Later")))))

Sheet Summary
A1: Item | B1: Value
A2: Today's date | B2: =DATE(2026,11,4) -> 46330
A3: Week starting | B3: =DATE(2026,11,2) -> 46328
A4: Weekly checks planned | B4: =SUM('Weekly Checklist'!C2:C60) -> 52
A5: Weekly checks done | B5: =SUM('Weekly Checklist'!L2:L60) -> 21
A6: Week progress | B6: =IF(B4=0,0,1-SUM('Weekly Checklist'!M2:M60)/B4) -> 0.40384615
A7: Weekly tasks finished | B7: =COUNTIFS('Weekly Checklist'!B2:B60,"<>",'Weekly Checklist'!M2:M60,0) -> 2
A8: Deep-clean tasks overdue or never done | B8: =COUNTIF('Monthly and Seasonal'!J2:J60,"Overdue")+COUNTIF('Monthly and Seasonal'!J2:J60,"Not done yet") -> 5
A9: Deep-clean tasks due in 7 days | B9: =COUNTIF('Monthly and Seasonal'!J2:J60,"Due today")+COUNTIF('Monthly and Seasonal'!J2:J60,"This week") -> 5
A10: Minutes for overdue and this week | B10: =SUMIF('Monthly and Seasonal'!J2:J60,"Overdue",'Monthly and Seasonal'!F2:F60)+SUMIF('Monthly and Seasonal'!J2:J60,"Not done yet",'Monthly and Seasonal'!F2:F60)+SUMIF('Monthly and Seasonal'!J2:J60,"Due today",'Monthly and Seasonal'!F2:F60)+SUMIF('Monthly and Seasonal'!J2:J60,"This week",'Monthly and Seasonal'!F2:F60) -> 245
A11: Checks left this week, by person
A12: Jordan | B12: =SUMIF('Weekly Checklist'!$D$2:$D$60,A12,'Weekly Checklist'!$M$2:$M$60) -> 9
A13: Alex | B13: =SUMIF('Weekly Checklist'!$D$2:$D$60,A13,'Weekly Checklist'!$M$2:$M$60) -> 3
A14: Sam | B14: =SUMIF('Weekly Checklist'!$D$2:$D$60,A14,'Weekly Checklist'!$M$2:$M$60) -> 6
A15: Everyone | B15: =SUMIF('Weekly Checklist'!$D$2:$D$60,A15,'Weekly Checklist'!$M$2:$M$60) -> 13

Sheet Frequencies
A1: How often | B1: Every (days)
A2: Weekly | B2: 7
A3: Every 2 weeks | B3: 14
A4: Monthly | B4: 30
A5: Every 2 months | B5: 61
A6: Every 3 months | B6: 91
A7: Twice a year | B7: 182
A8: Yearly | B8: 365
