Workbook

Sheet Sales
A1: Date | B1: Rep | C1: Customer | D1: What was sold | E1: Sale amount | F1: Customer paid
A2: 46205 | B2: Ana Torres | C2: Lakeshore Dental Group | D2: Reception seating and front desk | E2: 6850 | F2: TRUE
A3: 46210 | B3: Marcus Reed | C3: Cobalt Insurance | D3: 24 task chairs | E3: 8640 | F3: TRUE
A4: 46212 | B4: Jess Kim | C4: Greenfield Library | D4: Study tables and chairs | E4: 5420 | F4: TRUE
A5: 46217 | B5: Devon Hall | C5: Prairie Credit Union | D5: Branch office refresh | E5: 12300 | F5: TRUE
A6: 46219 | B6: Ana Torres | C6: Hartwell Law LLP | D6: Partner offices, 4 suites | E6: 14200 | F6: TRUE
A7: 46224 | B7: Marcus Reed | C7: Summit Physical Therapy | D7: Waiting room seating | E7: 3150 | F7: TRUE
A8: 46227 | B8: Jess Kim | C8: Oak Park Pediatrics | D8: Exam room storage | E8: 2980 | F8: TRUE
A9: 46231 | B9: Ana Torres | C9: Riverbend Coworking | D9: Hot desks and lockers | E9: 7600 | F9: TRUE
A10: 46233 | B10: Devon Hall | C10: Metro Title Co. | D10: Conference room table and chairs | E10: 4450 | F10: TRUE
A11: 46238 | B11: Marcus Reed | C11: Cobalt Insurance | D11: Standing desks, 12 | E11: 9360 | F11: TRUE
A12: 46240 | B12: Ana Torres | C12: Lakeshore Dental Group | D12: Break room furniture | E12: 3200 | F12: TRUE
A13: 46245 | B13: Jess Kim | C13: Westview High School | D13: Teacher workroom | E13: 11850 | F13: TRUE
... A28: 46294 | B28: Marcus Reed | C28: Northgate Logistics | D28: Break room | E28: 5250 | F28: FALSE

Sheet Commission
A1: Month | B1: Rep | C1: Paid sales | D1: Tier 1 sales | E1: Tier 2 sales | F1: Tier 3 sales | G1: Commission | H1: Bonus | I1: Total payout | J1: Effective rate | K1: Of quota
A2: =DATE(2026,7,1) -> 46204 | B2: Ana Torres | C2: =SUMIFS(Sales!E:E,Sales!B:B,B2,Sales!A:A,">="&A2,Sales!A:A,"<="&EOMONTH(A2,0),Sales!F:F,TRUE) -> 28650 | D2: =MIN(C2,VLOOKUP($B2,Reps!$A$2:$H$30,3,FALSE)) -> 10000 | E2: =MAX(0,MIN(C2,VLOOKUP($B2,Reps!$A$2:$H$30,5,FALSE))-VLOOKUP($B2,Reps!$A$2:$H$30,3,FALSE)) -> 15000 | F2: =MAX(0,C2-VLOOKUP($B2,Reps!$A$2:$H$30,5,FALSE)) -> 3650 | G2: =ROUND(D2*VLOOKUP($B2,Reps!$A$2:$H$30,2,FALSE)+E2*VLOOKUP($B2,Reps!$A$2:$H$30,4,FALSE)+F2*VLOOKUP($B2,Reps!$A$2:$H$30,6,FALSE),2) -> 1915 | H2: =IF(C2>=VLOOKUP($B2,Reps!$A$2:$H$30,7,FALSE),VLOOKUP($B2,Reps!$A$2:$H$30,8,FALSE),0) -> 500 | I2: =G2+H2 -> 2415 | J2: =IF(C2=0,0,I2/C2) -> 0.084293194 | K2: =IF(VLOOKUP($B2,Reps!$A$2:$H$30,7,FALSE)=0,0,C2/VLOOKUP($B2,Reps!$A$2:$H$30,7,FALSE)) -> 1.4325
A3: =DATE(2026,7,1) -> 46204 | B3: Marcus Reed | C3: =SUMIFS(Sales!E:E,Sales!B:B,B3,Sales!A:A,">="&A3,Sales!A:A,"<="&EOMONTH(A3,0),Sales!F:F,TRUE) -> 11790 | D3: =MIN(C3,VLOOKUP($B3,Reps!$A$2:$H$30,3,FALSE)) -> 10000 | E3: =MAX(0,MIN(C3,VLOOKUP($B3,Reps!$A$2:$H$30,5,FALSE))-VLOOKUP($B3,Reps!$A$2:$H$30,3,FALSE)) -> 1790 | F3: =MAX(0,C3-VLOOKUP($B3,Reps!$A$2:$H$30,5,FALSE)) -> 0 | G3: =ROUND(D3*VLOOKUP($B3,Reps!$A$2:$H$30,2,FALSE)+E3*VLOOKUP($B3,Reps!$A$2:$H$30,4,FALSE)+F3*VLOOKUP($B3,Reps!$A$2:$H$30,6,FALSE),2) -> 625.3 | H3: =IF(C3>=VLOOKUP($B3,Reps!$A$2:$H$30,7,FALSE),VLOOKUP($B3,Reps!$A$2:$H$30,8,FALSE),0) -> 0 | I3: =G3+H3 -> 625.3 | J3: =IF(C3=0,0,I3/C3) -> 0.053036472 | K3: =IF(VLOOKUP($B3,Reps!$A$2:$H$30,7,FALSE)=0,0,C3/VLOOKUP($B3,Reps!$A$2:$H$30,7,FALSE)) -> 0.5895
A4: =DATE(2026,7,1) -> 46204 | B4: Jess Kim | C4: =SUMIFS(Sales!E:E,Sales!B:B,B4,Sales!A:A,">="&A4,Sales!A:A,"<="&EOMONTH(A4,0),Sales!F:F,TRUE) -> 8400 | D4: =MIN(C4,VLOOKUP($B4,Reps!$A$2:$H$30,3,FALSE)) -> 8000 | E4: =MAX(0,MIN(C4,VLOOKUP($B4,Reps!$A$2:$H$30,5,FALSE))-VLOOKUP($B4,Reps!$A$2:$H$30,3,FALSE)) -> 400 | F4: =MAX(0,C4-VLOOKUP($B4,Reps!$A$2:$H$30,5,FALSE)) -> 0 | G4: =ROUND(D4*VLOOKUP($B4,Reps!$A$2:$H$30,2,FALSE)+E4*VLOOKUP($B4,Reps!$A$2:$H$30,4,FALSE)+F4*VLOOKUP($B4,Reps!$A$2:$H$30,6,FALSE),2) -> 344 | H4: =IF(C4>=VLOOKUP($B4,Reps!$A$2:$H$30,7,FALSE),VLOOKUP($B4,Reps!$A$2:$H$30,8,FALSE),0) -> 0 | I4: =G4+H4 -> 344 | J4: =IF(C4=0,0,I4/C4) -> 0.040952381 | K4: =IF(VLOOKUP($B4,Reps!$A$2:$H$30,7,FALSE)=0,0,C4/VLOOKUP($B4,Reps!$A$2:$H$30,7,FALSE)) -> 0.56
A5: =DATE(2026,7,1) -> 46204 | B5: Devon Hall | C5: =SUMIFS(Sales!E:E,Sales!B:B,B5,Sales!A:A,">="&A5,Sales!A:A,"<="&EOMONTH(A5,0),Sales!F:F,TRUE) -> 16750 | D5: =MIN(C5,VLOOKUP($B5,Reps!$A$2:$H$30,3,FALSE)) -> 10000 | E5: =MAX(0,MIN(C5,VLOOKUP($B5,Reps!$A$2:$H$30,5,FALSE))-VLOOKUP($B5,Reps!$A$2:$H$30,3,FALSE)) -> 6750 | F5: =MAX(0,C5-VLOOKUP($B5,Reps!$A$2:$H$30,5,FALSE)) -> 0 | G5: =ROUND(D5*VLOOKUP($B5,Reps!$A$2:$H$30,2,FALSE)+E5*VLOOKUP($B5,Reps!$A$2:$H$30,4,FALSE)+F5*VLOOKUP($B5,Reps!$A$2:$H$30,6,FALSE),2) -> 1005 | H5: =IF(C5>=VLOOKUP($B5,Reps!$A$2:$H$30,7,FALSE),VLOOKUP($B5,Reps!$A$2:$H$30,8,FALSE),0) -> 0 | I5: =G5+H5 -> 1005 | J5: =IF(C5=0,0,I5/C5) -> 0.06 | K5: =IF(VLOOKUP($B5,Reps!$A$2:$H$30,7,FALSE)=0,0,C5/VLOOKUP($B5,Reps!$A$2:$H$30,7,FALSE)) -> 0.93055556
A6: =DATE(2026,8,1) -> 46235 | B6: Ana Torres | C6: =SUMIFS(Sales!E:E,Sales!B:B,B6,Sales!A:A,">="&A6,Sales!A:A,"<="&EOMONTH(A6,0),Sales!F:F,TRUE) -> 12100 | D6: =MIN(C6,VLOOKUP($B6,Reps!$A$2:$H$30,3,FALSE)) -> 10000 | E6: =MAX(0,MIN(C6,VLOOKUP($B6,Reps!$A$2:$H$30,5,FALSE))-VLOOKUP($B6,Reps!$A$2:$H$30,3,FALSE)) -> 2100 | F6: =MAX(0,C6-VLOOKUP($B6,Reps!$A$2:$H$30,5,FALSE)) -> 0 | G6: =ROUND(D6*VLOOKUP($B6,Reps!$A$2:$H$30,2,FALSE)+E6*VLOOKUP($B6,Reps!$A$2:$H$30,4,FALSE)+F6*VLOOKUP($B6,Reps!$A$2:$H$30,6,FALSE),2) -> 647 | H6: =IF(C6>=VLOOKUP($B6,Reps!$A$2:$H$30,7,FALSE),VLOOKUP($B6,Reps!$A$2:$H$30,8,FALSE),0) -> 0 | I6: =G6+H6 -> 647 | J6: =IF(C6=0,0,I6/C6) -> 0.053471074 | K6: =IF(VLOOKUP($B6,Reps!$A$2:$H$30,7,FALSE)=0,0,C6/VLOOKUP($B6,Reps!$A$2:$H$30,7,FALSE)) -> 0.605
A7: =DATE(2026,8,1) -> 46235 | B7: Marcus Reed | C7: =SUMIFS(Sales!E:E,Sales!B:B,B7,Sales!A:A,">="&A7,Sales!A:A,"<="&EOMONTH(A7,0),Sales!F:F,TRUE) -> 24760 | D7: =MIN(C7,VLOOKUP($B7,Reps!$A$2:$H$30,3,FALSE)) -> 10000 | E7: =MAX(0,MIN(C7,VLOOKUP($B7,Reps!$A$2:$H$30,5,FALSE))-VLOOKUP($B7,Reps!$A$2:$H$30,3,FALSE)) -> 14760 | F7: =MAX(0,C7-VLOOKUP($B7,Reps!$A$2:$H$30,5,FALSE)) -> 0 | G7: =ROUND(D7*VLOOKUP($B7,Reps!$A$2:$H$30,2,FALSE)+E7*VLOOKUP($B7,Reps!$A$2:$H$30,4,FALSE)+F7*VLOOKUP($B7,Reps!$A$2:$H$30,6,FALSE),2) -> 1533.2 | H7: =IF(C7>=VLOOKUP($B7,Reps!$A$2:$H$30,7,FALSE),VLOOKUP($B7,Reps!$A$2:$H$30,8,FALSE),0) -> 500 | I7: =G7+H7 -> 2033.2 | J7: =IF(C7=0,0,I7/C7) -> 0.082116317 | K7: =IF(VLOOKUP($B7,Reps!$A$2:$H$30,7,FALSE)=0,0,C7/VLOOKUP($B7,Reps!$A$2:$H$30,7,FALSE)) -> 1.238
A8: =DATE(2026,8,1) -> 46235 | B8: Jess Kim | C8: =SUMIFS(Sales!E:E,Sales!B:B,B8,Sales!A:A,">="&A8,Sales!A:A,"<="&EOMONTH(A8,0),Sales!F:F,TRUE) -> 16150 | D8: =MIN(C8,VLOOKUP($B8,Reps!$A$2:$H$30,3,FALSE)) -> 8000 | E8: =MAX(0,MIN(C8,VLOOKUP($B8,Reps!$A$2:$H$30,5,FALSE))-VLOOKUP($B8,Reps!$A$2:$H$30,3,FALSE)) -> 8150 | F8: =MAX(0,C8-VLOOKUP($B8,Reps!$A$2:$H$30,5,FALSE)) -> 0 | G8: =ROUND(D8*VLOOKUP($B8,Reps!$A$2:$H$30,2,FALSE)+E8*VLOOKUP($B8,Reps!$A$2:$H$30,4,FALSE)+F8*VLOOKUP($B8,Reps!$A$2:$H$30,6,FALSE),2) -> 809 | H8: =IF(C8>=VLOOKUP($B8,Reps!$A$2:$H$30,7,FALSE),VLOOKUP($B8,Reps!$A$2:$H$30,8,FALSE),0) -> 300 | I8: =G8+H8 -> 1109 | J8: =IF(C8=0,0,I8/C8) -> 0.068668731 | K8: =IF(VLOOKUP($B8,Reps!$A$2:$H$30,7,FALSE)=0,0,C8/VLOOKUP($B8,Reps!$A$2:$H$30,7,FALSE)) -> 1.0766667
A9: =DATE(2026,8,1) -> 46235 | B9: Devon Hall | C9: =SUMIFS(Sales!E:E,Sales!B:B,B9,Sales!A:A,">="&A9,Sales!A:A,"<="&EOMONTH(A9,0),Sales!F:F,TRUE) -> 13550 | D9: =MIN(C9,VLOOKUP($B9,Reps!$A$2:$H$30,3,FALSE)) -> 10000 | E9: =MAX(0,MIN(C9,VLOOKUP($B9,Reps!$A$2:$H$30,5,FALSE))-VLOOKUP($B9,Reps!$A$2:$H$30,3,FALSE)) -> 3550 | F9: =MAX(0,C9-VLOOKUP($B9,Reps!$A$2:$H$30,5,FALSE)) -> 0 | G9: =ROUND(D9*VLOOKUP($B9,Reps!$A$2:$H$30,2,FALSE)+E9*VLOOKUP($B9,Reps!$A$2:$H$30,4,FALSE)+F9*VLOOKUP($B9,Reps!$A$2:$H$30,6,FALSE),2) -> 813 | H9: =IF(C9>=VLOOKUP($B9,Reps!$A$2:$H$30,7,FALSE),VLOOKUP($B9,Reps!$A$2:$H$30,8,FALSE),0) -> 0 | I9: =G9+H9 -> 813 | J9: =IF(C9=0,0,I9/C9) -> 0.06 | K9: =IF(VLOOKUP($B9,Reps!$A$2:$H$30,7,FALSE)=0,0,C9/VLOOKUP($B9,Reps!$A$2:$H$30,7,FALSE)) -> 0.75277778
A10: =DATE(2026,9,1) -> 46266 | B10: Ana Torres | C10: =SUMIFS(Sales!E:E,Sales!B:B,B10,Sales!A:A,">="&A10,Sales!A:A,"<="&EOMONTH(A10,0),Sales!F:F,TRUE) -> 19400 | D10: =MIN(C10,VLOOKUP($B10,Reps!$A$2:$H$30,3,FALSE)) -> 10000 | E10: =MAX(0,MIN(C10,VLOOKUP($B10,Reps!$A$2:$H$30,5,FALSE))-VLOOKUP($B10,Reps!$A$2:$H$30,3,FALSE)) -> 9400 | F10: =MAX(0,C10-VLOOKUP($B10,Reps!$A$2:$H$30,5,FALSE)) -> 0 | G10: =ROUND(D10*VLOOKUP($B10,Reps!$A$2:$H$30,2,FALSE)+E10*VLOOKUP($B10,Reps!$A$2:$H$30,4,FALSE)+F10*VLOOKUP($B10,Reps!$A$2:$H$30,6,FALSE),2) -> 1158 | H10: =IF(C10>=VLOOKUP($B10,Reps!$A$2:$H$30,7,FALSE),VLOOKUP($B10,Reps!$A$2:$H$30,8,FALSE),0) -> 0 | I10: =G10+H10 -> 1158 | J10: =IF(C10=0,0,I10/C10) -> 0.059690722 | K10: =IF(VLOOKUP($B10,Reps!$A$2:$H$30,7,FALSE)=0,0,C10/VLOOKUP($B10,Reps!$A$2:$H$30,7,FALSE)) -> 0.97
A11: =DATE(2026,9,1) -> 46266 | B11: Marcus Reed | C11: =SUMIFS(Sales!E:E,Sales!B:B,B11,Sales!A:A,">="&A11,Sales!A:A,"<="&EOMONTH(A11,0),Sales!F:F,TRUE) -> 13350 | D11: =MIN(C11,VLOOKUP($B11,Reps!$A$2:$H$30,3,FALSE)) -> 10000 | E11: =MAX(0,MIN(C11,VLOOKUP($B11,Reps!$A$2:$H$30,5,FALSE))-VLOOKUP($B11,Reps!$A$2:$H$30,3,FALSE)) -> 3350 | F11: =MAX(0,C11-VLOOKUP($B11,Reps!$A$2:$H$30,5,FALSE)) -> 0 | G11: =ROUND(D11*VLOOKUP($B11,Reps!$A$2:$H$30,2,FALSE)+E11*VLOOKUP($B11,Reps!$A$2:$H$30,4,FALSE)+F11*VLOOKUP($B11,Reps!$A$2:$H$30,6,FALSE),2) -> 734.5 | H11: =IF(C11>=VLOOKUP($B11,Reps!$A$2:$H$30,7,FALSE),VLOOKUP($B11,Reps!$A$2:$H$30,8,FALSE),0) -> 0 | I11: =G11+H11 -> 734.5 | J11: =IF(C11=0,0,I11/C11) -> 0.055018727 | K11: =IF(VLOOKUP($B11,Reps!$A$2:$H$30,7,FALSE)=0,0,C11/VLOOKUP($B11,Reps!$A$2:$H$30,7,FALSE)) -> 0.6675
A12: =DATE(2026,9,1) -> 46266 | B12: Jess Kim | C12: =SUMIFS(Sales!E:E,Sales!B:B,B12,Sales!A:A,">="&A12,Sales!A:A,"<="&EOMONTH(A12,0),Sales!F:F,TRUE) -> 15950 | D12: =MIN(C12,VLOOKUP($B12,Reps!$A$2:$H$30,3,FALSE)) -> 8000 | E12: =MAX(0,MIN(C12,VLOOKUP($B12,Reps!$A$2:$H$30,5,FALSE))-VLOOKUP($B12,Reps!$A$2:$H$30,3,FALSE)) -> 7950 | F12: =MAX(0,C12-VLOOKUP($B12,Reps!$A$2:$H$30,5,FALSE)) -> 0 | G12: =ROUND(D12*VLOOKUP($B12,Reps!$A$2:$H$30,2,FALSE)+E12*VLOOKUP($B12,Reps!$A$2:$H$30,4,FALSE)+F12*VLOOKUP($B12,Reps!$A$2:$H$30,6,FALSE),2) -> 797 | H12: =IF(C12>=VLOOKUP($B12,Reps!$A$2:$H$30,7,FALSE),VLOOKUP($B12,Reps!$A$2:$H$30,8,FALSE),0) -> 300 | I12: =G12+H12 -> 1097 | J12: =IF(C12=0,0,I12/C12) -> 0.068777429 | K12: =IF(VLOOKUP($B12,Reps!$A$2:$H$30,7,FALSE)=0,0,C12/VLOOKUP($B12,Reps!$A$2:$H$30,7,FALSE)) -> 1.0633333
A13: =DATE(2026,9,1) -> 46266 | B13: Devon Hall | C13: =SUMIFS(Sales!E:E,Sales!B:B,B13,Sales!A:A,">="&A13,Sales!A:A,"<="&EOMONTH(A13,0),Sales!F:F,TRUE) -> 7300 | D13: =MIN(C13,VLOOKUP($B13,Reps!$A$2:$H$30,3,FALSE)) -> 7300 | E13: =MAX(0,MIN(C13,VLOOKUP($B13,Reps!$A$2:$H$30,5,FALSE))-VLOOKUP($B13,Reps!$A$2:$H$30,3,FALSE)) -> 0 | F13: =MAX(0,C13-VLOOKUP($B13,Reps!$A$2:$H$30,5,FALSE)) -> 0 | G13: =ROUND(D13*VLOOKUP($B13,Reps!$A$2:$H$30,2,FALSE)+E13*VLOOKUP($B13,Reps!$A$2:$H$30,4,FALSE)+F13*VLOOKUP($B13,Reps!$A$2:$H$30,6,FALSE),2) -> 438 | H13: =IF(C13>=VLOOKUP($B13,Reps!$A$2:$H$30,7,FALSE),VLOOKUP($B13,Reps!$A$2:$H$30,8,FALSE),0) -> 0 | I13: =G13+H13 -> 438 | J13: =IF(C13=0,0,I13/C13) -> 0.06 | K13: =IF(VLOOKUP($B13,Reps!$A$2:$H$30,7,FALSE)=0,0,C13/VLOOKUP($B13,Reps!$A$2:$H$30,7,FALSE)) -> 0.40555556

Sheet Reps
A1: Rep | B1: Tier 1 rate | C1: Tier 2 starts at | D1: Tier 2 rate | E1: Tier 3 starts at | F1: Tier 3 rate | G1: Monthly quota | H1: Bonus at quota
A2: Ana Torres | B2: 0.05 | C2: 10000 | D2: 0.07 | E2: 25000 | F2: 0.1 | G2: 20000 | H2: 500
A3: Marcus Reed | B3: 0.05 | C3: 10000 | D3: 0.07 | E3: 25000 | F3: 0.1 | G3: 20000 | H3: 500
A4: Jess Kim | B4: 0.04 | C4: 8000 | D4: 0.06 | E4: 20000 | F4: 0.08 | G4: 15000 | H4: 300
A5: Devon Hall | B5: 0.06 | C5: 10000 | D5: 0.06 | E5: 25000 | F5: 0.06 | G5: 18000 | H5: 0

Sheet Summary
A1: Rep | B1: Paid sales | C1: Commission | D1: Bonuses | E1: Total payout | F1: Effective rate | G1: Months at quota | H1: Waiting on payment
A2: Ana Torres | B2: =SUMIF(Commission!B:B,A2,Commission!C:C) -> 60150 | C2: =SUMIF(Commission!B:B,A2,Commission!G:G) -> 3720 | D2: =SUMIF(Commission!B:B,A2,Commission!H:H) -> 500 | E2: =C2+D2 -> 4220 | F2: =IF(B2=0,0,E2/B2) -> 0.070157938 | G2: =COUNTIFS(Commission!B:B,A2,Commission!K:K,">=1") -> 1 | H2: =SUMIFS(Sales!E:E,Sales!B:B,A2,Sales!F:F,FALSE) -> 4300
A3: Marcus Reed | B3: =SUMIF(Commission!B:B,A3,Commission!C:C) -> 49900 | C3: =SUMIF(Commission!B:B,A3,Commission!G:G) -> 2893 | D3: =SUMIF(Commission!B:B,A3,Commission!H:H) -> 500 | E3: =C3+D3 -> 3393 | F3: =IF(B3=0,0,E3/B3) -> 0.067995992 | G3: =COUNTIFS(Commission!B:B,A3,Commission!K:K,">=1") -> 1 | H3: =SUMIFS(Sales!E:E,Sales!B:B,A3,Sales!F:F,FALSE) -> 5250
A4: Jess Kim | B4: =SUMIF(Commission!B:B,A4,Commission!C:C) -> 40500 | C4: =SUMIF(Commission!B:B,A4,Commission!G:G) -> 1950 | D4: =SUMIF(Commission!B:B,A4,Commission!H:H) -> 600 | E4: =C4+D4 -> 2550 | F4: =IF(B4=0,0,E4/B4) -> 0.062962963 | G4: =COUNTIFS(Commission!B:B,A4,Commission!K:K,">=1") -> 2 | H4: =SUMIFS(Sales!E:E,Sales!B:B,A4,Sales!F:F,FALSE) -> 0
A5: Devon Hall | B5: =SUMIF(Commission!B:B,A5,Commission!C:C) -> 37600 | C5: =SUMIF(Commission!B:B,A5,Commission!G:G) -> 2256 | D5: =SUMIF(Commission!B:B,A5,Commission!H:H) -> 0 | E5: =C5+D5 -> 2256 | F5: =IF(B5=0,0,E5/B5) -> 0.06 | G5: =COUNTIFS(Commission!B:B,A5,Commission!K:K,">=1") -> 0 | H5: =SUMIFS(Sales!E:E,Sales!B:B,A5,Sales!F:F,FALSE) -> 2100
A6: Total | B6: =SUM(B2:B5) -> 188150 | C6: =SUM(C2:C5) -> 10819 | D6: =SUM(D2:D5) -> 1600 | E6: =SUM(E2:E5) -> 12419 | F6: =IF(B6=0,0,E6/B6) -> 0.066005846 | G6: =SUM(G2:G5) -> 4 | H6: =SUM(H2:H5) -> 11650
