Workbook

Sheet Family Tree
A1: Start person | B1: Parents | C1: Grandparents | D1: Great-grandparents | E1: ID 1 | F1: ID 2 | G1: ID 3 | H1: ID 4
D2: =IF(H2>0,IFERROR(VLOOKUP(H2,People!$A$2:$O$61,15,FALSE),""),IF(G3>0,"(not added yet)","")) -> Thomas Hayes (1905-1978) | H2: =IFERROR(IF(VLOOKUP(G3,People!$A$2:$I$61,8,FALSE)>0,VLOOKUP(G3,People!$A$2:$I$61,8,FALSE),0),0) -> 1
C3: =IF(G3>0,IFERROR(VLOOKUP(G3,People!$A$2:$O$61,15,FALSE),""),IF(F5>0,"(not added yet)","")) -> Robert Hayes (1935-2011) | G3: =IFERROR(IF(VLOOKUP(F5,People!$A$2:$I$61,8,FALSE)>0,VLOOKUP(F5,People!$A$2:$I$61,8,FALSE),0),0) -> 7
D4: =IF(H4>0,IFERROR(VLOOKUP(H4,People!$A$2:$O$61,15,FALSE),""),IF(G3>0,"(not added yet)","")) -> Margaret Hayes (1908-1990) | H4: =IFERROR(IF(VLOOKUP(G3,People!$A$2:$I$61,9,FALSE)>0,VLOOKUP(G3,People!$A$2:$I$61,9,FALSE),0),0) -> 2
B5: =IF(F5>0,IFERROR(VLOOKUP(F5,People!$A$2:$O$61,15,FALSE),""),IF(E9>0,"(not added yet)","")) -> Michael Hayes (b. 1962) | F5: =IFERROR(IF(VLOOKUP(E9,People!$A$2:$I$61,8,FALSE)>0,VLOOKUP(E9,People!$A$2:$I$61,8,FALSE),0),0) -> 11
D6: =IF(H6>0,IFERROR(VLOOKUP(H6,People!$A$2:$O$61,15,FALSE),""),IF(G7>0,"(not added yet)","")) -> Patrick Byrne (1910-1972) | H6: =IFERROR(IF(VLOOKUP(G7,People!$A$2:$I$61,8,FALSE)>0,VLOOKUP(G7,People!$A$2:$I$61,8,FALSE),0),0) -> 3
C7: =IF(G7>0,IFERROR(VLOOKUP(G7,People!$A$2:$O$61,15,FALSE),""),IF(F5>0,"(not added yet)","")) -> Dorothy Hayes (1938-2019) | G7: =IFERROR(IF(VLOOKUP(F5,People!$A$2:$I$61,9,FALSE)>0,VLOOKUP(F5,People!$A$2:$I$61,9,FALSE),0),0) -> 8
D8: =IF(H8>0,IFERROR(VLOOKUP(H8,People!$A$2:$O$61,15,FALSE),""),IF(G7>0,"(not added yet)","")) -> Helen Byrne (1913-1999) | H8: =IFERROR(IF(VLOOKUP(G7,People!$A$2:$I$61,9,FALSE)>0,VLOOKUP(G7,People!$A$2:$I$61,9,FALSE),0),0) -> 4
A9: =IF(E9>0,IFERROR(VLOOKUP(E9,People!$A$2:$O$61,15,FALSE),""),"") -> Emily Carter (b. 1994) | E9: =Summary!$B$3 -> 15
D10: =IF(H10>0,IFERROR(VLOOKUP(H10,People!$A$2:$O$61,15,FALSE),""),IF(G11>0,"(not added yet)","")) -> Jose Lopez (1912-1980) | H10: =IFERROR(IF(VLOOKUP(G11,People!$A$2:$I$61,8,FALSE)>0,VLOOKUP(G11,People!$A$2:$I$61,8,FALSE),0),0) -> 5
C11: =IF(G11>0,IFERROR(VLOOKUP(G11,People!$A$2:$O$61,15,FALSE),""),IF(F13>0,"(not added yet)","")) -> Luis Lopez (1939-2015) | G11: =IFERROR(IF(VLOOKUP(F13,People!$A$2:$I$61,8,FALSE)>0,VLOOKUP(F13,People!$A$2:$I$61,8,FALSE),0),0) -> 9
D12: =IF(H12>0,IFERROR(VLOOKUP(H12,People!$A$2:$O$61,15,FALSE),""),IF(G11>0,"(not added yet)","")) -> Rosa Lopez (1915-2001) | H12: =IFERROR(IF(VLOOKUP(G11,People!$A$2:$I$61,9,FALSE)>0,VLOOKUP(G11,People!$A$2:$I$61,9,FALSE),0),0) -> 6
B13: =IF(F13>0,IFERROR(VLOOKUP(F13,People!$A$2:$O$61,15,FALSE),""),IF(E9>0,"(not added yet)","")) -> Karen Hayes (b. 1964) | F13: =IFERROR(IF(VLOOKUP(E9,People!$A$2:$I$61,9,FALSE)>0,VLOOKUP(E9,People!$A$2:$I$61,9,FALSE),0),0) -> 12
D14: =IF(H14>0,IFERROR(VLOOKUP(H14,People!$A$2:$O$61,15,FALSE),""),IF(G15>0,"(not added yet)","")) -> (not added yet) | H14: =IFERROR(IF(VLOOKUP(G15,People!$A$2:$I$61,8,FALSE)>0,VLOOKUP(G15,People!$A$2:$I$61,8,FALSE),0),0) -> 0
C15: =IF(G15>0,IFERROR(VLOOKUP(G15,People!$A$2:$O$61,15,FALSE),""),IF(F13>0,"(not added yet)","")) -> Maria Lopez (b. 1941) | G15: =IFERROR(IF(VLOOKUP(F13,People!$A$2:$I$61,9,FALSE)>0,VLOOKUP(F13,People!$A$2:$I$61,9,FALSE),0),0) -> 10
D16: =IF(H16>0,IFERROR(VLOOKUP(H16,People!$A$2:$O$61,15,FALSE),""),IF(G15>0,"(not added yet)","")) -> (not added yet) | H16: =IFERROR(IF(VLOOKUP(G15,People!$A$2:$I$61,9,FALSE)>0,VLOOKUP(G15,People!$A$2:$I$61,9,FALSE),0),0) -> 0

Sheet People
A1: ID | B1: First name | C1: Last name | D1: Birth surname | E1: Born (year) | F1: Died (year) | G1: Birthplace | H1: Parent 1 ID | I1: Parent 2 ID | J1: Spouse ID | K1: Gen (no parents listed) | L1: Generation | M1: Age or age at death | N1: Notes | O1: Tree label | P1: Up 1 | Q1: Up 2 | R1: Up 3 | S1: Up 4 | T1: Up 5 | U1: Root | V1: Root gen
A2: 1 | B2: Thomas | C2: Hayes | E2: 1905 | F2: 1978 | G2: Boston, MA | J2: 2 | K2: 1 | L2: =IF(ISBLANK(B2),"",COUNTIF(P2:T2,">0")+V2) -> 1 | M2: =IF(ISNUMBER(E2),IF(ISNUMBER(F2),F2-E2,Summary!$B$2-E2),"") -> 73 | N2: Worked on the Boston docks | O2: =IF(ISBLANK(B2),"",B2&" "&C2&IF(ISNUMBER(E2),IF(ISNUMBER(F2)," ("&E2&"-"&F2&")"," (b. "&E2&")"),"")) -> Thomas Hayes (1905-1978) | P2: =IF(ISNUMBER(H2),H2,IF(ISNUMBER(I2),I2,0)) -> 0 | Q2: =IF(P2>0,IF(IFERROR(VLOOKUP(P2,$A$2:$I$61,8,FALSE),0)>0,VLOOKUP(P2,$A$2:$I$61,8,FALSE),IF(IFERROR(VLOOKUP(P2,$A$2:$I$61,9,FALSE),0)>0,VLOOKUP(P2,$A$2:$I$61,9,FALSE),0)),0) -> 0 | R2: =IF(Q2>0,IF(IFERROR(VLOOKUP(Q2,$A$2:$I$61,8,FALSE),0)>0,VLOOKUP(Q2,$A$2:$I$61,8,FALSE),IF(IFERROR(VLOOKUP(Q2,$A$2:$I$61,9,FALSE),0)>0,VLOOKUP(Q2,$A$2:$I$61,9,FALSE),0)),0) -> 0 | S2: =IF(R2>0,IF(IFERROR(VLOOKUP(R2,$A$2:$I$61,8,FALSE),0)>0,VLOOKUP(R2,$A$2:$I$61,8,FALSE),IF(IFERROR(VLOOKUP(R2,$A$2:$I$61,9,FALSE),0)>0,VLOOKUP(R2,$A$2:$I$61,9,FALSE),0)),0) -> 0 | T2: =IF(S2>0,IF(IFERROR(VLOOKUP(S2,$A$2:$I$61,8,FALSE),0)>0,VLOOKUP(S2,$A$2:$I$61,8,FALSE),IF(IFERROR(VLOOKUP(S2,$A$2:$I$61,9,FALSE),0)>0,VLOOKUP(S2,$A$2:$I$61,9,FALSE),0)),0) -> 0 | U2: =IF(T2>0,T2,IF(S2>0,S2,IF(R2>0,R2,IF(Q2>0,Q2,IF(P2>0,P2,IF(ISNUMBER(A2),A2,0)))))) -> 1 | V2: =IF(IFERROR(VLOOKUP(U2,$A$2:$K$61,11,FALSE),0)>0,VLOOKUP(U2,$A$2:$K$61,11,FALSE),1) -> 1
A3: 2 | B3: Margaret | C3: Hayes | D3: Quinn | E3: 1908 | F3: 1990 | G3: Cork, Ireland | J3: 1 | K3: 1 | L3: =IF(ISBLANK(B3),"",COUNTIF(P3:T3,">0")+V3) -> 1 | M3: =IF(ISNUMBER(E3),IF(ISNUMBER(F3),F3-E3,Summary!$B$2-E3),"") -> 82 | N3: Came to Boston in 1926 | O3: =IF(ISBLANK(B3),"",B3&" "&C3&IF(ISNUMBER(E3),IF(ISNUMBER(F3)," ("&E3&"-"&F3&")"," (b. "&E3&")"),"")) -> Margaret Hayes (1908-1990) | P3: =IF(ISNUMBER(H3),H3,IF(ISNUMBER(I3),I3,0)) -> 0 | Q3: =IF(P3>0,IF(IFERROR(VLOOKUP(P3,$A$2:$I$61,8,FALSE),0)>0,VLOOKUP(P3,$A$2:$I$61,8,FALSE),IF(IFERROR(VLOOKUP(P3,$A$2:$I$61,9,FALSE),0)>0,VLOOKUP(P3,$A$2:$I$61,9,FALSE),0)),0) -> 0 | R3: =IF(Q3>0,IF(IFERROR(VLOOKUP(Q3,$A$2:$I$61,8,FALSE),0)>0,VLOOKUP(Q3,$A$2:$I$61,8,FALSE),IF(IFERROR(VLOOKUP(Q3,$A$2:$I$61,9,FALSE),0)>0,VLOOKUP(Q3,$A$2:$I$61,9,FALSE),0)),0) -> 0 | S3: =IF(R3>0,IF(IFERROR(VLOOKUP(R3,$A$2:$I$61,8,FALSE),0)>0,VLOOKUP(R3,$A$2:$I$61,8,FALSE),IF(IFERROR(VLOOKUP(R3,$A$2:$I$61,9,FALSE),0)>0,VLOOKUP(R3,$A$2:$I$61,9,FALSE),0)),0) -> 0 | T3: =IF(S3>0,IF(IFERROR(VLOOKUP(S3,$A$2:$I$61,8,FALSE),0)>0,VLOOKUP(S3,$A$2:$I$61,8,FALSE),IF(IFERROR(VLOOKUP(S3,$A$2:$I$61,9,FALSE),0)>0,VLOOKUP(S3,$A$2:$I$61,9,FALSE),0)),0) -> 0 | U3: =IF(T3>0,T3,IF(S3>0,S3,IF(R3>0,R3,IF(Q3>0,Q3,IF(P3>0,P3,IF(ISNUMBER(A3),A3,0)))))) -> 2 | V3: =IF(IFERROR(VLOOKUP(U3,$A$2:$K$61,11,FALSE),0)>0,VLOOKUP(U3,$A$2:$K$61,11,FALSE),1) -> 1
A4: 3 | B4: Patrick | C4: Byrne | E4: 1910 | F4: 1972 | G4: Philadelphia, PA | J4: 4 | K4: 1 | L4: =IF(ISBLANK(B4),"",COUNTIF(P4:T4,">0")+V4) -> 1 | M4: =IF(ISNUMBER(E4),IF(ISNUMBER(F4),F4-E4,Summary!$B$2-E4),"") -> 62 | O4: =IF(ISBLANK(B4),"",B4&" "&C4&IF(ISNUMBER(E4),IF(ISNUMBER(F4)," ("&E4&"-"&F4&")"," (b. "&E4&")"),"")) -> Patrick Byrne (1910-1972) | P4: =IF(ISNUMBER(H4),H4,IF(ISNUMBER(I4),I4,0)) -> 0 | Q4: =IF(P4>0,IF(IFERROR(VLOOKUP(P4,$A$2:$I$61,8,FALSE),0)>0,VLOOKUP(P4,$A$2:$I$61,8,FALSE),IF(IFERROR(VLOOKUP(P4,$A$2:$I$61,9,FALSE),0)>0,VLOOKUP(P4,$A$2:$I$61,9,FALSE),0)),0) -> 0 | R4: =IF(Q4>0,IF(IFERROR(VLOOKUP(Q4,$A$2:$I$61,8,FALSE),0)>0,VLOOKUP(Q4,$A$2:$I$61,8,FALSE),IF(IFERROR(VLOOKUP(Q4,$A$2:$I$61,9,FALSE),0)>0,VLOOKUP(Q4,$A$2:$I$61,9,FALSE),0)),0) -> 0 | S4: =IF(R4>0,IF(IFERROR(VLOOKUP(R4,$A$2:$I$61,8,FALSE),0)>0,VLOOKUP(R4,$A$2:$I$61,8,FALSE),IF(IFERROR(VLOOKUP(R4,$A$2:$I$61,9,FALSE),0)>0,VLOOKUP(R4,$A$2:$I$61,9,FALSE),0)),0) -> 0 | T4: =IF(S4>0,IF(IFERROR(VLOOKUP(S4,$A$2:$I$61,8,FALSE),0)>0,VLOOKUP(S4,$A$2:$I$61,8,FALSE),IF(IFERROR(VLOOKUP(S4,$A$2:$I$61,9,FALSE),0)>0,VLOOKUP(S4,$A$2:$I$61,9,FALSE),0)),0) -> 0 | U4: =IF(T4>0,T4,IF(S4>0,S4,IF(R4>0,R4,IF(Q4>0,Q4,IF(P4>0,P4,IF(ISNUMBER(A4),A4,0)))))) -> 3 | V4: =IF(IFERROR(VLOOKUP(U4,$A$2:$K$61,11,FALSE),0)>0,VLOOKUP(U4,$A$2:$K$61,11,FALSE),1) -> 1
A5: 4 | B5: Helen | C5: Byrne | D5: Walsh | E5: 1913 | F5: 1999 | G5: Philadelphia, PA | J5: 3 | K5: 1 | L5: =IF(ISBLANK(B5),"",COUNTIF(P5:T5,">0")+V5) -> 1 | M5: =IF(ISNUMBER(E5),IF(ISNUMBER(F5),F5-E5,Summary!$B$2-E5),"") -> 86 | O5: =IF(ISBLANK(B5),"",B5&" "&C5&IF(ISNUMBER(E5),IF(ISNUMBER(F5)," ("&E5&"-"&F5&")"," (b. "&E5&")"),"")) -> Helen Byrne (1913-1999) | P5: =IF(ISNUMBER(H5),H5,IF(ISNUMBER(I5),I5,0)) -> 0 | Q5: =IF(P5>0,IF(IFERROR(VLOOKUP(P5,$A$2:$I$61,8,FALSE),0)>0,VLOOKUP(P5,$A$2:$I$61,8,FALSE),IF(IFERROR(VLOOKUP(P5,$A$2:$I$61,9,FALSE),0)>0,VLOOKUP(P5,$A$2:$I$61,9,FALSE),0)),0) -> 0 | R5: =IF(Q5>0,IF(IFERROR(VLOOKUP(Q5,$A$2:$I$61,8,FALSE),0)>0,VLOOKUP(Q5,$A$2:$I$61,8,FALSE),IF(IFERROR(VLOOKUP(Q5,$A$2:$I$61,9,FALSE),0)>0,VLOOKUP(Q5,$A$2:$I$61,9,FALSE),0)),0) -> 0 | S5: =IF(R5>0,IF(IFERROR(VLOOKUP(R5,$A$2:$I$61,8,FALSE),0)>0,VLOOKUP(R5,$A$2:$I$61,8,FALSE),IF(IFERROR(VLOOKUP(R5,$A$2:$I$61,9,FALSE),0)>0,VLOOKUP(R5,$A$2:$I$61,9,FALSE),0)),0) -> 0 | T5: =IF(S5>0,IF(IFERROR(VLOOKUP(S5,$A$2:$I$61,8,FALSE),0)>0,VLOOKUP(S5,$A$2:$I$61,8,FALSE),IF(IFERROR(VLOOKUP(S5,$A$2:$I$61,9,FALSE),0)>0,VLOOKUP(S5,$A$2:$I$61,9,FALSE),0)),0) -> 0 | U5: =IF(T5>0,T5,IF(S5>0,S5,IF(R5>0,R5,IF(Q5>0,Q5,IF(P5>0,P5,IF(ISNUMBER(A5),A5,0)))))) -> 4 | V5: =IF(IFERROR(VLOOKUP(U5,$A$2:$K$61,11,FALSE),0)>0,VLOOKUP(U5,$A$2:$K$61,11,FALSE),1) -> 1
A6: 5 | B6: Jose | C6: Lopez | E6: 1912 | F6: 1980 | G6: Guadalajara, Mexico | J6: 6 | K6: 1 | L6: =IF(ISBLANK(B6),"",COUNTIF(P6:T6,">0")+V6) -> 1 | M6: =IF(ISNUMBER(E6),IF(ISNUMBER(F6),F6-E6,Summary!$B$2-E6),"") -> 68 | O6: =IF(ISBLANK(B6),"",B6&" "&C6&IF(ISNUMBER(E6),IF(ISNUMBER(F6)," ("&E6&"-"&F6&")"," (b. "&E6&")"),"")) -> Jose Lopez (1912-1980) | P6: =IF(ISNUMBER(H6),H6,IF(ISNUMBER(I6),I6,0)) -> 0 | Q6: =IF(P6>0,IF(IFERROR(VLOOKUP(P6,$A$2:$I$61,8,FALSE),0)>0,VLOOKUP(P6,$A$2:$I$61,8,FALSE),IF(IFERROR(VLOOKUP(P6,$A$2:$I$61,9,FALSE),0)>0,VLOOKUP(P6,$A$2:$I$61,9,FALSE),0)),0) -> 0 | R6: =IF(Q6>0,IF(IFERROR(VLOOKUP(Q6,$A$2:$I$61,8,FALSE),0)>0,VLOOKUP(Q6,$A$2:$I$61,8,FALSE),IF(IFERROR(VLOOKUP(Q6,$A$2:$I$61,9,FALSE),0)>0,VLOOKUP(Q6,$A$2:$I$61,9,FALSE),0)),0) -> 0 | S6: =IF(R6>0,IF(IFERROR(VLOOKUP(R6,$A$2:$I$61,8,FALSE),0)>0,VLOOKUP(R6,$A$2:$I$61,8,FALSE),IF(IFERROR(VLOOKUP(R6,$A$2:$I$61,9,FALSE),0)>0,VLOOKUP(R6,$A$2:$I$61,9,FALSE),0)),0) -> 0 | T6: =IF(S6>0,IF(IFERROR(VLOOKUP(S6,$A$2:$I$61,8,FALSE),0)>0,VLOOKUP(S6,$A$2:$I$61,8,FALSE),IF(IFERROR(VLOOKUP(S6,$A$2:$I$61,9,FALSE),0)>0,VLOOKUP(S6,$A$2:$I$61,9,FALSE),0)),0) -> 0 | U6: =IF(T6>0,T6,IF(S6>0,S6,IF(R6>0,R6,IF(Q6>0,Q6,IF(P6>0,P6,IF(ISNUMBER(A6),A6,0)))))) -> 5 | V6: =IF(IFERROR(VLOOKUP(U6,$A$2:$K$61,11,FALSE),0)>0,VLOOKUP(U6,$A$2:$K$61,11,FALSE),1) -> 1
A7: 6 | B7: Rosa | C7: Lopez | D7: Garcia | E7: 1915 | F7: 2001 | G7: Guadalajara, Mexico | J7: 5 | K7: 1 | L7: =IF(ISBLANK(B7),"",COUNTIF(P7:T7,">0")+V7) -> 1 | M7: =IF(ISNUMBER(E7),IF(ISNUMBER(F7),F7-E7,Summary!$B$2-E7),"") -> 86 | O7: =IF(ISBLANK(B7),"",B7&" "&C7&IF(ISNUMBER(E7),IF(ISNUMBER(F7)," ("&E7&"-"&F7&")"," (b. "&E7&")"),"")) -> Rosa Lopez (1915-2001) | P7: =IF(ISNUMBER(H7),H7,IF(ISNUMBER(I7),I7,0)) -> 0 | Q7: =IF(P7>0,IF(IFERROR(VLOOKUP(P7,$A$2:$I$61,8,FALSE),0)>0,VLOOKUP(P7,$A$2:$I$61,8,FALSE),IF(IFERROR(VLOOKUP(P7,$A$2:$I$61,9,FALSE),0)>0,VLOOKUP(P7,$A$2:$I$61,9,FALSE),0)),0) -> 0 | R7: =IF(Q7>0,IF(IFERROR(VLOOKUP(Q7,$A$2:$I$61,8,FALSE),0)>0,VLOOKUP(Q7,$A$2:$I$61,8,FALSE),IF(IFERROR(VLOOKUP(Q7,$A$2:$I$61,9,FALSE),0)>0,VLOOKUP(Q7,$A$2:$I$61,9,FALSE),0)),0) -> 0 | S7: =IF(R7>0,IF(IFERROR(VLOOKUP(R7,$A$2:$I$61,8,FALSE),0)>0,VLOOKUP(R7,$A$2:$I$61,8,FALSE),IF(IFERROR(VLOOKUP(R7,$A$2:$I$61,9,FALSE),0)>0,VLOOKUP(R7,$A$2:$I$61,9,FALSE),0)),0) -> 0 | T7: =IF(S7>0,IF(IFERROR(VLOOKUP(S7,$A$2:$I$61,8,FALSE),0)>0,VLOOKUP(S7,$A$2:$I$61,8,FALSE),IF(IFERROR(VLOOKUP(S7,$A$2:$I$61,9,FALSE),0)>0,VLOOKUP(S7,$A$2:$I$61,9,FALSE),0)),0) -> 0 | U7: =IF(T7>0,T7,IF(S7>0,S7,IF(R7>0,R7,IF(Q7>0,Q7,IF(P7>0,P7,IF(ISNUMBER(A7),A7,0)))))) -> 6 | V7: =IF(IFERROR(VLOOKUP(U7,$A$2:$K$61,11,FALSE),0)>0,VLOOKUP(U7,$A$2:$K$61,11,FALSE),1) -> 1
A8: 7 | B8: Robert | C8: Hayes | E8: 1935 | F8: 2011 | G8: Boston, MA | H8: 1 | I8: 2 | J8: 8 | L8: =IF(ISBLANK(B8),"",COUNTIF(P8:T8,">0")+V8) -> 2 | M8: =IF(ISNUMBER(E8),IF(ISNUMBER(F8),F8-E8,Summary!$B$2-E8),"") -> 76 | N8: Navy, 1953 to 1957 | O8: =IF(ISBLANK(B8),"",B8&" "&C8&IF(ISNUMBER(E8),IF(ISNUMBER(F8)," ("&E8&"-"&F8&")"," (b. "&E8&")"),"")) -> Robert Hayes (1935-2011) | P8: =IF(ISNUMBER(H8),H8,IF(ISNUMBER(I8),I8,0)) -> 1 | Q8: =IF(P8>0,IF(IFERROR(VLOOKUP(P8,$A$2:$I$61,8,FALSE),0)>0,VLOOKUP(P8,$A$2:$I$61,8,FALSE),IF(IFERROR(VLOOKUP(P8,$A$2:$I$61,9,FALSE),0)>0,VLOOKUP(P8,$A$2:$I$61,9,FALSE),0)),0) -> 0 | R8: =IF(Q8>0,IF(IFERROR(VLOOKUP(Q8,$A$2:$I$61,8,FALSE),0)>0,VLOOKUP(Q8,$A$2:$I$61,8,FALSE),IF(IFERROR(VLOOKUP(Q8,$A$2:$I$61,9,FALSE),0)>0,VLOOKUP(Q8,$A$2:$I$61,9,FALSE),0)),0) -> 0 | S8: =IF(R8>0,IF(IFERROR(VLOOKUP(R8,$A$2:$I$61,8,FALSE),0)>0,VLOOKUP(R8,$A$2:$I$61,8,FALSE),IF(IFERROR(VLOOKUP(R8,$A$2:$I$61,9,FALSE),0)>0,VLOOKUP(R8,$A$2:$I$61,9,FALSE),0)),0) -> 0 | T8: =IF(S8>0,IF(IFERROR(VLOOKUP(S8,$A$2:$I$61,8,FALSE),0)>0,VLOOKUP(S8,$A$2:$I$61,8,FALSE),IF(IFERROR(VLOOKUP(S8,$A$2:$I$61,9,FALSE),0)>0,VLOOKUP(S8,$A$2:$I$61,9,FALSE),0)),0) -> 0 | U8: =IF(T8>0,T8,IF(S8>0,S8,IF(R8>0,R8,IF(Q8>0,Q8,IF(P8>0,P8,IF(ISNUMBER(A8),A8,0)))))) -> 1 | V8: =IF(IFERROR(VLOOKUP(U8,$A$2:$K$61,11,FALSE),0)>0,VLOOKUP(U8,$A$2:$K$61,11,FALSE),1) -> 1
A9: 8 | B9: Dorothy | C9: Hayes | D9: Byrne | E9: 1938 | F9: 2019 | G9: Philadelphia, PA | H9: 3 | I9: 4 | J9: 7 | L9: =IF(ISBLANK(B9),"",COUNTIF(P9:T9,">0")+V9) -> 2 | M9: =IF(ISNUMBER(E9),IF(ISNUMBER(F9),F9-E9,Summary!$B$2-E9),"") -> 81 | O9: =IF(ISBLANK(B9),"",B9&" "&C9&IF(ISNUMBER(E9),IF(ISNUMBER(F9)," ("&E9&"-"&F9&")"," (b. "&E9&")"),"")) -> Dorothy Hayes (1938-2019) | P9: =IF(ISNUMBER(H9),H9,IF(ISNUMBER(I9),I9,0)) -> 3 | Q9: =IF(P9>0,IF(IFERROR(VLOOKUP(P9,$A$2:$I$61,8,FALSE),0)>0,VLOOKUP(P9,$A$2:$I$61,8,FALSE),IF(IFERROR(VLOOKUP(P9,$A$2:$I$61,9,FALSE),0)>0,VLOOKUP(P9,$A$2:$I$61,9,FALSE),0)),0) -> 0 | R9: =IF(Q9>0,IF(IFERROR(VLOOKUP(Q9,$A$2:$I$61,8,FALSE),0)>0,VLOOKUP(Q9,$A$2:$I$61,8,FALSE),IF(IFERROR(VLOOKUP(Q9,$A$2:$I$61,9,FALSE),0)>0,VLOOKUP(Q9,$A$2:$I$61,9,FALSE),0)),0) -> 0 | S9: =IF(R9>0,IF(IFERROR(VLOOKUP(R9,$A$2:$I$61,8,FALSE),0)>0,VLOOKUP(R9,$A$2:$I$61,8,FALSE),IF(IFERROR(VLOOKUP(R9,$A$2:$I$61,9,FALSE),0)>0,VLOOKUP(R9,$A$2:$I$61,9,FALSE),0)),0) -> 0 | T9: =IF(S9>0,IF(IFERROR(VLOOKUP(S9,$A$2:$I$61,8,FALSE),0)>0,VLOOKUP(S9,$A$2:$I$61,8,FALSE),IF(IFERROR(VLOOKUP(S9,$A$2:$I$61,9,FALSE),0)>0,VLOOKUP(S9,$A$2:$I$61,9,FALSE),0)),0) -> 0 | U9: =IF(T9>0,T9,IF(S9>0,S9,IF(R9>0,R9,IF(Q9>0,Q9,IF(P9>0,P9,IF(ISNUMBER(A9),A9,0)))))) -> 3 | V9: =IF(IFERROR(VLOOKUP(U9,$A$2:$K$61,11,FALSE),0)>0,VLOOKUP(U9,$A$2:$K$61,11,FALSE),1) -> 1
A10: 9 | B10: Luis | C10: Lopez | E10: 1939 | F10: 2015 | G10: San Antonio, TX | H10: 5 | I10: 6 | J10: 10 | L10: =IF(ISBLANK(B10),"",COUNTIF(P10:T10,">0")+V10) -> 2 | M10: =IF(ISNUMBER(E10),IF(ISNUMBER(F10),F10-E10,Summary!$B$2-E10),"") -> 76 | O10: =IF(ISBLANK(B10),"",B10&" "&C10&IF(ISNUMBER(E10),IF(ISNUMBER(F10)," ("&E10&"-"&F10&")"," (b. "&E10&")"),"")) -> Luis Lopez (1939-2015) | P10: =IF(ISNUMBER(H10),H10,IF(ISNUMBER(I10),I10,0)) -> 5 | Q10: =IF(P10>0,IF(IFERROR(VLOOKUP(P10,$A$2:$I$61,8,FALSE),0)>0,VLOOKUP(P10,$A$2:$I$61,8,FALSE),IF(IFERROR(VLOOKUP(P10,$A$2:$I$61,9,FALSE),0)>0,VLOOKUP(P10,$A$2:$I$61,9,FALSE),0)),0) -> 0 | R10: =IF(Q10>0,IF(IFERROR(VLOOKUP(Q10,$A$2:$I$61,8,FALSE),0)>0,VLOOKUP(Q10,$A$2:$I$61,8,FALSE),IF(IFERROR(VLOOKUP(Q10,$A$2:$I$61,9,FALSE),0)>0,VLOOKUP(Q10,$A$2:$I$61,9,FALSE),0)),0) -> 0 | S10: =IF(R10>0,IF(IFERROR(VLOOKUP(R10,$A$2:$I$61,8,FALSE),0)>0,VLOOKUP(R10,$A$2:$I$61,8,FALSE),IF(IFERROR(VLOOKUP(R10,$A$2:$I$61,9,FALSE),0)>0,VLOOKUP(R10,$A$2:$I$61,9,FALSE),0)),0) -> 0 | T10: =IF(S10>0,IF(IFERROR(VLOOKUP(S10,$A$2:$I$61,8,FALSE),0)>0,VLOOKUP(S10,$A$2:$I$61,8,FALSE),IF(IFERROR(VLOOKUP(S10,$A$2:$I$61,9,FALSE),0)>0,VLOOKUP(S10,$A$2:$I$61,9,FALSE),0)),0) -> 0 | U10: =IF(T10>0,T10,IF(S10>0,S10,IF(R10>0,R10,IF(Q10>0,Q10,IF(P10>0,P10,IF(ISNUMBER(A10),A10,0)))))) -> 5 | V10: =IF(IFERROR(VLOOKUP(U10,$A$2:$K$61,11,FALSE),0)>0,VLOOKUP(U10,$A$2:$K$61,11,FALSE),1) -> 1
A11: 10 | B11: Maria | C11: Lopez | D11: Ortiz | E11: 1941 | G11: El Paso, TX | J11: 9 | K11: 2 | L11: =IF(ISBLANK(B11),"",COUNTIF(P11:T11,">0")+V11) -> 2 | M11: =IF(ISNUMBER(E11),IF(ISNUMBER(F11),F11-E11,Summary!$B$2-E11),"") -> 85 | N11: Parents not added yet | O11: =IF(ISBLANK(B11),"",B11&" "&C11&IF(ISNUMBER(E11),IF(ISNUMBER(F11)," ("&E11&"-"&F11&")"," (b. "&E11&")"),"")) -> Maria Lopez (b. 1941) | P11: =IF(ISNUMBER(H11),H11,IF(ISNUMBER(I11),I11,0)) -> 0 | Q11: =IF(P11>0,IF(IFERROR(VLOOKUP(P11,$A$2:$I$61,8,FALSE),0)>0,VLOOKUP(P11,$A$2:$I$61,8,FALSE),IF(IFERROR(VLOOKUP(P11,$A$2:$I$61,9,FALSE),0)>0,VLOOKUP(P11,$A$2:$I$61,9,FALSE),0)),0) -> 0 | R11: =IF(Q11>0,IF(IFERROR(VLOOKUP(Q11,$A$2:$I$61,8,FALSE),0)>0,VLOOKUP(Q11,$A$2:$I$61,8,FALSE),IF(IFERROR(VLOOKUP(Q11,$A$2:$I$61,9,FALSE),0)>0,VLOOKUP(Q11,$A$2:$I$61,9,FALSE),0)),0) -> 0 | S11: =IF(R11>0,IF(IFERROR(VLOOKUP(R11,$A$2:$I$61,8,FALSE),0)>0,VLOOKUP(R11,$A$2:$I$61,8,FALSE),IF(IFERROR(VLOOKUP(R11,$A$2:$I$61,9,FALSE),0)>0,VLOOKUP(R11,$A$2:$I$61,9,FALSE),0)),0) -> 0 | T11: =IF(S11>0,IF(IFERROR(VLOOKUP(S11,$A$2:$I$61,8,FALSE),0)>0,VLOOKUP(S11,$A$2:$I$61,8,FALSE),IF(IFERROR(VLOOKUP(S11,$A$2:$I$61,9,FALSE),0)>0,VLOOKUP(S11,$A$2:$I$61,9,FALSE),0)),0) -> 0 | U11: =IF(T11>0,T11,IF(S11>0,S11,IF(R11>0,R11,IF(Q11>0,Q11,IF(P11>0,P11,IF(ISNUMBER(A11),A11,0)))))) -> 10 | V11: =IF(IFERROR(VLOOKUP(U11,$A$2:$K$61,11,FALSE),0)>0,VLOOKUP(U11,$A$2:$K$61,11,FALSE),1) -> 2
A12: 11 | B12: Michael | C12: Hayes | E12: 1962 | G12: Boston, MA | H12: 7 | I12: 8 | J12: 12 | L12: =IF(ISBLANK(B12),"",COUNTIF(P12:T12,">0")+V12) -> 3 | M12: =IF(ISNUMBER(E12),IF(ISNUMBER(F12),F12-E12,Summary!$B$2-E12),"") -> 64 | O12: =IF(ISBLANK(B12),"",B12&" "&C12&IF(ISNUMBER(E12),IF(ISNUMBER(F12)," ("&E12&"-"&F12&")"," (b. "&E12&")"),"")) -> Michael Hayes (b. 1962) | P12: =IF(ISNUMBER(H12),H12,IF(ISNUMBER(I12),I12,0)) -> 7 | Q12: =IF(P12>0,IF(IFERROR(VLOOKUP(P12,$A$2:$I$61,8,FALSE),0)>0,VLOOKUP(P12,$A$2:$I$61,8,FALSE),IF(IFERROR(VLOOKUP(P12,$A$2:$I$61,9,FALSE),0)>0,VLOOKUP(P12,$A$2:$I$61,9,FALSE),0)),0) -> 1 | R12: =IF(Q12>0,IF(IFERROR(VLOOKUP(Q12,$A$2:$I$61,8,FALSE),0)>0,VLOOKUP(Q12,$A$2:$I$61,8,FALSE),IF(IFERROR(VLOOKUP(Q12,$A$2:$I$61,9,FALSE),0)>0,VLOOKUP(Q12,$A$2:$I$61,9,FALSE),0)),0) -> 0 | S12: =IF(R12>0,IF(IFERROR(VLOOKUP(R12,$A$2:$I$61,8,FALSE),0)>0,VLOOKUP(R12,$A$2:$I$61,8,FALSE),IF(IFERROR(VLOOKUP(R12,$A$2:$I$61,9,FALSE),0)>0,VLOOKUP(R12,$A$2:$I$61,9,FALSE),0)),0) -> 0 | T12: =IF(S12>0,IF(IFERROR(VLOOKUP(S12,$A$2:$I$61,8,FALSE),0)>0,VLOOKUP(S12,$A$2:$I$61,8,FALSE),IF(IFERROR(VLOOKUP(S12,$A$2:$I$61,9,FALSE),0)>0,VLOOKUP(S12,$A$2:$I$61,9,FALSE),0)),0) -> 0 | U12: =IF(T12>0,T12,IF(S12>0,S12,IF(R12>0,R12,IF(Q12>0,Q12,IF(P12>0,P12,IF(ISNUMBER(A12),A12,0)))))) -> 1 | V12: =IF(IFERROR(VLOOKUP(U12,$A$2:$K$61,11,FALSE),0)>0,VLOOKUP(U12,$A$2:$K$61,11,FALSE),1) -> 1
A13: 12 | B13: Karen | C13: Hayes | D13: Lopez | E13: 1964 | G13: San Antonio, TX | H13: 9 | I13: 10 | J13: 11 | L13: =IF(ISBLANK(B13),"",COUNTIF(P13:T13,">0")+V13) -> 3 | M13: =IF(ISNUMBER(E13),IF(ISNUMBER(F13),F13-E13,Summary!$B$2-E13),"") -> 62 | O13: =IF(ISBLANK(B13),"",B13&" "&C13&IF(ISNUMBER(E13),IF(ISNUMBER(F13)," ("&E13&"-"&F13&")"," (b. "&E13&")"),"")) -> Karen Hayes (b. 1964) | P13: =IF(ISNUMBER(H13),H13,IF(ISNUMBER(I13),I13,0)) -> 9 | Q13: =IF(P13>0,IF(IFERROR(VLOOKUP(P13,$A$2:$I$61,8,FALSE),0)>0,VLOOKUP(P13,$A$2:$I$61,8,FALSE),IF(IFERROR(VLOOKUP(P13,$A$2:$I$61,9,FALSE),0)>0,VLOOKUP(P13,$A$2:$I$61,9,FALSE),0)),0) -> 5 | R13: =IF(Q13>0,IF(IFERROR(VLOOKUP(Q13,$A$2:$I$61,8,FALSE),0)>0,VLOOKUP(Q13,$A$2:$I$61,8,FALSE),IF(IFERROR(VLOOKUP(Q13,$A$2:$I$61,9,FALSE),0)>0,VLOOKUP(Q13,$A$2:$I$61,9,FALSE),0)),0) -> 0 | S13: =IF(R13>0,IF(IFERROR(VLOOKUP(R13,$A$2:$I$61,8,FALSE),0)>0,VLOOKUP(R13,$A$2:$I$61,8,FALSE),IF(IFERROR(VLOOKUP(R13,$A$2:$I$61,9,FALSE),0)>0,VLOOKUP(R13,$A$2:$I$61,9,FALSE),0)),0) -> 0 | T13: =IF(S13>0,IF(IFERROR(VLOOKUP(S13,$A$2:$I$61,8,FALSE),0)>0,VLOOKUP(S13,$A$2:$I$61,8,FALSE),IF(IFERROR(VLOOKUP(S13,$A$2:$I$61,9,FALSE),0)>0,VLOOKUP(S13,$A$2:$I$61,9,FALSE),0)),0) -> 0 | U13: =IF(T13>0,T13,IF(S13>0,S13,IF(R13>0,R13,IF(Q13>0,Q13,IF(P13>0,P13,IF(ISNUMBER(A13),A13,0)))))) -> 5 | V13: =IF(IFERROR(VLOOKUP(U13,$A$2:$K$61,11,FALSE),0)>0,VLOOKUP(U13,$A$2:$K$61,11,FALSE),1) -> 1
A14: 13 | B14: Susan | C14: Reed | D14: Hayes | E14: 1965 | G14: Boston, MA | H14: 7 | I14: 8 | J14: 14 | L14: =IF(ISBLANK(B14),"",COUNTIF(P14:T14,">0")+V14) -> 3 | M14: =IF(ISNUMBER(E14),IF(ISNUMBER(F14),F14-E14,Summary!$B$2-E14),"") -> 61 | O14: =IF(ISBLANK(B14),"",B14&" "&C14&IF(ISNUMBER(E14),IF(ISNUMBER(F14)," ("&E14&"-"&F14&")"," (b. "&E14&")"),"")) -> Susan Reed (b. 1965) | P14: =IF(ISNUMBER(H14),H14,IF(ISNUMBER(I14),I14,0)) -> 7 | Q14: =IF(P14>0,IF(IFERROR(VLOOKUP(P14,$A$2:$I$61,8,FALSE),0)>0,VLOOKUP(P14,$A$2:$I$61,8,FALSE),IF(IFERROR(VLOOKUP(P14,$A$2:$I$61,9,FALSE),0)>0,VLOOKUP(P14,$A$2:$I$61,9,FALSE),0)),0) -> 1 | R14: =IF(Q14>0,IF(IFERROR(VLOOKUP(Q14,$A$2:$I$61,8,FALSE),0)>0,VLOOKUP(Q14,$A$2:$I$61,8,FALSE),IF(IFERROR(VLOOKUP(Q14,$A$2:$I$61,9,FALSE),0)>0,VLOOKUP(Q14,$A$2:$I$61,9,FALSE),0)),0) -> 0 | S14: =IF(R14>0,IF(IFERROR(VLOOKUP(R14,$A$2:$I$61,8,FALSE),0)>0,VLOOKUP(R14,$A$2:$I$61,8,FALSE),IF(IFERROR(VLOOKUP(R14,$A$2:$I$61,9,FALSE),0)>0,VLOOKUP(R14,$A$2:$I$61,9,FALSE),0)),0) -> 0 | T14: =IF(S14>0,IF(IFERROR(VLOOKUP(S14,$A$2:$I$61,8,FALSE),0)>0,VLOOKUP(S14,$A$2:$I$61,8,FALSE),IF(IFERROR(VLOOKUP(S14,$A$2:$I$61,9,FALSE),0)>0,VLOOKUP(S14,$A$2:$I$61,9,FALSE),0)),0) -> 0 | U14: =IF(T14>0,T14,IF(S14>0,S14,IF(R14>0,R14,IF(Q14>0,Q14,IF(P14>0,P14,IF(ISNUMBER(A14),A14,0)))))) -> 1 | V14: =IF(IFERROR(VLOOKUP(U14,$A$2:$K$61,11,FALSE),0)>0,VLOOKUP(U14,$A$2:$K$61,11,FALSE),1) -> 1
A15: 14 | B15: David | C15: Reed | E15: 1963 | G15: Hartford, CT | J15: 13 | K15: 3 | L15: =IF(ISBLANK(B15),"",COUNTIF(P15:T15,">0")+V15) -> 3 | M15: =IF(ISNUMBER(E15),IF(ISNUMBER(F15),F15-E15,Summary!$B$2-E15),"") -> 63 | N15: Married into the family | O15: =IF(ISBLANK(B15),"",B15&" "&C15&IF(ISNUMBER(E15),IF(ISNUMBER(F15)," ("&E15&"-"&F15&")"," (b. "&E15&")"),"")) -> David Reed (b. 1963) | P15: =IF(ISNUMBER(H15),H15,IF(ISNUMBER(I15),I15,0)) -> 0 | Q15: =IF(P15>0,IF(IFERROR(VLOOKUP(P15,$A$2:$I$61,8,FALSE),0)>0,VLOOKUP(P15,$A$2:$I$61,8,FALSE),IF(IFERROR(VLOOKUP(P15,$A$2:$I$61,9,FALSE),0)>0,VLOOKUP(P15,$A$2:$I$61,9,FALSE),0)),0) -> 0 | R15: =IF(Q15>0,IF(IFERROR(VLOOKUP(Q15,$A$2:$I$61,8,FALSE),0)>0,VLOOKUP(Q15,$A$2:$I$61,8,FALSE),IF(IFERROR(VLOOKUP(Q15,$A$2:$I$61,9,FALSE),0)>0,VLOOKUP(Q15,$A$2:$I$61,9,FALSE),0)),0) -> 0 | S15: =IF(R15>0,IF(IFERROR(VLOOKUP(R15,$A$2:$I$61,8,FALSE),0)>0,VLOOKUP(R15,$A$2:$I$61,8,FALSE),IF(IFERROR(VLOOKUP(R15,$A$2:$I$61,9,FALSE),0)>0,VLOOKUP(R15,$A$2:$I$61,9,FALSE),0)),0) -> 0 | T15: =IF(S15>0,IF(IFERROR(VLOOKUP(S15,$A$2:$I$61,8,FALSE),0)>0,VLOOKUP(S15,$A$2:$I$61,8,FALSE),IF(IFERROR(VLOOKUP(S15,$A$2:$I$61,9,FALSE),0)>0,VLOOKUP(S15,$A$2:$I$61,9,FALSE),0)),0) -> 0 | U15: =IF(T15>0,T15,IF(S15>0,S15,IF(R15>0,R15,IF(Q15>0,Q15,IF(P15>0,P15,IF(ISNUMBER(A15),A15,0)))))) -> 14 | V15: =IF(IFERROR(VLOOKUP(U15,$A$2:$K$61,11,FALSE),0)>0,VLOOKUP(U15,$A$2:$K$61,11,FALSE),1) -> 3
A16: 15 | B16: Emily | C16: Carter | D16: Hayes | E16: 1994 | G16: Boston, MA | H16: 11 | I16: 12 | J16: 18 | L16: =IF(ISBLANK(B16),"",COUNTIF(P16:T16,">0")+V16) -> 4 | M16: =IF(ISNUMBER(E16),IF(ISNUMBER(F16),F16-E16,Summary!$B$2-E16),"") -> 32 | O16: =IF(ISBLANK(B16),"",B16&" "&C16&IF(ISNUMBER(E16),IF(ISNUMBER(F16)," ("&E16&"-"&F16&")"," (b. "&E16&")"),"")) -> Emily Carter (b. 1994) | P16: =IF(ISNUMBER(H16),H16,IF(ISNUMBER(I16),I16,0)) -> 11 | Q16: =IF(P16>0,IF(IFERROR(VLOOKUP(P16,$A$2:$I$61,8,FALSE),0)>0,VLOOKUP(P16,$A$2:$I$61,8,FALSE),IF(IFERROR(VLOOKUP(P16,$A$2:$I$61,9,FALSE),0)>0,VLOOKUP(P16,$A$2:$I$61,9,FALSE),0)),0) -> 7 | R16: =IF(Q16>0,IF(IFERROR(VLOOKUP(Q16,$A$2:$I$61,8,FALSE),0)>0,VLOOKUP(Q16,$A$2:$I$61,8,FALSE),IF(IFERROR(VLOOKUP(Q16,$A$2:$I$61,9,FALSE),0)>0,VLOOKUP(Q16,$A$2:$I$61,9,FALSE),0)),0) -> 1 | S16: =IF(R16>0,IF(IFERROR(VLOOKUP(R16,$A$2:$I$61,8,FALSE),0)>0,VLOOKUP(R16,$A$2:$I$61,8,FALSE),IF(IFERROR(VLOOKUP(R16,$A$2:$I$61,9,FALSE),0)>0,VLOOKUP(R16,$A$2:$I$61,9,FALSE),0)),0) -> 0 | T16: =IF(S16>0,IF(IFERROR(VLOOKUP(S16,$A$2:$I$61,8,FALSE),0)>0,VLOOKUP(S16,$A$2:$I$61,8,FALSE),IF(IFERROR(VLOOKUP(S16,$A$2:$I$61,9,FALSE),0)>0,VLOOKUP(S16,$A$2:$I$61,9,FALSE),0)),0) -> 0 | U16: =IF(T16>0,T16,IF(S16>0,S16,IF(R16>0,R16,IF(Q16>0,Q16,IF(P16>0,P16,IF(ISNUMBER(A16),A16,0)))))) -> 1 | V16: =IF(IFERROR(VLOOKUP(U16,$A$2:$K$61,11,FALSE),0)>0,VLOOKUP(U16,$A$2:$K$61,11,FALSE),1) -> 1
A17: 16 | B17: Daniel | C17: Hayes | E17: 1997 | G17: Boston, MA | H17: 11 | I17: 12 | L17: =IF(ISBLANK(B17),"",COUNTIF(P17:T17,">0")+V17) -> 4 | M17: =IF(ISNUMBER(E17),IF(ISNUMBER(F17),F17-E17,Summary!$B$2-E17),"") -> 29 | O17: =IF(ISBLANK(B17),"",B17&" "&C17&IF(ISNUMBER(E17),IF(ISNUMBER(F17)," ("&E17&"-"&F17&")"," (b. "&E17&")"),"")) -> Daniel Hayes (b. 1997) | P17: =IF(ISNUMBER(H17),H17,IF(ISNUMBER(I17),I17,0)) -> 11 | Q17: =IF(P17>0,IF(IFERROR(VLOOKUP(P17,$A$2:$I$61,8,FALSE),0)>0,VLOOKUP(P17,$A$2:$I$61,8,FALSE),IF(IFERROR(VLOOKUP(P17,$A$2:$I$61,9,FALSE),0)>0,VLOOKUP(P17,$A$2:$I$61,9,FALSE),0)),0) -> 7 | R17: =IF(Q17>0,IF(IFERROR(VLOOKUP(Q17,$A$2:$I$61,8,FALSE),0)>0,VLOOKUP(Q17,$A$2:$I$61,8,FALSE),IF(IFERROR(VLOOKUP(Q17,$A$2:$I$61,9,FALSE),0)>0,VLOOKUP(Q17,$A$2:$I$61,9,FALSE),0)),0) -> 1 | S17: =IF(R17>0,IF(IFERROR(VLOOKUP(R17,$A$2:$I$61,8,FALSE),0)>0,VLOOKUP(R17,$A$2:$I$61,8,FALSE),IF(IFERROR(VLOOKUP(R17,$A$2:$I$61,9,FALSE),0)>0,VLOOKUP(R17,$A$2:$I$61,9,FALSE),0)),0) -> 0 | T17: =IF(S17>0,IF(IFERROR(VLOOKUP(S17,$A$2:$I$61,8,FALSE),0)>0,VLOOKUP(S17,$A$2:$I$61,8,FALSE),IF(IFERROR(VLOOKUP(S17,$A$2:$I$61,9,FALSE),0)>0,VLOOKUP(S17,$A$2:$I$61,9,FALSE),0)),0) -> 0 | U17: =IF(T17>0,T17,IF(S17>0,S17,IF(R17>0,R17,IF(Q17>0,Q17,IF(P17>0,P17,IF(ISNUMBER(A17),A17,0)))))) -> 1 | V17: =IF(IFERROR(VLOOKUP(U17,$A$2:$K$61,11,FALSE),0)>0,VLOOKUP(U17,$A$2:$K$61,11,FALSE),1) -> 1
A18: 17 | B18: Jake | C18: Reed | E18: 1992 | G18: Hartford, CT | H18: 14 | I18: 13 | L18: =IF(ISBLANK(B18),"",COUNTIF(P18:T18,">0")+V18) -> 4 | M18: =IF(ISNUMBER(E18),IF(ISNUMBER(F18),F18-E18,Summary!$B$2-E18),"") -> 34 | O18: =IF(ISBLANK(B18),"",B18&" "&C18&IF(ISNUMBER(E18),IF(ISNUMBER(F18)," ("&E18&"-"&F18&")"," (b. "&E18&")"),"")) -> Jake Reed (b. 1992) | P18: =IF(ISNUMBER(H18),H18,IF(ISNUMBER(I18),I18,0)) -> 14 | Q18: =IF(P18>0,IF(IFERROR(VLOOKUP(P18,$A$2:$I$61,8,FALSE),0)>0,VLOOKUP(P18,$A$2:$I$61,8,FALSE),IF(IFERROR(VLOOKUP(P18,$A$2:$I$61,9,FALSE),0)>0,VLOOKUP(P18,$A$2:$I$61,9,FALSE),0)),0) -> 0 | R18: =IF(Q18>0,IF(IFERROR(VLOOKUP(Q18,$A$2:$I$61,8,FALSE),0)>0,VLOOKUP(Q18,$A$2:$I$61,8,FALSE),IF(IFERROR(VLOOKUP(Q18,$A$2:$I$61,9,FALSE),0)>0,VLOOKUP(Q18,$A$2:$I$61,9,FALSE),0)),0) -> 0 | S18: =IF(R18>0,IF(IFERROR(VLOOKUP(R18,$A$2:$I$61,8,FALSE),0)>0,VLOOKUP(R18,$A$2:$I$61,8,FALSE),IF(IFERROR(VLOOKUP(R18,$A$2:$I$61,9,FALSE),0)>0,VLOOKUP(R18,$A$2:$I$61,9,FALSE),0)),0) -> 0 | T18: =IF(S18>0,IF(IFERROR(VLOOKUP(S18,$A$2:$I$61,8,FALSE),0)>0,VLOOKUP(S18,$A$2:$I$61,8,FALSE),IF(IFERROR(VLOOKUP(S18,$A$2:$I$61,9,FALSE),0)>0,VLOOKUP(S18,$A$2:$I$61,9,FALSE),0)),0) -> 0 | U18: =IF(T18>0,T18,IF(S18>0,S18,IF(R18>0,R18,IF(Q18>0,Q18,IF(P18>0,P18,IF(ISNUMBER(A18),A18,0)))))) -> 14 | V18: =IF(IFERROR(VLOOKUP(U18,$A$2:$K$61,11,FALSE),0)>0,VLOOKUP(U18,$A$2:$K$61,11,FALSE),1) -> 3
A19: 18 | B19: James | C19: Carter | E19: 1993 | G19: Denver, CO | J19: 15 | K19: 4 | L19: =IF(ISBLANK(B19),"",COUNTIF(P19:T19,">0")+V19) -> 4 | M19: =IF(ISNUMBER(E19),IF(ISNUMBER(F19),F19-E19,Summary!$B$2-E19),"") -> 33 | N19: Married into the family | O19: =IF(ISBLANK(B19),"",B19&" "&C19&IF(ISNUMBER(E19),IF(ISNUMBER(F19)," ("&E19&"-"&F19&")"," (b. "&E19&")"),"")) -> James Carter (b. 1993) | P19: =IF(ISNUMBER(H19),H19,IF(ISNUMBER(I19),I19,0)) -> 0 | Q19: =IF(P19>0,IF(IFERROR(VLOOKUP(P19,$A$2:$I$61,8,FALSE),0)>0,VLOOKUP(P19,$A$2:$I$61,8,FALSE),IF(IFERROR(VLOOKUP(P19,$A$2:$I$61,9,FALSE),0)>0,VLOOKUP(P19,$A$2:$I$61,9,FALSE),0)),0) -> 0 | R19: =IF(Q19>0,IF(IFERROR(VLOOKUP(Q19,$A$2:$I$61,8,FALSE),0)>0,VLOOKUP(Q19,$A$2:$I$61,8,FALSE),IF(IFERROR(VLOOKUP(Q19,$A$2:$I$61,9,FALSE),0)>0,VLOOKUP(Q19,$A$2:$I$61,9,FALSE),0)),0) -> 0 | S19: =IF(R19>0,IF(IFERROR(VLOOKUP(R19,$A$2:$I$61,8,FALSE),0)>0,VLOOKUP(R19,$A$2:$I$61,8,FALSE),IF(IFERROR(VLOOKUP(R19,$A$2:$I$61,9,FALSE),0)>0,VLOOKUP(R19,$A$2:$I$61,9,FALSE),0)),0) -> 0 | T19: =IF(S19>0,IF(IFERROR(VLOOKUP(S19,$A$2:$I$61,8,FALSE),0)>0,VLOOKUP(S19,$A$2:$I$61,8,FALSE),IF(IFERROR(VLOOKUP(S19,$A$2:$I$61,9,FALSE),0)>0,VLOOKUP(S19,$A$2:$I$61,9,FALSE),0)),0) -> 0 | U19: =IF(T19>0,T19,IF(S19>0,S19,IF(R19>0,R19,IF(Q19>0,Q19,IF(P19>0,P19,IF(ISNUMBER(A19),A19,0)))))) -> 18 | V19: =IF(IFERROR(VLOOKUP(U19,$A$2:$K$61,11,FALSE),0)>0,VLOOKUP(U19,$A$2:$K$61,11,FALSE),1) -> 4
A20: 19 | B20: Ava | C20: Carter | E20: 2023 | G20: Boston, MA | H20: 18 | I20: 15 | L20: =IF(ISBLANK(B20),"",COUNTIF(P20:T20,">0")+V20) -> 5 | M20: =IF(ISNUMBER(E20),IF(ISNUMBER(F20),F20-E20,Summary!$B$2-E20),"") -> 3 | O20: =IF(ISBLANK(B20),"",B20&" "&C20&IF(ISNUMBER(E20),IF(ISNUMBER(F20)," ("&E20&"-"&F20&")"," (b. "&E20&")"),"")) -> Ava Carter (b. 2023) | P20: =IF(ISNUMBER(H20),H20,IF(ISNUMBER(I20),I20,0)) -> 18 | Q20: =IF(P20>0,IF(IFERROR(VLOOKUP(P20,$A$2:$I$61,8,FALSE),0)>0,VLOOKUP(P20,$A$2:$I$61,8,FALSE),IF(IFERROR(VLOOKUP(P20,$A$2:$I$61,9,FALSE),0)>0,VLOOKUP(P20,$A$2:$I$61,9,FALSE),0)),0) -> 0 | R20: =IF(Q20>0,IF(IFERROR(VLOOKUP(Q20,$A$2:$I$61,8,FALSE),0)>0,VLOOKUP(Q20,$A$2:$I$61,8,FALSE),IF(IFERROR(VLOOKUP(Q20,$A$2:$I$61,9,FALSE),0)>0,VLOOKUP(Q20,$A$2:$I$61,9,FALSE),0)),0) -> 0 | S20: =IF(R20>0,IF(IFERROR(VLOOKUP(R20,$A$2:$I$61,8,FALSE),0)>0,VLOOKUP(R20,$A$2:$I$61,8,FALSE),IF(IFERROR(VLOOKUP(R20,$A$2:$I$61,9,FALSE),0)>0,VLOOKUP(R20,$A$2:$I$61,9,FALSE),0)),0) -> 0 | T20: =IF(S20>0,IF(IFERROR(VLOOKUP(S20,$A$2:$I$61,8,FALSE),0)>0,VLOOKUP(S20,$A$2:$I$61,8,FALSE),IF(IFERROR(VLOOKUP(S20,$A$2:$I$61,9,FALSE),0)>0,VLOOKUP(S20,$A$2:$I$61,9,FALSE),0)),0) -> 0 | U20: =IF(T20>0,T20,IF(S20>0,S20,IF(R20>0,R20,IF(Q20>0,Q20,IF(P20>0,P20,IF(ISNUMBER(A20),A20,0)))))) -> 18 | V20: =IF(IFERROR(VLOOKUP(U20,$A$2:$K$61,11,FALSE),0)>0,VLOOKUP(U20,$A$2:$K$61,11,FALSE),1) -> 4
L21: =IF(ISBLANK(B21),"",COUNTIF(P21:T21,">0")+V21) | M21: =IF(ISNUMBER(E21),IF(ISNUMBER(F21),F21-E21,Summary!$B$2-E21),"") | O21: =IF(ISBLANK(B21),"",B21&" "&C21&IF(ISNUMBER(E21),IF(ISNUMBER(F21)," ("&E21&"-"&F21&")"," (b. "&E21&")"),"")) | P21: =IF(ISNUMBER(H21),H21,IF(ISNUMBER(I21),I21,0)) -> 0 | Q21: =IF(P21>0,IF(IFERROR(VLOOKUP(P21,$A$2:$I$61,8,FALSE),0)>0,VLOOKUP(P21,$A$2:$I$61,8,FALSE),IF(IFERROR(VLOOKUP(P21,$A$2:$I$61,9,FALSE),0)>0,VLOOKUP(P21,$A$2:$I$61,9,FALSE),0)),0) -> 0 | R21: =IF(Q21>0,IF(IFERROR(VLOOKUP(Q21,$A$2:$I$61,8,FALSE),0)>0,VLOOKUP(Q21,$A$2:$I$61,8,FALSE),IF(IFERROR(VLOOKUP(Q21,$A$2:$I$61,9,FALSE),0)>0,VLOOKUP(Q21,$A$2:$I$61,9,FALSE),0)),0) -> 0 | S21: =IF(R21>0,IF(IFERROR(VLOOKUP(R21,$A$2:$I$61,8,FALSE),0)>0,VLOOKUP(R21,$A$2:$I$61,8,FALSE),IF(IFERROR(VLOOKUP(R21,$A$2:$I$61,9,FALSE),0)>0,VLOOKUP(R21,$A$2:$I$61,9,FALSE),0)),0) -> 0 | T21: =IF(S21>0,IF(IFERROR(VLOOKUP(S21,$A$2:$I$61,8,FALSE),0)>0,VLOOKUP(S21,$A$2:$I$61,8,FALSE),IF(IFERROR(VLOOKUP(S21,$A$2:$I$61,9,FALSE),0)>0,VLOOKUP(S21,$A$2:$I$61,9,FALSE),0)),0) -> 0 | U21: =IF(T21>0,T21,IF(S21>0,S21,IF(R21>0,R21,IF(Q21>0,Q21,IF(P21>0,P21,IF(ISNUMBER(A21),A21,0)))))) -> 0 | V21: =IF(IFERROR(VLOOKUP(U21,$A$2:$K$61,11,FALSE),0)>0,VLOOKUP(U21,$A$2:$K$61,11,FALSE),1) -> 1
L22: =IF(ISBLANK(B22),"",COUNTIF(P22:T22,">0")+V22) | M22: =IF(ISNUMBER(E22),IF(ISNUMBER(F22),F22-E22,Summary!$B$2-E22),"") | O22: =IF(ISBLANK(B22),"",B22&" "&C22&IF(ISNUMBER(E22),IF(ISNUMBER(F22)," ("&E22&"-"&F22&")"," (b. "&E22&")"),"")) | P22: =IF(ISNUMBER(H22),H22,IF(ISNUMBER(I22),I22,0)) -> 0 | Q22: =IF(P22>0,IF(IFERROR(VLOOKUP(P22,$A$2:$I$61,8,FALSE),0)>0,VLOOKUP(P22,$A$2:$I$61,8,FALSE),IF(IFERROR(VLOOKUP(P22,$A$2:$I$61,9,FALSE),0)>0,VLOOKUP(P22,$A$2:$I$61,9,FALSE),0)),0) -> 0 | R22: =IF(Q22>0,IF(IFERROR(VLOOKUP(Q22,$A$2:$I$61,8,FALSE),0)>0,VLOOKUP(Q22,$A$2:$I$61,8,FALSE),IF(IFERROR(VLOOKUP(Q22,$A$2:$I$61,9,FALSE),0)>0,VLOOKUP(Q22,$A$2:$I$61,9,FALSE),0)),0) -> 0 | S22: =IF(R22>0,IF(IFERROR(VLOOKUP(R22,$A$2:$I$61,8,FALSE),0)>0,VLOOKUP(R22,$A$2:$I$61,8,FALSE),IF(IFERROR(VLOOKUP(R22,$A$2:$I$61,9,FALSE),0)>0,VLOOKUP(R22,$A$2:$I$61,9,FALSE),0)),0) -> 0 | T22: =IF(S22>0,IF(IFERROR(VLOOKUP(S22,$A$2:$I$61,8,FALSE),0)>0,VLOOKUP(S22,$A$2:$I$61,8,FALSE),IF(IFERROR(VLOOKUP(S22,$A$2:$I$61,9,FALSE),0)>0,VLOOKUP(S22,$A$2:$I$61,9,FALSE),0)),0) -> 0 | U22: =IF(T22>0,T22,IF(S22>0,S22,IF(R22>0,R22,IF(Q22>0,Q22,IF(P22>0,P22,IF(ISNUMBER(A22),A22,0)))))) -> 0 | V22: =IF(IFERROR(VLOOKUP(U22,$A$2:$K$61,11,FALSE),0)>0,VLOOKUP(U22,$A$2:$K$61,11,FALSE),1) -> 1
L23: =IF(ISBLANK(B23),"",COUNTIF(P23:T23,">0")+V23) | M23: =IF(ISNUMBER(E23),IF(ISNUMBER(F23),F23-E23,Summary!$B$2-E23),"") | O23: =IF(ISBLANK(B23),"",B23&" "&C23&IF(ISNUMBER(E23),IF(ISNUMBER(F23)," ("&E23&"-"&F23&")"," (b. "&E23&")"),"")) | P23: =IF(ISNUMBER(H23),H23,IF(ISNUMBER(I23),I23,0)) -> 0 | Q23: =IF(P23>0,IF(IFERROR(VLOOKUP(P23,$A$2:$I$61,8,FALSE),0)>0,VLOOKUP(P23,$A$2:$I$61,8,FALSE),IF(IFERROR(VLOOKUP(P23,$A$2:$I$61,9,FALSE),0)>0,VLOOKUP(P23,$A$2:$I$61,9,FALSE),0)),0) -> 0 | R23: =IF(Q23>0,IF(IFERROR(VLOOKUP(Q23,$A$2:$I$61,8,FALSE),0)>0,VLOOKUP(Q23,$A$2:$I$61,8,FALSE),IF(IFERROR(VLOOKUP(Q23,$A$2:$I$61,9,FALSE),0)>0,VLOOKUP(Q23,$A$2:$I$61,9,FALSE),0)),0) -> 0 | S23: =IF(R23>0,IF(IFERROR(VLOOKUP(R23,$A$2:$I$61,8,FALSE),0)>0,VLOOKUP(R23,$A$2:$I$61,8,FALSE),IF(IFERROR(VLOOKUP(R23,$A$2:$I$61,9,FALSE),0)>0,VLOOKUP(R23,$A$2:$I$61,9,FALSE),0)),0) -> 0 | T23: =IF(S23>0,IF(IFERROR(VLOOKUP(S23,$A$2:$I$61,8,FALSE),0)>0,VLOOKUP(S23,$A$2:$I$61,8,FALSE),IF(IFERROR(VLOOKUP(S23,$A$2:$I$61,9,FALSE),0)>0,VLOOKUP(S23,$A$2:$I$61,9,FALSE),0)),0) -> 0 | U23: =IF(T23>0,T23,IF(S23>0,S23,IF(R23>0,R23,IF(Q23>0,Q23,IF(P23>0,P23,IF(ISNUMBER(A23),A23,0)))))) -> 0 | V23: =IF(IFERROR(VLOOKUP(U23,$A$2:$K$61,11,FALSE),0)>0,VLOOKUP(U23,$A$2:$K$61,11,FALSE),1) -> 1
L24: =IF(ISBLANK(B24),"",COUNTIF(P24:T24,">0")+V24) | M24: =IF(ISNUMBER(E24),IF(ISNUMBER(F24),F24-E24,Summary!$B$2-E24),"") | O24: =IF(ISBLANK(B24),"",B24&" "&C24&IF(ISNUMBER(E24),IF(ISNUMBER(F24)," ("&E24&"-"&F24&")"," (b. "&E24&")"),"")) | P24: =IF(ISNUMBER(H24),H24,IF(ISNUMBER(I24),I24,0)) -> 0 | Q24: =IF(P24>0,IF(IFERROR(VLOOKUP(P24,$A$2:$I$61,8,FALSE),0)>0,VLOOKUP(P24,$A$2:$I$61,8,FALSE),IF(IFERROR(VLOOKUP(P24,$A$2:$I$61,9,FALSE),0)>0,VLOOKUP(P24,$A$2:$I$61,9,FALSE),0)),0) -> 0 | R24: =IF(Q24>0,IF(IFERROR(VLOOKUP(Q24,$A$2:$I$61,8,FALSE),0)>0,VLOOKUP(Q24,$A$2:$I$61,8,FALSE),IF(IFERROR(VLOOKUP(Q24,$A$2:$I$61,9,FALSE),0)>0,VLOOKUP(Q24,$A$2:$I$61,9,FALSE),0)),0) -> 0 | S24: =IF(R24>0,IF(IFERROR(VLOOKUP(R24,$A$2:$I$61,8,FALSE),0)>0,VLOOKUP(R24,$A$2:$I$61,8,FALSE),IF(IFERROR(VLOOKUP(R24,$A$2:$I$61,9,FALSE),0)>0,VLOOKUP(R24,$A$2:$I$61,9,FALSE),0)),0) -> 0 | T24: =IF(S24>0,IF(IFERROR(VLOOKUP(S24,$A$2:$I$61,8,FALSE),0)>0,VLOOKUP(S24,$A$2:$I$61,8,FALSE),IF(IFERROR(VLOOKUP(S24,$A$2:$I$61,9,FALSE),0)>0,VLOOKUP(S24,$A$2:$I$61,9,FALSE),0)),0) -> 0 | U24: =IF(T24>0,T24,IF(S24>0,S24,IF(R24>0,R24,IF(Q24>0,Q24,IF(P24>0,P24,IF(ISNUMBER(A24),A24,0)))))) -> 0 | V24: =IF(IFERROR(VLOOKUP(U24,$A$2:$K$61,11,FALSE),0)>0,VLOOKUP(U24,$A$2:$K$61,11,FALSE),1) -> 1
L25: =IF(ISBLANK(B25),"",COUNTIF(P25:T25,">0")+V25) | M25: =IF(ISNUMBER(E25),IF(ISNUMBER(F25),F25-E25,Summary!$B$2-E25),"") | O25: =IF(ISBLANK(B25),"",B25&" "&C25&IF(ISNUMBER(E25),IF(ISNUMBER(F25)," ("&E25&"-"&F25&")"," (b. "&E25&")"),"")) | P25: =IF(ISNUMBER(H25),H25,IF(ISNUMBER(I25),I25,0)) -> 0 | Q25: =IF(P25>0,IF(IFERROR(VLOOKUP(P25,$A$2:$I$61,8,FALSE),0)>0,VLOOKUP(P25,$A$2:$I$61,8,FALSE),IF(IFERROR(VLOOKUP(P25,$A$2:$I$61,9,FALSE),0)>0,VLOOKUP(P25,$A$2:$I$61,9,FALSE),0)),0) -> 0 | R25: =IF(Q25>0,IF(IFERROR(VLOOKUP(Q25,$A$2:$I$61,8,FALSE),0)>0,VLOOKUP(Q25,$A$2:$I$61,8,FALSE),IF(IFERROR(VLOOKUP(Q25,$A$2:$I$61,9,FALSE),0)>0,VLOOKUP(Q25,$A$2:$I$61,9,FALSE),0)),0) -> 0 | S25: =IF(R25>0,IF(IFERROR(VLOOKUP(R25,$A$2:$I$61,8,FALSE),0)>0,VLOOKUP(R25,$A$2:$I$61,8,FALSE),IF(IFERROR(VLOOKUP(R25,$A$2:$I$61,9,FALSE),0)>0,VLOOKUP(R25,$A$2:$I$61,9,FALSE),0)),0) -> 0 | T25: =IF(S25>0,IF(IFERROR(VLOOKUP(S25,$A$2:$I$61,8,FALSE),0)>0,VLOOKUP(S25,$A$2:$I$61,8,FALSE),IF(IFERROR(VLOOKUP(S25,$A$2:$I$61,9,FALSE),0)>0,VLOOKUP(S25,$A$2:$I$61,9,FALSE),0)),0) -> 0 | U25: =IF(T25>0,T25,IF(S25>0,S25,IF(R25>0,R25,IF(Q25>0,Q25,IF(P25>0,P25,IF(ISNUMBER(A25),A25,0)))))) -> 0 | V25: =IF(IFERROR(VLOOKUP(U25,$A$2:$K$61,11,FALSE),0)>0,VLOOKUP(U25,$A$2:$K$61,11,FALSE),1) -> 1
L26: =IF(ISBLANK(B26),"",COUNTIF(P26:T26,">0")+V26) | M26: =IF(ISNUMBER(E26),IF(ISNUMBER(F26),F26-E26,Summary!$B$2-E26),"") | O26: =IF(ISBLANK(B26),"",B26&" "&C26&IF(ISNUMBER(E26),IF(ISNUMBER(F26)," ("&E26&"-"&F26&")"," (b. "&E26&")"),"")) | P26: =IF(ISNUMBER(H26),H26,IF(ISNUMBER(I26),I26,0)) -> 0 | Q26: =IF(P26>0,IF(IFERROR(VLOOKUP(P26,$A$2:$I$61,8,FALSE),0)>0,VLOOKUP(P26,$A$2:$I$61,8,FALSE),IF(IFERROR(VLOOKUP(P26,$A$2:$I$61,9,FALSE),0)>0,VLOOKUP(P26,$A$2:$I$61,9,FALSE),0)),0) -> 0 | R26: =IF(Q26>0,IF(IFERROR(VLOOKUP(Q26,$A$2:$I$61,8,FALSE),0)>0,VLOOKUP(Q26,$A$2:$I$61,8,FALSE),IF(IFERROR(VLOOKUP(Q26,$A$2:$I$61,9,FALSE),0)>0,VLOOKUP(Q26,$A$2:$I$61,9,FALSE),0)),0) -> 0 | S26: =IF(R26>0,IF(IFERROR(VLOOKUP(R26,$A$2:$I$61,8,FALSE),0)>0,VLOOKUP(R26,$A$2:$I$61,8,FALSE),IF(IFERROR(VLOOKUP(R26,$A$2:$I$61,9,FALSE),0)>0,VLOOKUP(R26,$A$2:$I$61,9,FALSE),0)),0) -> 0 | T26: =IF(S26>0,IF(IFERROR(VLOOKUP(S26,$A$2:$I$61,8,FALSE),0)>0,VLOOKUP(S26,$A$2:$I$61,8,FALSE),IF(IFERROR(VLOOKUP(S26,$A$2:$I$61,9,FALSE),0)>0,VLOOKUP(S26,$A$2:$I$61,9,FALSE),0)),0) -> 0 | U26: =IF(T26>0,T26,IF(S26>0,S26,IF(R26>0,R26,IF(Q26>0,Q26,IF(P26>0,P26,IF(ISNUMBER(A26),A26,0)))))) -> 0 | V26: =IF(IFERROR(VLOOKUP(U26,$A$2:$K$61,11,FALSE),0)>0,VLOOKUP(U26,$A$2:$K$61,11,FALSE),1) -> 1
L27: =IF(ISBLANK(B27),"",COUNTIF(P27:T27,">0")+V27) | M27: =IF(ISNUMBER(E27),IF(ISNUMBER(F27),F27-E27,Summary!$B$2-E27),"") | O27: =IF(ISBLANK(B27),"",B27&" "&C27&IF(ISNUMBER(E27),IF(ISNUMBER(F27)," ("&E27&"-"&F27&")"," (b. "&E27&")"),"")) | P27: =IF(ISNUMBER(H27),H27,IF(ISNUMBER(I27),I27,0)) -> 0 | Q27: =IF(P27>0,IF(IFERROR(VLOOKUP(P27,$A$2:$I$61,8,FALSE),0)>0,VLOOKUP(P27,$A$2:$I$61,8,FALSE),IF(IFERROR(VLOOKUP(P27,$A$2:$I$61,9,FALSE),0)>0,VLOOKUP(P27,$A$2:$I$61,9,FALSE),0)),0) -> 0 | R27: =IF(Q27>0,IF(IFERROR(VLOOKUP(Q27,$A$2:$I$61,8,FALSE),0)>0,VLOOKUP(Q27,$A$2:$I$61,8,FALSE),IF(IFERROR(VLOOKUP(Q27,$A$2:$I$61,9,FALSE),0)>0,VLOOKUP(Q27,$A$2:$I$61,9,FALSE),0)),0) -> 0 | S27: =IF(R27>0,IF(IFERROR(VLOOKUP(R27,$A$2:$I$61,8,FALSE),0)>0,VLOOKUP(R27,$A$2:$I$61,8,FALSE),IF(IFERROR(VLOOKUP(R27,$A$2:$I$61,9,FALSE),0)>0,VLOOKUP(R27,$A$2:$I$61,9,FALSE),0)),0) -> 0 | T27: =IF(S27>0,IF(IFERROR(VLOOKUP(S27,$A$2:$I$61,8,FALSE),0)>0,VLOOKUP(S27,$A$2:$I$61,8,FALSE),IF(IFERROR(VLOOKUP(S27,$A$2:$I$61,9,FALSE),0)>0,VLOOKUP(S27,$A$2:$I$61,9,FALSE),0)),0) -> 0 | U27: =IF(T27>0,T27,IF(S27>0,S27,IF(R27>0,R27,IF(Q27>0,Q27,IF(P27>0,P27,IF(ISNUMBER(A27),A27,0)))))) -> 0 | V27: =IF(IFERROR(VLOOKUP(U27,$A$2:$K$61,11,FALSE),0)>0,VLOOKUP(U27,$A$2:$K$61,11,FALSE),1) -> 1
L28: =IF(ISBLANK(B28),"",COUNTIF(P28:T28,">0")+V28) | M28: =IF(ISNUMBER(E28),IF(ISNUMBER(F28),F28-E28,Summary!$B$2-E28),"") | O28: =IF(ISBLANK(B28),"",B28&" "&C28&IF(ISNUMBER(E28),IF(ISNUMBER(F28)," ("&E28&"-"&F28&")"," (b. "&E28&")"),"")) | P28: =IF(ISNUMBER(H28),H28,IF(ISNUMBER(I28),I28,0)) -> 0 | Q28: =IF(P28>0,IF(IFERROR(VLOOKUP(P28,$A$2:$I$61,8,FALSE),0)>0,VLOOKUP(P28,$A$2:$I$61,8,FALSE),IF(IFERROR(VLOOKUP(P28,$A$2:$I$61,9,FALSE),0)>0,VLOOKUP(P28,$A$2:$I$61,9,FALSE),0)),0) -> 0 | R28: =IF(Q28>0,IF(IFERROR(VLOOKUP(Q28,$A$2:$I$61,8,FALSE),0)>0,VLOOKUP(Q28,$A$2:$I$61,8,FALSE),IF(IFERROR(VLOOKUP(Q28,$A$2:$I$61,9,FALSE),0)>0,VLOOKUP(Q28,$A$2:$I$61,9,FALSE),0)),0) -> 0 | S28: =IF(R28>0,IF(IFERROR(VLOOKUP(R28,$A$2:$I$61,8,FALSE),0)>0,VLOOKUP(R28,$A$2:$I$61,8,FALSE),IF(IFERROR(VLOOKUP(R28,$A$2:$I$61,9,FALSE),0)>0,VLOOKUP(R28,$A$2:$I$61,9,FALSE),0)),0) -> 0 | T28: =IF(S28>0,IF(IFERROR(VLOOKUP(S28,$A$2:$I$61,8,FALSE),0)>0,VLOOKUP(S28,$A$2:$I$61,8,FALSE),IF(IFERROR(VLOOKUP(S28,$A$2:$I$61,9,FALSE),0)>0,VLOOKUP(S28,$A$2:$I$61,9,FALSE),0)),0) -> 0 | U28: =IF(T28>0,T28,IF(S28>0,S28,IF(R28>0,R28,IF(Q28>0,Q28,IF(P28>0,P28,IF(ISNUMBER(A28),A28,0)))))) -> 0 | V28: =IF(IFERROR(VLOOKUP(U28,$A$2:$K$61,11,FALSE),0)>0,VLOOKUP(U28,$A$2:$K$61,11,FALSE),1) -> 1
L29: =IF(ISBLANK(B29),"",COUNTIF(P29:T29,">0")+V29) | M29: =IF(ISNUMBER(E29),IF(ISNUMBER(F29),F29-E29,Summary!$B$2-E29),"") | O29: =IF(ISBLANK(B29),"",B29&" "&C29&IF(ISNUMBER(E29),IF(ISNUMBER(F29)," ("&E29&"-"&F29&")"," (b. "&E29&")"),"")) | P29: =IF(ISNUMBER(H29),H29,IF(ISNUMBER(I29),I29,0)) -> 0 | Q29: =IF(P29>0,IF(IFERROR(VLOOKUP(P29,$A$2:$I$61,8,FALSE),0)>0,VLOOKUP(P29,$A$2:$I$61,8,FALSE),IF(IFERROR(VLOOKUP(P29,$A$2:$I$61,9,FALSE),0)>0,VLOOKUP(P29,$A$2:$I$61,9,FALSE),0)),0) -> 0 | R29: =IF(Q29>0,IF(IFERROR(VLOOKUP(Q29,$A$2:$I$61,8,FALSE),0)>0,VLOOKUP(Q29,$A$2:$I$61,8,FALSE),IF(IFERROR(VLOOKUP(Q29,$A$2:$I$61,9,FALSE),0)>0,VLOOKUP(Q29,$A$2:$I$61,9,FALSE),0)),0) -> 0 | S29: =IF(R29>0,IF(IFERROR(VLOOKUP(R29,$A$2:$I$61,8,FALSE),0)>0,VLOOKUP(R29,$A$2:$I$61,8,FALSE),IF(IFERROR(VLOOKUP(R29,$A$2:$I$61,9,FALSE),0)>0,VLOOKUP(R29,$A$2:$I$61,9,FALSE),0)),0) -> 0 | T29: =IF(S29>0,IF(IFERROR(VLOOKUP(S29,$A$2:$I$61,8,FALSE),0)>0,VLOOKUP(S29,$A$2:$I$61,8,FALSE),IF(IFERROR(VLOOKUP(S29,$A$2:$I$61,9,FALSE),0)>0,VLOOKUP(S29,$A$2:$I$61,9,FALSE),0)),0) -> 0 | U29: =IF(T29>0,T29,IF(S29>0,S29,IF(R29>0,R29,IF(Q29>0,Q29,IF(P29>0,P29,IF(ISNUMBER(A29),A29,0)))))) -> 0 | V29: =IF(IFERROR(VLOOKUP(U29,$A$2:$K$61,11,FALSE),0)>0,VLOOKUP(U29,$A$2:$K$61,11,FALSE),1) -> 1
L30: =IF(ISBLANK(B30),"",COUNTIF(P30:T30,">0")+V30) | M30: =IF(ISNUMBER(E30),IF(ISNUMBER(F30),F30-E30,Summary!$B$2-E30),"") | O30: =IF(ISBLANK(B30),"",B30&" "&C30&IF(ISNUMBER(E30),IF(ISNUMBER(F30)," ("&E30&"-"&F30&")"," (b. "&E30&")"),"")) | P30: =IF(ISNUMBER(H30),H30,IF(ISNUMBER(I30),I30,0)) -> 0 | Q30: =IF(P30>0,IF(IFERROR(VLOOKUP(P30,$A$2:$I$61,8,FALSE),0)>0,VLOOKUP(P30,$A$2:$I$61,8,FALSE),IF(IFERROR(VLOOKUP(P30,$A$2:$I$61,9,FALSE),0)>0,VLOOKUP(P30,$A$2:$I$61,9,FALSE),0)),0) -> 0 | R30: =IF(Q30>0,IF(IFERROR(VLOOKUP(Q30,$A$2:$I$61,8,FALSE),0)>0,VLOOKUP(Q30,$A$2:$I$61,8,FALSE),IF(IFERROR(VLOOKUP(Q30,$A$2:$I$61,9,FALSE),0)>0,VLOOKUP(Q30,$A$2:$I$61,9,FALSE),0)),0) -> 0 | S30: =IF(R30>0,IF(IFERROR(VLOOKUP(R30,$A$2:$I$61,8,FALSE),0)>0,VLOOKUP(R30,$A$2:$I$61,8,FALSE),IF(IFERROR(VLOOKUP(R30,$A$2:$I$61,9,FALSE),0)>0,VLOOKUP(R30,$A$2:$I$61,9,FALSE),0)),0) -> 0 | T30: =IF(S30>0,IF(IFERROR(VLOOKUP(S30,$A$2:$I$61,8,FALSE),0)>0,VLOOKUP(S30,$A$2:$I$61,8,FALSE),IF(IFERROR(VLOOKUP(S30,$A$2:$I$61,9,FALSE),0)>0,VLOOKUP(S30,$A$2:$I$61,9,FALSE),0)),0) -> 0 | U30: =IF(T30>0,T30,IF(S30>0,S30,IF(R30>0,R30,IF(Q30>0,Q30,IF(P30>0,P30,IF(ISNUMBER(A30),A30,0)))))) -> 0 | V30: =IF(IFERROR(VLOOKUP(U30,$A$2:$K$61,11,FALSE),0)>0,VLOOKUP(U30,$A$2:$K$61,11,FALSE),1) -> 1
L31: =IF(ISBLANK(B31),"",COUNTIF(P31:T31,">0")+V31) | M31: =IF(ISNUMBER(E31),IF(ISNUMBER(F31),F31-E31,Summary!$B$2-E31),"") | O31: =IF(ISBLANK(B31),"",B31&" "&C31&IF(ISNUMBER(E31),IF(ISNUMBER(F31)," ("&E31&"-"&F31&")"," (b. "&E31&")"),"")) | P31: =IF(ISNUMBER(H31),H31,IF(ISNUMBER(I31),I31,0)) -> 0 | Q31: =IF(P31>0,IF(IFERROR(VLOOKUP(P31,$A$2:$I$61,8,FALSE),0)>0,VLOOKUP(P31,$A$2:$I$61,8,FALSE),IF(IFERROR(VLOOKUP(P31,$A$2:$I$61,9,FALSE),0)>0,VLOOKUP(P31,$A$2:$I$61,9,FALSE),0)),0) -> 0 | R31: =IF(Q31>0,IF(IFERROR(VLOOKUP(Q31,$A$2:$I$61,8,FALSE),0)>0,VLOOKUP(Q31,$A$2:$I$61,8,FALSE),IF(IFERROR(VLOOKUP(Q31,$A$2:$I$61,9,FALSE),0)>0,VLOOKUP(Q31,$A$2:$I$61,9,FALSE),0)),0) -> 0 | S31: =IF(R31>0,IF(IFERROR(VLOOKUP(R31,$A$2:$I$61,8,FALSE),0)>0,VLOOKUP(R31,$A$2:$I$61,8,FALSE),IF(IFERROR(VLOOKUP(R31,$A$2:$I$61,9,FALSE),0)>0,VLOOKUP(R31,$A$2:$I$61,9,FALSE),0)),0) -> 0 | T31: =IF(S31>0,IF(IFERROR(VLOOKUP(S31,$A$2:$I$61,8,FALSE),0)>0,VLOOKUP(S31,$A$2:$I$61,8,FALSE),IF(IFERROR(VLOOKUP(S31,$A$2:$I$61,9,FALSE),0)>0,VLOOKUP(S31,$A$2:$I$61,9,FALSE),0)),0) -> 0 | U31: =IF(T31>0,T31,IF(S31>0,S31,IF(R31>0,R31,IF(Q31>0,Q31,IF(P31>0,P31,IF(ISNUMBER(A31),A31,0)))))) -> 0 | V31: =IF(IFERROR(VLOOKUP(U31,$A$2:$K$61,11,FALSE),0)>0,VLOOKUP(U31,$A$2:$K$61,11,FALSE),1) -> 1
L32: =IF(ISBLANK(B32),"",COUNTIF(P32:T32,">0")+V32) | M32: =IF(ISNUMBER(E32),IF(ISNUMBER(F32),F32-E32,Summary!$B$2-E32),"") | O32: =IF(ISBLANK(B32),"",B32&" "&C32&IF(ISNUMBER(E32),IF(ISNUMBER(F32)," ("&E32&"-"&F32&")"," (b. "&E32&")"),"")) | P32: =IF(ISNUMBER(H32),H32,IF(ISNUMBER(I32),I32,0)) -> 0 | Q32: =IF(P32>0,IF(IFERROR(VLOOKUP(P32,$A$2:$I$61,8,FALSE),0)>0,VLOOKUP(P32,$A$2:$I$61,8,FALSE),IF(IFERROR(VLOOKUP(P32,$A$2:$I$61,9,FALSE),0)>0,VLOOKUP(P32,$A$2:$I$61,9,FALSE),0)),0) -> 0 | R32: =IF(Q32>0,IF(IFERROR(VLOOKUP(Q32,$A$2:$I$61,8,FALSE),0)>0,VLOOKUP(Q32,$A$2:$I$61,8,FALSE),IF(IFERROR(VLOOKUP(Q32,$A$2:$I$61,9,FALSE),0)>0,VLOOKUP(Q32,$A$2:$I$61,9,FALSE),0)),0) -> 0 | S32: =IF(R32>0,IF(IFERROR(VLOOKUP(R32,$A$2:$I$61,8,FALSE),0)>0,VLOOKUP(R32,$A$2:$I$61,8,FALSE),IF(IFERROR(VLOOKUP(R32,$A$2:$I$61,9,FALSE),0)>0,VLOOKUP(R32,$A$2:$I$61,9,FALSE),0)),0) -> 0 | T32: =IF(S32>0,IF(IFERROR(VLOOKUP(S32,$A$2:$I$61,8,FALSE),0)>0,VLOOKUP(S32,$A$2:$I$61,8,FALSE),IF(IFERROR(VLOOKUP(S32,$A$2:$I$61,9,FALSE),0)>0,VLOOKUP(S32,$A$2:$I$61,9,FALSE),0)),0) -> 0 | U32: =IF(T32>0,T32,IF(S32>0,S32,IF(R32>0,R32,IF(Q32>0,Q32,IF(P32>0,P32,IF(ISNUMBER(A32),A32,0)))))) -> 0 | V32: =IF(IFERROR(VLOOKUP(U32,$A$2:$K$61,11,FALSE),0)>0,VLOOKUP(U32,$A$2:$K$61,11,FALSE),1) -> 1

Sheet Summary
A1: Item | B1: Value
A2: This year | B2: =2026 -> 2026
A3: Tree starts with person ID | B3: 15
A4: Tree starts with | B4: =IFERROR(VLOOKUP(B3,People!$A$2:$O$61,15,FALSE),"ID not found") -> Emily Carter (b. 1994)
A5: People in the tree | B5: =COUNTA(People!B2:B61) -> 19
A6: Living | B6: =COUNTA(People!B2:B61)-COUNT(People!F2:F61) -> 10
A7: Generations | B7: =MAX(People!L2:L61) -> 5
A8: Earliest birth year | B8: =MIN(People!E2:E61) -> 1905
A9: People by generation
A10: Generation 1 | B10: =COUNTIF(People!$L$2:$L$61,1) -> 6
A11: Generation 2 | B11: =COUNTIF(People!$L$2:$L$61,2) -> 4
A12: Generation 3 | B12: =COUNTIF(People!$L$2:$L$61,3) -> 4
A13: Generation 4 | B13: =COUNTIF(People!$L$2:$L$61,4) -> 4
A14: Generation 5 | B14: =COUNTIF(People!$L$2:$L$61,5) -> 1
A15: Generation 6 | B15: =COUNTIF(People!$L$2:$L$61,6) -> 0
