Workbook

Sheet Drill Log
A1: Date | B1: Time | C1: Building | D1: Type | E1: Shift | F1: People out | G1: Minutes | H1: Seconds | I1: Evac time | J1: Target met | K1: All accounted for | L1: Issues found | M1: Action needed | N1: Fixed | O1: Led by | P1: Signed off by | Q1: Follow-up | R1: Result | S1: Total seconds | T1: Latest
A2: 45973 | B2: 0.42708333 | C2: Head office | D2: Announced | E2: Day | F2: 64 | G2: 2 | H2: 50 | I2: =IF(ISNUMBER(G2),G2&":"&TEXT(H2+0,"00"),"") -> 2:50 | J2: =IF(NOT(ISNUMBER(S2)),"",IF(S2<=Settings!$B$3,"Yes","No")) -> Yes | K2: Yes | N2: FALSE | O2: Linda Park | P2: R. Owens | Q2: =IF(ISBLANK(A2),"",IF(AND(NOT(ISBLANK(M2)),N2=FALSE),"Open",IF(AND(K2="No",ISBLANK(M2)),"Open",IF(ISBLANK(P2),"Needs sign-off","Closed")))) -> Closed | R2: =IF(ISBLANK(A2),"",IF(OR(J2="No",K2="No",NOT(ISBLANK(L2))),"Review","OK")) -> OK | S2: =IF(ISNUMBER(G2),G2*60+H2,"") -> 170 | T2: =IF(ISBLANK(A2),0,IF(COUNTIFS($C$2:$C$500,C2,$A$2:$A$500,">"&A2)=0,1,0)) -> 0
A3: 45980 | B3: 0.60416667 | C3: Warehouse | D3: Announced | E3: Day | F3: 38 | G3: 2 | H3: 40 | I3: =IF(ISNUMBER(G3),G3&":"&TEXT(H3+0,"00"),"") -> 2:40 | J3: =IF(NOT(ISNUMBER(S3)),"",IF(S3<=Settings!$B$3,"Yes","No")) -> Yes | K3: Yes | N3: FALSE | O3: Mike Torres | P3: R. Owens | Q3: =IF(ISBLANK(A3),"",IF(AND(NOT(ISBLANK(M3)),N3=FALSE),"Open",IF(AND(K3="No",ISBLANK(M3)),"Open",IF(ISBLANK(P3),"Needs sign-off","Closed")))) -> Closed | R3: =IF(ISBLANK(A3),"",IF(OR(J3="No",K3="No",NOT(ISBLANK(L3))),"Review","OK")) -> OK | S3: =IF(ISNUMBER(G3),G3*60+H3,"") -> 160 | T3: =IF(ISBLANK(A3),0,IF(COUNTIFS($C$2:$C$500,C3,$A$2:$A$500,">"&A3)=0,1,0)) -> 0
A4: 45994 | B4: 0.40625 | C4: Store 2 | D4: Announced | E4: Day | F4: 22 | G4: 2 | H4: 10 | I4: =IF(ISNUMBER(G4),G4&":"&TEXT(H4+0,"00"),"") -> 2:10 | J4: =IF(NOT(ISNUMBER(S4)),"",IF(S4<=Settings!$B$3,"Yes","No")) -> Yes | K4: Yes | N4: FALSE | O4: Jen Adler | P4: R. Owens | Q4: =IF(ISBLANK(A4),"",IF(AND(NOT(ISBLANK(M4)),N4=FALSE),"Open",IF(AND(K4="No",ISBLANK(M4)),"Open",IF(ISBLANK(P4),"Needs sign-off","Closed")))) -> Closed | R4: =IF(ISBLANK(A4),"",IF(OR(J4="No",K4="No",NOT(ISBLANK(L4))),"Review","OK")) -> OK | S4: =IF(ISNUMBER(G4),G4*60+H4,"") -> 130 | T4: =IF(ISBLANK(A4),0,IF(COUNTIFS($C$2:$C$500,C4,$A$2:$A$500,">"&A4)=0,1,0)) -> 0
A5: 46063 | B5: 0.45833333 | C5: Head office | D5: Unannounced | E5: Day | F5: 71 | G5: 4 | H5: 20 | I5: =IF(ISNUMBER(G5),G5&":"&TEXT(H5+0,"00"),"") -> 4:20 | J5: =IF(NOT(ISNUMBER(S5)),"",IF(S5<=Settings!$B$3,"Yes","No")) -> No | K5: No | L5: Two visitors not on the sign-in sheet | M5: Make visitor sign-in mandatory at reception | N5: TRUE | O5: Linda Park | P5: R. Owens | Q5: =IF(ISBLANK(A5),"",IF(AND(NOT(ISBLANK(M5)),N5=FALSE),"Open",IF(AND(K5="No",ISBLANK(M5)),"Open",IF(ISBLANK(P5),"Needs sign-off","Closed")))) -> Closed | R5: =IF(ISBLANK(A5),"",IF(OR(J5="No",K5="No",NOT(ISBLANK(L5))),"Review","OK")) -> Review | S5: =IF(ISNUMBER(G5),G5*60+H5,"") -> 260 | T5: =IF(ISBLANK(A5),0,IF(COUNTIFS($C$2:$C$500,C5,$A$2:$A$500,">"&A5)=0,1,0)) -> 0
A6: 46077 | B6: 0.9375 | C6: Warehouse | D6: Unannounced | E6: Night | F6: 17 | G6: 2 | H6: 55 | I6: =IF(ISNUMBER(G6),G6&":"&TEXT(H6+0,"00"),"") -> 2:55 | J6: =IF(NOT(ISNUMBER(S6)),"",IF(S6<=Settings!$B$3,"Yes","No")) -> Yes | K6: Yes | L6: Alarm hard to hear in the freezer area | M6: Add a strobe light in the freezer | N6: TRUE | O6: Mike Torres | P6: R. Owens | Q6: =IF(ISBLANK(A6),"",IF(AND(NOT(ISBLANK(M6)),N6=FALSE),"Open",IF(AND(K6="No",ISBLANK(M6)),"Open",IF(ISBLANK(P6),"Needs sign-off","Closed")))) -> Closed | R6: =IF(ISBLANK(A6),"",IF(OR(J6="No",K6="No",NOT(ISBLANK(L6))),"Review","OK")) -> Review | S6: =IF(ISNUMBER(G6),G6*60+H6,"") -> 175 | T6: =IF(ISBLANK(A6),0,IF(COUNTIFS($C$2:$C$500,C6,$A$2:$A$500,">"&A6)=0,1,0)) -> 0
A7: 46086 | B7: 0.63888889 | C7: Store 2 | D7: Unannounced | E7: Day | F7: 26 | G7: 2 | H7: 35 | I7: =IF(ISNUMBER(G7),G7&":"&TEXT(H7+0,"00"),"") -> 2:35 | J7: =IF(NOT(ISNUMBER(S7)),"",IF(S7<=Settings!$B$3,"Yes","No")) -> Yes | K7: Yes | L7: Back exit blocked by delivery pallets | M7: Keep a clear zone painted on the floor | N7: TRUE | O7: Jen Adler | P7: R. Owens | Q7: =IF(ISBLANK(A7),"",IF(AND(NOT(ISBLANK(M7)),N7=FALSE),"Open",IF(AND(K7="No",ISBLANK(M7)),"Open",IF(ISBLANK(P7),"Needs sign-off","Closed")))) -> Closed | R7: =IF(ISBLANK(A7),"",IF(OR(J7="No",K7="No",NOT(ISBLANK(L7))),"Review","OK")) -> Review | S7: =IF(ISNUMBER(G7),G7*60+H7,"") -> 155 | T7: =IF(ISBLANK(A7),0,IF(COUNTIFS($C$2:$C$500,C7,$A$2:$A$500,">"&A7)=0,1,0)) -> 0
A8: 46154 | B8: 0.41666667 | C8: Head office | D8: Announced | E8: Day | F8: 68 | G8: 2 | H8: 58 | I8: =IF(ISNUMBER(G8),G8&":"&TEXT(H8+0,"00"),"") -> 2:58 | J8: =IF(NOT(ISNUMBER(S8)),"",IF(S8<=Settings!$B$3,"Yes","No")) -> Yes | K8: Yes | N8: FALSE | O8: Linda Park | P8: R. Owens | Q8: =IF(ISBLANK(A8),"",IF(AND(NOT(ISBLANK(M8)),N8=FALSE),"Open",IF(AND(K8="No",ISBLANK(M8)),"Open",IF(ISBLANK(P8),"Needs sign-off","Closed")))) -> Closed | R8: =IF(ISBLANK(A8),"",IF(OR(J8="No",K8="No",NOT(ISBLANK(L8))),"Review","OK")) -> OK | S8: =IF(ISNUMBER(G8),G8*60+H8,"") -> 178 | T8: =IF(ISBLANK(A8),0,IF(COUNTIFS($C$2:$C$500,C8,$A$2:$A$500,">"&A8)=0,1,0)) -> 0
A9: 46169 | B9: 0.58333333 | C9: Warehouse | D9: Announced | E9: Day | F9: 41 | G9: 2 | H9: 45 | I9: =IF(ISNUMBER(G9),G9&":"&TEXT(H9+0,"00"),"") -> 2:45 | J9: =IF(NOT(ISNUMBER(S9)),"",IF(S9<=Settings!$B$3,"Yes","No")) -> Yes | K9: Yes | N9: FALSE | O9: Mike Torres | P9: R. Owens | Q9: =IF(ISBLANK(A9),"",IF(AND(NOT(ISBLANK(M9)),N9=FALSE),"Open",IF(AND(K9="No",ISBLANK(M9)),"Open",IF(ISBLANK(P9),"Needs sign-off","Closed")))) -> Closed | R9: =IF(ISBLANK(A9),"",IF(OR(J9="No",K9="No",NOT(ISBLANK(L9))),"Review","OK")) -> OK | S9: =IF(ISNUMBER(G9),G9*60+H9,"") -> 165 | T9: =IF(ISBLANK(A9),0,IF(COUNTIFS($C$2:$C$500,C9,$A$2:$A$500,">"&A9)=0,1,0)) -> 0
A10: 46177 | B10: 0.52083333 | C10: Store 2 | D10: Announced | E10: Day | F10: 31 | G10: 2 | H10: 5 | I10: =IF(ISNUMBER(G10),G10&":"&TEXT(H10+0,"00"),"") -> 2:05 | J10: =IF(NOT(ISNUMBER(S10)),"",IF(S10<=Settings!$B$3,"Yes","No")) -> Yes | K10: Yes | N10: FALSE | O10: Jen Adler | P10: R. Owens | Q10: =IF(ISBLANK(A10),"",IF(AND(NOT(ISBLANK(M10)),N10=FALSE),"Open",IF(AND(K10="No",ISBLANK(M10)),"Open",IF(ISBLANK(P10),"Needs sign-off","Closed")))) -> Closed | R10: =IF(ISBLANK(A10),"",IF(OR(J10="No",K10="No",NOT(ISBLANK(L10))),"Review","OK")) -> OK | S10: =IF(ISNUMBER(G10),G10*60+H10,"") -> 125 | T10: =IF(ISBLANK(A10),0,IF(COUNTIFS($C$2:$C$500,C10,$A$2:$A$500,">"&A10)=0,1,0)) -> 0
A11: 46245 | B11: 0.57291667 | C11: Head office | D11: Unannounced | E11: Day | F11: 66 | G11: 3 | H11: 40 | I11: =IF(ISNUMBER(G11),G11&":"&TEXT(H11+0,"00"),"") -> 3:40 | J11: =IF(NOT(ISNUMBER(S11)),"",IF(S11<=Settings!$B$3,"Yes","No")) -> No | K11: Yes | L11: Floor 3 warden was on vacation, no backup named | M11: Name a backup warden for every floor | N11: FALSE | O11: Linda Park | P11: R. Owens | Q11: =IF(ISBLANK(A11),"",IF(AND(NOT(ISBLANK(M11)),N11=FALSE),"Open",IF(AND(K11="No",ISBLANK(M11)),"Open",IF(ISBLANK(P11),"Needs sign-off","Closed")))) -> Open | R11: =IF(ISBLANK(A11),"",IF(OR(J11="No",K11="No",NOT(ISBLANK(L11))),"Review","OK")) -> Review | S11: =IF(ISNUMBER(G11),G11*60+H11,"") -> 220 | T11: =IF(ISBLANK(A11),0,IF(COUNTIFS($C$2:$C$500,C11,$A$2:$A$500,">"&A11)=0,1,0)) -> 0
A12: 46246 | B12: 0.95833333 | C12: Warehouse | D12: Unannounced | E12: Night | F12: 15 | G12: 3 | H12: 25 | I12: =IF(ISNUMBER(G12),G12&":"&TEXT(H12+0,"00"),"") -> 3:25 | J12: =IF(NOT(ISNUMBER(S12)),"",IF(S12<=Settings!$B$3,"Yes","No")) -> No | K12: Yes | L12: New staff unsure where the assembly point is | M12: Add the assembly point to new hire training | N12: TRUE | O12: Mike Torres | P12: R. Owens | Q12: =IF(ISBLANK(A12),"",IF(AND(NOT(ISBLANK(M12)),N12=FALSE),"Open",IF(AND(K12="No",ISBLANK(M12)),"Open",IF(ISBLANK(P12),"Needs sign-off","Closed")))) -> Closed | R12: =IF(ISBLANK(A12),"",IF(OR(J12="No",K12="No",NOT(ISBLANK(L12))),"Review","OK")) -> Review | S12: =IF(ISNUMBER(G12),G12*60+H12,"") -> 205 | T12: =IF(ISBLANK(A12),0,IF(COUNTIFS($C$2:$C$500,C12,$A$2:$A$500,">"&A12)=0,1,0)) -> 1
A13: 46268 | B13: 0.67361111 | C13: Store 2 | D13: Unannounced | E13: Day | F13: 28 | G13: 2 | H13: 20 | I13: =IF(ISNUMBER(G13),G13&":"&TEXT(H13+0,"00"),"") -> 2:20 | J13: =IF(NOT(ISNUMBER(S13)),"",IF(S13<=Settings!$B$3,"Yes","No")) -> Yes | K13: Yes | N13: FALSE | O13: Jen Adler | P13: R. Owens | Q13: =IF(ISBLANK(A13),"",IF(AND(NOT(ISBLANK(M13)),N13=FALSE),"Open",IF(AND(K13="No",ISBLANK(M13)),"Open",IF(ISBLANK(P13),"Needs sign-off","Closed")))) -> Closed | R13: =IF(ISBLANK(A13),"",IF(OR(J13="No",K13="No",NOT(ISBLANK(L13))),"Review","OK")) -> OK | S13: =IF(ISNUMBER(G13),G13*60+H13,"") -> 140 | T13: =IF(ISBLANK(A13),0,IF(COUNTIFS($C$2:$C$500,C13,$A$2:$A$500,">"&A13)=0,1,0)) -> 0
A14: 46329 | B14: 0.4375 | C14: Head office | D14: Announced | E14: Day | F14: 73 | G14: 2 | H14: 55 | I14: =IF(ISNUMBER(G14),G14&":"&TEXT(H14+0,"00"),"") -> 2:55 | J14: =IF(NOT(ISNUMBER(S14)),"",IF(S14<=Settings!$B$3,"Yes","No")) -> Yes | K14: Yes | L14: Stairwell B door slow to close | M14: Facilities to adjust the door closer | N14: FALSE | O14: Linda Park | Q14: =IF(ISBLANK(A14),"",IF(AND(NOT(ISBLANK(M14)),N14=FALSE),"Open",IF(AND(K14="No",ISBLANK(M14)),"Open",IF(ISBLANK(P14),"Needs sign-off","Closed")))) -> Open | R14: =IF(ISBLANK(A14),"",IF(OR(J14="No",K14="No",NOT(ISBLANK(L14))),"Review","OK")) -> Review | S14: =IF(ISNUMBER(G14),G14*60+H14,"") -> 175 | T14: =IF(ISBLANK(A14),0,IF(COUNTIFS($C$2:$C$500,C14,$A$2:$A$500,">"&A14)=0,1,0)) -> 1
A15: 46338 | B15: 0.46875 | C15: Store 2 | D15: Announced | E15: Day | F15: 30 | G15: 1 | H15: 58 | I15: =IF(ISNUMBER(G15),G15&":"&TEXT(H15+0,"00"),"") -> 1:58 | J15: =IF(NOT(ISNUMBER(S15)),"",IF(S15<=Settings!$B$3,"Yes","No")) -> Yes | K15: Yes | N15: FALSE | O15: Jen Adler | Q15: =IF(ISBLANK(A15),"",IF(AND(NOT(ISBLANK(M15)),N15=FALSE),"Open",IF(AND(K15="No",ISBLANK(M15)),"Open",IF(ISBLANK(P15),"Needs sign-off","Closed")))) -> Needs sign-off | R15: =IF(ISBLANK(A15),"",IF(OR(J15="No",K15="No",NOT(ISBLANK(L15))),"Review","OK")) -> OK | S15: =IF(ISNUMBER(G15),G15*60+H15,"") -> 118 | T15: =IF(ISBLANK(A15),0,IF(COUNTIFS($C$2:$C$500,C15,$A$2:$A$500,">"&A15)=0,1,0)) -> 1

Sheet By Building
A1: Building | B1: Drills | C1: Avg evac (min) | D1: Over target | E1: Open follow-ups | F1: Last drill | G1: Next due | H1: Drill status
A2: Head office | B2: =COUNTIF('Drill Log'!$C$2:$C$500,A2) -> 5 | C2: =IF(B2=0,"",ROUND(AVERAGEIFS('Drill Log'!$S$2:$S$500,'Drill Log'!$C$2:$C$500,A2)/60,1)) -> 3.3 | D2: =COUNTIFS('Drill Log'!$C$2:$C$500,A2,'Drill Log'!$J$2:$J$500,"No") -> 2 | E2: =COUNTIFS('Drill Log'!$C$2:$C$500,A2,'Drill Log'!$Q$2:$Q$500,"Open") -> 2 | F2: =IF(B2=0,"",SUMIFS('Drill Log'!$A$2:$A$500,'Drill Log'!$C$2:$C$500,A2,'Drill Log'!$T$2:$T$500,1)) -> 46329 | G2: =IF(ISNUMBER(F2),F2+Settings!$B$4,"") -> 46419 | H2: =IF(NOT(ISNUMBER(G2)),"No drills yet",IF(G2<Settings!$B$2,"Overdue",IF(G2-Settings!$B$2<=30,"Due soon","OK"))) -> OK
A3: Warehouse | B3: =COUNTIF('Drill Log'!$C$2:$C$500,A3) -> 4 | C3: =IF(B3=0,"",ROUND(AVERAGEIFS('Drill Log'!$S$2:$S$500,'Drill Log'!$C$2:$C$500,A3)/60,1)) -> 2.9 | D3: =COUNTIFS('Drill Log'!$C$2:$C$500,A3,'Drill Log'!$J$2:$J$500,"No") -> 1 | E3: =COUNTIFS('Drill Log'!$C$2:$C$500,A3,'Drill Log'!$Q$2:$Q$500,"Open") -> 0 | F3: =IF(B3=0,"",SUMIFS('Drill Log'!$A$2:$A$500,'Drill Log'!$C$2:$C$500,A3,'Drill Log'!$T$2:$T$500,1)) -> 46246 | G3: =IF(ISNUMBER(F3),F3+Settings!$B$4,"") -> 46336 | H3: =IF(NOT(ISNUMBER(G3)),"No drills yet",IF(G3<Settings!$B$2,"Overdue",IF(G3-Settings!$B$2<=30,"Due soon","OK"))) -> Overdue
A4: Store 2 | B4: =COUNTIF('Drill Log'!$C$2:$C$500,A4) -> 5 | C4: =IF(B4=0,"",ROUND(AVERAGEIFS('Drill Log'!$S$2:$S$500,'Drill Log'!$C$2:$C$500,A4)/60,1)) -> 2.2 | D4: =COUNTIFS('Drill Log'!$C$2:$C$500,A4,'Drill Log'!$J$2:$J$500,"No") -> 0 | E4: =COUNTIFS('Drill Log'!$C$2:$C$500,A4,'Drill Log'!$Q$2:$Q$500,"Open") -> 0 | F4: =IF(B4=0,"",SUMIFS('Drill Log'!$A$2:$A$500,'Drill Log'!$C$2:$C$500,A4,'Drill Log'!$T$2:$T$500,1)) -> 46338 | G4: =IF(ISNUMBER(F4),F4+Settings!$B$4,"") -> 46428 | H4: =IF(NOT(ISNUMBER(G4)),"No drills yet",IF(G4<Settings!$B$2,"Overdue",IF(G4-Settings!$B$2<=30,"Due soon","OK"))) -> OK

Sheet Settings
A1: Setting | B1: Value | C1: Notes
A2: Today's date | B2: =DATE(2026,11,16) -> 46342 | C2: Type today's date, or =TODAY() to keep it current
A3: Target evacuation time (seconds) | B3: 180 | C3: 180 = 3 minutes. Set the goal your fire safety plan or fire marshal uses
A4: Days between drills | B4: 90 | C4: 90 is about every quarter. Set the schedule your rules or policy require
A5: Drills logged | B5: =COUNTA('Drill Log'!$A$2:$A$500) -> 14
A6: Average evacuation (minutes) | B6: =IF(COUNTIF('Drill Log'!$S$2:$S$500,">=0")=0,"",ROUND(AVERAGE('Drill Log'!$S$2:$S$500)/60,1)) -> 2.8
A7: Drills over target | B7: =COUNTIF('Drill Log'!$J$2:$J$500,"No") -> 3
A8: Open follow-ups | B8: =COUNTIF('Drill Log'!$Q$2:$Q$500,"Open") -> 2 | C8: Fixes not done yet, or someone not accounted for with no action written down
