Workbook

Sheet Food Log
A1: Date | B1: Meal | C1: Food | D1: Amount | E1: Calories | F1: Protein (g) | G1: Carbs (g) | H1: Fat (g) | I1: Hunger (1-5) | J1: Notes
A2: 46307 | B2: Breakfast | C2: Oatmeal with blueberries | D2: 1 cup cooked | E2: 290 | F2: 9 | G2: 52 | H2: 6 | I2: 4
A3: 46307 | B3: Breakfast | C3: Coffee with 2% milk | D3: 12 oz | E3: 60 | F3: 3 | G3: 6 | H3: 3
A4: 46307 | B4: Lunch | C4: Turkey sandwich on wheat | D4: 1 sandwich | E4: 430 | F4: 30 | G4: 44 | H4: 14 | I4: 3
A5: 46307 | B5: Lunch | C5: Apple | D5: 1 medium | E5: 95 | F5: 0 | G5: 25 | H5: 0
A6: 46307 | B6: Snack | C6: Greek yogurt, plain | D6: 5.3 oz cup | E6: 120 | F6: 15 | G6: 9 | H6: 3 | I6: 3 | J6: Afternoon slump
A7: 46307 | B7: Dinner | C7: Grilled chicken breast | D7: 6 oz | E7: 280 | F7: 52 | G7: 0 | H7: 6 | I7: 4
A8: 46307 | B8: Dinner | C8: Brown rice | D8: 1 cup | E8: 215 | F8: 5 | G8: 45 | H8: 2
A9: 46307 | B9: Dinner | C9: Steamed broccoli | D9: 1 cup | E9: 55 | F9: 4 | G9: 11 | H9: 1
A10: 46307 | B10: Snack | C10: Dark chocolate | D10: 1 oz | E10: 170 | F10: 2 | G10: 13 | H10: 12 | I10: 2 | J10: Watching TV, not really hungry
A11: 46308 | B11: Breakfast | C11: Scrambled eggs | D11: 2 large | E11: 180 | F11: 12 | G11: 2 | H11: 14 | I11: 4
A12: 46308 | B12: Breakfast | C12: Whole wheat toast with butter | D12: 1 slice | E12: 140 | F12: 4 | G12: 13 | H12: 8
A13: 46308 | B13: Breakfast | C13: Coffee with 2% milk | D13: 12 oz | E13: 60 | F13: 3 | G13: 6 | H13: 3
A14: 46308 | B14: Lunch | C14: Leftover chicken and rice bowl | D14: 1 bowl | E14: 450 | F14: 36 | G14: 46 | H14: 9 | I14: 4
A15: 46308 | B15: Snack | C15: Almonds | D15: 1 oz | E15: 165 | F15: 6 | G15: 6 | H15: 14 | I15: 3
A16: 46308 | B16: Dinner | C16: Spaghetti with meat sauce | D16: 2 cups | E16: 620 | F16: 30 | G16: 78 | H16: 20 | I16: 5 | J16: Late dinner, very hungry
A17: 46308 | B17: Dinner | C17: Side salad with ranch | D17: 1 bowl | E17: 180 | F17: 2 | G17: 6 | H17: 16
A18: 46309 | B18: Breakfast | C18: Banana peanut butter smoothie | D18: 16 oz | E18: 390 | F18: 24 | G18: 48 | H18: 12 | I18: 3 | J18: Made with protein powder
A19: 46309 | B19: Lunch | C19: Chicken Caesar salad | D19: 1 large | E19: 520 | F19: 34 | G19: 18 | H19: 34 | I19: 4
A20: 46309 | B20: Snack | C20: Potato chips | D20: 1.5 oz bag | E20: 240 | F20: 3 | G20: 23 | H20: 15 | I20: 3 | J20: From the vending machine
A21: 46309 | B21: Dinner | C21: Baked salmon | D21: 5 oz | E21: 290 | F21: 31 | G21: 0 | H21: 18 | I21: 4
A22: 46309 | B22: Dinner | C22: Roasted potatoes | D22: 1 cup | E22: 200 | F22: 4 | G22: 32 | H22: 7
A23: 46309 | B23: Dinner | C23: Green beans | D23: 1 cup | E23: 40 | F23: 2 | G23: 8 | H23: 0

Sheet Daily Totals
A1: Date | B1: Day | C1: Entries | D1: Calories | E1: Vs goal | F1: Protein (g) | G1: Carbs (g) | H1: Fat (g) | I1: Snacks | J1: Avg hunger
A2: 46307 | B2: =A2 -> 46307 | C2: =COUNTIFS('Food Log'!A:A,A2) -> 9 | D2: =SUMIFS('Food Log'!E:E,'Food Log'!A:A,A2) -> 1715 | E2: =IF(C2=0,"",D2-Goals!$B$2) -> -285 | F2: =SUMIFS('Food Log'!F:F,'Food Log'!A:A,A2) -> 120 | G2: =SUMIFS('Food Log'!G:G,'Food Log'!A:A,A2) -> 205 | H2: =SUMIFS('Food Log'!H:H,'Food Log'!A:A,A2) -> 47 | I2: =COUNTIFS('Food Log'!A:A,A2,'Food Log'!B:B,"Snack") -> 2 | J2: =IF(COUNTIFS('Food Log'!A:A,A2,'Food Log'!I:I,">0")=0,"",ROUND(AVERAGEIFS('Food Log'!I:I,'Food Log'!A:A,A2,'Food Log'!I:I,">0"),1)) -> 3.2
A3: =A2+1 -> 46308 | B3: =A3 -> 46308 | C3: =COUNTIFS('Food Log'!A:A,A3) -> 7 | D3: =SUMIFS('Food Log'!E:E,'Food Log'!A:A,A3) -> 1795 | E3: =IF(C3=0,"",D3-Goals!$B$2) -> -205 | F3: =SUMIFS('Food Log'!F:F,'Food Log'!A:A,A3) -> 93 | G3: =SUMIFS('Food Log'!G:G,'Food Log'!A:A,A3) -> 157 | H3: =SUMIFS('Food Log'!H:H,'Food Log'!A:A,A3) -> 84 | I3: =COUNTIFS('Food Log'!A:A,A3,'Food Log'!B:B,"Snack") -> 1 | J3: =IF(COUNTIFS('Food Log'!A:A,A3,'Food Log'!I:I,">0")=0,"",ROUND(AVERAGEIFS('Food Log'!I:I,'Food Log'!A:A,A3,'Food Log'!I:I,">0"),1)) -> 4
A4: =A3+1 -> 46309 | B4: =A4 -> 46309 | C4: =COUNTIFS('Food Log'!A:A,A4) -> 6 | D4: =SUMIFS('Food Log'!E:E,'Food Log'!A:A,A4) -> 1680 | E4: =IF(C4=0,"",D4-Goals!$B$2) -> -320 | F4: =SUMIFS('Food Log'!F:F,'Food Log'!A:A,A4) -> 98 | G4: =SUMIFS('Food Log'!G:G,'Food Log'!A:A,A4) -> 129 | H4: =SUMIFS('Food Log'!H:H,'Food Log'!A:A,A4) -> 86 | I4: =COUNTIFS('Food Log'!A:A,A4,'Food Log'!B:B,"Snack") -> 1 | J4: =IF(COUNTIFS('Food Log'!A:A,A4,'Food Log'!I:I,">0")=0,"",ROUND(AVERAGEIFS('Food Log'!I:I,'Food Log'!A:A,A4,'Food Log'!I:I,">0"),1)) -> 3.5
A5: =A4+1 -> 46310 | B5: =A5 -> 46310 | C5: =COUNTIFS('Food Log'!A:A,A5) -> 0 | D5: =SUMIFS('Food Log'!E:E,'Food Log'!A:A,A5) -> 0 | E5: =IF(C5=0,"",D5-Goals!$B$2) | F5: =SUMIFS('Food Log'!F:F,'Food Log'!A:A,A5) -> 0 | G5: =SUMIFS('Food Log'!G:G,'Food Log'!A:A,A5) -> 0 | H5: =SUMIFS('Food Log'!H:H,'Food Log'!A:A,A5) -> 0 | I5: =COUNTIFS('Food Log'!A:A,A5,'Food Log'!B:B,"Snack") -> 0 | J5: =IF(COUNTIFS('Food Log'!A:A,A5,'Food Log'!I:I,">0")=0,"",ROUND(AVERAGEIFS('Food Log'!I:I,'Food Log'!A:A,A5,'Food Log'!I:I,">0"),1))
A6: =A5+1 -> 46311 | B6: =A6 -> 46311 | C6: =COUNTIFS('Food Log'!A:A,A6) -> 0 | D6: =SUMIFS('Food Log'!E:E,'Food Log'!A:A,A6) -> 0 | E6: =IF(C6=0,"",D6-Goals!$B$2) | F6: =SUMIFS('Food Log'!F:F,'Food Log'!A:A,A6) -> 0 | G6: =SUMIFS('Food Log'!G:G,'Food Log'!A:A,A6) -> 0 | H6: =SUMIFS('Food Log'!H:H,'Food Log'!A:A,A6) -> 0 | I6: =COUNTIFS('Food Log'!A:A,A6,'Food Log'!B:B,"Snack") -> 0 | J6: =IF(COUNTIFS('Food Log'!A:A,A6,'Food Log'!I:I,">0")=0,"",ROUND(AVERAGEIFS('Food Log'!I:I,'Food Log'!A:A,A6,'Food Log'!I:I,">0"),1))
A7: =A6+1 -> 46312 | B7: =A7 -> 46312 | C7: =COUNTIFS('Food Log'!A:A,A7) -> 0 | D7: =SUMIFS('Food Log'!E:E,'Food Log'!A:A,A7) -> 0 | E7: =IF(C7=0,"",D7-Goals!$B$2) | F7: =SUMIFS('Food Log'!F:F,'Food Log'!A:A,A7) -> 0 | G7: =SUMIFS('Food Log'!G:G,'Food Log'!A:A,A7) -> 0 | H7: =SUMIFS('Food Log'!H:H,'Food Log'!A:A,A7) -> 0 | I7: =COUNTIFS('Food Log'!A:A,A7,'Food Log'!B:B,"Snack") -> 0 | J7: =IF(COUNTIFS('Food Log'!A:A,A7,'Food Log'!I:I,">0")=0,"",ROUND(AVERAGEIFS('Food Log'!I:I,'Food Log'!A:A,A7,'Food Log'!I:I,">0"),1))
A8: =A7+1 -> 46313 | B8: =A8 -> 46313 | C8: =COUNTIFS('Food Log'!A:A,A8) -> 0 | D8: =SUMIFS('Food Log'!E:E,'Food Log'!A:A,A8) -> 0 | E8: =IF(C8=0,"",D8-Goals!$B$2) | F8: =SUMIFS('Food Log'!F:F,'Food Log'!A:A,A8) -> 0 | G8: =SUMIFS('Food Log'!G:G,'Food Log'!A:A,A8) -> 0 | H8: =SUMIFS('Food Log'!H:H,'Food Log'!A:A,A8) -> 0 | I8: =COUNTIFS('Food Log'!A:A,A8,'Food Log'!B:B,"Snack") -> 0 | J8: =IF(COUNTIFS('Food Log'!A:A,A8,'Food Log'!I:I,">0")=0,"",ROUND(AVERAGEIFS('Food Log'!I:I,'Food Log'!A:A,A8,'Food Log'!I:I,">0"),1))

Sheet Goals
A1: Nutrient | B1: Daily goal | C1: Daily average | D1: Average vs goal | E1: Days over goal | F1: Days at or under
A2: Calories | B2: 2000 | C2: =IF(COUNTIF('Daily Totals'!C2:C8,">0")=0,"",ROUND(AVERAGEIFS('Daily Totals'!D2:D8,'Daily Totals'!C2:C8,">0"),0)) -> 1730 | D2: =IF(ISNUMBER(C2),C2-B2,"") -> -270 | E2: =COUNTIFS('Daily Totals'!D2:D8,">"&B2,'Daily Totals'!C2:C8,">0") -> 0 | F2: =COUNTIFS('Daily Totals'!D2:D8,"<="&B2,'Daily Totals'!C2:C8,">0") -> 3
A3: Protein (g) | B3: 100 | C3: =IF(COUNTIF('Daily Totals'!C2:C8,">0")=0,"",ROUND(AVERAGEIFS('Daily Totals'!F2:F8,'Daily Totals'!C2:C8,">0"),0)) -> 104 | D3: =IF(ISNUMBER(C3),C3-B3,"") -> 4 | E3: =COUNTIFS('Daily Totals'!F2:F8,">"&B3,'Daily Totals'!C2:C8,">0") -> 1 | F3: =COUNTIFS('Daily Totals'!F2:F8,"<="&B3,'Daily Totals'!C2:C8,">0") -> 2
A4: Carbs (g) | B4: 225 | C4: =IF(COUNTIF('Daily Totals'!C2:C8,">0")=0,"",ROUND(AVERAGEIFS('Daily Totals'!G2:G8,'Daily Totals'!C2:C8,">0"),0)) -> 164 | D4: =IF(ISNUMBER(C4),C4-B4,"") -> -61 | E4: =COUNTIFS('Daily Totals'!G2:G8,">"&B4,'Daily Totals'!C2:C8,">0") -> 0 | F4: =COUNTIFS('Daily Totals'!G2:G8,"<="&B4,'Daily Totals'!C2:C8,">0") -> 3
A5: Fat (g) | B5: 65 | C5: =IF(COUNTIF('Daily Totals'!C2:C8,">0")=0,"",ROUND(AVERAGEIFS('Daily Totals'!H2:H8,'Daily Totals'!C2:C8,">0"),0)) -> 72 | D5: =IF(ISNUMBER(C5),C5-B5,"") -> 7 | E5: =COUNTIFS('Daily Totals'!H2:H8,">"&B5,'Daily Totals'!C2:C8,">0") -> 2 | F5: =COUNTIFS('Daily Totals'!H2:H8,"<="&B5,'Daily Totals'!C2:C8,">0") -> 1

Sheet By Meal
A1: Meal | B1: Entries | C1: Calories | D1: Share of calories | E1: Calories per day | F1: Protein (g)
A2: Breakfast | B2: =COUNTIFS('Food Log'!B:B,A2) -> 6 | C2: =SUMIFS('Food Log'!E:E,'Food Log'!B:B,A2) -> 1120 | D2: =IF(SUM(C$2:C$5)=0,0,C2/SUM(C$2:C$5)) -> 0.21579961 | E2: =IF(COUNTIF('Daily Totals'!C2:C8,">0")=0,"",ROUND(C2/COUNTIF('Daily Totals'!C2:C8,">0"),0)) -> 373 | F2: =SUMIFS('Food Log'!F:F,'Food Log'!B:B,A2) -> 55
A3: Lunch | B3: =COUNTIFS('Food Log'!B:B,A3) -> 4 | C3: =SUMIFS('Food Log'!E:E,'Food Log'!B:B,A3) -> 1495 | D3: =IF(SUM(C$2:C$5)=0,0,C3/SUM(C$2:C$5)) -> 0.28805395 | E3: =IF(COUNTIF('Daily Totals'!C2:C8,">0")=0,"",ROUND(C3/COUNTIF('Daily Totals'!C2:C8,">0"),0)) -> 498 | F3: =SUMIFS('Food Log'!F:F,'Food Log'!B:B,A3) -> 100
A4: Dinner | B4: =COUNTIFS('Food Log'!B:B,A4) -> 8 | C4: =SUMIFS('Food Log'!E:E,'Food Log'!B:B,A4) -> 1880 | D4: =IF(SUM(C$2:C$5)=0,0,C4/SUM(C$2:C$5)) -> 0.36223507 | E4: =IF(COUNTIF('Daily Totals'!C2:C8,">0")=0,"",ROUND(C4/COUNTIF('Daily Totals'!C2:C8,">0"),0)) -> 627 | F4: =SUMIFS('Food Log'!F:F,'Food Log'!B:B,A4) -> 130
A5: Snack | B5: =COUNTIFS('Food Log'!B:B,A5) -> 4 | C5: =SUMIFS('Food Log'!E:E,'Food Log'!B:B,A5) -> 695 | D5: =IF(SUM(C$2:C$5)=0,0,C5/SUM(C$2:C$5)) -> 0.13391137 | E5: =IF(COUNTIF('Daily Totals'!C2:C8,">0")=0,"",ROUND(C5/COUNTIF('Daily Totals'!C2:C8,">0"),0)) -> 232 | F5: =SUMIFS('Food Log'!F:F,'Food Log'!B:B,A5) -> 26
