Workbook

Sheet Gantt Chart
A1: Task | B1: Phase | C1: Owner | D1: Start | E1: End | F1: Workdays | G1: Done | H1: Status | I1: W1 | J1: W2 | K1: W3 | L1: W4 | M1: W5 | N1: W6 | O1: W7 | P1: W8 | Q1: W9 | R1: W10 | S1: W11 | T1: W12 | U1: Done days
A2: Week of | I2: =TEXT(Summary!$B$3,"m/d") -> 11/2 | J2: =TEXT(Summary!$B$3+7,"m/d") -> 11/9 | K2: =TEXT(Summary!$B$3+14,"m/d") -> 11/16 | L2: =TEXT(Summary!$B$3+21,"m/d") -> 11/23 | M2: =TEXT(Summary!$B$3+28,"m/d") -> 11/30 | N2: =TEXT(Summary!$B$3+35,"m/d") -> 12/7 | O2: =TEXT(Summary!$B$3+42,"m/d") -> 12/14 | P2: =TEXT(Summary!$B$3+49,"m/d") -> 12/21 | Q2: =TEXT(Summary!$B$3+56,"m/d") -> 12/28 | R2: =TEXT(Summary!$B$3+63,"m/d") -> 1/4 | S2: =TEXT(Summary!$B$3+70,"m/d") -> 1/11 | T2: =TEXT(Summary!$B$3+77,"m/d") -> 1/18
A3: Kickoff meeting | B3: Plan | C3: Dana | D3: 46328 | E3: 46328 | F3: =IF(AND(ISNUMBER(D3),ISNUMBER(E3)),NETWORKDAYS(D3,E3),"") -> 1 | G3: 1 | H3: =IF(ISBLANK(A3),"",IF(G3>=1,"Done",IF(Summary!$B$2<D3,"Not started",IF(Summary!$B$2>E3,"Late","In progress")))) -> Done | I3: =IF(AND(ISNUMBER($D3),ISNUMBER($E3)),IF(AND($D3<=Summary!$B$3+6,$E3>=Summary!$B$3),IF($D3=$E3,"◆","■"),""),"") -> ◆ | J3: =IF(AND(ISNUMBER($D3),ISNUMBER($E3)),IF(AND($D3<=Summary!$B$3+7+6,$E3>=Summary!$B$3+7),IF($D3=$E3,"◆","■"),""),"") | K3: =IF(AND(ISNUMBER($D3),ISNUMBER($E3)),IF(AND($D3<=Summary!$B$3+14+6,$E3>=Summary!$B$3+14),IF($D3=$E3,"◆","■"),""),"") | L3: =IF(AND(ISNUMBER($D3),ISNUMBER($E3)),IF(AND($D3<=Summary!$B$3+21+6,$E3>=Summary!$B$3+21),IF($D3=$E3,"◆","■"),""),"") | M3: =IF(AND(ISNUMBER($D3),ISNUMBER($E3)),IF(AND($D3<=Summary!$B$3+28+6,$E3>=Summary!$B$3+28),IF($D3=$E3,"◆","■"),""),"") | N3: =IF(AND(ISNUMBER($D3),ISNUMBER($E3)),IF(AND($D3<=Summary!$B$3+35+6,$E3>=Summary!$B$3+35),IF($D3=$E3,"◆","■"),""),"") | O3: =IF(AND(ISNUMBER($D3),ISNUMBER($E3)),IF(AND($D3<=Summary!$B$3+42+6,$E3>=Summary!$B$3+42),IF($D3=$E3,"◆","■"),""),"") | P3: =IF(AND(ISNUMBER($D3),ISNUMBER($E3)),IF(AND($D3<=Summary!$B$3+49+6,$E3>=Summary!$B$3+49),IF($D3=$E3,"◆","■"),""),"") | Q3: =IF(AND(ISNUMBER($D3),ISNUMBER($E3)),IF(AND($D3<=Summary!$B$3+56+6,$E3>=Summary!$B$3+56),IF($D3=$E3,"◆","■"),""),"") | R3: =IF(AND(ISNUMBER($D3),ISNUMBER($E3)),IF(AND($D3<=Summary!$B$3+63+6,$E3>=Summary!$B$3+63),IF($D3=$E3,"◆","■"),""),"") | S3: =IF(AND(ISNUMBER($D3),ISNUMBER($E3)),IF(AND($D3<=Summary!$B$3+70+6,$E3>=Summary!$B$3+70),IF($D3=$E3,"◆","■"),""),"") | T3: =IF(AND(ISNUMBER($D3),ISNUMBER($E3)),IF(AND($D3<=Summary!$B$3+77+6,$E3>=Summary!$B$3+77),IF($D3=$E3,"◆","■"),""),"") | U3: =IF(AND(ISNUMBER(F3),ISNUMBER(G3)),F3*G3,0) -> 1
A4: Gather requirements | B4: Plan | C4: Dana | D4: 46328 | E4: 46332 | F4: =IF(AND(ISNUMBER(D4),ISNUMBER(E4)),NETWORKDAYS(D4,E4),"") -> 5 | G4: 1 | H4: =IF(ISBLANK(A4),"",IF(G4>=1,"Done",IF(Summary!$B$2<D4,"Not started",IF(Summary!$B$2>E4,"Late","In progress")))) -> Done | I4: =IF(AND(ISNUMBER($D4),ISNUMBER($E4)),IF(AND($D4<=Summary!$B$3+6,$E4>=Summary!$B$3),IF($D4=$E4,"◆","■"),""),"") -> ■ | J4: =IF(AND(ISNUMBER($D4),ISNUMBER($E4)),IF(AND($D4<=Summary!$B$3+7+6,$E4>=Summary!$B$3+7),IF($D4=$E4,"◆","■"),""),"") | K4: =IF(AND(ISNUMBER($D4),ISNUMBER($E4)),IF(AND($D4<=Summary!$B$3+14+6,$E4>=Summary!$B$3+14),IF($D4=$E4,"◆","■"),""),"") | L4: =IF(AND(ISNUMBER($D4),ISNUMBER($E4)),IF(AND($D4<=Summary!$B$3+21+6,$E4>=Summary!$B$3+21),IF($D4=$E4,"◆","■"),""),"") | M4: =IF(AND(ISNUMBER($D4),ISNUMBER($E4)),IF(AND($D4<=Summary!$B$3+28+6,$E4>=Summary!$B$3+28),IF($D4=$E4,"◆","■"),""),"") | N4: =IF(AND(ISNUMBER($D4),ISNUMBER($E4)),IF(AND($D4<=Summary!$B$3+35+6,$E4>=Summary!$B$3+35),IF($D4=$E4,"◆","■"),""),"") | O4: =IF(AND(ISNUMBER($D4),ISNUMBER($E4)),IF(AND($D4<=Summary!$B$3+42+6,$E4>=Summary!$B$3+42),IF($D4=$E4,"◆","■"),""),"") | P4: =IF(AND(ISNUMBER($D4),ISNUMBER($E4)),IF(AND($D4<=Summary!$B$3+49+6,$E4>=Summary!$B$3+49),IF($D4=$E4,"◆","■"),""),"") | Q4: =IF(AND(ISNUMBER($D4),ISNUMBER($E4)),IF(AND($D4<=Summary!$B$3+56+6,$E4>=Summary!$B$3+56),IF($D4=$E4,"◆","■"),""),"") | R4: =IF(AND(ISNUMBER($D4),ISNUMBER($E4)),IF(AND($D4<=Summary!$B$3+63+6,$E4>=Summary!$B$3+63),IF($D4=$E4,"◆","■"),""),"") | S4: =IF(AND(ISNUMBER($D4),ISNUMBER($E4)),IF(AND($D4<=Summary!$B$3+70+6,$E4>=Summary!$B$3+70),IF($D4=$E4,"◆","■"),""),"") | T4: =IF(AND(ISNUMBER($D4),ISNUMBER($E4)),IF(AND($D4<=Summary!$B$3+77+6,$E4>=Summary!$B$3+77),IF($D4=$E4,"◆","■"),""),"") | U4: =IF(AND(ISNUMBER(F4),ISNUMBER(G4)),F4*G4,0) -> 5
A5: Site map and content plan | B5: Plan | C5: Priya | D5: 46335 | E5: 46339 | F5: =IF(AND(ISNUMBER(D5),ISNUMBER(E5)),NETWORKDAYS(D5,E5),"") -> 5 | G5: 1 | H5: =IF(ISBLANK(A5),"",IF(G5>=1,"Done",IF(Summary!$B$2<D5,"Not started",IF(Summary!$B$2>E5,"Late","In progress")))) -> Done | I5: =IF(AND(ISNUMBER($D5),ISNUMBER($E5)),IF(AND($D5<=Summary!$B$3+6,$E5>=Summary!$B$3),IF($D5=$E5,"◆","■"),""),"") | J5: =IF(AND(ISNUMBER($D5),ISNUMBER($E5)),IF(AND($D5<=Summary!$B$3+7+6,$E5>=Summary!$B$3+7),IF($D5=$E5,"◆","■"),""),"") -> ■ | K5: =IF(AND(ISNUMBER($D5),ISNUMBER($E5)),IF(AND($D5<=Summary!$B$3+14+6,$E5>=Summary!$B$3+14),IF($D5=$E5,"◆","■"),""),"") | L5: =IF(AND(ISNUMBER($D5),ISNUMBER($E5)),IF(AND($D5<=Summary!$B$3+21+6,$E5>=Summary!$B$3+21),IF($D5=$E5,"◆","■"),""),"") | M5: =IF(AND(ISNUMBER($D5),ISNUMBER($E5)),IF(AND($D5<=Summary!$B$3+28+6,$E5>=Summary!$B$3+28),IF($D5=$E5,"◆","■"),""),"") | N5: =IF(AND(ISNUMBER($D5),ISNUMBER($E5)),IF(AND($D5<=Summary!$B$3+35+6,$E5>=Summary!$B$3+35),IF($D5=$E5,"◆","■"),""),"") | O5: =IF(AND(ISNUMBER($D5),ISNUMBER($E5)),IF(AND($D5<=Summary!$B$3+42+6,$E5>=Summary!$B$3+42),IF($D5=$E5,"◆","■"),""),"") | P5: =IF(AND(ISNUMBER($D5),ISNUMBER($E5)),IF(AND($D5<=Summary!$B$3+49+6,$E5>=Summary!$B$3+49),IF($D5=$E5,"◆","■"),""),"") | Q5: =IF(AND(ISNUMBER($D5),ISNUMBER($E5)),IF(AND($D5<=Summary!$B$3+56+6,$E5>=Summary!$B$3+56),IF($D5=$E5,"◆","■"),""),"") | R5: =IF(AND(ISNUMBER($D5),ISNUMBER($E5)),IF(AND($D5<=Summary!$B$3+63+6,$E5>=Summary!$B$3+63),IF($D5=$E5,"◆","■"),""),"") | S5: =IF(AND(ISNUMBER($D5),ISNUMBER($E5)),IF(AND($D5<=Summary!$B$3+70+6,$E5>=Summary!$B$3+70),IF($D5=$E5,"◆","■"),""),"") | T5: =IF(AND(ISNUMBER($D5),ISNUMBER($E5)),IF(AND($D5<=Summary!$B$3+77+6,$E5>=Summary!$B$3+77),IF($D5=$E5,"◆","■"),""),"") | U5: =IF(AND(ISNUMBER(F5),ISNUMBER(G5)),F5*G5,0) -> 5
A6: Wireframes | B6: Design | C6: Marcus | D6: 46342 | E6: 46351 | F6: =IF(AND(ISNUMBER(D6),ISNUMBER(E6)),NETWORKDAYS(D6,E6),"") -> 8 | G6: 0.8 | H6: =IF(ISBLANK(A6),"",IF(G6>=1,"Done",IF(Summary!$B$2<D6,"Not started",IF(Summary!$B$2>E6,"Late","In progress")))) -> Late | I6: =IF(AND(ISNUMBER($D6),ISNUMBER($E6)),IF(AND($D6<=Summary!$B$3+6,$E6>=Summary!$B$3),IF($D6=$E6,"◆","■"),""),"") | J6: =IF(AND(ISNUMBER($D6),ISNUMBER($E6)),IF(AND($D6<=Summary!$B$3+7+6,$E6>=Summary!$B$3+7),IF($D6=$E6,"◆","■"),""),"") | K6: =IF(AND(ISNUMBER($D6),ISNUMBER($E6)),IF(AND($D6<=Summary!$B$3+14+6,$E6>=Summary!$B$3+14),IF($D6=$E6,"◆","■"),""),"") -> ■ | L6: =IF(AND(ISNUMBER($D6),ISNUMBER($E6)),IF(AND($D6<=Summary!$B$3+21+6,$E6>=Summary!$B$3+21),IF($D6=$E6,"◆","■"),""),"") -> ■ | M6: =IF(AND(ISNUMBER($D6),ISNUMBER($E6)),IF(AND($D6<=Summary!$B$3+28+6,$E6>=Summary!$B$3+28),IF($D6=$E6,"◆","■"),""),"") | N6: =IF(AND(ISNUMBER($D6),ISNUMBER($E6)),IF(AND($D6<=Summary!$B$3+35+6,$E6>=Summary!$B$3+35),IF($D6=$E6,"◆","■"),""),"") | O6: =IF(AND(ISNUMBER($D6),ISNUMBER($E6)),IF(AND($D6<=Summary!$B$3+42+6,$E6>=Summary!$B$3+42),IF($D6=$E6,"◆","■"),""),"") | P6: =IF(AND(ISNUMBER($D6),ISNUMBER($E6)),IF(AND($D6<=Summary!$B$3+49+6,$E6>=Summary!$B$3+49),IF($D6=$E6,"◆","■"),""),"") | Q6: =IF(AND(ISNUMBER($D6),ISNUMBER($E6)),IF(AND($D6<=Summary!$B$3+56+6,$E6>=Summary!$B$3+56),IF($D6=$E6,"◆","■"),""),"") | R6: =IF(AND(ISNUMBER($D6),ISNUMBER($E6)),IF(AND($D6<=Summary!$B$3+63+6,$E6>=Summary!$B$3+63),IF($D6=$E6,"◆","■"),""),"") | S6: =IF(AND(ISNUMBER($D6),ISNUMBER($E6)),IF(AND($D6<=Summary!$B$3+70+6,$E6>=Summary!$B$3+70),IF($D6=$E6,"◆","■"),""),"") | T6: =IF(AND(ISNUMBER($D6),ISNUMBER($E6)),IF(AND($D6<=Summary!$B$3+77+6,$E6>=Summary!$B$3+77),IF($D6=$E6,"◆","■"),""),"") | U6: =IF(AND(ISNUMBER(F6),ISNUMBER(G6)),F6*G6,0) -> 6.4
A7: Visual design | B7: Design | C7: Marcus | D7: 46349 | E7: 46360 | F7: =IF(AND(ISNUMBER(D7),ISNUMBER(E7)),NETWORKDAYS(D7,E7),"") -> 10 | G7: 0.4 | H7: =IF(ISBLANK(A7),"",IF(G7>=1,"Done",IF(Summary!$B$2<D7,"Not started",IF(Summary!$B$2>E7,"Late","In progress")))) -> In progress | I7: =IF(AND(ISNUMBER($D7),ISNUMBER($E7)),IF(AND($D7<=Summary!$B$3+6,$E7>=Summary!$B$3),IF($D7=$E7,"◆","■"),""),"") | J7: =IF(AND(ISNUMBER($D7),ISNUMBER($E7)),IF(AND($D7<=Summary!$B$3+7+6,$E7>=Summary!$B$3+7),IF($D7=$E7,"◆","■"),""),"") | K7: =IF(AND(ISNUMBER($D7),ISNUMBER($E7)),IF(AND($D7<=Summary!$B$3+14+6,$E7>=Summary!$B$3+14),IF($D7=$E7,"◆","■"),""),"") | L7: =IF(AND(ISNUMBER($D7),ISNUMBER($E7)),IF(AND($D7<=Summary!$B$3+21+6,$E7>=Summary!$B$3+21),IF($D7=$E7,"◆","■"),""),"") -> ■ | M7: =IF(AND(ISNUMBER($D7),ISNUMBER($E7)),IF(AND($D7<=Summary!$B$3+28+6,$E7>=Summary!$B$3+28),IF($D7=$E7,"◆","■"),""),"") -> ■ | N7: =IF(AND(ISNUMBER($D7),ISNUMBER($E7)),IF(AND($D7<=Summary!$B$3+35+6,$E7>=Summary!$B$3+35),IF($D7=$E7,"◆","■"),""),"") | O7: =IF(AND(ISNUMBER($D7),ISNUMBER($E7)),IF(AND($D7<=Summary!$B$3+42+6,$E7>=Summary!$B$3+42),IF($D7=$E7,"◆","■"),""),"") | P7: =IF(AND(ISNUMBER($D7),ISNUMBER($E7)),IF(AND($D7<=Summary!$B$3+49+6,$E7>=Summary!$B$3+49),IF($D7=$E7,"◆","■"),""),"") | Q7: =IF(AND(ISNUMBER($D7),ISNUMBER($E7)),IF(AND($D7<=Summary!$B$3+56+6,$E7>=Summary!$B$3+56),IF($D7=$E7,"◆","■"),""),"") | R7: =IF(AND(ISNUMBER($D7),ISNUMBER($E7)),IF(AND($D7<=Summary!$B$3+63+6,$E7>=Summary!$B$3+63),IF($D7=$E7,"◆","■"),""),"") | S7: =IF(AND(ISNUMBER($D7),ISNUMBER($E7)),IF(AND($D7<=Summary!$B$3+70+6,$E7>=Summary!$B$3+70),IF($D7=$E7,"◆","■"),""),"") | T7: =IF(AND(ISNUMBER($D7),ISNUMBER($E7)),IF(AND($D7<=Summary!$B$3+77+6,$E7>=Summary!$B$3+77),IF($D7=$E7,"◆","■"),""),"") | U7: =IF(AND(ISNUMBER(F7),ISNUMBER(G7)),F7*G7,0) -> 4
A8: Design sign-off | B8: Design | C8: Dana | D8: 46360 | E8: 46360 | F8: =IF(AND(ISNUMBER(D8),ISNUMBER(E8)),NETWORKDAYS(D8,E8),"") -> 1 | G8: 0 | H8: =IF(ISBLANK(A8),"",IF(G8>=1,"Done",IF(Summary!$B$2<D8,"Not started",IF(Summary!$B$2>E8,"Late","In progress")))) -> Not started | I8: =IF(AND(ISNUMBER($D8),ISNUMBER($E8)),IF(AND($D8<=Summary!$B$3+6,$E8>=Summary!$B$3),IF($D8=$E8,"◆","■"),""),"") | J8: =IF(AND(ISNUMBER($D8),ISNUMBER($E8)),IF(AND($D8<=Summary!$B$3+7+6,$E8>=Summary!$B$3+7),IF($D8=$E8,"◆","■"),""),"") | K8: =IF(AND(ISNUMBER($D8),ISNUMBER($E8)),IF(AND($D8<=Summary!$B$3+14+6,$E8>=Summary!$B$3+14),IF($D8=$E8,"◆","■"),""),"") | L8: =IF(AND(ISNUMBER($D8),ISNUMBER($E8)),IF(AND($D8<=Summary!$B$3+21+6,$E8>=Summary!$B$3+21),IF($D8=$E8,"◆","■"),""),"") | M8: =IF(AND(ISNUMBER($D8),ISNUMBER($E8)),IF(AND($D8<=Summary!$B$3+28+6,$E8>=Summary!$B$3+28),IF($D8=$E8,"◆","■"),""),"") -> ◆ | N8: =IF(AND(ISNUMBER($D8),ISNUMBER($E8)),IF(AND($D8<=Summary!$B$3+35+6,$E8>=Summary!$B$3+35),IF($D8=$E8,"◆","■"),""),"") | O8: =IF(AND(ISNUMBER($D8),ISNUMBER($E8)),IF(AND($D8<=Summary!$B$3+42+6,$E8>=Summary!$B$3+42),IF($D8=$E8,"◆","■"),""),"") | P8: =IF(AND(ISNUMBER($D8),ISNUMBER($E8)),IF(AND($D8<=Summary!$B$3+49+6,$E8>=Summary!$B$3+49),IF($D8=$E8,"◆","■"),""),"") | Q8: =IF(AND(ISNUMBER($D8),ISNUMBER($E8)),IF(AND($D8<=Summary!$B$3+56+6,$E8>=Summary!$B$3+56),IF($D8=$E8,"◆","■"),""),"") | R8: =IF(AND(ISNUMBER($D8),ISNUMBER($E8)),IF(AND($D8<=Summary!$B$3+63+6,$E8>=Summary!$B$3+63),IF($D8=$E8,"◆","■"),""),"") | S8: =IF(AND(ISNUMBER($D8),ISNUMBER($E8)),IF(AND($D8<=Summary!$B$3+70+6,$E8>=Summary!$B$3+70),IF($D8=$E8,"◆","■"),""),"") | T8: =IF(AND(ISNUMBER($D8),ISNUMBER($E8)),IF(AND($D8<=Summary!$B$3+77+6,$E8>=Summary!$B$3+77),IF($D8=$E8,"◆","■"),""),"") | U8: =IF(AND(ISNUMBER(F8),ISNUMBER(G8)),F8*G8,0) -> 0
A9: Front-end build | B9: Build | C9: Leo | D9: 46363 | E9: 46379 | F9: =IF(AND(ISNUMBER(D9),ISNUMBER(E9)),NETWORKDAYS(D9,E9),"") -> 13 | G9: 0 | H9: =IF(ISBLANK(A9),"",IF(G9>=1,"Done",IF(Summary!$B$2<D9,"Not started",IF(Summary!$B$2>E9,"Late","In progress")))) -> Not started | I9: =IF(AND(ISNUMBER($D9),ISNUMBER($E9)),IF(AND($D9<=Summary!$B$3+6,$E9>=Summary!$B$3),IF($D9=$E9,"◆","■"),""),"") | J9: =IF(AND(ISNUMBER($D9),ISNUMBER($E9)),IF(AND($D9<=Summary!$B$3+7+6,$E9>=Summary!$B$3+7),IF($D9=$E9,"◆","■"),""),"") | K9: =IF(AND(ISNUMBER($D9),ISNUMBER($E9)),IF(AND($D9<=Summary!$B$3+14+6,$E9>=Summary!$B$3+14),IF($D9=$E9,"◆","■"),""),"") | L9: =IF(AND(ISNUMBER($D9),ISNUMBER($E9)),IF(AND($D9<=Summary!$B$3+21+6,$E9>=Summary!$B$3+21),IF($D9=$E9,"◆","■"),""),"") | M9: =IF(AND(ISNUMBER($D9),ISNUMBER($E9)),IF(AND($D9<=Summary!$B$3+28+6,$E9>=Summary!$B$3+28),IF($D9=$E9,"◆","■"),""),"") | N9: =IF(AND(ISNUMBER($D9),ISNUMBER($E9)),IF(AND($D9<=Summary!$B$3+35+6,$E9>=Summary!$B$3+35),IF($D9=$E9,"◆","■"),""),"") -> ■ | O9: =IF(AND(ISNUMBER($D9),ISNUMBER($E9)),IF(AND($D9<=Summary!$B$3+42+6,$E9>=Summary!$B$3+42),IF($D9=$E9,"◆","■"),""),"") -> ■ | P9: =IF(AND(ISNUMBER($D9),ISNUMBER($E9)),IF(AND($D9<=Summary!$B$3+49+6,$E9>=Summary!$B$3+49),IF($D9=$E9,"◆","■"),""),"") -> ■ | Q9: =IF(AND(ISNUMBER($D9),ISNUMBER($E9)),IF(AND($D9<=Summary!$B$3+56+6,$E9>=Summary!$B$3+56),IF($D9=$E9,"◆","■"),""),"") | R9: =IF(AND(ISNUMBER($D9),ISNUMBER($E9)),IF(AND($D9<=Summary!$B$3+63+6,$E9>=Summary!$B$3+63),IF($D9=$E9,"◆","■"),""),"") | S9: =IF(AND(ISNUMBER($D9),ISNUMBER($E9)),IF(AND($D9<=Summary!$B$3+70+6,$E9>=Summary!$B$3+70),IF($D9=$E9,"◆","■"),""),"") | T9: =IF(AND(ISNUMBER($D9),ISNUMBER($E9)),IF(AND($D9<=Summary!$B$3+77+6,$E9>=Summary!$B$3+77),IF($D9=$E9,"◆","■"),""),"") | U9: =IF(AND(ISNUMBER(F9),ISNUMBER(G9)),F9*G9,0) -> 0
A10: CMS setup | B10: Build | C10: Leo | D10: 46363 | E10: 46374 | F10: =IF(AND(ISNUMBER(D10),ISNUMBER(E10)),NETWORKDAYS(D10,E10),"") -> 10 | G10: 0 | H10: =IF(ISBLANK(A10),"",IF(G10>=1,"Done",IF(Summary!$B$2<D10,"Not started",IF(Summary!$B$2>E10,"Late","In progress")))) -> Not started | I10: =IF(AND(ISNUMBER($D10),ISNUMBER($E10)),IF(AND($D10<=Summary!$B$3+6,$E10>=Summary!$B$3),IF($D10=$E10,"◆","■"),""),"") | J10: =IF(AND(ISNUMBER($D10),ISNUMBER($E10)),IF(AND($D10<=Summary!$B$3+7+6,$E10>=Summary!$B$3+7),IF($D10=$E10,"◆","■"),""),"") | K10: =IF(AND(ISNUMBER($D10),ISNUMBER($E10)),IF(AND($D10<=Summary!$B$3+14+6,$E10>=Summary!$B$3+14),IF($D10=$E10,"◆","■"),""),"") | L10: =IF(AND(ISNUMBER($D10),ISNUMBER($E10)),IF(AND($D10<=Summary!$B$3+21+6,$E10>=Summary!$B$3+21),IF($D10=$E10,"◆","■"),""),"") | M10: =IF(AND(ISNUMBER($D10),ISNUMBER($E10)),IF(AND($D10<=Summary!$B$3+28+6,$E10>=Summary!$B$3+28),IF($D10=$E10,"◆","■"),""),"") | N10: =IF(AND(ISNUMBER($D10),ISNUMBER($E10)),IF(AND($D10<=Summary!$B$3+35+6,$E10>=Summary!$B$3+35),IF($D10=$E10,"◆","■"),""),"") -> ■ | O10: =IF(AND(ISNUMBER($D10),ISNUMBER($E10)),IF(AND($D10<=Summary!$B$3+42+6,$E10>=Summary!$B$3+42),IF($D10=$E10,"◆","■"),""),"") -> ■ | P10: =IF(AND(ISNUMBER($D10),ISNUMBER($E10)),IF(AND($D10<=Summary!$B$3+49+6,$E10>=Summary!$B$3+49),IF($D10=$E10,"◆","■"),""),"") | Q10: =IF(AND(ISNUMBER($D10),ISNUMBER($E10)),IF(AND($D10<=Summary!$B$3+56+6,$E10>=Summary!$B$3+56),IF($D10=$E10,"◆","■"),""),"") | R10: =IF(AND(ISNUMBER($D10),ISNUMBER($E10)),IF(AND($D10<=Summary!$B$3+63+6,$E10>=Summary!$B$3+63),IF($D10=$E10,"◆","■"),""),"") | S10: =IF(AND(ISNUMBER($D10),ISNUMBER($E10)),IF(AND($D10<=Summary!$B$3+70+6,$E10>=Summary!$B$3+70),IF($D10=$E10,"◆","■"),""),"") | T10: =IF(AND(ISNUMBER($D10),ISNUMBER($E10)),IF(AND($D10<=Summary!$B$3+77+6,$E10>=Summary!$B$3+77),IF($D10=$E10,"◆","■"),""),"") | U10: =IF(AND(ISNUMBER(F10),ISNUMBER(G10)),F10*G10,0) -> 0
A11: Write and load content | B11: Build | C11: Priya | D11: 46370 | E11: 46395 | F11: =IF(AND(ISNUMBER(D11),ISNUMBER(E11)),NETWORKDAYS(D11,E11),"") -> 20 | G11: 0 | H11: =IF(ISBLANK(A11),"",IF(G11>=1,"Done",IF(Summary!$B$2<D11,"Not started",IF(Summary!$B$2>E11,"Late","In progress")))) -> Not started | I11: =IF(AND(ISNUMBER($D11),ISNUMBER($E11)),IF(AND($D11<=Summary!$B$3+6,$E11>=Summary!$B$3),IF($D11=$E11,"◆","■"),""),"") | J11: =IF(AND(ISNUMBER($D11),ISNUMBER($E11)),IF(AND($D11<=Summary!$B$3+7+6,$E11>=Summary!$B$3+7),IF($D11=$E11,"◆","■"),""),"") | K11: =IF(AND(ISNUMBER($D11),ISNUMBER($E11)),IF(AND($D11<=Summary!$B$3+14+6,$E11>=Summary!$B$3+14),IF($D11=$E11,"◆","■"),""),"") | L11: =IF(AND(ISNUMBER($D11),ISNUMBER($E11)),IF(AND($D11<=Summary!$B$3+21+6,$E11>=Summary!$B$3+21),IF($D11=$E11,"◆","■"),""),"") | M11: =IF(AND(ISNUMBER($D11),ISNUMBER($E11)),IF(AND($D11<=Summary!$B$3+28+6,$E11>=Summary!$B$3+28),IF($D11=$E11,"◆","■"),""),"") | N11: =IF(AND(ISNUMBER($D11),ISNUMBER($E11)),IF(AND($D11<=Summary!$B$3+35+6,$E11>=Summary!$B$3+35),IF($D11=$E11,"◆","■"),""),"") | O11: =IF(AND(ISNUMBER($D11),ISNUMBER($E11)),IF(AND($D11<=Summary!$B$3+42+6,$E11>=Summary!$B$3+42),IF($D11=$E11,"◆","■"),""),"") -> ■ | P11: =IF(AND(ISNUMBER($D11),ISNUMBER($E11)),IF(AND($D11<=Summary!$B$3+49+6,$E11>=Summary!$B$3+49),IF($D11=$E11,"◆","■"),""),"") -> ■ | Q11: =IF(AND(ISNUMBER($D11),ISNUMBER($E11)),IF(AND($D11<=Summary!$B$3+56+6,$E11>=Summary!$B$3+56),IF($D11=$E11,"◆","■"),""),"") -> ■ | R11: =IF(AND(ISNUMBER($D11),ISNUMBER($E11)),IF(AND($D11<=Summary!$B$3+63+6,$E11>=Summary!$B$3+63),IF($D11=$E11,"◆","■"),""),"") -> ■ | S11: =IF(AND(ISNUMBER($D11),ISNUMBER($E11)),IF(AND($D11<=Summary!$B$3+70+6,$E11>=Summary!$B$3+70),IF($D11=$E11,"◆","■"),""),"") | T11: =IF(AND(ISNUMBER($D11),ISNUMBER($E11)),IF(AND($D11<=Summary!$B$3+77+6,$E11>=Summary!$B$3+77),IF($D11=$E11,"◆","■"),""),"") | U11: =IF(AND(ISNUMBER(F11),ISNUMBER(G11)),F11*G11,0) -> 0
A12: QA testing | B12: Test | C12: Priya | D12: 46391 | E12: 46400 | F12: =IF(AND(ISNUMBER(D12),ISNUMBER(E12)),NETWORKDAYS(D12,E12),"") -> 8 | G12: 0 | H12: =IF(ISBLANK(A12),"",IF(G12>=1,"Done",IF(Summary!$B$2<D12,"Not started",IF(Summary!$B$2>E12,"Late","In progress")))) -> Not started | I12: =IF(AND(ISNUMBER($D12),ISNUMBER($E12)),IF(AND($D12<=Summary!$B$3+6,$E12>=Summary!$B$3),IF($D12=$E12,"◆","■"),""),"") | J12: =IF(AND(ISNUMBER($D12),ISNUMBER($E12)),IF(AND($D12<=Summary!$B$3+7+6,$E12>=Summary!$B$3+7),IF($D12=$E12,"◆","■"),""),"") | K12: =IF(AND(ISNUMBER($D12),ISNUMBER($E12)),IF(AND($D12<=Summary!$B$3+14+6,$E12>=Summary!$B$3+14),IF($D12=$E12,"◆","■"),""),"") | L12: =IF(AND(ISNUMBER($D12),ISNUMBER($E12)),IF(AND($D12<=Summary!$B$3+21+6,$E12>=Summary!$B$3+21),IF($D12=$E12,"◆","■"),""),"") | M12: =IF(AND(ISNUMBER($D12),ISNUMBER($E12)),IF(AND($D12<=Summary!$B$3+28+6,$E12>=Summary!$B$3+28),IF($D12=$E12,"◆","■"),""),"") | N12: =IF(AND(ISNUMBER($D12),ISNUMBER($E12)),IF(AND($D12<=Summary!$B$3+35+6,$E12>=Summary!$B$3+35),IF($D12=$E12,"◆","■"),""),"") | O12: =IF(AND(ISNUMBER($D12),ISNUMBER($E12)),IF(AND($D12<=Summary!$B$3+42+6,$E12>=Summary!$B$3+42),IF($D12=$E12,"◆","■"),""),"") | P12: =IF(AND(ISNUMBER($D12),ISNUMBER($E12)),IF(AND($D12<=Summary!$B$3+49+6,$E12>=Summary!$B$3+49),IF($D12=$E12,"◆","■"),""),"") | Q12: =IF(AND(ISNUMBER($D12),ISNUMBER($E12)),IF(AND($D12<=Summary!$B$3+56+6,$E12>=Summary!$B$3+56),IF($D12=$E12,"◆","■"),""),"") | R12: =IF(AND(ISNUMBER($D12),ISNUMBER($E12)),IF(AND($D12<=Summary!$B$3+63+6,$E12>=Summary!$B$3+63),IF($D12=$E12,"◆","■"),""),"") -> ■ | S12: =IF(AND(ISNUMBER($D12),ISNUMBER($E12)),IF(AND($D12<=Summary!$B$3+70+6,$E12>=Summary!$B$3+70),IF($D12=$E12,"◆","■"),""),"") -> ■ | T12: =IF(AND(ISNUMBER($D12),ISNUMBER($E12)),IF(AND($D12<=Summary!$B$3+77+6,$E12>=Summary!$B$3+77),IF($D12=$E12,"◆","■"),""),"") | U12: =IF(AND(ISNUMBER(F12),ISNUMBER(G12)),F12*G12,0) -> 0
A13: Fix bugs | B13: Test | C13: Leo | D13: 46398 | E13: 46402 | F13: =IF(AND(ISNUMBER(D13),ISNUMBER(E13)),NETWORKDAYS(D13,E13),"") -> 5 | G13: 0 | H13: =IF(ISBLANK(A13),"",IF(G13>=1,"Done",IF(Summary!$B$2<D13,"Not started",IF(Summary!$B$2>E13,"Late","In progress")))) -> Not started | I13: =IF(AND(ISNUMBER($D13),ISNUMBER($E13)),IF(AND($D13<=Summary!$B$3+6,$E13>=Summary!$B$3),IF($D13=$E13,"◆","■"),""),"") | J13: =IF(AND(ISNUMBER($D13),ISNUMBER($E13)),IF(AND($D13<=Summary!$B$3+7+6,$E13>=Summary!$B$3+7),IF($D13=$E13,"◆","■"),""),"") | K13: =IF(AND(ISNUMBER($D13),ISNUMBER($E13)),IF(AND($D13<=Summary!$B$3+14+6,$E13>=Summary!$B$3+14),IF($D13=$E13,"◆","■"),""),"") | L13: =IF(AND(ISNUMBER($D13),ISNUMBER($E13)),IF(AND($D13<=Summary!$B$3+21+6,$E13>=Summary!$B$3+21),IF($D13=$E13,"◆","■"),""),"") | M13: =IF(AND(ISNUMBER($D13),ISNUMBER($E13)),IF(AND($D13<=Summary!$B$3+28+6,$E13>=Summary!$B$3+28),IF($D13=$E13,"◆","■"),""),"") | N13: =IF(AND(ISNUMBER($D13),ISNUMBER($E13)),IF(AND($D13<=Summary!$B$3+35+6,$E13>=Summary!$B$3+35),IF($D13=$E13,"◆","■"),""),"") | O13: =IF(AND(ISNUMBER($D13),ISNUMBER($E13)),IF(AND($D13<=Summary!$B$3+42+6,$E13>=Summary!$B$3+42),IF($D13=$E13,"◆","■"),""),"") | P13: =IF(AND(ISNUMBER($D13),ISNUMBER($E13)),IF(AND($D13<=Summary!$B$3+49+6,$E13>=Summary!$B$3+49),IF($D13=$E13,"◆","■"),""),"") | Q13: =IF(AND(ISNUMBER($D13),ISNUMBER($E13)),IF(AND($D13<=Summary!$B$3+56+6,$E13>=Summary!$B$3+56),IF($D13=$E13,"◆","■"),""),"") | R13: =IF(AND(ISNUMBER($D13),ISNUMBER($E13)),IF(AND($D13<=Summary!$B$3+63+6,$E13>=Summary!$B$3+63),IF($D13=$E13,"◆","■"),""),"") | S13: =IF(AND(ISNUMBER($D13),ISNUMBER($E13)),IF(AND($D13<=Summary!$B$3+70+6,$E13>=Summary!$B$3+70),IF($D13=$E13,"◆","■"),""),"") -> ■ | T13: =IF(AND(ISNUMBER($D13),ISNUMBER($E13)),IF(AND($D13<=Summary!$B$3+77+6,$E13>=Summary!$B$3+77),IF($D13=$E13,"◆","■"),""),"") | U13: =IF(AND(ISNUMBER(F13),ISNUMBER(G13)),F13*G13,0) -> 0
A14: Client review | B14: Test | C14: Dana | D14: 46401 | E14: 46405 | F14: =IF(AND(ISNUMBER(D14),ISNUMBER(E14)),NETWORKDAYS(D14,E14),"") -> 3 | G14: 0 | H14: =IF(ISBLANK(A14),"",IF(G14>=1,"Done",IF(Summary!$B$2<D14,"Not started",IF(Summary!$B$2>E14,"Late","In progress")))) -> Not started | I14: =IF(AND(ISNUMBER($D14),ISNUMBER($E14)),IF(AND($D14<=Summary!$B$3+6,$E14>=Summary!$B$3),IF($D14=$E14,"◆","■"),""),"") | J14: =IF(AND(ISNUMBER($D14),ISNUMBER($E14)),IF(AND($D14<=Summary!$B$3+7+6,$E14>=Summary!$B$3+7),IF($D14=$E14,"◆","■"),""),"") | K14: =IF(AND(ISNUMBER($D14),ISNUMBER($E14)),IF(AND($D14<=Summary!$B$3+14+6,$E14>=Summary!$B$3+14),IF($D14=$E14,"◆","■"),""),"") | L14: =IF(AND(ISNUMBER($D14),ISNUMBER($E14)),IF(AND($D14<=Summary!$B$3+21+6,$E14>=Summary!$B$3+21),IF($D14=$E14,"◆","■"),""),"") | M14: =IF(AND(ISNUMBER($D14),ISNUMBER($E14)),IF(AND($D14<=Summary!$B$3+28+6,$E14>=Summary!$B$3+28),IF($D14=$E14,"◆","■"),""),"") | N14: =IF(AND(ISNUMBER($D14),ISNUMBER($E14)),IF(AND($D14<=Summary!$B$3+35+6,$E14>=Summary!$B$3+35),IF($D14=$E14,"◆","■"),""),"") | O14: =IF(AND(ISNUMBER($D14),ISNUMBER($E14)),IF(AND($D14<=Summary!$B$3+42+6,$E14>=Summary!$B$3+42),IF($D14=$E14,"◆","■"),""),"") | P14: =IF(AND(ISNUMBER($D14),ISNUMBER($E14)),IF(AND($D14<=Summary!$B$3+49+6,$E14>=Summary!$B$3+49),IF($D14=$E14,"◆","■"),""),"") | Q14: =IF(AND(ISNUMBER($D14),ISNUMBER($E14)),IF(AND($D14<=Summary!$B$3+56+6,$E14>=Summary!$B$3+56),IF($D14=$E14,"◆","■"),""),"") | R14: =IF(AND(ISNUMBER($D14),ISNUMBER($E14)),IF(AND($D14<=Summary!$B$3+63+6,$E14>=Summary!$B$3+63),IF($D14=$E14,"◆","■"),""),"") | S14: =IF(AND(ISNUMBER($D14),ISNUMBER($E14)),IF(AND($D14<=Summary!$B$3+70+6,$E14>=Summary!$B$3+70),IF($D14=$E14,"◆","■"),""),"") -> ■ | T14: =IF(AND(ISNUMBER($D14),ISNUMBER($E14)),IF(AND($D14<=Summary!$B$3+77+6,$E14>=Summary!$B$3+77),IF($D14=$E14,"◆","■"),""),"") -> ■ | U14: =IF(AND(ISNUMBER(F14),ISNUMBER(G14)),F14*G14,0) -> 0
... A16: Post-launch checks | B16: Launch | C16: Priya | D16: 46407 | E16: 46409 | F16: =IF(AND(ISNUMBER(D16),ISNUMBER(E16)),NETWORKDAYS(D16,E16),"") -> 3 | G16: 0 | H16: =IF(ISBLANK(A16),"",IF(G16>=1,"Done",IF(Summary!$B$2<D16,"Not started",IF(Summary!$B$2>E16,"Late","In progress")))) -> Not started | I16: =IF(AND(ISNUMBER($D16),ISNUMBER($E16)),IF(AND($D16<=Summary!$B$3+6,$E16>=Summary!$B$3),IF($D16=$E16,"◆","■"),""),"") | J16: =IF(AND(ISNUMBER($D16),ISNUMBER($E16)),IF(AND($D16<=Summary!$B$3+7+6,$E16>=Summary!$B$3+7),IF($D16=$E16,"◆","■"),""),"") | K16: =IF(AND(ISNUMBER($D16),ISNUMBER($E16)),IF(AND($D16<=Summary!$B$3+14+6,$E16>=Summary!$B$3+14),IF($D16=$E16,"◆","■"),""),"") | L16: =IF(AND(ISNUMBER($D16),ISNUMBER($E16)),IF(AND($D16<=Summary!$B$3+21+6,$E16>=Summary!$B$3+21),IF($D16=$E16,"◆","■"),""),"") | M16: =IF(AND(ISNUMBER($D16),ISNUMBER($E16)),IF(AND($D16<=Summary!$B$3+28+6,$E16>=Summary!$B$3+28),IF($D16=$E16,"◆","■"),""),"") | N16: =IF(AND(ISNUMBER($D16),ISNUMBER($E16)),IF(AND($D16<=Summary!$B$3+35+6,$E16>=Summary!$B$3+35),IF($D16=$E16,"◆","■"),""),"") | O16: =IF(AND(ISNUMBER($D16),ISNUMBER($E16)),IF(AND($D16<=Summary!$B$3+42+6,$E16>=Summary!$B$3+42),IF($D16=$E16,"◆","■"),""),"") | P16: =IF(AND(ISNUMBER($D16),ISNUMBER($E16)),IF(AND($D16<=Summary!$B$3+49+6,$E16>=Summary!$B$3+49),IF($D16=$E16,"◆","■"),""),"") | Q16: =IF(AND(ISNUMBER($D16),ISNUMBER($E16)),IF(AND($D16<=Summary!$B$3+56+6,$E16>=Summary!$B$3+56),IF($D16=$E16,"◆","■"),""),"") | R16: =IF(AND(ISNUMBER($D16),ISNUMBER($E16)),IF(AND($D16<=Summary!$B$3+63+6,$E16>=Summary!$B$3+63),IF($D16=$E16,"◆","■"),""),"") | S16: =IF(AND(ISNUMBER($D16),ISNUMBER($E16)),IF(AND($D16<=Summary!$B$3+70+6,$E16>=Summary!$B$3+70),IF($D16=$E16,"◆","■"),""),"") | T16: =IF(AND(ISNUMBER($D16),ISNUMBER($E16)),IF(AND($D16<=Summary!$B$3+77+6,$E16>=Summary!$B$3+77),IF($D16=$E16,"◆","■"),""),"") -> ■ | U16: =IF(AND(ISNUMBER(F16),ISNUMBER(G16)),F16*G16,0) -> 0

Sheet Summary
A1: Item | B1: Value | C1: Notes
A2: Today's date | B2: =DATE(2026,11,30) -> 46356 | C2: Type a new date, or =TODAY() to keep it current
A3: Chart starts (week of) | B3: =MIN('Gantt Chart'!$D$3:$D$40)-WEEKDAY(MIN('Gantt Chart'!$D$3:$D$40),2)+1 -> 46328 | C3: The Monday of your first task's week. Type a date to start the chart somewhere else
A4: Project start | B4: =MIN('Gantt Chart'!$D$3:$D$40) -> 46328
A5: Project finish | B5: =MAX('Gantt Chart'!$E$3:$E$40) -> 46409
A6: Workdays start to finish | B6: =NETWORKDAYS(B4,B5) -> 60 | C6: Mondays to Fridays, holidays not taken out
A7: Workdays left | B7: =IF(B2>B5,0,NETWORKDAYS(MAX(B2,B4),B5)) -> 40
A8: Tasks | B8: =COUNTA('Gantt Chart'!$A$3:$A$40) -> 14
A9: Done | B9: =COUNTIF('Gantt Chart'!$H$3:$H$40,"Done") -> 3
A10: In progress | B10: =COUNTIF('Gantt Chart'!$H$3:$H$40,"In progress") -> 1
A11: Late | B11: =COUNTIF('Gantt Chart'!$H$3:$H$40,"Late") -> 1 | C11: Past the end date and not at 100%
A12: Overall progress | B12: =IF(SUM('Gantt Chart'!$F$3:$F$40)=0,0,SUM('Gantt Chart'!$U$3:$U$40)/SUM('Gantt Chart'!$F$3:$F$40)) -> 0.23010753 | C12: Each task's Done % weighted by its workdays

Sheet By Phase
A1: Phase | B1: Tasks | C1: Done | D1: Late | E1: Workdays | F1: Progress
A2: Plan | B2: =COUNTIF('Gantt Chart'!$B$3:$B$40,A2) -> 3 | C2: =COUNTIFS('Gantt Chart'!$B$3:$B$40,A2,'Gantt Chart'!$H$3:$H$40,"Done") -> 3 | D2: =COUNTIFS('Gantt Chart'!$B$3:$B$40,A2,'Gantt Chart'!$H$3:$H$40,"Late") -> 0 | E2: =SUMIF('Gantt Chart'!$B$3:$B$40,A2,'Gantt Chart'!$F$3:$F$40) -> 11 | F2: =IF(E2=0,0,SUMIF('Gantt Chart'!$B$3:$B$40,A2,'Gantt Chart'!$U$3:$U$40)/E2) -> 1
A3: Design | B3: =COUNTIF('Gantt Chart'!$B$3:$B$40,A3) -> 3 | C3: =COUNTIFS('Gantt Chart'!$B$3:$B$40,A3,'Gantt Chart'!$H$3:$H$40,"Done") -> 0 | D3: =COUNTIFS('Gantt Chart'!$B$3:$B$40,A3,'Gantt Chart'!$H$3:$H$40,"Late") -> 1 | E3: =SUMIF('Gantt Chart'!$B$3:$B$40,A3,'Gantt Chart'!$F$3:$F$40) -> 19 | F3: =IF(E3=0,0,SUMIF('Gantt Chart'!$B$3:$B$40,A3,'Gantt Chart'!$U$3:$U$40)/E3) -> 0.54736842
A4: Build | B4: =COUNTIF('Gantt Chart'!$B$3:$B$40,A4) -> 3 | C4: =COUNTIFS('Gantt Chart'!$B$3:$B$40,A4,'Gantt Chart'!$H$3:$H$40,"Done") -> 0 | D4: =COUNTIFS('Gantt Chart'!$B$3:$B$40,A4,'Gantt Chart'!$H$3:$H$40,"Late") -> 0 | E4: =SUMIF('Gantt Chart'!$B$3:$B$40,A4,'Gantt Chart'!$F$3:$F$40) -> 43 | F4: =IF(E4=0,0,SUMIF('Gantt Chart'!$B$3:$B$40,A4,'Gantt Chart'!$U$3:$U$40)/E4) -> 0
A5: Test | B5: =COUNTIF('Gantt Chart'!$B$3:$B$40,A5) -> 3 | C5: =COUNTIFS('Gantt Chart'!$B$3:$B$40,A5,'Gantt Chart'!$H$3:$H$40,"Done") -> 0 | D5: =COUNTIFS('Gantt Chart'!$B$3:$B$40,A5,'Gantt Chart'!$H$3:$H$40,"Late") -> 0 | E5: =SUMIF('Gantt Chart'!$B$3:$B$40,A5,'Gantt Chart'!$F$3:$F$40) -> 16 | F5: =IF(E5=0,0,SUMIF('Gantt Chart'!$B$3:$B$40,A5,'Gantt Chart'!$U$3:$U$40)/E5) -> 0
A6: Launch | B6: =COUNTIF('Gantt Chart'!$B$3:$B$40,A6) -> 2 | C6: =COUNTIFS('Gantt Chart'!$B$3:$B$40,A6,'Gantt Chart'!$H$3:$H$40,"Done") -> 0 | D6: =COUNTIFS('Gantt Chart'!$B$3:$B$40,A6,'Gantt Chart'!$H$3:$H$40,"Late") -> 0 | E6: =SUMIF('Gantt Chart'!$B$3:$B$40,A6,'Gantt Chart'!$F$3:$F$40) -> 4 | F6: =IF(E6=0,0,SUMIF('Gantt Chart'!$B$3:$B$40,A6,'Gantt Chart'!$U$3:$U$40)/E6) -> 0
A7: All phases | B7: =SUM(B2:B6) -> 14 | C7: =SUM(C2:C6) -> 3 | D7: =SUM(D2:D6) -> 1 | E7: =SUM(E2:E6) -> 93 | F7: =IF(E7=0,0,SUM('Gantt Chart'!$U$3:$U$40)/E7) -> 0.23010753
