Workbook

Sheet Calendar
A1: Sunday | B1: Monday | C1: Tuesday | D1: Wednesday | E1: Thursday | F1: Friday | G1: Saturday
A2: =Settings!B3 -> 46327
A3: =IF(MONTH(Settings!$B$4)=MONTH(Settings!$B$3),Settings!$B$4,"") -> 46327 | B3: =IF(MONTH(Settings!$B$4+1)=MONTH(Settings!$B$3),Settings!$B$4+1,"") -> 46328 | C3: =IF(MONTH(Settings!$B$4+2)=MONTH(Settings!$B$3),Settings!$B$4+2,"") -> 46329 | D3: =IF(MONTH(Settings!$B$4+3)=MONTH(Settings!$B$3),Settings!$B$4+3,"") -> 46330 | E3: =IF(MONTH(Settings!$B$4+4)=MONTH(Settings!$B$3),Settings!$B$4+4,"") -> 46331 | F3: =IF(MONTH(Settings!$B$4+5)=MONTH(Settings!$B$3),Settings!$B$4+5,"") -> 46332 | G3: =IF(MONTH(Settings!$B$4+6)=MONTH(Settings!$B$3),Settings!$B$4+6,"") -> 46333
A4: =IFERROR(VLOOKUP(A3*10+1,Events!$A$2:$C$61,3,FALSE),"") -> Clocks go back 1 hour | B4: =IFERROR(VLOOKUP(B3*10+1,Events!$A$2:$C$61,3,FALSE),"") | C4: =IFERROR(VLOOKUP(C3*10+1,Events!$A$2:$C$61,3,FALSE),"") -> Election day | D4: =IFERROR(VLOOKUP(D3*10+1,Events!$A$2:$C$61,3,FALSE),"") | E4: =IFERROR(VLOOKUP(E3*10+1,Events!$A$2:$C$61,3,FALSE),"") -> Book club 7pm | F4: =IFERROR(VLOOKUP(F3*10+1,Events!$A$2:$C$61,3,FALSE),"") | G4: =IFERROR(VLOOKUP(G3*10+1,Events!$A$2:$C$61,3,FALSE),"") -> Soccer 10am
A5: =IFERROR(VLOOKUP(A3*10+2,Events!$A$2:$C$61,3,FALSE)&IF(COUNTIFS(Events!$B$2:$B$61,A3)>2," (+"&(COUNTIFS(Events!$B$2:$B$61,A3)-2)&" more)",""),"") -> Pay rent | B5: =IFERROR(VLOOKUP(B3*10+2,Events!$A$2:$C$61,3,FALSE)&IF(COUNTIFS(Events!$B$2:$B$61,B3)>2," (+"&(COUNTIFS(Events!$B$2:$B$61,B3)-2)&" more)",""),"") | C5: =IFERROR(VLOOKUP(C3*10+2,Events!$A$2:$C$61,3,FALSE)&IF(COUNTIFS(Events!$B$2:$B$61,C3)>2," (+"&(COUNTIFS(Events!$B$2:$B$61,C3)-2)&" more)",""),"") | D5: =IFERROR(VLOOKUP(D3*10+2,Events!$A$2:$C$61,3,FALSE)&IF(COUNTIFS(Events!$B$2:$B$61,D3)>2," (+"&(COUNTIFS(Events!$B$2:$B$61,D3)-2)&" more)",""),"") | E5: =IFERROR(VLOOKUP(E3*10+2,Events!$A$2:$C$61,3,FALSE)&IF(COUNTIFS(Events!$B$2:$B$61,E3)>2," (+"&(COUNTIFS(Events!$B$2:$B$61,E3)-2)&" more)",""),"") | F5: =IFERROR(VLOOKUP(F3*10+2,Events!$A$2:$C$61,3,FALSE)&IF(COUNTIFS(Events!$B$2:$B$61,F3)>2," (+"&(COUNTIFS(Events!$B$2:$B$61,F3)-2)&" more)",""),"") | G5: =IFERROR(VLOOKUP(G3*10+2,Events!$A$2:$C$61,3,FALSE)&IF(COUNTIFS(Events!$B$2:$B$61,G3)>2," (+"&(COUNTIFS(Events!$B$2:$B$61,G3)-2)&" more)",""),"") -> Mia's birthday party 2pm
A6: =IF(MONTH(Settings!$B$4+7)=MONTH(Settings!$B$3),Settings!$B$4+7,"") -> 46334 | B6: =IF(MONTH(Settings!$B$4+8)=MONTH(Settings!$B$3),Settings!$B$4+8,"") -> 46335 | C6: =IF(MONTH(Settings!$B$4+9)=MONTH(Settings!$B$3),Settings!$B$4+9,"") -> 46336 | D6: =IF(MONTH(Settings!$B$4+10)=MONTH(Settings!$B$3),Settings!$B$4+10,"") -> 46337 | E6: =IF(MONTH(Settings!$B$4+11)=MONTH(Settings!$B$3),Settings!$B$4+11,"") -> 46338 | F6: =IF(MONTH(Settings!$B$4+12)=MONTH(Settings!$B$3),Settings!$B$4+12,"") -> 46339 | G6: =IF(MONTH(Settings!$B$4+13)=MONTH(Settings!$B$3),Settings!$B$4+13,"") -> 46340
A7: =IFERROR(VLOOKUP(A6*10+1,Events!$A$2:$C$61,3,FALSE),"") | B7: =IFERROR(VLOOKUP(B6*10+1,Events!$A$2:$C$61,3,FALSE),"") | C7: =IFERROR(VLOOKUP(C6*10+1,Events!$A$2:$C$61,3,FALSE),"") | D7: =IFERROR(VLOOKUP(D6*10+1,Events!$A$2:$C$61,3,FALSE),"") -> Veterans Day | E7: =IFERROR(VLOOKUP(E6*10+1,Events!$A$2:$C$61,3,FALSE),"") -> Dentist 3:30 | F7: =IFERROR(VLOOKUP(F6*10+1,Events!$A$2:$C$61,3,FALSE),"") | G7: =IFERROR(VLOOKUP(G6*10+1,Events!$A$2:$C$61,3,FALSE),"") -> Soccer 10am
A8: =IFERROR(VLOOKUP(A6*10+2,Events!$A$2:$C$61,3,FALSE)&IF(COUNTIFS(Events!$B$2:$B$61,A6)>2," (+"&(COUNTIFS(Events!$B$2:$B$61,A6)-2)&" more)",""),"") | B8: =IFERROR(VLOOKUP(B6*10+2,Events!$A$2:$C$61,3,FALSE)&IF(COUNTIFS(Events!$B$2:$B$61,B6)>2," (+"&(COUNTIFS(Events!$B$2:$B$61,B6)-2)&" more)",""),"") | C8: =IFERROR(VLOOKUP(C6*10+2,Events!$A$2:$C$61,3,FALSE)&IF(COUNTIFS(Events!$B$2:$B$61,C6)>2," (+"&(COUNTIFS(Events!$B$2:$B$61,C6)-2)&" more)",""),"") | D8: =IFERROR(VLOOKUP(D6*10+2,Events!$A$2:$C$61,3,FALSE)&IF(COUNTIFS(Events!$B$2:$B$61,D6)>2," (+"&(COUNTIFS(Events!$B$2:$B$61,D6)-2)&" more)",""),"") | E8: =IFERROR(VLOOKUP(E6*10+2,Events!$A$2:$C$61,3,FALSE)&IF(COUNTIFS(Events!$B$2:$B$61,E6)>2," (+"&(COUNTIFS(Events!$B$2:$B$61,E6)-2)&" more)",""),"") | F8: =IFERROR(VLOOKUP(F6*10+2,Events!$A$2:$C$61,3,FALSE)&IF(COUNTIFS(Events!$B$2:$B$61,F6)>2," (+"&(COUNTIFS(Events!$B$2:$B$61,F6)-2)&" more)",""),"") | G8: =IFERROR(VLOOKUP(G6*10+2,Events!$A$2:$C$61,3,FALSE)&IF(COUNTIFS(Events!$B$2:$B$61,G6)>2," (+"&(COUNTIFS(Events!$B$2:$B$61,G6)-2)&" more)",""),"")
A9: =IF(MONTH(Settings!$B$4+14)=MONTH(Settings!$B$3),Settings!$B$4+14,"") -> 46341 | B9: =IF(MONTH(Settings!$B$4+15)=MONTH(Settings!$B$3),Settings!$B$4+15,"") -> 46342 | C9: =IF(MONTH(Settings!$B$4+16)=MONTH(Settings!$B$3),Settings!$B$4+16,"") -> 46343 | D9: =IF(MONTH(Settings!$B$4+17)=MONTH(Settings!$B$3),Settings!$B$4+17,"") -> 46344 | E9: =IF(MONTH(Settings!$B$4+18)=MONTH(Settings!$B$3),Settings!$B$4+18,"") -> 46345 | F9: =IF(MONTH(Settings!$B$4+19)=MONTH(Settings!$B$3),Settings!$B$4+19,"") -> 46346 | G9: =IF(MONTH(Settings!$B$4+20)=MONTH(Settings!$B$3),Settings!$B$4+20,"") -> 46347
A10: =IFERROR(VLOOKUP(A9*10+1,Events!$A$2:$C$61,3,FALSE),"") | B10: =IFERROR(VLOOKUP(B9*10+1,Events!$A$2:$C$61,3,FALSE),"") | C10: =IFERROR(VLOOKUP(C9*10+1,Events!$A$2:$C$61,3,FALSE),"") | D10: =IFERROR(VLOOKUP(D9*10+1,Events!$A$2:$C$61,3,FALSE),"") -> Parent-teacher night | E10: =IFERROR(VLOOKUP(E9*10+1,Events!$A$2:$C$61,3,FALSE),"") | F10: =IFERROR(VLOOKUP(F9*10+1,Events!$A$2:$C$61,3,FALSE),"") -> Payday | G10: =IFERROR(VLOOKUP(G9*10+1,Events!$A$2:$C$61,3,FALSE),"") -> Soccer final 9am
A11: =IFERROR(VLOOKUP(A9*10+2,Events!$A$2:$C$61,3,FALSE)&IF(COUNTIFS(Events!$B$2:$B$61,A9)>2," (+"&(COUNTIFS(Events!$B$2:$B$61,A9)-2)&" more)",""),"") | B11: =IFERROR(VLOOKUP(B9*10+2,Events!$A$2:$C$61,3,FALSE)&IF(COUNTIFS(Events!$B$2:$B$61,B9)>2," (+"&(COUNTIFS(Events!$B$2:$B$61,B9)-2)&" more)",""),"") | C11: =IFERROR(VLOOKUP(C9*10+2,Events!$A$2:$C$61,3,FALSE)&IF(COUNTIFS(Events!$B$2:$B$61,C9)>2," (+"&(COUNTIFS(Events!$B$2:$B$61,C9)-2)&" more)",""),"") | D11: =IFERROR(VLOOKUP(D9*10+2,Events!$A$2:$C$61,3,FALSE)&IF(COUNTIFS(Events!$B$2:$B$61,D9)>2," (+"&(COUNTIFS(Events!$B$2:$B$61,D9)-2)&" more)",""),"") | E11: =IFERROR(VLOOKUP(E9*10+2,Events!$A$2:$C$61,3,FALSE)&IF(COUNTIFS(Events!$B$2:$B$61,E9)>2," (+"&(COUNTIFS(Events!$B$2:$B$61,E9)-2)&" more)",""),"") | F11: =IFERROR(VLOOKUP(F9*10+2,Events!$A$2:$C$61,3,FALSE)&IF(COUNTIFS(Events!$B$2:$B$61,F9)>2," (+"&(COUNTIFS(Events!$B$2:$B$61,F9)-2)&" more)",""),"") | G11: =IFERROR(VLOOKUP(G9*10+2,Events!$A$2:$C$61,3,FALSE)&IF(COUNTIFS(Events!$B$2:$B$61,G9)>2," (+"&(COUNTIFS(Events!$B$2:$B$61,G9)-2)&" more)",""),"")
A12: =IF(MONTH(Settings!$B$4+21)=MONTH(Settings!$B$3),Settings!$B$4+21,"") -> 46348 | B12: =IF(MONTH(Settings!$B$4+22)=MONTH(Settings!$B$3),Settings!$B$4+22,"") -> 46349 | C12: =IF(MONTH(Settings!$B$4+23)=MONTH(Settings!$B$3),Settings!$B$4+23,"") -> 46350 | D12: =IF(MONTH(Settings!$B$4+24)=MONTH(Settings!$B$3),Settings!$B$4+24,"") -> 46351 | E12: =IF(MONTH(Settings!$B$4+25)=MONTH(Settings!$B$3),Settings!$B$4+25,"") -> 46352 | F12: =IF(MONTH(Settings!$B$4+26)=MONTH(Settings!$B$3),Settings!$B$4+26,"") -> 46353 | G12: =IF(MONTH(Settings!$B$4+27)=MONTH(Settings!$B$3),Settings!$B$4+27,"") -> 46354
A13: =IFERROR(VLOOKUP(A12*10+1,Events!$A$2:$C$61,3,FALSE),"") | B13: =IFERROR(VLOOKUP(B12*10+1,Events!$A$2:$C$61,3,FALSE),"") | C13: =IFERROR(VLOOKUP(C12*10+1,Events!$A$2:$C$61,3,FALSE),"") -> Order the turkey | D13: =IFERROR(VLOOKUP(D12*10+1,Events!$A$2:$C$61,3,FALSE),"") | E13: =IFERROR(VLOOKUP(E12*10+1,Events!$A$2:$C$61,3,FALSE),"") -> Thanksgiving at Mom's | F13: =IFERROR(VLOOKUP(F12*10+1,Events!$A$2:$C$61,3,FALSE),"") | G13: =IFERROR(VLOOKUP(G12*10+1,Events!$A$2:$C$61,3,FALSE),"")
A14: =IFERROR(VLOOKUP(A12*10+2,Events!$A$2:$C$61,3,FALSE)&IF(COUNTIFS(Events!$B$2:$B$61,A12)>2," (+"&(COUNTIFS(Events!$B$2:$B$61,A12)-2)&" more)",""),"") | B14: =IFERROR(VLOOKUP(B12*10+2,Events!$A$2:$C$61,3,FALSE)&IF(COUNTIFS(Events!$B$2:$B$61,B12)>2," (+"&(COUNTIFS(Events!$B$2:$B$61,B12)-2)&" more)",""),"") | C14: =IFERROR(VLOOKUP(C12*10+2,Events!$A$2:$C$61,3,FALSE)&IF(COUNTIFS(Events!$B$2:$B$61,C12)>2," (+"&(COUNTIFS(Events!$B$2:$B$61,C12)-2)&" more)",""),"") | D14: =IFERROR(VLOOKUP(D12*10+2,Events!$A$2:$C$61,3,FALSE)&IF(COUNTIFS(Events!$B$2:$B$61,D12)>2," (+"&(COUNTIFS(Events!$B$2:$B$61,D12)-2)&" more)",""),"") | E14: =IFERROR(VLOOKUP(E12*10+2,Events!$A$2:$C$61,3,FALSE)&IF(COUNTIFS(Events!$B$2:$B$61,E12)>2," (+"&(COUNTIFS(Events!$B$2:$B$61,E12)-2)&" more)",""),"") -> Bring pumpkin pie (+1 more) | F14: =IFERROR(VLOOKUP(F12*10+2,Events!$A$2:$C$61,3,FALSE)&IF(COUNTIFS(Events!$B$2:$B$61,F12)>2," (+"&(COUNTIFS(Events!$B$2:$B$61,F12)-2)&" more)",""),"") | G14: =IFERROR(VLOOKUP(G12*10+2,Events!$A$2:$C$61,3,FALSE)&IF(COUNTIFS(Events!$B$2:$B$61,G12)>2," (+"&(COUNTIFS(Events!$B$2:$B$61,G12)-2)&" more)",""),"")
A15: =IF(MONTH(Settings!$B$4+28)=MONTH(Settings!$B$3),Settings!$B$4+28,"") -> 46355 | B15: =IF(MONTH(Settings!$B$4+29)=MONTH(Settings!$B$3),Settings!$B$4+29,"") -> 46356 | C15: =IF(MONTH(Settings!$B$4+30)=MONTH(Settings!$B$3),Settings!$B$4+30,"") | D15: =IF(MONTH(Settings!$B$4+31)=MONTH(Settings!$B$3),Settings!$B$4+31,"") | E15: =IF(MONTH(Settings!$B$4+32)=MONTH(Settings!$B$3),Settings!$B$4+32,"") | F15: =IF(MONTH(Settings!$B$4+33)=MONTH(Settings!$B$3),Settings!$B$4+33,"") | G15: =IF(MONTH(Settings!$B$4+34)=MONTH(Settings!$B$3),Settings!$B$4+34,"")
A16: =IFERROR(VLOOKUP(A15*10+1,Events!$A$2:$C$61,3,FALSE),"") | B16: =IFERROR(VLOOKUP(B15*10+1,Events!$A$2:$C$61,3,FALSE),"") -> Car insurance due | C16: =IFERROR(VLOOKUP(C15*10+1,Events!$A$2:$C$61,3,FALSE),"") | D16: =IFERROR(VLOOKUP(D15*10+1,Events!$A$2:$C$61,3,FALSE),"") | E16: =IFERROR(VLOOKUP(E15*10+1,Events!$A$2:$C$61,3,FALSE),"") | F16: =IFERROR(VLOOKUP(F15*10+1,Events!$A$2:$C$61,3,FALSE),"") | G16: =IFERROR(VLOOKUP(G15*10+1,Events!$A$2:$C$61,3,FALSE),"")
A17: =IFERROR(VLOOKUP(A15*10+2,Events!$A$2:$C$61,3,FALSE)&IF(COUNTIFS(Events!$B$2:$B$61,A15)>2," (+"&(COUNTIFS(Events!$B$2:$B$61,A15)-2)&" more)",""),"") | B17: =IFERROR(VLOOKUP(B15*10+2,Events!$A$2:$C$61,3,FALSE)&IF(COUNTIFS(Events!$B$2:$B$61,B15)>2," (+"&(COUNTIFS(Events!$B$2:$B$61,B15)-2)&" more)",""),"") | C17: =IFERROR(VLOOKUP(C15*10+2,Events!$A$2:$C$61,3,FALSE)&IF(COUNTIFS(Events!$B$2:$B$61,C15)>2," (+"&(COUNTIFS(Events!$B$2:$B$61,C15)-2)&" more)",""),"") | D17: =IFERROR(VLOOKUP(D15*10+2,Events!$A$2:$C$61,3,FALSE)&IF(COUNTIFS(Events!$B$2:$B$61,D15)>2," (+"&(COUNTIFS(Events!$B$2:$B$61,D15)-2)&" more)",""),"") | E17: =IFERROR(VLOOKUP(E15*10+2,Events!$A$2:$C$61,3,FALSE)&IF(COUNTIFS(Events!$B$2:$B$61,E15)>2," (+"&(COUNTIFS(Events!$B$2:$B$61,E15)-2)&" more)",""),"") | F17: =IFERROR(VLOOKUP(F15*10+2,Events!$A$2:$C$61,3,FALSE)&IF(COUNTIFS(Events!$B$2:$B$61,F15)>2," (+"&(COUNTIFS(Events!$B$2:$B$61,F15)-2)&" more)",""),"") | G17: =IFERROR(VLOOKUP(G15*10+2,Events!$A$2:$C$61,3,FALSE)&IF(COUNTIFS(Events!$B$2:$B$61,G15)>2," (+"&(COUNTIFS(Events!$B$2:$B$61,G15)-2)&" more)",""),"")
A18: =IF(MONTH(Settings!$B$4+35)=MONTH(Settings!$B$3),Settings!$B$4+35,"") | B18: =IF(MONTH(Settings!$B$4+36)=MONTH(Settings!$B$3),Settings!$B$4+36,"") | C18: =IF(MONTH(Settings!$B$4+37)=MONTH(Settings!$B$3),Settings!$B$4+37,"") | D18: =IF(MONTH(Settings!$B$4+38)=MONTH(Settings!$B$3),Settings!$B$4+38,"") | E18: =IF(MONTH(Settings!$B$4+39)=MONTH(Settings!$B$3),Settings!$B$4+39,"") | F18: =IF(MONTH(Settings!$B$4+40)=MONTH(Settings!$B$3),Settings!$B$4+40,"") | G18: =IF(MONTH(Settings!$B$4+41)=MONTH(Settings!$B$3),Settings!$B$4+41,"")
A19: =IFERROR(VLOOKUP(A18*10+1,Events!$A$2:$C$61,3,FALSE),"") | B19: =IFERROR(VLOOKUP(B18*10+1,Events!$A$2:$C$61,3,FALSE),"") | C19: =IFERROR(VLOOKUP(C18*10+1,Events!$A$2:$C$61,3,FALSE),"") | D19: =IFERROR(VLOOKUP(D18*10+1,Events!$A$2:$C$61,3,FALSE),"") | E19: =IFERROR(VLOOKUP(E18*10+1,Events!$A$2:$C$61,3,FALSE),"") | F19: =IFERROR(VLOOKUP(F18*10+1,Events!$A$2:$C$61,3,FALSE),"") | G19: =IFERROR(VLOOKUP(G18*10+1,Events!$A$2:$C$61,3,FALSE),"")
A20: =IFERROR(VLOOKUP(A18*10+2,Events!$A$2:$C$61,3,FALSE)&IF(COUNTIFS(Events!$B$2:$B$61,A18)>2," (+"&(COUNTIFS(Events!$B$2:$B$61,A18)-2)&" more)",""),"") | B20: =IFERROR(VLOOKUP(B18*10+2,Events!$A$2:$C$61,3,FALSE)&IF(COUNTIFS(Events!$B$2:$B$61,B18)>2," (+"&(COUNTIFS(Events!$B$2:$B$61,B18)-2)&" more)",""),"") | C20: =IFERROR(VLOOKUP(C18*10+2,Events!$A$2:$C$61,3,FALSE)&IF(COUNTIFS(Events!$B$2:$B$61,C18)>2," (+"&(COUNTIFS(Events!$B$2:$B$61,C18)-2)&" more)",""),"") | D20: =IFERROR(VLOOKUP(D18*10+2,Events!$A$2:$C$61,3,FALSE)&IF(COUNTIFS(Events!$B$2:$B$61,D18)>2," (+"&(COUNTIFS(Events!$B$2:$B$61,D18)-2)&" more)",""),"") | E20: =IFERROR(VLOOKUP(E18*10+2,Events!$A$2:$C$61,3,FALSE)&IF(COUNTIFS(Events!$B$2:$B$61,E18)>2," (+"&(COUNTIFS(Events!$B$2:$B$61,E18)-2)&" more)",""),"") | F20: =IFERROR(VLOOKUP(F18*10+2,Events!$A$2:$C$61,3,FALSE)&IF(COUNTIFS(Events!$B$2:$B$61,F18)>2," (+"&(COUNTIFS(Events!$B$2:$B$61,F18)-2)&" more)",""),"") | G20: =IFERROR(VLOOKUP(G18*10+2,Events!$A$2:$C$61,3,FALSE)&IF(COUNTIFS(Events!$B$2:$B$61,G18)>2," (+"&(COUNTIFS(Events!$B$2:$B$61,G18)-2)&" more)",""),"")

Sheet Events
A1: Key (automatic) | B1: Date | C1: Event
A2: =IF(ISNUMBER(B2),B2*10+COUNTIFS($B$1:B2,B2),"") -> 463271 | B2: 46327 | C2: Clocks go back 1 hour
A3: =IF(ISNUMBER(B3),B3*10+COUNTIFS($B$1:B3,B3),"") -> 463272 | B3: 46327 | C3: Pay rent
A4: =IF(ISNUMBER(B4),B4*10+COUNTIFS($B$1:B4,B4),"") -> 463291 | B4: 46329 | C4: Election day
A5: =IF(ISNUMBER(B5),B5*10+COUNTIFS($B$1:B5,B5),"") -> 463311 | B5: 46331 | C5: Book club 7pm
A6: =IF(ISNUMBER(B6),B6*10+COUNTIFS($B$1:B6,B6),"") -> 463331 | B6: 46333 | C6: Soccer 10am
A7: =IF(ISNUMBER(B7),B7*10+COUNTIFS($B$1:B7,B7),"") -> 463332 | B7: 46333 | C7: Mia's birthday party 2pm
A8: =IF(ISNUMBER(B8),B8*10+COUNTIFS($B$1:B8,B8),"") -> 463371 | B8: 46337 | C8: Veterans Day
A9: =IF(ISNUMBER(B9),B9*10+COUNTIFS($B$1:B9,B9),"") -> 463381 | B9: 46338 | C9: Dentist 3:30
A10: =IF(ISNUMBER(B10),B10*10+COUNTIFS($B$1:B10,B10),"") -> 463401 | B10: 46340 | C10: Soccer 10am
A11: =IF(ISNUMBER(B11),B11*10+COUNTIFS($B$1:B11,B11),"") -> 463441 | B11: 46344 | C11: Parent-teacher night
A12: =IF(ISNUMBER(B12),B12*10+COUNTIFS($B$1:B12,B12),"") -> 463461 | B12: 46346 | C12: Payday
A13: =IF(ISNUMBER(B13),B13*10+COUNTIFS($B$1:B13,B13),"") -> 463471 | B13: 46347 | C13: Soccer final 9am
... A20: =IF(ISNUMBER(B20),B20*10+COUNTIFS($B$1:B20,B20),"") -> 463601 | B20: 46360 | C20: Office holiday party
A21: =IF(ISNUMBER(B21),B21*10+COUNTIFS($B$1:B21,B21),"")
A22: =IF(ISNUMBER(B22),B22*10+COUNTIFS($B$1:B22,B22),"")
A23: =IF(ISNUMBER(B23),B23*10+COUNTIFS($B$1:B23,B23),"")
A24: =IF(ISNUMBER(B24),B24*10+COUNTIFS($B$1:B24,B24),"")
A25: =IF(ISNUMBER(B25),B25*10+COUNTIFS($B$1:B25,B25),"")
A26: =IF(ISNUMBER(B26),B26*10+COUNTIFS($B$1:B26,B26),"")
A27: =IF(ISNUMBER(B27),B27*10+COUNTIFS($B$1:B27,B27),"")
A28: =IF(ISNUMBER(B28),B28*10+COUNTIFS($B$1:B28,B28),"")
A29: =IF(ISNUMBER(B29),B29*10+COUNTIFS($B$1:B29,B29),"")
A30: =IF(ISNUMBER(B30),B30*10+COUNTIFS($B$1:B30,B30),"")
A31: =IF(ISNUMBER(B31),B31*10+COUNTIFS($B$1:B31,B31),"")
A32: =IF(ISNUMBER(B32),B32*10+COUNTIFS($B$1:B32,B32),"")
... A61: =IF(ISNUMBER(B61),B61*10+COUNTIFS($B$1:B61,B61),"")

Sheet Settings
A1: Setting | B1: Value
A2: Month to show (type any date in it) | B2: 46327
A3: First day of that month | B3: =DATE(YEAR(B2),MONTH(B2),1) -> 46327
A4: Grid starts on (the Sunday before) | B4: =B3-WEEKDAY(B3)+1 -> 46327
A5: Events this month | B5: =COUNTIFS(Events!B2:B61,">="&B3,Events!B2:B61,"<="&EOMONTH(B3,0)) -> 17
