Workbook

Sheet Expenses
A1: Date | B1: Description | C1: Category | D1: Paid with | E1: Amount
A2: 46293 | B2: Costco run | C2: Groceries | D2: Credit card | E2: 186.4
A3: 46295 | B3: Netflix | C3: Subscriptions | D3: Credit card | E3: 15.49
A4: 46296 | B4: Electric bill | C4: Home and utilities | D4: Bank transfer | E4: 92.17
A5: 46297 | B5: Kroger | C5: Groceries | D5: Debit card | E5: 74.32
A6: 46298 | B6: Gas fill-up | C6: Gas and transport | D6: Credit card | E6: 41.8
A7: 46299 | B7: Chipotle lunch | C7: Dining out | D7: Credit card | E7: 23.65
A8: 46301 | B8: Pharmacy prescription | C8: Health | D8: Debit card | E8: 12
A9: 46303 | B9: Spotify | C9: Subscriptions | D9: Credit card | E9: 11.99
A10: 46304 | B10: Target (towels, detergent) | C10: Shopping | D10: Credit card | E10: 48.27
A11: 46305 | B11: Movie tickets | C11: Entertainment | D11: Credit card | E11: 31.5
A12: 46306 | B12: Trader Joe's | C12: Groceries | D12: Debit card | E12: 58.9
A13: 46308 | B13: Pizza night | C13: Dining out | D13: Cash | E13: 36
... A16: 46311 | B16: Birthday gift for Sam | C16: Other | D16: Debit card | E16: 40

Sheet Categories
A1: Category | B1: Monthly budget | C1: Spent | D1: Left | E1: Share of spending | F1: Purchases
A2: Month to show | B2: =DATE(2026,10,1) -> 46296
A3: Groceries | B3: 500 | C3: =SUMIFS(Expenses!E:E,Expenses!C:C,A3,Expenses!A:A,">="&$B$2,Expenses!A:A,"<="&EOMONTH($B$2,0)) -> 133.22 | D3: =B3-C3 -> 366.78 | E3: =IF($C$12=0,0,C3/$C$12) -> 0.2297887 | F3: =COUNTIFS(Expenses!C:C,A3,Expenses!A:A,">="&$B$2,Expenses!A:A,"<="&EOMONTH($B$2,0)) -> 2
A4: Dining out | B4: 150 | C4: =SUMIFS(Expenses!E:E,Expenses!C:C,A4,Expenses!A:A,">="&$B$2,Expenses!A:A,"<="&EOMONTH($B$2,0)) -> 59.65 | D4: =B4-C4 -> 90.35 | E4: =IF($C$12=0,0,C4/$C$12) -> 0.10288918 | F4: =COUNTIFS(Expenses!C:C,A4,Expenses!A:A,">="&$B$2,Expenses!A:A,"<="&EOMONTH($B$2,0)) -> 2
A5: Gas and transport | B5: 180 | C5: =SUMIFS(Expenses!E:E,Expenses!C:C,A5,Expenses!A:A,">="&$B$2,Expenses!A:A,"<="&EOMONTH($B$2,0)) -> 85.95 | D5: =B5-C5 -> 94.05 | E5: =IF($C$12=0,0,C5/$C$12) -> 0.14825356 | F5: =COUNTIFS(Expenses!C:C,A5,Expenses!A:A,">="&$B$2,Expenses!A:A,"<="&EOMONTH($B$2,0)) -> 2
A6: Home and utilities | B6: 250 | C6: =SUMIFS(Expenses!E:E,Expenses!C:C,A6,Expenses!A:A,">="&$B$2,Expenses!A:A,"<="&EOMONTH($B$2,0)) -> 157.17 | D6: =B6-C6 -> 92.83 | E6: =IF($C$12=0,0,C6/$C$12) -> 0.27109961 | F6: =COUNTIFS(Expenses!C:C,A6,Expenses!A:A,">="&$B$2,Expenses!A:A,"<="&EOMONTH($B$2,0)) -> 2
A7: Health | B7: 60 | C7: =SUMIFS(Expenses!E:E,Expenses!C:C,A7,Expenses!A:A,">="&$B$2,Expenses!A:A,"<="&EOMONTH($B$2,0)) -> 12 | D7: =B7-C7 -> 48 | E7: =IF($C$12=0,0,C7/$C$12) -> 0.020698577 | F7: =COUNTIFS(Expenses!C:C,A7,Expenses!A:A,">="&$B$2,Expenses!A:A,"<="&EOMONTH($B$2,0)) -> 1
A8: Shopping | B8: 120 | C8: =SUMIFS(Expenses!E:E,Expenses!C:C,A8,Expenses!A:A,">="&$B$2,Expenses!A:A,"<="&EOMONTH($B$2,0)) -> 48.27 | D8: =B8-C8 -> 71.73 | E8: =IF($C$12=0,0,C8/$C$12) -> 0.083260026 | F8: =COUNTIFS(Expenses!C:C,A8,Expenses!A:A,">="&$B$2,Expenses!A:A,"<="&EOMONTH($B$2,0)) -> 1
A9: Entertainment | B9: 80 | C9: =SUMIFS(Expenses!E:E,Expenses!C:C,A9,Expenses!A:A,">="&$B$2,Expenses!A:A,"<="&EOMONTH($B$2,0)) -> 31.5 | D9: =B9-C9 -> 48.5 | E9: =IF($C$12=0,0,C9/$C$12) -> 0.054333765 | F9: =COUNTIFS(Expenses!C:C,A9,Expenses!A:A,">="&$B$2,Expenses!A:A,"<="&EOMONTH($B$2,0)) -> 1
A10: Subscriptions | B10: 45 | C10: =SUMIFS(Expenses!E:E,Expenses!C:C,A10,Expenses!A:A,">="&$B$2,Expenses!A:A,"<="&EOMONTH($B$2,0)) -> 11.99 | D10: =B10-C10 -> 33.01 | E10: =IF($C$12=0,0,C10/$C$12) -> 0.020681328 | F10: =COUNTIFS(Expenses!C:C,A10,Expenses!A:A,">="&$B$2,Expenses!A:A,"<="&EOMONTH($B$2,0)) -> 1
A11: Other | B11: 75 | C11: =SUMIFS(Expenses!E:E,Expenses!C:C,A11,Expenses!A:A,">="&$B$2,Expenses!A:A,"<="&EOMONTH($B$2,0)) -> 40 | D11: =B11-C11 -> 35 | E11: =IF($C$12=0,0,C11/$C$12) -> 0.068995257 | F11: =COUNTIFS(Expenses!C:C,A11,Expenses!A:A,">="&$B$2,Expenses!A:A,"<="&EOMONTH($B$2,0)) -> 1
A12: Total | B12: =SUM(B3:B11) -> 1460 | C12: =SUM(C3:C11) -> 579.75 | D12: =SUM(D3:D11) -> 880.25 | E12: =SUM(E3:E11) -> 1 | F12: =SUM(F3:F11) -> 13
A13: Not in a category above | C13: =SUMIFS(Expenses!E:E,Expenses!A:A,">="&$B$2,Expenses!A:A,"<="&EOMONTH($B$2,0))-C12 -> 0 | F13: =COUNTIFS(Expenses!A:A,">="&$B$2,Expenses!A:A,"<="&EOMONTH($B$2,0))-F12 -> 0
