Workbook

Sheet Items
A1: SKU | B1: Item | C1: Category | D1: Location | E1: Starting qty | F1: Received | G1: Used or sold | H1: In stock | I1: Reorder at | J1: Reorder? | K1: Unit cost | L1: Stock value | M1: Supplier
A2: CND-001 | B2: Lavender candle, 8 oz | C2: Candles | D2: Shelf A1 | E2: 24 | F2: =SUMIF('Stock Moves'!$B$2:$B$1000,A2,'Stock Moves'!$D$2:$D$1000) -> 12 | G2: =SUMIF('Stock Moves'!$B$2:$B$1000,A2,'Stock Moves'!$E$2:$E$1000) -> 10 | H2: =E2+F2-G2 -> 26 | I2: 10 | J2: =IF(H2<=I2,"Reorder","OK") -> OK | K2: 6.5 | L2: =H2*K2 -> 169 | M2: Made in-house
A3: CND-002 | B3: Cedar and smoke candle, 8 oz | C3: Candles | D3: Shelf A1 | E3: 18 | F3: =SUMIF('Stock Moves'!$B$2:$B$1000,A3,'Stock Moves'!$D$2:$D$1000) -> 0 | G3: =SUMIF('Stock Moves'!$B$2:$B$1000,A3,'Stock Moves'!$E$2:$E$1000) -> 9 | H3: =E3+F3-G3 -> 9 | I3: 10 | J3: =IF(H3<=I3,"Reorder","OK") -> Reorder | K3: 6.5 | L3: =H3*K3 -> 58.5 | M3: Made in-house
A4: CND-003 | B4: Vanilla bean candle, 4 oz | C4: Candles | D4: Shelf A2 | E4: 30 | F4: =SUMIF('Stock Moves'!$B$2:$B$1000,A4,'Stock Moves'!$D$2:$D$1000) -> 0 | G4: =SUMIF('Stock Moves'!$B$2:$B$1000,A4,'Stock Moves'!$E$2:$E$1000) -> 11 | H4: =E4+F4-G4 -> 19 | I4: 12 | J4: =IF(H4<=I4,"Reorder","OK") -> OK | K4: 3.75 | L4: =H4*K4 -> 71.25 | M4: Made in-house
A5: SOP-001 | B5: Oatmeal honey soap bar | C5: Soap | D5: Shelf B1 | E5: 40 | F5: =SUMIF('Stock Moves'!$B$2:$B$1000,A5,'Stock Moves'!$D$2:$D$1000) -> 0 | G5: =SUMIF('Stock Moves'!$B$2:$B$1000,A5,'Stock Moves'!$E$2:$E$1000) -> 9 | H5: =E5+F5-G5 -> 31 | I5: 15 | J5: =IF(H5<=I5,"Reorder","OK") -> OK | K5: 2.1 | L5: =H5*K5 -> 65.1 | M5: Made in-house
A6: SOP-002 | B6: Peppermint soap bar | C6: Soap | D6: Shelf B1 | E6: 35 | F6: =SUMIF('Stock Moves'!$B$2:$B$1000,A6,'Stock Moves'!$D$2:$D$1000) -> 0 | G6: =SUMIF('Stock Moves'!$B$2:$B$1000,A6,'Stock Moves'!$E$2:$E$1000) -> 7 | H6: =E6+F6-G6 -> 28 | I6: 15 | J6: =IF(H6<=I6,"Reorder","OK") -> OK | K6: 2.1 | L6: =H6*K6 -> 58.8 | M6: Made in-house
A7: SOP-003 | B7: Charcoal soap bar | C7: Soap | D7: Shelf B2 | E7: 12 | F7: =SUMIF('Stock Moves'!$B$2:$B$1000,A7,'Stock Moves'!$D$2:$D$1000) -> 0 | G7: =SUMIF('Stock Moves'!$B$2:$B$1000,A7,'Stock Moves'!$E$2:$E$1000) -> 3 | H7: =E7+F7-G7 -> 9 | I7: 10 | J7: =IF(H7<=I7,"Reorder","OK") -> Reorder | K7: 2.4 | L7: =H7*K7 -> 21.6 | M7: Made in-house
A8: SUP-001 | B8: Soy wax (lb) | C8: Supplies | D8: Bin 1 | E8: 50 | F8: =SUMIF('Stock Moves'!$B$2:$B$1000,A8,'Stock Moves'!$D$2:$D$1000) -> 25 | G8: =SUMIF('Stock Moves'!$B$2:$B$1000,A8,'Stock Moves'!$E$2:$E$1000) -> 8 | H8: =E8+F8-G8 -> 67 | I8: 20 | J8: =IF(H8<=I8,"Reorder","OK") -> OK | K8: 2.2 | L8: =H8*K8 -> 147.4 | M8: Wax and wick supplier
A9: SUP-002 | B9: Cotton wicks | C9: Supplies | D9: Bin 2 | E9: 150 | F9: =SUMIF('Stock Moves'!$B$2:$B$1000,A9,'Stock Moves'!$D$2:$D$1000) -> 0 | G9: =SUMIF('Stock Moves'!$B$2:$B$1000,A9,'Stock Moves'!$E$2:$E$1000) -> 12 | H9: =E9+F9-G9 -> 138 | I9: 50 | J9: =IF(H9<=I9,"Reorder","OK") -> OK | K9: 0.09 | L9: =H9*K9 -> 12.42 | M9: Wax and wick supplier
A10: SUP-003 | B10: Lavender fragrance oil, 16 oz | C10: Supplies | D10: Bin 3 | E10: 3 | F10: =SUMIF('Stock Moves'!$B$2:$B$1000,A10,'Stock Moves'!$D$2:$D$1000) -> 0 | G10: =SUMIF('Stock Moves'!$B$2:$B$1000,A10,'Stock Moves'!$E$2:$E$1000) -> 1 | H10: =E10+F10-G10 -> 2 | I10: 2 | J10: =IF(H10<=I10,"Reorder","OK") -> Reorder | K10: 24 | L10: =H10*K10 -> 48 | M10: Fragrance supplier
A11: SUP-004 | B11: Glass jars, 8 oz | C11: Supplies | D11: Bin 4 | E11: 60 | F11: =SUMIF('Stock Moves'!$B$2:$B$1000,A11,'Stock Moves'!$D$2:$D$1000) -> 0 | G11: =SUMIF('Stock Moves'!$B$2:$B$1000,A11,'Stock Moves'!$E$2:$E$1000) -> 12 | H11: =E11+F11-G11 -> 48 | I11: 24 | J11: =IF(H11<=I11,"Reorder","OK") -> OK | K11: 1.15 | L11: =H11*K11 -> 55.2 | M11: Packaging wholesaler
A12: SUP-005 | B12: Melt and pour soap base, 2 lb | C12: Supplies | D12: Bin 5 | E12: 8 | F12: =SUMIF('Stock Moves'!$B$2:$B$1000,A12,'Stock Moves'!$D$2:$D$1000) -> 0 | G12: =SUMIF('Stock Moves'!$B$2:$B$1000,A12,'Stock Moves'!$E$2:$E$1000) -> 0 | H12: =E12+F12-G12 -> 8 | I12: 4 | J12: =IF(H12<=I12,"Reorder","OK") -> OK | K12: 11.5 | L12: =H12*K12 -> 92 | M12: Soap supplier
A13: PKG-001 | B13: Kraft gift boxes | C13: Packaging | D13: Drawer 1 | E13: 80 | F13: =SUMIF('Stock Moves'!$B$2:$B$1000,A13,'Stock Moves'!$D$2:$D$1000) -> 0 | G13: =SUMIF('Stock Moves'!$B$2:$B$1000,A13,'Stock Moves'!$E$2:$E$1000) -> 18 | H13: =E13+F13-G13 -> 62 | I13: 30 | J13: =IF(H13<=I13,"Reorder","OK") -> OK | K13: 0.45 | L13: =H13*K13 -> 27.9 | M13: Packaging wholesaler
... A15: PKG-003 | B15: Padded mailers | C15: Packaging | D15: Drawer 2 | E15: 100 | F15: =SUMIF('Stock Moves'!$B$2:$B$1000,A15,'Stock Moves'!$D$2:$D$1000) -> 0 | G15: =SUMIF('Stock Moves'!$B$2:$B$1000,A15,'Stock Moves'!$E$2:$E$1000) -> 9 | H15: =E15+F15-G15 -> 91 | I15: 40 | J15: =IF(H15<=I15,"Reorder","OK") -> OK | K15: 0.32 | L15: =H15*K15 -> 29.12 | M15: Packaging wholesaler

Sheet Stock Moves
A1: Date | B1: SKU | C1: Item | D1: In | E1: Out | F1: Note
A2: 46298 | B2: CND-001 | C2: =IFERROR(VLOOKUP(B2,Items!$A$2:$B$500,2,FALSE),"Check the SKU") -> Lavender candle, 8 oz | E2: 6 | F2: Farmers market
A3: 46298 | B3: SOP-001 | C3: =IFERROR(VLOOKUP(B3,Items!$A$2:$B$500,2,FALSE),"Check the SKU") -> Oatmeal honey soap bar | E3: 9 | F3: Farmers market
A4: 46298 | B4: SOP-002 | C4: =IFERROR(VLOOKUP(B4,Items!$A$2:$B$500,2,FALSE),"Check the SKU") -> Peppermint soap bar | E4: 7 | F4: Farmers market
A5: 46300 | B5: CND-002 | C5: =IFERROR(VLOOKUP(B5,Items!$A$2:$B$500,2,FALSE),"Check the SKU") -> Cedar and smoke candle, 8 oz | E5: 5 | F5: Online orders
A6: 46300 | B6: PKG-003 | C6: =IFERROR(VLOOKUP(B6,Items!$A$2:$B$500,2,FALSE),"Check the SKU") -> Padded mailers | E6: 5 | F6: Online orders
A7: 46301 | B7: SUP-001 | C7: =IFERROR(VLOOKUP(B7,Items!$A$2:$B$500,2,FALSE),"Check the SKU") -> Soy wax (lb) | D7: 25 | F7: Wax delivery
A8: 46302 | B8: CND-001 | C8: =IFERROR(VLOOKUP(B8,Items!$A$2:$B$500,2,FALSE),"Check the SKU") -> Lavender candle, 8 oz | D8: 12 | F8: Poured a batch
A9: 46302 | B9: SUP-001 | C9: =IFERROR(VLOOKUP(B9,Items!$A$2:$B$500,2,FALSE),"Check the SKU") -> Soy wax (lb) | E9: 8 | F9: Used for lavender batch
A10: 46302 | B10: SUP-002 | C10: =IFERROR(VLOOKUP(B10,Items!$A$2:$B$500,2,FALSE),"Check the SKU") -> Cotton wicks | E10: 12 | F10: Used for lavender batch
A11: 46302 | B11: SUP-003 | C11: =IFERROR(VLOOKUP(B11,Items!$A$2:$B$500,2,FALSE),"Check the SKU") -> Lavender fragrance oil, 16 oz | E11: 1 | F11: Used for lavender batch
A12: 46302 | B12: SUP-004 | C12: =IFERROR(VLOOKUP(B12,Items!$A$2:$B$500,2,FALSE),"Check the SKU") -> Glass jars, 8 oz | E12: 12 | F12: Used for lavender batch
A13: 46305 | B13: CND-002 | C13: =IFERROR(VLOOKUP(B13,Items!$A$2:$B$500,2,FALSE),"Check the SKU") -> Cedar and smoke candle, 8 oz | E13: 4 | F13: Craft fair
A14: 46305 | B14: CND-003 | C14: =IFERROR(VLOOKUP(B14,Items!$A$2:$B$500,2,FALSE),"Check the SKU") -> Vanilla bean candle, 4 oz | E14: 11 | F14: Craft fair
A15: 46305 | B15: SOP-003 | C15: =IFERROR(VLOOKUP(B15,Items!$A$2:$B$500,2,FALSE),"Check the SKU") -> Charcoal soap bar | E15: 3 | F15: Craft fair
A16: 46305 | B16: PKG-001 | C16: =IFERROR(VLOOKUP(B16,Items!$A$2:$B$500,2,FALSE),"Check the SKU") -> Kraft gift boxes | E16: 18 | F16: Gift boxes for the fair
A17: 46309 | B17: PKG-002 | C17: =IFERROR(VLOOKUP(B17,Items!$A$2:$B$500,2,FALSE),"Check the SKU") -> Product labels, roll of 250 | E17: 1 | F17: Roll used up
A18: 46311 | B18: CND-001 | C18: =IFERROR(VLOOKUP(B18,Items!$A$2:$B$500,2,FALSE),"Check the SKU") -> Lavender candle, 8 oz | E18: 4 | F18: Online orders
A19: 46311 | B19: PKG-003 | C19: =IFERROR(VLOOKUP(B19,Items!$A$2:$B$500,2,FALSE),"Check the SKU") -> Padded mailers | E19: 4 | F19: Online orders

Sheet Summary
A1: Category | B1: Items | C1: Units in stock | D1: Stock value | E1: To reorder
A2: Candles | B2: =COUNTIF(Items!$C$2:$C$500,A2) -> 3 | C2: =SUMIF(Items!$C$2:$C$500,A2,Items!$H$2:$H$500) -> 54 | D2: =SUMIF(Items!$C$2:$C$500,A2,Items!$L$2:$L$500) -> 298.75 | E2: =COUNTIFS(Items!$C$2:$C$500,A2,Items!$J$2:$J$500,"Reorder") -> 1
A3: Soap | B3: =COUNTIF(Items!$C$2:$C$500,A3) -> 3 | C3: =SUMIF(Items!$C$2:$C$500,A3,Items!$H$2:$H$500) -> 68 | D3: =SUMIF(Items!$C$2:$C$500,A3,Items!$L$2:$L$500) -> 145.5 | E3: =COUNTIFS(Items!$C$2:$C$500,A3,Items!$J$2:$J$500,"Reorder") -> 1
A4: Supplies | B4: =COUNTIF(Items!$C$2:$C$500,A4) -> 5 | C4: =SUMIF(Items!$C$2:$C$500,A4,Items!$H$2:$H$500) -> 263 | D4: =SUMIF(Items!$C$2:$C$500,A4,Items!$L$2:$L$500) -> 355.02 | E4: =COUNTIFS(Items!$C$2:$C$500,A4,Items!$J$2:$J$500,"Reorder") -> 1
A5: Packaging | B5: =COUNTIF(Items!$C$2:$C$500,A5) -> 3 | C5: =SUMIF(Items!$C$2:$C$500,A5,Items!$H$2:$H$500) -> 154 | D5: =SUMIF(Items!$C$2:$C$500,A5,Items!$L$2:$L$500) -> 75.02 | E5: =COUNTIFS(Items!$C$2:$C$500,A5,Items!$J$2:$J$500,"Reorder") -> 1
A6: Total | B6: =SUM(B2:B5) -> 14 | C6: =SUM(C2:C5) -> 539 | D6: =SUM(D2:D5) -> 874.29 | E6: =SUM(E2:E5) -> 4
