Workbook

Sheet To-Do List
A1: Done | B1: Task | C1: List | D1: Priority | E1: Due | F1: Days left | G1: Status | H1: Notes
A2: TRUE | B2: Book flu shots for the family | C2: Family | D2: High | E2: 46328 | F2: =IF(OR(ISBLANK(B2),A2=TRUE,ISBLANK(E2)),"",E2-Summary!$B$2) | G2: =IF(ISBLANK(B2),"",IF(A2=TRUE,"Done",IF(ISBLANK(E2),"No date",IF(E2<Summary!$B$2,"Overdue",IF(E2=Summary!$B$2,"Due today",IF(E2-Summary!$B$2<=7,"Next 7 days","Later")))))) -> Done | H2: Booked at the pharmacy
A3: FALSE | B3: Renew car registration | C3: Errands | D3: High | E3: 46329 | F3: =IF(OR(ISBLANK(B3),A3=TRUE,ISBLANK(E3)),"",E3-Summary!$B$2) -> -1 | G3: =IF(ISBLANK(B3),"",IF(A3=TRUE,"Done",IF(ISBLANK(E3),"No date",IF(E3<Summary!$B$2,"Overdue",IF(E3=Summary!$B$2,"Due today",IF(E3-Summary!$B$2<=7,"Next 7 days","Later")))))) -> Overdue | H3: Need proof of insurance
A4: FALSE | B4: Pay credit card bill | C4: Money | D4: High | E4: 46330 | F4: =IF(OR(ISBLANK(B4),A4=TRUE,ISBLANK(E4)),"",E4-Summary!$B$2) -> 0 | G4: =IF(ISBLANK(B4),"",IF(A4=TRUE,"Done",IF(ISBLANK(E4),"No date",IF(E4<Summary!$B$2,"Overdue",IF(E4=Summary!$B$2,"Due today",IF(E4-Summary!$B$2<=7,"Next 7 days","Later")))))) -> Due today
A5: FALSE | B5: Call plumber about the kitchen tap | C5: Home | D5: Medium | E5: 46331 | F5: =IF(OR(ISBLANK(B5),A5=TRUE,ISBLANK(E5)),"",E5-Summary!$B$2) -> 1 | G5: =IF(ISBLANK(B5),"",IF(A5=TRUE,"Done",IF(ISBLANK(E5),"No date",IF(E5<Summary!$B$2,"Overdue",IF(E5=Summary!$B$2,"Due today",IF(E5-Summary!$B$2<=7,"Next 7 days","Later")))))) -> Next 7 days
A6: FALSE | B6: Set up a meeting with my new manager | C6: Work | D6: Medium | E6: 46331 | F6: =IF(OR(ISBLANK(B6),A6=TRUE,ISBLANK(E6)),"",E6-Summary!$B$2) -> 1 | G6: =IF(ISBLANK(B6),"",IF(A6=TRUE,"Done",IF(ISBLANK(E6),"No date",IF(E6<Summary!$B$2,"Overdue",IF(E6=Summary!$B$2,"Due today",IF(E6-Summary!$B$2<=7,"Next 7 days","Later")))))) -> Next 7 days
A7: TRUE | B7: Return library books | C7: Errands | D7: Low | E7: 46327 | F7: =IF(OR(ISBLANK(B7),A7=TRUE,ISBLANK(E7)),"",E7-Summary!$B$2) | G7: =IF(ISBLANK(B7),"",IF(A7=TRUE,"Done",IF(ISBLANK(E7),"No date",IF(E7<Summary!$B$2,"Overdue",IF(E7=Summary!$B$2,"Due today",IF(E7-Summary!$B$2<=7,"Next 7 days","Later")))))) -> Done
A8: FALSE | B8: Send Mia's soccer fee | C8: Family | D8: Medium | E8: 46332 | F8: =IF(OR(ISBLANK(B8),A8=TRUE,ISBLANK(E8)),"",E8-Summary!$B$2) -> 2 | G8: =IF(ISBLANK(B8),"",IF(A8=TRUE,"Done",IF(ISBLANK(E8),"No date",IF(E8<Summary!$B$2,"Overdue",IF(E8=Summary!$B$2,"Due today",IF(E8-Summary!$B$2<=7,"Next 7 days","Later")))))) -> Next 7 days | H8: $85, e-transfer to coach
A9: FALSE | B9: Clean out the gutters | C9: Home | D9: Medium | E9: 46334 | F9: =IF(OR(ISBLANK(B9),A9=TRUE,ISBLANK(E9)),"",E9-Summary!$B$2) -> 4 | G9: =IF(ISBLANK(B9),"",IF(A9=TRUE,"Done",IF(ISBLANK(E9),"No date",IF(E9<Summary!$B$2,"Overdue",IF(E9=Summary!$B$2,"Due today",IF(E9-Summary!$B$2<=7,"Next 7 days","Later")))))) -> Next 7 days | H9: Borrow Dave's ladder
A10: FALSE | B10: Finish quarterly report | C10: Work | D10: High | E10: 46335 | F10: =IF(OR(ISBLANK(B10),A10=TRUE,ISBLANK(E10)),"",E10-Summary!$B$2) -> 5 | G10: =IF(ISBLANK(B10),"",IF(A10=TRUE,"Done",IF(ISBLANK(E10),"No date",IF(E10<Summary!$B$2,"Overdue",IF(E10=Summary!$B$2,"Due today",IF(E10-Summary!$B$2<=7,"Next 7 days","Later")))))) -> Next 7 days
A11: FALSE | B11: Book flights for Christmas | C11: Family | D11: High | E11: 46336 | F11: =IF(OR(ISBLANK(B11),A11=TRUE,ISBLANK(E11)),"",E11-Summary!$B$2) -> 6 | G11: =IF(ISBLANK(B11),"",IF(A11=TRUE,"Done",IF(ISBLANK(E11),"No date",IF(E11<Summary!$B$2,"Overdue",IF(E11=Summary!$B$2,"Due today",IF(E11-Summary!$B$2<=7,"Next 7 days","Later")))))) -> Next 7 days | H11: Prices go up after the 15th
A12: TRUE | B12: Cancel unused streaming service | C12: Money | D12: Low | E12: 46325 | F12: =IF(OR(ISBLANK(B12),A12=TRUE,ISBLANK(E12)),"",E12-Summary!$B$2) | G12: =IF(ISBLANK(B12),"",IF(A12=TRUE,"Done",IF(ISBLANK(E12),"No date",IF(E12<Summary!$B$2,"Overdue",IF(E12=Summary!$B$2,"Due today",IF(E12-Summary!$B$2<=7,"Next 7 days","Later")))))) -> Done
A13: FALSE | B13: Order Thanksgiving turkey | C13: Errands | D13: Medium | E13: 46339 | F13: =IF(OR(ISBLANK(B13),A13=TRUE,ISBLANK(E13)),"",E13-Summary!$B$2) -> 9 | G13: =IF(ISBLANK(B13),"",IF(A13=TRUE,"Done",IF(ISBLANK(E13),"No date",IF(E13<Summary!$B$2,"Overdue",IF(E13=Summary!$B$2,"Due today",IF(E13-Summary!$B$2<=7,"Next 7 days","Later")))))) -> Later | H13: 14 lb, pick up the 25th
A14: FALSE | B14: Swap to winter tires | C14: Errands | D14: Medium | E14: 46340 | F14: =IF(OR(ISBLANK(B14),A14=TRUE,ISBLANK(E14)),"",E14-Summary!$B$2) -> 10 | G14: =IF(ISBLANK(B14),"",IF(A14=TRUE,"Done",IF(ISBLANK(E14),"No date",IF(E14<Summary!$B$2,"Overdue",IF(E14=Summary!$B$2,"Due today",IF(E14-Summary!$B$2<=7,"Next 7 days","Later")))))) -> Later
A15: FALSE | B15: Buy birthday gift for Dad | C15: Family | D15: Medium | E15: 46346 | F15: =IF(OR(ISBLANK(B15),A15=TRUE,ISBLANK(E15)),"",E15-Summary!$B$2) -> 16 | G15: =IF(ISBLANK(B15),"",IF(A15=TRUE,"Done",IF(ISBLANK(E15),"No date",IF(E15<Summary!$B$2,"Overdue",IF(E15=Summary!$B$2,"Due today",IF(E15-Summary!$B$2<=7,"Next 7 days","Later")))))) -> Later
A16: FALSE | B16: Check home insurance renewal | C16: Money | D16: Medium | E16: 46351 | F16: =IF(OR(ISBLANK(B16),A16=TRUE,ISBLANK(E16)),"",E16-Summary!$B$2) -> 21 | G16: =IF(ISBLANK(B16),"",IF(A16=TRUE,"Done",IF(ISBLANK(E16),"No date",IF(E16<Summary!$B$2,"Overdue",IF(E16=Summary!$B$2,"Due today",IF(E16-Summary!$B$2<=7,"Next 7 days","Later")))))) -> Later | H16: Compare two quotes
A17: TRUE | B17: Replace smoke alarm batteries | C17: Home | D17: High | E17: 46327 | F17: =IF(OR(ISBLANK(B17),A17=TRUE,ISBLANK(E17)),"",E17-Summary!$B$2) | G17: =IF(ISBLANK(B17),"",IF(A17=TRUE,"Done",IF(ISBLANK(E17),"No date",IF(E17<Summary!$B$2,"Overdue",IF(E17=Summary!$B$2,"Due today",IF(E17-Summary!$B$2<=7,"Next 7 days","Later")))))) -> Done
A18: FALSE | B18: Update resume | C18: Work | D18: Low | F18: =IF(OR(ISBLANK(B18),A18=TRUE,ISBLANK(E18)),"",E18-Summary!$B$2) | G18: =IF(ISBLANK(B18),"",IF(A18=TRUE,"Done",IF(ISBLANK(E18),"No date",IF(E18<Summary!$B$2,"Overdue",IF(E18=Summary!$B$2,"Due today",IF(E18-Summary!$B$2<=7,"Next 7 days","Later")))))) -> No date
A19: FALSE | B19: Sort the garage | C19: Home | D19: Low | F19: =IF(OR(ISBLANK(B19),A19=TRUE,ISBLANK(E19)),"",E19-Summary!$B$2) | G19: =IF(ISBLANK(B19),"",IF(A19=TRUE,"Done",IF(ISBLANK(E19),"No date",IF(E19<Summary!$B$2,"Overdue",IF(E19=Summary!$B$2,"Due today",IF(E19-Summary!$B$2<=7,"Next 7 days","Later")))))) -> No date | H19: Donate pile and dump run
A20: FALSE | F20: =IF(OR(ISBLANK(B20),A20=TRUE,ISBLANK(E20)),"",E20-Summary!$B$2) | G20: =IF(ISBLANK(B20),"",IF(A20=TRUE,"Done",IF(ISBLANK(E20),"No date",IF(E20<Summary!$B$2,"Overdue",IF(E20=Summary!$B$2,"Due today",IF(E20-Summary!$B$2<=7,"Next 7 days","Later"))))))
A21: FALSE | F21: =IF(OR(ISBLANK(B21),A21=TRUE,ISBLANK(E21)),"",E21-Summary!$B$2) | G21: =IF(ISBLANK(B21),"",IF(A21=TRUE,"Done",IF(ISBLANK(E21),"No date",IF(E21<Summary!$B$2,"Overdue",IF(E21=Summary!$B$2,"Due today",IF(E21-Summary!$B$2<=7,"Next 7 days","Later"))))))
A22: FALSE | F22: =IF(OR(ISBLANK(B22),A22=TRUE,ISBLANK(E22)),"",E22-Summary!$B$2) | G22: =IF(ISBLANK(B22),"",IF(A22=TRUE,"Done",IF(ISBLANK(E22),"No date",IF(E22<Summary!$B$2,"Overdue",IF(E22=Summary!$B$2,"Due today",IF(E22-Summary!$B$2<=7,"Next 7 days","Later"))))))
A23: FALSE | F23: =IF(OR(ISBLANK(B23),A23=TRUE,ISBLANK(E23)),"",E23-Summary!$B$2) | G23: =IF(ISBLANK(B23),"",IF(A23=TRUE,"Done",IF(ISBLANK(E23),"No date",IF(E23<Summary!$B$2,"Overdue",IF(E23=Summary!$B$2,"Due today",IF(E23-Summary!$B$2<=7,"Next 7 days","Later"))))))
A24: FALSE | F24: =IF(OR(ISBLANK(B24),A24=TRUE,ISBLANK(E24)),"",E24-Summary!$B$2) | G24: =IF(ISBLANK(B24),"",IF(A24=TRUE,"Done",IF(ISBLANK(E24),"No date",IF(E24<Summary!$B$2,"Overdue",IF(E24=Summary!$B$2,"Due today",IF(E24-Summary!$B$2<=7,"Next 7 days","Later"))))))
A25: FALSE | F25: =IF(OR(ISBLANK(B25),A25=TRUE,ISBLANK(E25)),"",E25-Summary!$B$2) | G25: =IF(ISBLANK(B25),"",IF(A25=TRUE,"Done",IF(ISBLANK(E25),"No date",IF(E25<Summary!$B$2,"Overdue",IF(E25=Summary!$B$2,"Due today",IF(E25-Summary!$B$2<=7,"Next 7 days","Later"))))))
A26: FALSE | F26: =IF(OR(ISBLANK(B26),A26=TRUE,ISBLANK(E26)),"",E26-Summary!$B$2) | G26: =IF(ISBLANK(B26),"",IF(A26=TRUE,"Done",IF(ISBLANK(E26),"No date",IF(E26<Summary!$B$2,"Overdue",IF(E26=Summary!$B$2,"Due today",IF(E26-Summary!$B$2<=7,"Next 7 days","Later"))))))
A27: FALSE | F27: =IF(OR(ISBLANK(B27),A27=TRUE,ISBLANK(E27)),"",E27-Summary!$B$2) | G27: =IF(ISBLANK(B27),"",IF(A27=TRUE,"Done",IF(ISBLANK(E27),"No date",IF(E27<Summary!$B$2,"Overdue",IF(E27=Summary!$B$2,"Due today",IF(E27-Summary!$B$2<=7,"Next 7 days","Later"))))))
A28: FALSE | F28: =IF(OR(ISBLANK(B28),A28=TRUE,ISBLANK(E28)),"",E28-Summary!$B$2) | G28: =IF(ISBLANK(B28),"",IF(A28=TRUE,"Done",IF(ISBLANK(E28),"No date",IF(E28<Summary!$B$2,"Overdue",IF(E28=Summary!$B$2,"Due today",IF(E28-Summary!$B$2<=7,"Next 7 days","Later"))))))
A29: FALSE | F29: =IF(OR(ISBLANK(B29),A29=TRUE,ISBLANK(E29)),"",E29-Summary!$B$2) | G29: =IF(ISBLANK(B29),"",IF(A29=TRUE,"Done",IF(ISBLANK(E29),"No date",IF(E29<Summary!$B$2,"Overdue",IF(E29=Summary!$B$2,"Due today",IF(E29-Summary!$B$2<=7,"Next 7 days","Later"))))))
A30: FALSE | F30: =IF(OR(ISBLANK(B30),A30=TRUE,ISBLANK(E30)),"",E30-Summary!$B$2) | G30: =IF(ISBLANK(B30),"",IF(A30=TRUE,"Done",IF(ISBLANK(E30),"No date",IF(E30<Summary!$B$2,"Overdue",IF(E30=Summary!$B$2,"Due today",IF(E30-Summary!$B$2<=7,"Next 7 days","Later"))))))
A31: FALSE | F31: =IF(OR(ISBLANK(B31),A31=TRUE,ISBLANK(E31)),"",E31-Summary!$B$2) | G31: =IF(ISBLANK(B31),"",IF(A31=TRUE,"Done",IF(ISBLANK(E31),"No date",IF(E31<Summary!$B$2,"Overdue",IF(E31=Summary!$B$2,"Due today",IF(E31-Summary!$B$2<=7,"Next 7 days","Later"))))))
... A41: FALSE | F41: =IF(OR(ISBLANK(B41),A41=TRUE,ISBLANK(E41)),"",E41-Summary!$B$2) | G41: =IF(ISBLANK(B41),"",IF(A41=TRUE,"Done",IF(ISBLANK(E41),"No date",IF(E41<Summary!$B$2,"Overdue",IF(E41=Summary!$B$2,"Due today",IF(E41-Summary!$B$2<=7,"Next 7 days","Later"))))))

Sheet Summary
A1: Item | B1: Count
A2: Today's date | B2: =DATE(2026,11,4) -> 46330
A3: Open tasks | B3: =COUNTIFS('To-Do List'!$B$2:$B$41,"<>",'To-Do List'!$A$2:$A$41,FALSE) -> 14
A4: Done | B4: =COUNTIFS('To-Do List'!$B$2:$B$41,"<>",'To-Do List'!$A$2:$A$41,TRUE) -> 4
A5: Percent done | B5: =IF(B3+B4=0,0,B4/(B3+B4)) -> 0.22222222
A6: Overdue | B6: =COUNTIF('To-Do List'!$G$2:$G$41,"Overdue") -> 1
A7: Due today | B7: =COUNTIF('To-Do List'!$G$2:$G$41,"Due today") -> 1
A8: Due in the next 7 days | B8: =COUNTIF('To-Do List'!$G$2:$G$41,"Next 7 days") -> 6
A9: High priority still open | B9: =COUNTIFS('To-Do List'!$D$2:$D$41,"High",'To-Do List'!$A$2:$A$41,FALSE) -> 4
A10: Open tasks by list
A11: Home | B11: =COUNTIFS('To-Do List'!$C$2:$C$41,A11,'To-Do List'!$A$2:$A$41,FALSE) -> 3
A12: Family | B12: =COUNTIFS('To-Do List'!$C$2:$C$41,A12,'To-Do List'!$A$2:$A$41,FALSE) -> 3
A13: Errands | B13: =COUNTIFS('To-Do List'!$C$2:$C$41,A13,'To-Do List'!$A$2:$A$41,FALSE) -> 3
A14: Money | B14: =COUNTIFS('To-Do List'!$C$2:$C$41,A14,'To-Do List'!$A$2:$A$41,FALSE) -> 2
A15: Work | B15: =COUNTIFS('To-Do List'!$C$2:$C$41,A15,'To-Do List'!$A$2:$A$41,FALSE) -> 3
