Workbook

Sheet Weekly Schedule
A1: Time | B1: Monday | C1: Tuesday | D1: Wednesday | E1: Thursday | F1: Friday | G1: Saturday | H1: Sunday
A2: Dates | B2: =DATE(2026,11,2) -> 46328 | C2: =$B$2+1 -> 46329 | D2: =$B$2+2 -> 46330 | E2: =$B$2+3 -> 46331 | F2: =$B$2+4 -> 46332 | G2: =$B$2+5 -> 46333 | H2: =$B$2+6 -> 46334
A3: 0.25 | B3: Gym | D3: Gym | F3: Gym
A4: =A3+TIME(0,30,0) -> 0.27083333 | B4: Gym | D4: Gym | F4: Gym
A5: =A4+TIME(0,30,0) -> 0.29166667 | B5: Meals | C5: Meals | D5: Meals | E5: Meals | F5: Meals
A6: =A5+TIME(0,30,0) -> 0.3125 | B6: School run | C6: School run | D6: School run | E6: School run | F6: School run
A7: =A6+TIME(0,30,0) -> 0.33333333 | B7: Commute | C7: Commute | D7: Commute | E7: Commute | F7: Commute | G7: Meals
A8: =A7+TIME(0,30,0) -> 0.35416667 | B8: Work | C8: Work | D8: Work | E8: Work | F8: Work
A9: =A8+TIME(0,30,0) -> 0.375 | B9: Work | C9: Work | D9: Work | E9: Work | F9: Work | G9: Soccer | H9: Meals
A10: =A9+TIME(0,30,0) -> 0.39583333 | B10: Work | C10: Work | D10: Work | E10: Work | F10: Work | G10: Soccer | H10: Meals
A11: =A10+TIME(0,30,0) -> 0.41666667 | B11: Work | C11: Work | D11: Work | E11: Work | F11: Work | G11: Soccer
A12: =A11+TIME(0,30,0) -> 0.4375 | B12: Work | C12: Work | D12: Work | E12: Work | F12: Work | H12: Family time
A13: =A12+TIME(0,30,0) -> 0.45833333 | B13: Work | C13: Work | D13: Work | E13: Work | F13: Work | G13: Errands | H13: Family time
A14: =A13+TIME(0,30,0) -> 0.47916667 | B14: Work | C14: Work | D14: Work | E14: Work | F14: Work | G14: Errands | H14: Family time
A15: =A14+TIME(0,30,0) -> 0.5 | B15: Meals | C15: Meals | D15: Meals | E15: Meals | F15: Meals | G15: Errands
A16: =A15+TIME(0,30,0) -> 0.52083333 | B16: Work | C16: Work | D16: Work | E16: Work | F16: Work | G16: Meals
A17: =A16+TIME(0,30,0) -> 0.54166667 | B17: Work | C17: Work | D17: Work | E17: Work | F17: Work | G17: Chores
A18: =A17+TIME(0,30,0) -> 0.5625 | B18: Work | C18: Work | D18: Work | E18: Work | F18: Work | G18: Chores
A19: =A18+TIME(0,30,0) -> 0.58333333 | B19: Work | C19: Work | D19: Work | E19: Work | F19: Work | G19: Chores | H19: Cooking
A20: =A19+TIME(0,30,0) -> 0.60416667 | B20: Work | C20: Work | D20: Work | E20: Work | F20: Work | G20: Chores | H20: Cooking
A21: =A20+TIME(0,30,0) -> 0.625 | B21: Work | C21: Work | D21: Work | E21: Work | F21: Work | H21: Cooking
A22: =A21+TIME(0,30,0) -> 0.64583333 | B22: Work | C22: Work | D22: Work | E22: Work | F22: Work
A23: =A22+TIME(0,30,0) -> 0.66666667 | B23: Work | C23: Work | D23: Work | E23: Work | F23: Commute | H23: Me time
A24: =A23+TIME(0,30,0) -> 0.6875 | B24: Work | C24: Work | D24: Work | E24: Work | H24: Me time
A25: =A24+TIME(0,30,0) -> 0.70833333 | B25: Commute | C25: Commute | D25: Commute | E25: Commute | F25: Cooking
A26: =A25+TIME(0,30,0) -> 0.72916667 | B26: Cooking | C26: Cooking | D26: Cooking | E26: Cooking | F26: Cooking
A27: =A26+TIME(0,30,0) -> 0.75 | B27: Meals | C27: Meals | D27: Meals | E27: Meals | F27: Family time | G27: Dinner with friends | H27: Meals
A28: =A27+TIME(0,30,0) -> 0.77083333 | B28: Family time | C28: Soccer | D28: Errands | F28: Family time | G28: Dinner with friends
A29: =A28+TIME(0,30,0) -> 0.79166667 | B29: Family time | C29: Soccer | D29: Errands | E29: Book club | F29: Family time | G29: Dinner with friends
A30: =A29+TIME(0,30,0) -> 0.8125 | B30: Chores | C30: Chores | E30: Book club | F30: Family time | G30: Dinner with friends
A31: =A30+TIME(0,30,0) -> 0.83333333 | D31: Family time | E31: Book club | F31: Family time | G31: Dinner with friends | H31: Plan the week
A32: =A31+TIME(0,30,0) -> 0.85416667 | B32: Me time | C32: Me time | D32: Family time | E32: Book club | F32: Family time | G32: Dinner with friends
A33: =A32+TIME(0,30,0) -> 0.875 | B33: Me time | C33: Me time
A34: =A33+TIME(0,30,0) -> 0.89583333

Sheet Hours Summary
A1: Activity | B1: Hours this week | C1: Per day | D1: Share of the week
A2: Work | B2: =COUNTIF('Weekly Schedule'!$B$3:$H$34,A2)/2 -> 39 | C2: =B2/7 -> 5.5714286 | D2: =B2/112 -> 0.34821429
A3: Commute | B3: =COUNTIF('Weekly Schedule'!$B$3:$H$34,A3)/2 -> 5 | C3: =B3/7 -> 0.71428571 | D3: =B3/112 -> 0.044642857
A4: School run | B4: =COUNTIF('Weekly Schedule'!$B$3:$H$34,A4)/2 -> 2.5 | C4: =B4/7 -> 0.35714286 | D4: =B4/112 -> 0.022321429
A5: Gym | B5: =COUNTIF('Weekly Schedule'!$B$3:$H$34,A5)/2 -> 3 | C5: =B5/7 -> 0.42857143 | D5: =B5/112 -> 0.026785714
A6: Meals | B6: =COUNTIF('Weekly Schedule'!$B$3:$H$34,A6)/2 -> 9.5 | C6: =B6/7 -> 1.3571429 | D6: =B6/112 -> 0.084821429
A7: Cooking | B7: =COUNTIF('Weekly Schedule'!$B$3:$H$34,A7)/2 -> 4.5 | C7: =B7/7 -> 0.64285714 | D7: =B7/112 -> 0.040178571
A8: Chores | B8: =COUNTIF('Weekly Schedule'!$B$3:$H$34,A8)/2 -> 3 | C8: =B8/7 -> 0.42857143 | D8: =B8/112 -> 0.026785714
A9: Errands | B9: =COUNTIF('Weekly Schedule'!$B$3:$H$34,A9)/2 -> 2.5 | C9: =B9/7 -> 0.35714286 | D9: =B9/112 -> 0.022321429
A10: Soccer | B10: =COUNTIF('Weekly Schedule'!$B$3:$H$34,A10)/2 -> 2.5 | C10: =B10/7 -> 0.35714286 | D10: =B10/112 -> 0.022321429
A11: Family time | B11: =COUNTIF('Weekly Schedule'!$B$3:$H$34,A11)/2 -> 6.5 | C11: =B11/7 -> 0.92857143 | D11: =B11/112 -> 0.058035714
A12: Me time | B12: =COUNTIF('Weekly Schedule'!$B$3:$H$34,A12)/2 -> 3 | C12: =B12/7 -> 0.42857143 | D12: =B12/112 -> 0.026785714
A13: Other (not in this list) | B13: =COUNTA('Weekly Schedule'!$B$3:$H$34)/2-SUM(B2:B12) -> 5.5 | C13: =B13/7 -> 0.78571429 | D13: =B13/112 -> 0.049107143
A14: Total scheduled | B14: =COUNTA('Weekly Schedule'!$B$3:$H$34)/2 -> 86.5 | C14: =B14/7 -> 12.357143 | D14: =B14/112 -> 0.77232143
A15: Free (blank slots) | B15: =COUNTBLANK('Weekly Schedule'!$B$3:$H$34)/2 -> 25.5 | C15: =B15/7 -> 3.6428571 | D15: =B15/112 -> 0.22767857
