Workbook

Sheet Workout Log
A1: Date | B1: Workout | C1: Exercise | D1: Sets | E1: Reps | F1: Weight (lb) | G1: Volume | H1: Est. 1RM | I1: New PR? | J1: Notes | K1: PR number | L1: First of day
A2: 46300 | B2: Workout A | C2: Back squat | D2: 3 | E2: 5 | F2: 135 | G2: =D2*E2*F2 -> 2025 | H2: =IF(F2="","",ROUND(F2*(1+E2/30),0)) -> 158 | I2: =IF(F2="","",IF(COUNTIFS(C$1:C2,C2,F$1:F2,">="&F2)=1,"PR","")) -> PR | K2: =IF(I2="PR",COUNTIFS(C$1:C2,C2,I$1:I2,"PR"),"") -> 1 | L2: =IF(COUNTIF(A$1:A2,A2)=1,1,0) -> 1
A3: 46300 | B3: Workout A | C3: Bench press | D3: 3 | E3: 5 | F3: 115 | G3: =D3*E3*F3 -> 1725 | H3: =IF(F3="","",ROUND(F3*(1+E3/30),0)) -> 134 | I3: =IF(F3="","",IF(COUNTIFS(C$1:C3,C3,F$1:F3,">="&F3)=1,"PR","")) -> PR | K3: =IF(I3="PR",COUNTIFS(C$1:C3,C3,I$1:I3,"PR"),"") -> 1 | L3: =IF(COUNTIF(A$1:A3,A3)=1,1,0) -> 0
A4: 46300 | B4: Workout A | C4: Barbell row | D4: 3 | E4: 8 | F4: 95 | G4: =D4*E4*F4 -> 2280 | H4: =IF(F4="","",ROUND(F4*(1+E4/30),0)) -> 120 | I4: =IF(F4="","",IF(COUNTIFS(C$1:C4,C4,F$1:F4,">="&F4)=1,"PR","")) -> PR | K4: =IF(I4="PR",COUNTIFS(C$1:C4,C4,I$1:I4,"PR"),"") -> 1 | L4: =IF(COUNTIF(A$1:A4,A4)=1,1,0) -> 0
A5: 46302 | B5: Workout B | C5: Deadlift | D5: 1 | E5: 5 | F5: 185 | G5: =D5*E5*F5 -> 925 | H5: =IF(F5="","",ROUND(F5*(1+E5/30),0)) -> 216 | I5: =IF(F5="","",IF(COUNTIFS(C$1:C5,C5,F$1:F5,">="&F5)=1,"PR","")) -> PR | K5: =IF(I5="PR",COUNTIFS(C$1:C5,C5,I$1:I5,"PR"),"") -> 1 | L5: =IF(COUNTIF(A$1:A5,A5)=1,1,0) -> 1
A6: 46302 | B6: Workout B | C6: Overhead press | D6: 3 | E6: 5 | F6: 75 | G6: =D6*E6*F6 -> 1125 | H6: =IF(F6="","",ROUND(F6*(1+E6/30),0)) -> 88 | I6: =IF(F6="","",IF(COUNTIFS(C$1:C6,C6,F$1:F6,">="&F6)=1,"PR","")) -> PR | K6: =IF(I6="PR",COUNTIFS(C$1:C6,C6,I$1:I6,"PR"),"") -> 1 | L6: =IF(COUNTIF(A$1:A6,A6)=1,1,0) -> 0
A7: 46302 | B7: Workout B | C7: Lat pulldown | D7: 3 | E7: 10 | F7: 100 | G7: =D7*E7*F7 -> 3000 | H7: =IF(F7="","",ROUND(F7*(1+E7/30),0)) -> 133 | I7: =IF(F7="","",IF(COUNTIFS(C$1:C7,C7,F$1:F7,">="&F7)=1,"PR","")) -> PR | K7: =IF(I7="PR",COUNTIFS(C$1:C7,C7,I$1:I7,"PR"),"") -> 1 | L7: =IF(COUNTIF(A$1:A7,A7)=1,1,0) -> 0
A8: 46304 | B8: Workout A | C8: Back squat | D8: 3 | E8: 5 | F8: 140 | G8: =D8*E8*F8 -> 2100 | H8: =IF(F8="","",ROUND(F8*(1+E8/30),0)) -> 163 | I8: =IF(F8="","",IF(COUNTIFS(C$1:C8,C8,F$1:F8,">="&F8)=1,"PR","")) -> PR | K8: =IF(I8="PR",COUNTIFS(C$1:C8,C8,I$1:I8,"PR"),"") -> 2 | L8: =IF(COUNTIF(A$1:A8,A8)=1,1,0) -> 1
A9: 46304 | B9: Workout A | C9: Bench press | D9: 3 | E9: 5 | F9: 120 | G9: =D9*E9*F9 -> 1800 | H9: =IF(F9="","",ROUND(F9*(1+E9/30),0)) -> 140 | I9: =IF(F9="","",IF(COUNTIFS(C$1:C9,C9,F$1:F9,">="&F9)=1,"PR","")) -> PR | K9: =IF(I9="PR",COUNTIFS(C$1:C9,C9,I$1:I9,"PR"),"") -> 2 | L9: =IF(COUNTIF(A$1:A9,A9)=1,1,0) -> 0
A10: 46304 | B10: Workout A | C10: Barbell row | D10: 3 | E10: 8 | F10: 100 | G10: =D10*E10*F10 -> 2400 | H10: =IF(F10="","",ROUND(F10*(1+E10/30),0)) -> 127 | I10: =IF(F10="","",IF(COUNTIFS(C$1:C10,C10,F$1:F10,">="&F10)=1,"PR","")) -> PR | K10: =IF(I10="PR",COUNTIFS(C$1:C10,C10,I$1:I10,"PR"),"") -> 2 | L10: =IF(COUNTIF(A$1:A10,A10)=1,1,0) -> 0
A11: 46307 | B11: Workout B | C11: Deadlift | D11: 1 | E11: 5 | F11: 195 | G11: =D11*E11*F11 -> 975 | H11: =IF(F11="","",ROUND(F11*(1+E11/30),0)) -> 228 | I11: =IF(F11="","",IF(COUNTIFS(C$1:C11,C11,F$1:F11,">="&F11)=1,"PR","")) -> PR | K11: =IF(I11="PR",COUNTIFS(C$1:C11,C11,I$1:I11,"PR"),"") -> 2 | L11: =IF(COUNTIF(A$1:A11,A11)=1,1,0) -> 1
A12: 46307 | B12: Workout B | C12: Overhead press | D12: 3 | E12: 5 | F12: 80 | G12: =D12*E12*F12 -> 1200 | H12: =IF(F12="","",ROUND(F12*(1+E12/30),0)) -> 93 | I12: =IF(F12="","",IF(COUNTIFS(C$1:C12,C12,F$1:F12,">="&F12)=1,"PR","")) -> PR | K12: =IF(I12="PR",COUNTIFS(C$1:C12,C12,I$1:I12,"PR"),"") -> 2 | L12: =IF(COUNTIF(A$1:A12,A12)=1,1,0) -> 0
A13: 46307 | B13: Workout B | C13: Lat pulldown | D13: 3 | E13: 10 | F13: 105 | G13: =D13*E13*F13 -> 3150 | H13: =IF(F13="","",ROUND(F13*(1+E13/30),0)) -> 140 | I13: =IF(F13="","",IF(COUNTIFS(C$1:C13,C13,F$1:F13,">="&F13)=1,"PR","")) -> PR | K13: =IF(I13="PR",COUNTIFS(C$1:C13,C13,I$1:I13,"PR"),"") -> 2 | L13: =IF(COUNTIF(A$1:A13,A13)=1,1,0) -> 0
A14: 46309 | B14: Workout A | C14: Back squat | D14: 3 | E14: 5 | F14: 145 | G14: =D14*E14*F14 -> 2175 | H14: =IF(F14="","",ROUND(F14*(1+E14/30),0)) -> 169 | I14: =IF(F14="","",IF(COUNTIFS(C$1:C14,C14,F$1:F14,">="&F14)=1,"PR","")) -> PR | K14: =IF(I14="PR",COUNTIFS(C$1:C14,C14,I$1:I14,"PR"),"") -> 3 | L14: =IF(COUNTIF(A$1:A14,A14)=1,1,0) -> 1
A15: 46309 | B15: Workout A | C15: Bench press | D15: 3 | E15: 4 | F15: 125 | G15: =D15*E15*F15 -> 1500 | H15: =IF(F15="","",ROUND(F15*(1+E15/30),0)) -> 142 | I15: =IF(F15="","",IF(COUNTIFS(C$1:C15,C15,F$1:F15,">="&F15)=1,"PR","")) -> PR | J15: Missed last rep of set 3 | K15: =IF(I15="PR",COUNTIFS(C$1:C15,C15,I$1:I15,"PR"),"") -> 3 | L15: =IF(COUNTIF(A$1:A15,A15)=1,1,0) -> 0
A16: 46309 | B16: Workout A | C16: Barbell row | D16: 3 | E16: 8 | F16: 105 | G16: =D16*E16*F16 -> 2520 | H16: =IF(F16="","",ROUND(F16*(1+E16/30),0)) -> 133 | I16: =IF(F16="","",IF(COUNTIFS(C$1:C16,C16,F$1:F16,">="&F16)=1,"PR","")) -> PR | K16: =IF(I16="PR",COUNTIFS(C$1:C16,C16,I$1:I16,"PR"),"") -> 3 | L16: =IF(COUNTIF(A$1:A16,A16)=1,1,0) -> 0
A17: 46311 | B17: Workout B | C17: Deadlift | D17: 1 | E17: 5 | F17: 205 | G17: =D17*E17*F17 -> 1025 | H17: =IF(F17="","",ROUND(F17*(1+E17/30),0)) -> 239 | I17: =IF(F17="","",IF(COUNTIFS(C$1:C17,C17,F$1:F17,">="&F17)=1,"PR","")) -> PR | K17: =IF(I17="PR",COUNTIFS(C$1:C17,C17,I$1:I17,"PR"),"") -> 3 | L17: =IF(COUNTIF(A$1:A17,A17)=1,1,0) -> 1
A18: 46311 | B18: Workout B | C18: Overhead press | D18: 3 | E18: 5 | F18: 80 | G18: =D18*E18*F18 -> 1200 | H18: =IF(F18="","",ROUND(F18*(1+E18/30),0)) -> 93 | I18: =IF(F18="","",IF(COUNTIFS(C$1:C18,C18,F$1:F18,">="&F18)=1,"PR","")) | J18: Same weight, cleaner reps | K18: =IF(I18="PR",COUNTIFS(C$1:C18,C18,I$1:I18,"PR"),"") | L18: =IF(COUNTIF(A$1:A18,A18)=1,1,0) -> 0
A19: 46311 | B19: Workout B | C19: Lat pulldown | D19: 3 | E19: 10 | F19: 110 | G19: =D19*E19*F19 -> 3300 | H19: =IF(F19="","",ROUND(F19*(1+E19/30),0)) -> 147 | I19: =IF(F19="","",IF(COUNTIFS(C$1:C19,C19,F$1:F19,">="&F19)=1,"PR","")) -> PR | K19: =IF(I19="PR",COUNTIFS(C$1:C19,C19,I$1:I19,"PR"),"") -> 3 | L19: =IF(COUNTIF(A$1:A19,A19)=1,1,0) -> 0
A20: 46314 | B20: Workout A | C20: Back squat | D20: 3 | E20: 5 | F20: 150 | G20: =D20*E20*F20 -> 2250 | H20: =IF(F20="","",ROUND(F20*(1+E20/30),0)) -> 175 | I20: =IF(F20="","",IF(COUNTIFS(C$1:C20,C20,F$1:F20,">="&F20)=1,"PR","")) -> PR | J20: Felt heavy, good depth | K20: =IF(I20="PR",COUNTIFS(C$1:C20,C20,I$1:I20,"PR"),"") -> 4 | L20: =IF(COUNTIF(A$1:A20,A20)=1,1,0) -> 1
A21: 46314 | B21: Workout A | C21: Bench press | D21: 3 | E21: 5 | F21: 125 | G21: =D21*E21*F21 -> 1875 | H21: =IF(F21="","",ROUND(F21*(1+E21/30),0)) -> 146 | I21: =IF(F21="","",IF(COUNTIFS(C$1:C21,C21,F$1:F21,">="&F21)=1,"PR","")) | K21: =IF(I21="PR",COUNTIFS(C$1:C21,C21,I$1:I21,"PR"),"") | L21: =IF(COUNTIF(A$1:A21,A21)=1,1,0) -> 0
A22: 46314 | B22: Workout A | C22: Barbell row | D22: 3 | E22: 8 | F22: 110 | G22: =D22*E22*F22 -> 2640 | H22: =IF(F22="","",ROUND(F22*(1+E22/30),0)) -> 139 | I22: =IF(F22="","",IF(COUNTIFS(C$1:C22,C22,F$1:F22,">="&F22)=1,"PR","")) -> PR | K22: =IF(I22="PR",COUNTIFS(C$1:C22,C22,I$1:I22,"PR"),"") -> 4 | L22: =IF(COUNTIF(A$1:A22,A22)=1,1,0) -> 0
A23: 46316 | B23: Workout B | C23: Deadlift | D23: 1 | E23: 5 | F23: 215 | G23: =D23*E23*F23 -> 1075 | H23: =IF(F23="","",ROUND(F23*(1+E23/30),0)) -> 251 | I23: =IF(F23="","",IF(COUNTIFS(C$1:C23,C23,F$1:F23,">="&F23)=1,"PR","")) -> PR | J23: Used straps | K23: =IF(I23="PR",COUNTIFS(C$1:C23,C23,I$1:I23,"PR"),"") -> 4 | L23: =IF(COUNTIF(A$1:A23,A23)=1,1,0) -> 1
A24: 46316 | B24: Workout B | C24: Overhead press | D24: 3 | E24: 5 | F24: 85 | G24: =D24*E24*F24 -> 1275 | H24: =IF(F24="","",ROUND(F24*(1+E24/30),0)) -> 99 | I24: =IF(F24="","",IF(COUNTIFS(C$1:C24,C24,F$1:F24,">="&F24)=1,"PR","")) -> PR | K24: =IF(I24="PR",COUNTIFS(C$1:C24,C24,I$1:I24,"PR"),"") -> 3 | L24: =IF(COUNTIF(A$1:A24,A24)=1,1,0) -> 0
A25: 46316 | B25: Workout B | C25: Lat pulldown | D25: 3 | E25: 12 | F25: 110 | G25: =D25*E25*F25 -> 3960 | H25: =IF(F25="","",ROUND(F25*(1+E25/30),0)) -> 154 | I25: =IF(F25="","",IF(COUNTIFS(C$1:C25,C25,F$1:F25,">="&F25)=1,"PR","")) | J25: Two extra reps | K25: =IF(I25="PR",COUNTIFS(C$1:C25,C25,I$1:I25,"PR"),"") | L25: =IF(COUNTIF(A$1:A25,A25)=1,1,0) -> 0
A26: 46318 | B26: Workout A | C26: Back squat | D26: 3 | E26: 5 | F26: 155 | G26: =D26*E26*F26 -> 2325 | H26: =IF(F26="","",ROUND(F26*(1+E26/30),0)) -> 181 | I26: =IF(F26="","",IF(COUNTIFS(C$1:C26,C26,F$1:F26,">="&F26)=1,"PR","")) -> PR | K26: =IF(I26="PR",COUNTIFS(C$1:C26,C26,I$1:I26,"PR"),"") -> 5 | L26: =IF(COUNTIF(A$1:A26,A26)=1,1,0) -> 1
A27: 46318 | B27: Workout A | C27: Bench press | D27: 3 | E27: 5 | F27: 130 | G27: =D27*E27*F27 -> 1950 | H27: =IF(F27="","",ROUND(F27*(1+E27/30),0)) -> 152 | I27: =IF(F27="","",IF(COUNTIFS(C$1:C27,C27,F$1:F27,">="&F27)=1,"PR","")) -> PR | K27: =IF(I27="PR",COUNTIFS(C$1:C27,C27,I$1:I27,"PR"),"") -> 4 | L27: =IF(COUNTIF(A$1:A27,A27)=1,1,0) -> 0
A28: 46318 | B28: Workout A | C28: Barbell row | D28: 3 | E28: 8 | F28: 115 | G28: =D28*E28*F28 -> 2760 | H28: =IF(F28="","",ROUND(F28*(1+E28/30),0)) -> 146 | I28: =IF(F28="","",IF(COUNTIFS(C$1:C28,C28,F$1:F28,">="&F28)=1,"PR","")) -> PR | K28: =IF(I28="PR",COUNTIFS(C$1:C28,C28,I$1:I28,"PR"),"") -> 5 | L28: =IF(COUNTIF(A$1:A28,A28)=1,1,0) -> 0

Sheet Exercise Bests
A1: Exercise | B1: Times logged | C1: PRs set | D1: Starting weight | E1: Best weight | F1: Reps at best | G1: Date of best | H1: Added (lb)
A2: Back squat | B2: =COUNTIF('Workout Log'!$C$2:$C$1000,A2) -> 5 | C2: =COUNTIFS('Workout Log'!$C$2:$C$1000,A2,'Workout Log'!$I$2:$I$1000,"PR") -> 5 | D2: =SUMIFS('Workout Log'!$F$2:$F$1000,'Workout Log'!$C$2:$C$1000,A2,'Workout Log'!$K$2:$K$1000,1) -> 135 | E2: =SUMIFS('Workout Log'!$F$2:$F$1000,'Workout Log'!$C$2:$C$1000,A2,'Workout Log'!$K$2:$K$1000,C2) -> 155 | F2: =SUMIFS('Workout Log'!$E$2:$E$1000,'Workout Log'!$C$2:$C$1000,A2,'Workout Log'!$K$2:$K$1000,C2) -> 5 | G2: =IF(C2=0,"",SUMIFS('Workout Log'!$A$2:$A$1000,'Workout Log'!$C$2:$C$1000,A2,'Workout Log'!$K$2:$K$1000,C2)) -> 46318 | H2: =E2-D2 -> 20
A3: Bench press | B3: =COUNTIF('Workout Log'!$C$2:$C$1000,A3) -> 5 | C3: =COUNTIFS('Workout Log'!$C$2:$C$1000,A3,'Workout Log'!$I$2:$I$1000,"PR") -> 4 | D3: =SUMIFS('Workout Log'!$F$2:$F$1000,'Workout Log'!$C$2:$C$1000,A3,'Workout Log'!$K$2:$K$1000,1) -> 115 | E3: =SUMIFS('Workout Log'!$F$2:$F$1000,'Workout Log'!$C$2:$C$1000,A3,'Workout Log'!$K$2:$K$1000,C3) -> 130 | F3: =SUMIFS('Workout Log'!$E$2:$E$1000,'Workout Log'!$C$2:$C$1000,A3,'Workout Log'!$K$2:$K$1000,C3) -> 5 | G3: =IF(C3=0,"",SUMIFS('Workout Log'!$A$2:$A$1000,'Workout Log'!$C$2:$C$1000,A3,'Workout Log'!$K$2:$K$1000,C3)) -> 46318 | H3: =E3-D3 -> 15
A4: Barbell row | B4: =COUNTIF('Workout Log'!$C$2:$C$1000,A4) -> 5 | C4: =COUNTIFS('Workout Log'!$C$2:$C$1000,A4,'Workout Log'!$I$2:$I$1000,"PR") -> 5 | D4: =SUMIFS('Workout Log'!$F$2:$F$1000,'Workout Log'!$C$2:$C$1000,A4,'Workout Log'!$K$2:$K$1000,1) -> 95 | E4: =SUMIFS('Workout Log'!$F$2:$F$1000,'Workout Log'!$C$2:$C$1000,A4,'Workout Log'!$K$2:$K$1000,C4) -> 115 | F4: =SUMIFS('Workout Log'!$E$2:$E$1000,'Workout Log'!$C$2:$C$1000,A4,'Workout Log'!$K$2:$K$1000,C4) -> 8 | G4: =IF(C4=0,"",SUMIFS('Workout Log'!$A$2:$A$1000,'Workout Log'!$C$2:$C$1000,A4,'Workout Log'!$K$2:$K$1000,C4)) -> 46318 | H4: =E4-D4 -> 20
A5: Deadlift | B5: =COUNTIF('Workout Log'!$C$2:$C$1000,A5) -> 4 | C5: =COUNTIFS('Workout Log'!$C$2:$C$1000,A5,'Workout Log'!$I$2:$I$1000,"PR") -> 4 | D5: =SUMIFS('Workout Log'!$F$2:$F$1000,'Workout Log'!$C$2:$C$1000,A5,'Workout Log'!$K$2:$K$1000,1) -> 185 | E5: =SUMIFS('Workout Log'!$F$2:$F$1000,'Workout Log'!$C$2:$C$1000,A5,'Workout Log'!$K$2:$K$1000,C5) -> 215 | F5: =SUMIFS('Workout Log'!$E$2:$E$1000,'Workout Log'!$C$2:$C$1000,A5,'Workout Log'!$K$2:$K$1000,C5) -> 5 | G5: =IF(C5=0,"",SUMIFS('Workout Log'!$A$2:$A$1000,'Workout Log'!$C$2:$C$1000,A5,'Workout Log'!$K$2:$K$1000,C5)) -> 46316 | H5: =E5-D5 -> 30
A6: Overhead press | B6: =COUNTIF('Workout Log'!$C$2:$C$1000,A6) -> 4 | C6: =COUNTIFS('Workout Log'!$C$2:$C$1000,A6,'Workout Log'!$I$2:$I$1000,"PR") -> 3 | D6: =SUMIFS('Workout Log'!$F$2:$F$1000,'Workout Log'!$C$2:$C$1000,A6,'Workout Log'!$K$2:$K$1000,1) -> 75 | E6: =SUMIFS('Workout Log'!$F$2:$F$1000,'Workout Log'!$C$2:$C$1000,A6,'Workout Log'!$K$2:$K$1000,C6) -> 85 | F6: =SUMIFS('Workout Log'!$E$2:$E$1000,'Workout Log'!$C$2:$C$1000,A6,'Workout Log'!$K$2:$K$1000,C6) -> 5 | G6: =IF(C6=0,"",SUMIFS('Workout Log'!$A$2:$A$1000,'Workout Log'!$C$2:$C$1000,A6,'Workout Log'!$K$2:$K$1000,C6)) -> 46316 | H6: =E6-D6 -> 10
A7: Lat pulldown | B7: =COUNTIF('Workout Log'!$C$2:$C$1000,A7) -> 4 | C7: =COUNTIFS('Workout Log'!$C$2:$C$1000,A7,'Workout Log'!$I$2:$I$1000,"PR") -> 3 | D7: =SUMIFS('Workout Log'!$F$2:$F$1000,'Workout Log'!$C$2:$C$1000,A7,'Workout Log'!$K$2:$K$1000,1) -> 100 | E7: =SUMIFS('Workout Log'!$F$2:$F$1000,'Workout Log'!$C$2:$C$1000,A7,'Workout Log'!$K$2:$K$1000,C7) -> 110 | F7: =SUMIFS('Workout Log'!$E$2:$E$1000,'Workout Log'!$C$2:$C$1000,A7,'Workout Log'!$K$2:$K$1000,C7) -> 10 | G7: =IF(C7=0,"",SUMIFS('Workout Log'!$A$2:$A$1000,'Workout Log'!$C$2:$C$1000,A7,'Workout Log'!$K$2:$K$1000,C7)) -> 46311 | H7: =E7-D7 -> 10

Sheet Weekly Totals
A1: Week starting | B1: Workouts | C1: Total sets | D1: Total volume (lb) | E1: PRs
A2: 46300 | B2: =SUMIFS('Workout Log'!$L$2:$L$1000,'Workout Log'!$A$2:$A$1000,">="&A2,'Workout Log'!$A$2:$A$1000,"<"&(A2+7)) -> 3 | C2: =SUMIFS('Workout Log'!$D$2:$D$1000,'Workout Log'!$A$2:$A$1000,">="&A2,'Workout Log'!$A$2:$A$1000,"<"&(A2+7)) -> 25 | D2: =SUMIFS('Workout Log'!$G$2:$G$1000,'Workout Log'!$A$2:$A$1000,">="&A2,'Workout Log'!$A$2:$A$1000,"<"&(A2+7)) -> 17380 | E2: =COUNTIFS('Workout Log'!$A$2:$A$1000,">="&A2,'Workout Log'!$A$2:$A$1000,"<"&(A2+7),'Workout Log'!$I$2:$I$1000,"PR") -> 9
A3: =A2+7 -> 46307 | B3: =SUMIFS('Workout Log'!$L$2:$L$1000,'Workout Log'!$A$2:$A$1000,">="&A3,'Workout Log'!$A$2:$A$1000,"<"&(A3+7)) -> 3 | C3: =SUMIFS('Workout Log'!$D$2:$D$1000,'Workout Log'!$A$2:$A$1000,">="&A3,'Workout Log'!$A$2:$A$1000,"<"&(A3+7)) -> 23 | D3: =SUMIFS('Workout Log'!$G$2:$G$1000,'Workout Log'!$A$2:$A$1000,">="&A3,'Workout Log'!$A$2:$A$1000,"<"&(A3+7)) -> 17045 | E3: =COUNTIFS('Workout Log'!$A$2:$A$1000,">="&A3,'Workout Log'!$A$2:$A$1000,"<"&(A3+7),'Workout Log'!$I$2:$I$1000,"PR") -> 8
A4: =A3+7 -> 46314 | B4: =SUMIFS('Workout Log'!$L$2:$L$1000,'Workout Log'!$A$2:$A$1000,">="&A4,'Workout Log'!$A$2:$A$1000,"<"&(A4+7)) -> 3 | C4: =SUMIFS('Workout Log'!$D$2:$D$1000,'Workout Log'!$A$2:$A$1000,">="&A4,'Workout Log'!$A$2:$A$1000,"<"&(A4+7)) -> 25 | D4: =SUMIFS('Workout Log'!$G$2:$G$1000,'Workout Log'!$A$2:$A$1000,">="&A4,'Workout Log'!$A$2:$A$1000,"<"&(A4+7)) -> 20110 | E4: =COUNTIFS('Workout Log'!$A$2:$A$1000,">="&A4,'Workout Log'!$A$2:$A$1000,"<"&(A4+7),'Workout Log'!$I$2:$I$1000,"PR") -> 7
A5: =A4+7 -> 46321 | B5: =SUMIFS('Workout Log'!$L$2:$L$1000,'Workout Log'!$A$2:$A$1000,">="&A5,'Workout Log'!$A$2:$A$1000,"<"&(A5+7)) -> 0 | C5: =SUMIFS('Workout Log'!$D$2:$D$1000,'Workout Log'!$A$2:$A$1000,">="&A5,'Workout Log'!$A$2:$A$1000,"<"&(A5+7)) -> 0 | D5: =SUMIFS('Workout Log'!$G$2:$G$1000,'Workout Log'!$A$2:$A$1000,">="&A5,'Workout Log'!$A$2:$A$1000,"<"&(A5+7)) -> 0 | E5: =COUNTIFS('Workout Log'!$A$2:$A$1000,">="&A5,'Workout Log'!$A$2:$A$1000,"<"&(A5+7),'Workout Log'!$I$2:$I$1000,"PR") -> 0
