Workbook

Sheet Grades
A1: Student | B1: HW 1 | C1: HW 2 | D1: Quiz 1 | E1: HW 3 | F1: Test 1 | G1: HW 4 | H1: Quiz 2 | I1: Project | J1: HW 5 | K1: Test 2 | L1: Homework | M1: Quizzes | N1: Tests | O1: Projects | P1: Final | Q1: Letter
A2: Category | B2: Homework | C2: Homework | D2: Quizzes | E2: Homework | F2: Tests | G2: Homework | H2: Quizzes | I2: Projects | J2: Homework | K2: Tests | L2: =Categories!A2 -> Homework | M2: =Categories!A3 -> Quizzes | N2: =Categories!A4 -> Tests | O2: =Categories!A5 -> Projects
A3: Out of | B3: 10 | C3: 10 | D3: 20 | E3: 10 | F3: 100 | G3: 10 | H3: 20 | I3: 50 | J3: 10 | K3: 100 | L3: =Categories!B2 -> 0.2 | M3: =Categories!B3 -> 0.2 | N3: =Categories!B4 -> 0.4 | O3: =Categories!B5 -> 0.2 | P3: =SUM(L3:O3) -> 1
A4: Aaliyah Brooks | B4: 10 | C4: 9 | D4: 19 | E4: 10 | F4: 94 | G4: 10 | H4: 18 | I4: 47 | J4: 9 | L4: =IFERROR(SUMIFS($B4:$K4,$B$2:$K$2,L$2)/SUMIFS($B$3:$K$3,$B$2:$K$2,L$2,$B4:$K4,"<>"),"") -> 0.96 | M4: =IFERROR(SUMIFS($B4:$K4,$B$2:$K$2,M$2)/SUMIFS($B$3:$K$3,$B$2:$K$2,M$2,$B4:$K4,"<>"),"") -> 0.925 | N4: =IFERROR(SUMIFS($B4:$K4,$B$2:$K$2,N$2)/SUMIFS($B$3:$K$3,$B$2:$K$2,N$2,$B4:$K4,"<>"),"") -> 0.94 | O4: =IFERROR(SUMIFS($B4:$K4,$B$2:$K$2,O$2)/SUMIFS($B$3:$K$3,$B$2:$K$2,O$2,$B4:$K4,"<>"),"") -> 0.94 | P4: =IFERROR((IF(ISNUMBER(L4),L4*L$3,0)+IF(ISNUMBER(M4),M4*M$3,0)+IF(ISNUMBER(N4),N4*N$3,0)+IF(ISNUMBER(O4),O4*O$3,0))/(IF(ISNUMBER(L4),L$3,0)+IF(ISNUMBER(M4),M$3,0)+IF(ISNUMBER(N4),N$3,0)+IF(ISNUMBER(O4),O$3,0)),"") -> 0.941 | Q4: =IF(ISNUMBER(P4),VLOOKUP(COUNTIFS('Grade Scale'!$B$2:$B$14,"<="&ROUND(P4,4)),'Grade Scale'!$A$2:$C$14,3,FALSE),"") -> A
A5: Ben Carter | B5: 8 | C5: 7 | D5: 15 | E5: 9 | F5: 81 | G5: 8 | H5: 16 | I5: 42 | J5: 0 | L5: =IFERROR(SUMIFS($B5:$K5,$B$2:$K$2,L$2)/SUMIFS($B$3:$K$3,$B$2:$K$2,L$2,$B5:$K5,"<>"),"") -> 0.64 | M5: =IFERROR(SUMIFS($B5:$K5,$B$2:$K$2,M$2)/SUMIFS($B$3:$K$3,$B$2:$K$2,M$2,$B5:$K5,"<>"),"") -> 0.775 | N5: =IFERROR(SUMIFS($B5:$K5,$B$2:$K$2,N$2)/SUMIFS($B$3:$K$3,$B$2:$K$2,N$2,$B5:$K5,"<>"),"") -> 0.81 | O5: =IFERROR(SUMIFS($B5:$K5,$B$2:$K$2,O$2)/SUMIFS($B$3:$K$3,$B$2:$K$2,O$2,$B5:$K5,"<>"),"") -> 0.84 | P5: =IFERROR((IF(ISNUMBER(L5),L5*L$3,0)+IF(ISNUMBER(M5),M5*M$3,0)+IF(ISNUMBER(N5),N5*N$3,0)+IF(ISNUMBER(O5),O5*O$3,0))/(IF(ISNUMBER(L5),L$3,0)+IF(ISNUMBER(M5),M$3,0)+IF(ISNUMBER(N5),N$3,0)+IF(ISNUMBER(O5),O$3,0)),"") -> 0.775 | Q5: =IF(ISNUMBER(P5),VLOOKUP(COUNTIFS('Grade Scale'!$B$2:$B$14,"<="&ROUND(P5,4)),'Grade Scale'!$A$2:$C$14,3,FALSE),"") -> C+
A6: Camila Diaz | B6: 10 | C6: 10 | D6: 20 | E6: 9 | F6: 97 | G6: 10 | H6: 19 | I6: 49 | J6: 10 | L6: =IFERROR(SUMIFS($B6:$K6,$B$2:$K$2,L$2)/SUMIFS($B$3:$K$3,$B$2:$K$2,L$2,$B6:$K6,"<>"),"") -> 0.98 | M6: =IFERROR(SUMIFS($B6:$K6,$B$2:$K$2,M$2)/SUMIFS($B$3:$K$3,$B$2:$K$2,M$2,$B6:$K6,"<>"),"") -> 0.975 | N6: =IFERROR(SUMIFS($B6:$K6,$B$2:$K$2,N$2)/SUMIFS($B$3:$K$3,$B$2:$K$2,N$2,$B6:$K6,"<>"),"") -> 0.97 | O6: =IFERROR(SUMIFS($B6:$K6,$B$2:$K$2,O$2)/SUMIFS($B$3:$K$3,$B$2:$K$2,O$2,$B6:$K6,"<>"),"") -> 0.98 | P6: =IFERROR((IF(ISNUMBER(L6),L6*L$3,0)+IF(ISNUMBER(M6),M6*M$3,0)+IF(ISNUMBER(N6),N6*N$3,0)+IF(ISNUMBER(O6),O6*O$3,0))/(IF(ISNUMBER(L6),L$3,0)+IF(ISNUMBER(M6),M$3,0)+IF(ISNUMBER(N6),N$3,0)+IF(ISNUMBER(O6),O$3,0)),"") -> 0.975 | Q6: =IF(ISNUMBER(P6),VLOOKUP(COUNTIFS('Grade Scale'!$B$2:$B$14,"<="&ROUND(P6,4)),'Grade Scale'!$A$2:$C$14,3,FALSE),"") -> A+
A7: Daniel Evans | B7: 6 | C7: 0 | D7: 12 | E7: 7 | F7: 68 | G7: 0 | H7: 13 | I7: 35 | J7: 6 | L7: =IFERROR(SUMIFS($B7:$K7,$B$2:$K$2,L$2)/SUMIFS($B$3:$K$3,$B$2:$K$2,L$2,$B7:$K7,"<>"),"") -> 0.38 | M7: =IFERROR(SUMIFS($B7:$K7,$B$2:$K$2,M$2)/SUMIFS($B$3:$K$3,$B$2:$K$2,M$2,$B7:$K7,"<>"),"") -> 0.625 | N7: =IFERROR(SUMIFS($B7:$K7,$B$2:$K$2,N$2)/SUMIFS($B$3:$K$3,$B$2:$K$2,N$2,$B7:$K7,"<>"),"") -> 0.68 | O7: =IFERROR(SUMIFS($B7:$K7,$B$2:$K$2,O$2)/SUMIFS($B$3:$K$3,$B$2:$K$2,O$2,$B7:$K7,"<>"),"") -> 0.7 | P7: =IFERROR((IF(ISNUMBER(L7),L7*L$3,0)+IF(ISNUMBER(M7),M7*M$3,0)+IF(ISNUMBER(N7),N7*N$3,0)+IF(ISNUMBER(O7),O7*O$3,0))/(IF(ISNUMBER(L7),L$3,0)+IF(ISNUMBER(M7),M$3,0)+IF(ISNUMBER(N7),N$3,0)+IF(ISNUMBER(O7),O$3,0)),"") -> 0.613 | Q7: =IF(ISNUMBER(P7),VLOOKUP(COUNTIFS('Grade Scale'!$B$2:$B$14,"<="&ROUND(P7,4)),'Grade Scale'!$A$2:$C$14,3,FALSE),"") -> D-
A8: Ella Foster | B8: 9 | C8: 9 | D8: 17 | E8: 10 | F8: 88 | G8: 9 | H8: 17 | I8: 45 | J8: 9 | L8: =IFERROR(SUMIFS($B8:$K8,$B$2:$K$2,L$2)/SUMIFS($B$3:$K$3,$B$2:$K$2,L$2,$B8:$K8,"<>"),"") -> 0.92 | M8: =IFERROR(SUMIFS($B8:$K8,$B$2:$K$2,M$2)/SUMIFS($B$3:$K$3,$B$2:$K$2,M$2,$B8:$K8,"<>"),"") -> 0.85 | N8: =IFERROR(SUMIFS($B8:$K8,$B$2:$K$2,N$2)/SUMIFS($B$3:$K$3,$B$2:$K$2,N$2,$B8:$K8,"<>"),"") -> 0.88 | O8: =IFERROR(SUMIFS($B8:$K8,$B$2:$K$2,O$2)/SUMIFS($B$3:$K$3,$B$2:$K$2,O$2,$B8:$K8,"<>"),"") -> 0.9 | P8: =IFERROR((IF(ISNUMBER(L8),L8*L$3,0)+IF(ISNUMBER(M8),M8*M$3,0)+IF(ISNUMBER(N8),N8*N$3,0)+IF(ISNUMBER(O8),O8*O$3,0))/(IF(ISNUMBER(L8),L$3,0)+IF(ISNUMBER(M8),M$3,0)+IF(ISNUMBER(N8),N$3,0)+IF(ISNUMBER(O8),O$3,0)),"") -> 0.886 | Q8: =IF(ISNUMBER(P8),VLOOKUP(COUNTIFS('Grade Scale'!$B$2:$B$14,"<="&ROUND(P8,4)),'Grade Scale'!$A$2:$C$14,3,FALSE),"") -> B+
A9: Gabriel Hughes | B9: 7 | C9: 8 | D9: 14 | F9: 74 | G9: 8 | H9: 15 | I9: 38 | J9: 7 | L9: =IFERROR(SUMIFS($B9:$K9,$B$2:$K$2,L$2)/SUMIFS($B$3:$K$3,$B$2:$K$2,L$2,$B9:$K9,"<>"),"") -> 0.75 | M9: =IFERROR(SUMIFS($B9:$K9,$B$2:$K$2,M$2)/SUMIFS($B$3:$K$3,$B$2:$K$2,M$2,$B9:$K9,"<>"),"") -> 0.725 | N9: =IFERROR(SUMIFS($B9:$K9,$B$2:$K$2,N$2)/SUMIFS($B$3:$K$3,$B$2:$K$2,N$2,$B9:$K9,"<>"),"") -> 0.74 | O9: =IFERROR(SUMIFS($B9:$K9,$B$2:$K$2,O$2)/SUMIFS($B$3:$K$3,$B$2:$K$2,O$2,$B9:$K9,"<>"),"") -> 0.76 | P9: =IFERROR((IF(ISNUMBER(L9),L9*L$3,0)+IF(ISNUMBER(M9),M9*M$3,0)+IF(ISNUMBER(N9),N9*N$3,0)+IF(ISNUMBER(O9),O9*O$3,0))/(IF(ISNUMBER(L9),L$3,0)+IF(ISNUMBER(M9),M$3,0)+IF(ISNUMBER(N9),N$3,0)+IF(ISNUMBER(O9),O$3,0)),"") -> 0.743 | Q9: =IF(ISNUMBER(P9),VLOOKUP(COUNTIFS('Grade Scale'!$B$2:$B$14,"<="&ROUND(P9,4)),'Grade Scale'!$A$2:$C$14,3,FALSE),"") -> C
A10: Hannah Kim | B10: 10 | C10: 10 | D10: 18 | E10: 10 | F10: 91 | G10: 9 | H10: 20 | I10: 50 | J10: 10 | L10: =IFERROR(SUMIFS($B10:$K10,$B$2:$K$2,L$2)/SUMIFS($B$3:$K$3,$B$2:$K$2,L$2,$B10:$K10,"<>"),"") -> 0.98 | M10: =IFERROR(SUMIFS($B10:$K10,$B$2:$K$2,M$2)/SUMIFS($B$3:$K$3,$B$2:$K$2,M$2,$B10:$K10,"<>"),"") -> 0.95 | N10: =IFERROR(SUMIFS($B10:$K10,$B$2:$K$2,N$2)/SUMIFS($B$3:$K$3,$B$2:$K$2,N$2,$B10:$K10,"<>"),"") -> 0.91 | O10: =IFERROR(SUMIFS($B10:$K10,$B$2:$K$2,O$2)/SUMIFS($B$3:$K$3,$B$2:$K$2,O$2,$B10:$K10,"<>"),"") -> 1 | P10: =IFERROR((IF(ISNUMBER(L10),L10*L$3,0)+IF(ISNUMBER(M10),M10*M$3,0)+IF(ISNUMBER(N10),N10*N$3,0)+IF(ISNUMBER(O10),O10*O$3,0))/(IF(ISNUMBER(L10),L$3,0)+IF(ISNUMBER(M10),M$3,0)+IF(ISNUMBER(N10),N$3,0)+IF(ISNUMBER(O10),O$3,0)),"") -> 0.95 | Q10: =IF(ISNUMBER(P10),VLOOKUP(COUNTIFS('Grade Scale'!$B$2:$B$14,"<="&ROUND(P10,4)),'Grade Scale'!$A$2:$C$14,3,FALSE),"") -> A
A11: Isaiah Lopez | B11: 9 | C11: 8 | D11: 16 | E11: 8 | F11: 79 | G11: 9 | H11: 14 | I11: 40 | J11: 8 | L11: =IFERROR(SUMIFS($B11:$K11,$B$2:$K$2,L$2)/SUMIFS($B$3:$K$3,$B$2:$K$2,L$2,$B11:$K11,"<>"),"") -> 0.84 | M11: =IFERROR(SUMIFS($B11:$K11,$B$2:$K$2,M$2)/SUMIFS($B$3:$K$3,$B$2:$K$2,M$2,$B11:$K11,"<>"),"") -> 0.75 | N11: =IFERROR(SUMIFS($B11:$K11,$B$2:$K$2,N$2)/SUMIFS($B$3:$K$3,$B$2:$K$2,N$2,$B11:$K11,"<>"),"") -> 0.79 | O11: =IFERROR(SUMIFS($B11:$K11,$B$2:$K$2,O$2)/SUMIFS($B$3:$K$3,$B$2:$K$2,O$2,$B11:$K11,"<>"),"") -> 0.8 | P11: =IFERROR((IF(ISNUMBER(L11),L11*L$3,0)+IF(ISNUMBER(M11),M11*M$3,0)+IF(ISNUMBER(N11),N11*N$3,0)+IF(ISNUMBER(O11),O11*O$3,0))/(IF(ISNUMBER(L11),L$3,0)+IF(ISNUMBER(M11),M$3,0)+IF(ISNUMBER(N11),N$3,0)+IF(ISNUMBER(O11),O$3,0)),"") -> 0.794 | Q11: =IF(ISNUMBER(P11),VLOOKUP(COUNTIFS('Grade Scale'!$B$2:$B$14,"<="&ROUND(P11,4)),'Grade Scale'!$A$2:$C$14,3,FALSE),"") -> C+
A12: Jasmine Moore | B12: 5 | C12: 6 | D12: 11 | E12: 0 | F12: 62 | G12: 5 | H12: 12 | I12: 30 | J12: 0 | L12: =IFERROR(SUMIFS($B12:$K12,$B$2:$K$2,L$2)/SUMIFS($B$3:$K$3,$B$2:$K$2,L$2,$B12:$K12,"<>"),"") -> 0.32 | M12: =IFERROR(SUMIFS($B12:$K12,$B$2:$K$2,M$2)/SUMIFS($B$3:$K$3,$B$2:$K$2,M$2,$B12:$K12,"<>"),"") -> 0.575 | N12: =IFERROR(SUMIFS($B12:$K12,$B$2:$K$2,N$2)/SUMIFS($B$3:$K$3,$B$2:$K$2,N$2,$B12:$K12,"<>"),"") -> 0.62 | O12: =IFERROR(SUMIFS($B12:$K12,$B$2:$K$2,O$2)/SUMIFS($B$3:$K$3,$B$2:$K$2,O$2,$B12:$K12,"<>"),"") -> 0.6 | P12: =IFERROR((IF(ISNUMBER(L12),L12*L$3,0)+IF(ISNUMBER(M12),M12*M$3,0)+IF(ISNUMBER(N12),N12*N$3,0)+IF(ISNUMBER(O12),O12*O$3,0))/(IF(ISNUMBER(L12),L$3,0)+IF(ISNUMBER(M12),M$3,0)+IF(ISNUMBER(N12),N$3,0)+IF(ISNUMBER(O12),O$3,0)),"") -> 0.547 | Q12: =IF(ISNUMBER(P12),VLOOKUP(COUNTIFS('Grade Scale'!$B$2:$B$14,"<="&ROUND(P12,4)),'Grade Scale'!$A$2:$C$14,3,FALSE),"") -> F
A13: Liam Nguyen | B13: 10 | C13: 9 | D13: 18 | E13: 9 | F13: 85 | G13: 10 | H13: 18 | I13: 44 | J13: 9 | L13: =IFERROR(SUMIFS($B13:$K13,$B$2:$K$2,L$2)/SUMIFS($B$3:$K$3,$B$2:$K$2,L$2,$B13:$K13,"<>"),"") -> 0.94 | M13: =IFERROR(SUMIFS($B13:$K13,$B$2:$K$2,M$2)/SUMIFS($B$3:$K$3,$B$2:$K$2,M$2,$B13:$K13,"<>"),"") -> 0.9 | N13: =IFERROR(SUMIFS($B13:$K13,$B$2:$K$2,N$2)/SUMIFS($B$3:$K$3,$B$2:$K$2,N$2,$B13:$K13,"<>"),"") -> 0.85 | O13: =IFERROR(SUMIFS($B13:$K13,$B$2:$K$2,O$2)/SUMIFS($B$3:$K$3,$B$2:$K$2,O$2,$B13:$K13,"<>"),"") -> 0.88 | P13: =IFERROR((IF(ISNUMBER(L13),L13*L$3,0)+IF(ISNUMBER(M13),M13*M$3,0)+IF(ISNUMBER(N13),N13*N$3,0)+IF(ISNUMBER(O13),O13*O$3,0))/(IF(ISNUMBER(L13),L$3,0)+IF(ISNUMBER(M13),M$3,0)+IF(ISNUMBER(N13),N$3,0)+IF(ISNUMBER(O13),O$3,0)),"") -> 0.884 | Q13: =IF(ISNUMBER(P13),VLOOKUP(COUNTIFS('Grade Scale'!$B$2:$B$14,"<="&ROUND(P13,4)),'Grade Scale'!$A$2:$C$14,3,FALSE),"") -> B+
A14: Maya Patel | B14: 10 | C14: 10 | D14: 19 | E14: 10 | F14: 99 | G14: 10 | H14: 20 | I14: 48 | J14: 10 | L14: =IFERROR(SUMIFS($B14:$K14,$B$2:$K$2,L$2)/SUMIFS($B$3:$K$3,$B$2:$K$2,L$2,$B14:$K14,"<>"),"") -> 1 | M14: =IFERROR(SUMIFS($B14:$K14,$B$2:$K$2,M$2)/SUMIFS($B$3:$K$3,$B$2:$K$2,M$2,$B14:$K14,"<>"),"") -> 0.975 | N14: =IFERROR(SUMIFS($B14:$K14,$B$2:$K$2,N$2)/SUMIFS($B$3:$K$3,$B$2:$K$2,N$2,$B14:$K14,"<>"),"") -> 0.99 | O14: =IFERROR(SUMIFS($B14:$K14,$B$2:$K$2,O$2)/SUMIFS($B$3:$K$3,$B$2:$K$2,O$2,$B14:$K14,"<>"),"") -> 0.96 | P14: =IFERROR((IF(ISNUMBER(L14),L14*L$3,0)+IF(ISNUMBER(M14),M14*M$3,0)+IF(ISNUMBER(N14),N14*N$3,0)+IF(ISNUMBER(O14),O14*O$3,0))/(IF(ISNUMBER(L14),L$3,0)+IF(ISNUMBER(M14),M$3,0)+IF(ISNUMBER(N14),N$3,0)+IF(ISNUMBER(O14),O$3,0)),"") -> 0.983 | Q14: =IF(ISNUMBER(P14),VLOOKUP(COUNTIFS('Grade Scale'!$B$2:$B$14,"<="&ROUND(P14,4)),'Grade Scale'!$A$2:$C$14,3,FALSE),"") -> A+
A15: Owen Turner | B15: 8 | C15: 9 | D15: 16 | E15: 8 | G15: 9 | H15: 15 | I15: 41 | J15: 8 | L15: =IFERROR(SUMIFS($B15:$K15,$B$2:$K$2,L$2)/SUMIFS($B$3:$K$3,$B$2:$K$2,L$2,$B15:$K15,"<>"),"") -> 0.84 | M15: =IFERROR(SUMIFS($B15:$K15,$B$2:$K$2,M$2)/SUMIFS($B$3:$K$3,$B$2:$K$2,M$2,$B15:$K15,"<>"),"") -> 0.775 | N15: =IFERROR(SUMIFS($B15:$K15,$B$2:$K$2,N$2)/SUMIFS($B$3:$K$3,$B$2:$K$2,N$2,$B15:$K15,"<>"),"") | O15: =IFERROR(SUMIFS($B15:$K15,$B$2:$K$2,O$2)/SUMIFS($B$3:$K$3,$B$2:$K$2,O$2,$B15:$K15,"<>"),"") -> 0.82 | P15: =IFERROR((IF(ISNUMBER(L15),L15*L$3,0)+IF(ISNUMBER(M15),M15*M$3,0)+IF(ISNUMBER(N15),N15*N$3,0)+IF(ISNUMBER(O15),O15*O$3,0))/(IF(ISNUMBER(L15),L$3,0)+IF(ISNUMBER(M15),M$3,0)+IF(ISNUMBER(N15),N$3,0)+IF(ISNUMBER(O15),O$3,0)),"") -> 0.81166667 | Q15: =IF(ISNUMBER(P15),VLOOKUP(COUNTIFS('Grade Scale'!$B$2:$B$14,"<="&ROUND(P15,4)),'Grade Scale'!$A$2:$C$14,3,FALSE),"") -> B-
A16: Class average | B16: =IFERROR(ROUND(AVERAGE(B4:B15),1),"") -> 8.5 | C16: =IFERROR(ROUND(AVERAGE(C4:C15),1),"") -> 7.9 | D16: =IFERROR(ROUND(AVERAGE(D4:D15),1),"") -> 16.3 | E16: =IFERROR(ROUND(AVERAGE(E4:E15),1),"") -> 8.2 | F16: =IFERROR(ROUND(AVERAGE(F4:F15),1),"") -> 83.5 | G16: =IFERROR(ROUND(AVERAGE(G4:G15),1),"") -> 8.1 | H16: =IFERROR(ROUND(AVERAGE(H4:H15),1),"") -> 16.4 | I16: =IFERROR(ROUND(AVERAGE(I4:I15),1),"") -> 42.4 | ... K16: =IFERROR(ROUND(AVERAGE(K4:K15),1),"") | L16: =IFERROR(AVERAGE(L4:L15),"") -> 0.79583333 | M16: =IFERROR(AVERAGE(M4:M15),"") -> 0.81666667 | N16: =IFERROR(AVERAGE(N4:N15),"") -> 0.83454545 | O16: =IFERROR(AVERAGE(O4:O15),"") -> 0.84833333 | P16: =IFERROR(AVERAGE(P4:P15),"") -> 0.82522222 | Q16: =IF(ISNUMBER(P16),VLOOKUP(COUNTIFS('Grade Scale'!$B$2:$B$14,"<="&ROUND(P16,4)),'Grade Scale'!$A$2:$C$14,3,FALSE),"") -> B-

Sheet Categories
A1: Category | B1: Weight | C1: Assignments | D1: Points | E1: Class average
A2: Homework | B2: 0.2 | C2: =COUNTIF(Grades!$B$2:$K$2,A2) -> 5 | D2: =SUMIFS(Grades!$B$3:$K$3,Grades!$B$2:$K$2,A2) -> 50 | E2: =IFERROR(AVERAGE(Grades!$L$4:$L$15),"") -> 0.79583333
A3: Quizzes | B3: 0.2 | C3: =COUNTIF(Grades!$B$2:$K$2,A3) -> 2 | D3: =SUMIFS(Grades!$B$3:$K$3,Grades!$B$2:$K$2,A3) -> 40 | E3: =IFERROR(AVERAGE(Grades!$M$4:$M$15),"") -> 0.81666667
A4: Tests | B4: 0.4 | C4: =COUNTIF(Grades!$B$2:$K$2,A4) -> 2 | D4: =SUMIFS(Grades!$B$3:$K$3,Grades!$B$2:$K$2,A4) -> 200 | E4: =IFERROR(AVERAGE(Grades!$N$4:$N$15),"") -> 0.83454545
A5: Projects | B5: 0.2 | C5: =COUNTIF(Grades!$B$2:$K$2,A5) -> 1 | D5: =SUMIFS(Grades!$B$3:$K$3,Grades!$B$2:$K$2,A5) -> 50 | E5: =IFERROR(AVERAGE(Grades!$O$4:$O$15),"") -> 0.84833333
A6: Total | B6: =SUM(B2:B5) -> 1 | C6: =SUM(C2:C5) -> 10 | D6: =SUM(D2:D5) -> 340

Sheet Grade Scale
A1: Step | B1: From | C1: Letter
A2: 1 | B2: 0 | C2: F
A3: 2 | B3: 0.6 | C3: D-
A4: 3 | B4: 0.63 | C4: D
A5: 4 | B5: 0.67 | C5: D+
A6: 5 | B6: 0.7 | C6: C-
A7: 6 | B7: 0.73 | C7: C
A8: 7 | B8: 0.77 | C8: C+
A9: 8 | B9: 0.8 | C9: B-
A10: 9 | B10: 0.83 | C10: B
A11: 10 | B11: 0.87 | C11: B+
A12: 11 | B12: 0.9 | C12: A-
A13: 12 | B13: 0.93 | C13: A
A14: 13 | B14: 0.97 | C14: A+

Sheet Class Summary
A1: Item | B1: Value
A2: Students | B2: =COUNTA(Grades!$A$4:$A$15) -> 12
A3: Class average | B3: =IFERROR(AVERAGE(Grades!$P$4:$P$15),"") -> 0.82522222
A4: Highest final grade | B4: =MAX(Grades!$P$4:$P$15) -> 0.983
A5: Lowest final grade | B5: =MIN(Grades!$P$4:$P$15) -> 0.547
A6: Students below 70% | B6: =COUNTIFS(Grades!$P$4:$P$15,"<0.7") -> 2
A7: Zeros (missing work) | B7: =COUNTIFS(Grades!$B$4:$K$15,0) -> 5
A8: Scores left blank | B8: =COUNTBLANK(Grades!$B$4:$K$15) -> 14
A9: A range (90% and up) | B9: =COUNTIFS(Grades!$P$4:$P$15,">=0.9") -> 4
A10: B range (80% to 89%) | B10: =COUNTIFS(Grades!$P$4:$P$15,">=0.8",Grades!$P$4:$P$15,"<0.9") -> 3
A11: C range (70% to 79%) | B11: =COUNTIFS(Grades!$P$4:$P$15,">=0.7",Grades!$P$4:$P$15,"<0.8") -> 3
A12: D range (60% to 69%) | B12: =COUNTIFS(Grades!$P$4:$P$15,">=0.6",Grades!$P$4:$P$15,"<0.7") -> 1
A13: F (below 60%) | B13: =COUNTIFS(Grades!$P$4:$P$15,"<0.6") -> 1
