Workbook

Sheet Habit Tracker
A1: Habit | B1: Goal (days) | C1: 1 | D1: 2 | E1: 3 | F1: 4 | G1: 5 | H1: 6 | I1: 7 | J1: 8 | K1: 9 | L1: 10 | M1: 11 | N1: 12 | O1: 13 | P1: 14 | Q1: 15 | R1: 16 | S1: 17 | T1: 18 | U1: 19 | V1: 20 | W1: 21 | X1: 22 | Y1: 23 | Z1: 24 | AA1: 25 | AB1: 26 | AC1: 27 | AD1: 28 | AE1: 29 | AF1: 30 | AG1: 31 | AH1: Done | AI1: Status | AJ1: % of days | AK1: Streak | AL1: Best streak | AM1: Run 1 | AN1: Run 2 | AO1: Run 3 | AP1: Run 4 | AQ1: Run 5 | AR1: Run 6 | AS1: Run 7 | AT1: Run 8 | AU1: Run 9 | AV1: Run 10 | AW1: Run 11 | AX1: Run 12 | AY1: Run 13 | AZ1: Run 14 | BA1: Run 15 | BB1: Run 16 | BC1: Run 17 | BD1: Run 18 | BE1: Run 19 | BF1: Run 20 | BG1: Run 21 | BH1: Run 22 | BI1: Run 23 | BJ1: Run 24 | BK1: Run 25 | BL1: Run 26 | BM1: Run 27 | BN1: Run 28 | BO1: Run 29 | BP1: Run 30 | BQ1: Run 31
A2: Day of week | C2: =Summary!$B$2 -> 46327 | D2: =Summary!$B$2+1 -> 46328 | E2: =Summary!$B$2+2 -> 46329 | F2: =Summary!$B$2+3 -> 46330 | G2: =Summary!$B$2+4 -> 46331 | H2: =Summary!$B$2+5 -> 46332 | I2: =Summary!$B$2+6 -> 46333 | J2: =Summary!$B$2+7 -> 46334 | K2: =Summary!$B$2+8 -> 46335 | L2: =Summary!$B$2+9 -> 46336 | M2: =Summary!$B$2+10 -> 46337 | N2: =Summary!$B$2+11 -> 46338 | O2: =Summary!$B$2+12 -> 46339 | P2: =Summary!$B$2+13 -> 46340 | Q2: =Summary!$B$2+14 -> 46341 | R2: =Summary!$B$2+15 -> 46342 | S2: =Summary!$B$2+16 -> 46343 | T2: =Summary!$B$2+17 -> 46344 | U2: =Summary!$B$2+18 -> 46345 | V2: =Summary!$B$2+19 -> 46346 | W2: =Summary!$B$2+20 -> 46347 | X2: =Summary!$B$2+21 -> 46348 | Y2: =Summary!$B$2+22 -> 46349 | Z2: =Summary!$B$2+23 -> 46350 | AA2: =Summary!$B$2+24 -> 46351 | AB2: =Summary!$B$2+25 -> 46352 | AC2: =Summary!$B$2+26 -> 46353 | AD2: =Summary!$B$2+27 -> 46354 | AE2: =IF(MONTH(Summary!$B$2+28)=MONTH(Summary!$B$2),Summary!$B$2+28,"") -> 46355 | AF2: =IF(MONTH(Summary!$B$2+29)=MONTH(Summary!$B$2),Summary!$B$2+29,"") -> 46356 | AG2: =IF(MONTH(Summary!$B$2+30)=MONTH(Summary!$B$2),Summary!$B$2+30,"")
A3: Drink 8 glasses of water | B3: 25 | C3: TRUE | D3: TRUE | E3: TRUE | F3: FALSE | G3: TRUE | H3: TRUE | I3: TRUE | J3: TRUE | K3: TRUE | L3: TRUE | M3: FALSE | N3: TRUE | O3: TRUE | P3: TRUE | Q3: TRUE | R3: TRUE | S3: TRUE | T3: TRUE | U3: FALSE | V3: FALSE | W3: FALSE | X3: FALSE | Y3: FALSE | Z3: FALSE | AA3: FALSE | AB3: FALSE | AC3: FALSE | AD3: FALSE | AE3: FALSE | AF3: FALSE | AG3: FALSE | AH3: =IF(ISBLANK(A3),"",COUNTIFS(C3:AG3,TRUE)) -> 16 | AI3: =IF(OR(ISBLANK(A3),ISBLANK(B3)),"",IF(AH3>=B3,"Goal met",IF(AH3+Summary!$B$4-Summary!$B$5<B3,"Out of reach",IF(Summary!$B$5=0,"",IF(AH3/Summary!$B$5*Summary!$B$4>=B3,"On track","Behind"))))) -> On track | AJ3: =IF(OR(ISBLANK(A3),Summary!$B$5=0),"",AH3/Summary!$B$5) -> 0.88888889 | AK3: =IF(OR(ISBLANK(A3),Summary!$B$5=0),"",IF(INDEX(C3:AG3,1,Summary!$B$5)=TRUE,INDEX(AM3:BQ3,1,Summary!$B$5),IF(Summary!$B$5=1,0,INDEX(AM3:BQ3,1,MAX(1,Summary!$B$5-1))))) -> 7 | AL3: =IF(ISBLANK(A3),"",MAX(AM3:BQ3)) -> 7 | AM3: =IF(C3=TRUE,1,0) -> 1 | AN3: =IF(D3=TRUE,AM3+1,0) -> 2 | AO3: =IF(E3=TRUE,AN3+1,0) -> 3 | AP3: =IF(F3=TRUE,AO3+1,0) -> 0 | AQ3: =IF(G3=TRUE,AP3+1,0) -> 1 | AR3: =IF(H3=TRUE,AQ3+1,0) -> 2 | AS3: =IF(I3=TRUE,AR3+1,0) -> 3 | AT3: =IF(J3=TRUE,AS3+1,0) -> 4 | AU3: =IF(K3=TRUE,AT3+1,0) -> 5 | ... BQ3: =IF(AG3=TRUE,BP3+1,0) -> 0
A4: Walk 30 minutes | B4: 20 | C4: TRUE | D4: TRUE | E4: FALSE | F4: TRUE | G4: TRUE | H4: FALSE | I4: TRUE | J4: TRUE | K4: TRUE | L4: TRUE | M4: TRUE | N4: TRUE | O4: FALSE | P4: TRUE | Q4: FALSE | R4: TRUE | S4: TRUE | T4: TRUE | U4: FALSE | V4: FALSE | W4: FALSE | X4: FALSE | Y4: FALSE | Z4: FALSE | AA4: FALSE | AB4: FALSE | AC4: FALSE | AD4: FALSE | AE4: FALSE | AF4: FALSE | AG4: FALSE | AH4: =IF(ISBLANK(A4),"",COUNTIFS(C4:AG4,TRUE)) -> 14 | AI4: =IF(OR(ISBLANK(A4),ISBLANK(B4)),"",IF(AH4>=B4,"Goal met",IF(AH4+Summary!$B$4-Summary!$B$5<B4,"Out of reach",IF(Summary!$B$5=0,"",IF(AH4/Summary!$B$5*Summary!$B$4>=B4,"On track","Behind"))))) -> On track | AJ4: =IF(OR(ISBLANK(A4),Summary!$B$5=0),"",AH4/Summary!$B$5) -> 0.77777778 | AK4: =IF(OR(ISBLANK(A4),Summary!$B$5=0),"",IF(INDEX(C4:AG4,1,Summary!$B$5)=TRUE,INDEX(AM4:BQ4,1,Summary!$B$5),IF(Summary!$B$5=1,0,INDEX(AM4:BQ4,1,MAX(1,Summary!$B$5-1))))) -> 3 | AL4: =IF(ISBLANK(A4),"",MAX(AM4:BQ4)) -> 6 | AM4: =IF(C4=TRUE,1,0) -> 1 | AN4: =IF(D4=TRUE,AM4+1,0) -> 2 | AO4: =IF(E4=TRUE,AN4+1,0) -> 0 | AP4: =IF(F4=TRUE,AO4+1,0) -> 1 | AQ4: =IF(G4=TRUE,AP4+1,0) -> 2 | AR4: =IF(H4=TRUE,AQ4+1,0) -> 0 | AS4: =IF(I4=TRUE,AR4+1,0) -> 1 | AT4: =IF(J4=TRUE,AS4+1,0) -> 2 | AU4: =IF(K4=TRUE,AT4+1,0) -> 3 | ... BQ4: =IF(AG4=TRUE,BP4+1,0) -> 0
A5: Read 20 pages | B5: 25 | C5: TRUE | D5: TRUE | E5: TRUE | F5: TRUE | G5: TRUE | H5: TRUE | I5: FALSE | J5: TRUE | K5: TRUE | L5: TRUE | M5: TRUE | N5: TRUE | O5: TRUE | P5: TRUE | Q5: TRUE | R5: TRUE | S5: TRUE | T5: TRUE | U5: FALSE | V5: FALSE | W5: FALSE | X5: FALSE | Y5: FALSE | Z5: FALSE | AA5: FALSE | AB5: FALSE | AC5: FALSE | AD5: FALSE | AE5: FALSE | AF5: FALSE | AG5: FALSE | AH5: =IF(ISBLANK(A5),"",COUNTIFS(C5:AG5,TRUE)) -> 17 | AI5: =IF(OR(ISBLANK(A5),ISBLANK(B5)),"",IF(AH5>=B5,"Goal met",IF(AH5+Summary!$B$4-Summary!$B$5<B5,"Out of reach",IF(Summary!$B$5=0,"",IF(AH5/Summary!$B$5*Summary!$B$4>=B5,"On track","Behind"))))) -> On track | AJ5: =IF(OR(ISBLANK(A5),Summary!$B$5=0),"",AH5/Summary!$B$5) -> 0.94444444 | AK5: =IF(OR(ISBLANK(A5),Summary!$B$5=0),"",IF(INDEX(C5:AG5,1,Summary!$B$5)=TRUE,INDEX(AM5:BQ5,1,Summary!$B$5),IF(Summary!$B$5=1,0,INDEX(AM5:BQ5,1,MAX(1,Summary!$B$5-1))))) -> 11 | AL5: =IF(ISBLANK(A5),"",MAX(AM5:BQ5)) -> 11 | AM5: =IF(C5=TRUE,1,0) -> 1 | AN5: =IF(D5=TRUE,AM5+1,0) -> 2 | AO5: =IF(E5=TRUE,AN5+1,0) -> 3 | AP5: =IF(F5=TRUE,AO5+1,0) -> 4 | AQ5: =IF(G5=TRUE,AP5+1,0) -> 5 | AR5: =IF(H5=TRUE,AQ5+1,0) -> 6 | AS5: =IF(I5=TRUE,AR5+1,0) -> 0 | AT5: =IF(J5=TRUE,AS5+1,0) -> 1 | AU5: =IF(K5=TRUE,AT5+1,0) -> 2 | ... BQ5: =IF(AG5=TRUE,BP5+1,0) -> 0
A6: Take vitamins | B6: 28 | C6: TRUE | D6: TRUE | E6: TRUE | F6: TRUE | G6: TRUE | H6: TRUE | I6: TRUE | J6: TRUE | K6: TRUE | L6: TRUE | M6: TRUE | N6: TRUE | O6: TRUE | P6: TRUE | Q6: TRUE | R6: TRUE | S6: TRUE | T6: TRUE | U6: FALSE | V6: FALSE | W6: FALSE | X6: FALSE | Y6: FALSE | Z6: FALSE | AA6: FALSE | AB6: FALSE | AC6: FALSE | AD6: FALSE | AE6: FALSE | AF6: FALSE | AG6: FALSE | AH6: =IF(ISBLANK(A6),"",COUNTIFS(C6:AG6,TRUE)) -> 18 | AI6: =IF(OR(ISBLANK(A6),ISBLANK(B6)),"",IF(AH6>=B6,"Goal met",IF(AH6+Summary!$B$4-Summary!$B$5<B6,"Out of reach",IF(Summary!$B$5=0,"",IF(AH6/Summary!$B$5*Summary!$B$4>=B6,"On track","Behind"))))) -> On track | AJ6: =IF(OR(ISBLANK(A6),Summary!$B$5=0),"",AH6/Summary!$B$5) -> 1 | AK6: =IF(OR(ISBLANK(A6),Summary!$B$5=0),"",IF(INDEX(C6:AG6,1,Summary!$B$5)=TRUE,INDEX(AM6:BQ6,1,Summary!$B$5),IF(Summary!$B$5=1,0,INDEX(AM6:BQ6,1,MAX(1,Summary!$B$5-1))))) -> 18 | AL6: =IF(ISBLANK(A6),"",MAX(AM6:BQ6)) -> 18 | AM6: =IF(C6=TRUE,1,0) -> 1 | AN6: =IF(D6=TRUE,AM6+1,0) -> 2 | AO6: =IF(E6=TRUE,AN6+1,0) -> 3 | AP6: =IF(F6=TRUE,AO6+1,0) -> 4 | AQ6: =IF(G6=TRUE,AP6+1,0) -> 5 | AR6: =IF(H6=TRUE,AQ6+1,0) -> 6 | AS6: =IF(I6=TRUE,AR6+1,0) -> 7 | AT6: =IF(J6=TRUE,AS6+1,0) -> 8 | AU6: =IF(K6=TRUE,AT6+1,0) -> 9 | ... BQ6: =IF(AG6=TRUE,BP6+1,0) -> 0
A7: Stretch 10 minutes | B7: 15 | C7: TRUE | D7: FALSE | E7: FALSE | F7: TRUE | G7: FALSE | H7: TRUE | I7: FALSE | J7: FALSE | K7: TRUE | L7: TRUE | M7: TRUE | N7: FALSE | O7: TRUE | P7: TRUE | Q7: FALSE | R7: FALSE | S7: TRUE | T7: TRUE | U7: FALSE | V7: FALSE | W7: FALSE | X7: FALSE | Y7: FALSE | Z7: FALSE | AA7: FALSE | AB7: FALSE | AC7: FALSE | AD7: FALSE | AE7: FALSE | AF7: FALSE | AG7: FALSE | AH7: =IF(ISBLANK(A7),"",COUNTIFS(C7:AG7,TRUE)) -> 10 | AI7: =IF(OR(ISBLANK(A7),ISBLANK(B7)),"",IF(AH7>=B7,"Goal met",IF(AH7+Summary!$B$4-Summary!$B$5<B7,"Out of reach",IF(Summary!$B$5=0,"",IF(AH7/Summary!$B$5*Summary!$B$4>=B7,"On track","Behind"))))) -> On track | AJ7: =IF(OR(ISBLANK(A7),Summary!$B$5=0),"",AH7/Summary!$B$5) -> 0.55555556 | AK7: =IF(OR(ISBLANK(A7),Summary!$B$5=0),"",IF(INDEX(C7:AG7,1,Summary!$B$5)=TRUE,INDEX(AM7:BQ7,1,Summary!$B$5),IF(Summary!$B$5=1,0,INDEX(AM7:BQ7,1,MAX(1,Summary!$B$5-1))))) -> 2 | AL7: =IF(ISBLANK(A7),"",MAX(AM7:BQ7)) -> 3 | AM7: =IF(C7=TRUE,1,0) -> 1 | AN7: =IF(D7=TRUE,AM7+1,0) -> 0 | AO7: =IF(E7=TRUE,AN7+1,0) -> 0 | AP7: =IF(F7=TRUE,AO7+1,0) -> 1 | AQ7: =IF(G7=TRUE,AP7+1,0) -> 0 | AR7: =IF(H7=TRUE,AQ7+1,0) -> 1 | AS7: =IF(I7=TRUE,AR7+1,0) -> 0 | AT7: =IF(J7=TRUE,AS7+1,0) -> 0 | AU7: =IF(K7=TRUE,AT7+1,0) -> 1 | ... BQ7: =IF(AG7=TRUE,BP7+1,0) -> 0
A8: Journal before bed | B8: 15 | C8: FALSE | D8: TRUE | E8: TRUE | F8: FALSE | G8: FALSE | H8: TRUE | I8: TRUE | J8: FALSE | K8: FALSE | L8: TRUE | M8: TRUE | N8: FALSE | O8: FALSE | P8: TRUE | Q8: FALSE | R8: FALSE | S8: TRUE | T8: TRUE | U8: FALSE | V8: FALSE | W8: FALSE | X8: FALSE | Y8: FALSE | Z8: FALSE | AA8: FALSE | AB8: FALSE | AC8: FALSE | AD8: FALSE | AE8: FALSE | AF8: FALSE | AG8: FALSE | AH8: =IF(ISBLANK(A8),"",COUNTIFS(C8:AG8,TRUE)) -> 9 | AI8: =IF(OR(ISBLANK(A8),ISBLANK(B8)),"",IF(AH8>=B8,"Goal met",IF(AH8+Summary!$B$4-Summary!$B$5<B8,"Out of reach",IF(Summary!$B$5=0,"",IF(AH8/Summary!$B$5*Summary!$B$4>=B8,"On track","Behind"))))) -> On track | AJ8: =IF(OR(ISBLANK(A8),Summary!$B$5=0),"",AH8/Summary!$B$5) -> 0.5 | AK8: =IF(OR(ISBLANK(A8),Summary!$B$5=0),"",IF(INDEX(C8:AG8,1,Summary!$B$5)=TRUE,INDEX(AM8:BQ8,1,Summary!$B$5),IF(Summary!$B$5=1,0,INDEX(AM8:BQ8,1,MAX(1,Summary!$B$5-1))))) -> 2 | AL8: =IF(ISBLANK(A8),"",MAX(AM8:BQ8)) -> 2 | AM8: =IF(C8=TRUE,1,0) -> 0 | AN8: =IF(D8=TRUE,AM8+1,0) -> 1 | AO8: =IF(E8=TRUE,AN8+1,0) -> 2 | AP8: =IF(F8=TRUE,AO8+1,0) -> 0 | AQ8: =IF(G8=TRUE,AP8+1,0) -> 0 | AR8: =IF(H8=TRUE,AQ8+1,0) -> 1 | AS8: =IF(I8=TRUE,AR8+1,0) -> 2 | AT8: =IF(J8=TRUE,AS8+1,0) -> 0 | AU8: =IF(K8=TRUE,AT8+1,0) -> 0 | ... BQ8: =IF(AG8=TRUE,BP8+1,0) -> 0
A9: In bed by 10:30 PM | B9: 20 | C9: FALSE | D9: TRUE | E9: TRUE | F9: TRUE | G9: TRUE | H9: FALSE | I9: FALSE | J9: TRUE | K9: TRUE | L9: TRUE | M9: FALSE | N9: TRUE | O9: TRUE | P9: TRUE | Q9: TRUE | R9: FALSE | S9: TRUE | T9: TRUE | U9: FALSE | V9: FALSE | W9: FALSE | X9: FALSE | Y9: FALSE | Z9: FALSE | AA9: FALSE | AB9: FALSE | AC9: FALSE | AD9: FALSE | AE9: FALSE | AF9: FALSE | AG9: FALSE | AH9: =IF(ISBLANK(A9),"",COUNTIFS(C9:AG9,TRUE)) -> 13 | AI9: =IF(OR(ISBLANK(A9),ISBLANK(B9)),"",IF(AH9>=B9,"Goal met",IF(AH9+Summary!$B$4-Summary!$B$5<B9,"Out of reach",IF(Summary!$B$5=0,"",IF(AH9/Summary!$B$5*Summary!$B$4>=B9,"On track","Behind"))))) -> On track | AJ9: =IF(OR(ISBLANK(A9),Summary!$B$5=0),"",AH9/Summary!$B$5) -> 0.72222222 | AK9: =IF(OR(ISBLANK(A9),Summary!$B$5=0),"",IF(INDEX(C9:AG9,1,Summary!$B$5)=TRUE,INDEX(AM9:BQ9,1,Summary!$B$5),IF(Summary!$B$5=1,0,INDEX(AM9:BQ9,1,MAX(1,Summary!$B$5-1))))) -> 2 | AL9: =IF(ISBLANK(A9),"",MAX(AM9:BQ9)) -> 4 | AM9: =IF(C9=TRUE,1,0) -> 0 | AN9: =IF(D9=TRUE,AM9+1,0) -> 1 | AO9: =IF(E9=TRUE,AN9+1,0) -> 2 | AP9: =IF(F9=TRUE,AO9+1,0) -> 3 | AQ9: =IF(G9=TRUE,AP9+1,0) -> 4 | AR9: =IF(H9=TRUE,AQ9+1,0) -> 0 | AS9: =IF(I9=TRUE,AR9+1,0) -> 0 | AT9: =IF(J9=TRUE,AS9+1,0) -> 1 | AU9: =IF(K9=TRUE,AT9+1,0) -> 2 | ... BQ9: =IF(AG9=TRUE,BP9+1,0) -> 0
A10: No-spend day | B10: 12 | C10: FALSE | D10: TRUE | E10: FALSE | F10: TRUE | G10: FALSE | H10: FALSE | I10: TRUE | J10: FALSE | K10: FALSE | L10: TRUE | M10: TRUE | N10: FALSE | O10: FALSE | P10: FALSE | Q10: TRUE | R10: FALSE | S10: TRUE | T10: TRUE | U10: FALSE | V10: FALSE | W10: FALSE | X10: FALSE | Y10: FALSE | Z10: FALSE | AA10: FALSE | AB10: FALSE | AC10: FALSE | AD10: FALSE | AE10: FALSE | AF10: FALSE | AG10: FALSE | AH10: =IF(ISBLANK(A10),"",COUNTIFS(C10:AG10,TRUE)) -> 8 | AI10: =IF(OR(ISBLANK(A10),ISBLANK(B10)),"",IF(AH10>=B10,"Goal met",IF(AH10+Summary!$B$4-Summary!$B$5<B10,"Out of reach",IF(Summary!$B$5=0,"",IF(AH10/Summary!$B$5*Summary!$B$4>=B10,"On track","Behind"))))) -> On track | AJ10: =IF(OR(ISBLANK(A10),Summary!$B$5=0),"",AH10/Summary!$B$5) -> 0.44444444 | AK10: =IF(OR(ISBLANK(A10),Summary!$B$5=0),"",IF(INDEX(C10:AG10,1,Summary!$B$5)=TRUE,INDEX(AM10:BQ10,1,Summary!$B$5),IF(Summary!$B$5=1,0,INDEX(AM10:BQ10,1,MAX(1,Summary!$B$5-1))))) -> 2 | AL10: =IF(ISBLANK(A10),"",MAX(AM10:BQ10)) -> 2 | AM10: =IF(C10=TRUE,1,0) -> 0 | AN10: =IF(D10=TRUE,AM10+1,0) -> 1 | AO10: =IF(E10=TRUE,AN10+1,0) -> 0 | AP10: =IF(F10=TRUE,AO10+1,0) -> 1 | AQ10: =IF(G10=TRUE,AP10+1,0) -> 0 | AR10: =IF(H10=TRUE,AQ10+1,0) -> 0 | AS10: =IF(I10=TRUE,AR10+1,0) -> 1 | AT10: =IF(J10=TRUE,AS10+1,0) -> 0 | AU10: =IF(K10=TRUE,AT10+1,0) -> 0 | ... BQ10: =IF(AG10=TRUE,BP10+1,0) -> 0
A11: Practice Spanish 15 min | B11: 20 | C11: TRUE | D11: TRUE | E11: TRUE | F11: TRUE | G11: TRUE | H11: FALSE | I11: TRUE | J11: TRUE | K11: TRUE | L11: TRUE | M11: TRUE | N11: FALSE | O11: FALSE | P11: TRUE | Q11: TRUE | R11: TRUE | S11: TRUE | T11: TRUE | U11: FALSE | V11: FALSE | W11: FALSE | X11: FALSE | Y11: FALSE | Z11: FALSE | AA11: FALSE | AB11: FALSE | AC11: FALSE | AD11: FALSE | AE11: FALSE | AF11: FALSE | AG11: FALSE | AH11: =IF(ISBLANK(A11),"",COUNTIFS(C11:AG11,TRUE)) -> 15 | AI11: =IF(OR(ISBLANK(A11),ISBLANK(B11)),"",IF(AH11>=B11,"Goal met",IF(AH11+Summary!$B$4-Summary!$B$5<B11,"Out of reach",IF(Summary!$B$5=0,"",IF(AH11/Summary!$B$5*Summary!$B$4>=B11,"On track","Behind"))))) -> On track | AJ11: =IF(OR(ISBLANK(A11),Summary!$B$5=0),"",AH11/Summary!$B$5) -> 0.83333333 | AK11: =IF(OR(ISBLANK(A11),Summary!$B$5=0),"",IF(INDEX(C11:AG11,1,Summary!$B$5)=TRUE,INDEX(AM11:BQ11,1,Summary!$B$5),IF(Summary!$B$5=1,0,INDEX(AM11:BQ11,1,MAX(1,Summary!$B$5-1))))) -> 5 | AL11: =IF(ISBLANK(A11),"",MAX(AM11:BQ11)) -> 5 | AM11: =IF(C11=TRUE,1,0) -> 1 | AN11: =IF(D11=TRUE,AM11+1,0) -> 2 | AO11: =IF(E11=TRUE,AN11+1,0) -> 3 | AP11: =IF(F11=TRUE,AO11+1,0) -> 4 | AQ11: =IF(G11=TRUE,AP11+1,0) -> 5 | AR11: =IF(H11=TRUE,AQ11+1,0) -> 0 | AS11: =IF(I11=TRUE,AR11+1,0) -> 1 | AT11: =IF(J11=TRUE,AS11+1,0) -> 2 | AU11: =IF(K11=TRUE,AT11+1,0) -> 3 | ... BQ11: =IF(AG11=TRUE,BP11+1,0) -> 0
A12: No phone first hour | B12: 18 | C12: TRUE | D12: FALSE | E12: FALSE | F12: FALSE | G12: TRUE | H12: FALSE | I12: FALSE | J12: FALSE | K12: FALSE | L12: TRUE | M12: TRUE | N12: FALSE | O12: FALSE | P12: FALSE | Q12: FALSE | R12: TRUE | S12: TRUE | T12: FALSE | U12: FALSE | V12: FALSE | W12: FALSE | X12: FALSE | Y12: FALSE | Z12: FALSE | AA12: FALSE | AB12: FALSE | AC12: FALSE | AD12: FALSE | AE12: FALSE | AF12: FALSE | AG12: FALSE | AH12: =IF(ISBLANK(A12),"",COUNTIFS(C12:AG12,TRUE)) -> 6 | AI12: =IF(OR(ISBLANK(A12),ISBLANK(B12)),"",IF(AH12>=B12,"Goal met",IF(AH12+Summary!$B$4-Summary!$B$5<B12,"Out of reach",IF(Summary!$B$5=0,"",IF(AH12/Summary!$B$5*Summary!$B$4>=B12,"On track","Behind"))))) -> Behind | AJ12: =IF(OR(ISBLANK(A12),Summary!$B$5=0),"",AH12/Summary!$B$5) -> 0.33333333 | AK12: =IF(OR(ISBLANK(A12),Summary!$B$5=0),"",IF(INDEX(C12:AG12,1,Summary!$B$5)=TRUE,INDEX(AM12:BQ12,1,Summary!$B$5),IF(Summary!$B$5=1,0,INDEX(AM12:BQ12,1,MAX(1,Summary!$B$5-1))))) -> 2 | AL12: =IF(ISBLANK(A12),"",MAX(AM12:BQ12)) -> 2 | AM12: =IF(C12=TRUE,1,0) -> 1 | AN12: =IF(D12=TRUE,AM12+1,0) -> 0 | AO12: =IF(E12=TRUE,AN12+1,0) -> 0 | AP12: =IF(F12=TRUE,AO12+1,0) -> 0 | AQ12: =IF(G12=TRUE,AP12+1,0) -> 1 | AR12: =IF(H12=TRUE,AQ12+1,0) -> 0 | AS12: =IF(I12=TRUE,AR12+1,0) -> 0 | AT12: =IF(J12=TRUE,AS12+1,0) -> 0 | AU12: =IF(K12=TRUE,AT12+1,0) -> 0 | ... BQ12: =IF(AG12=TRUE,BP12+1,0) -> 0
A13: Habits done | C13: =COUNTIFS(C3:C12,TRUE) -> 7 | D13: =COUNTIFS(D3:D12,TRUE) -> 8 | E13: =COUNTIFS(E3:E12,TRUE) -> 6 | F13: =COUNTIFS(F3:F12,TRUE) -> 7 | G13: =COUNTIFS(G3:G12,TRUE) -> 7 | H13: =COUNTIFS(H3:H12,TRUE) -> 5 | I13: =COUNTIFS(I3:I12,TRUE) -> 6 | J13: =COUNTIFS(J3:J12,TRUE) -> 6 | ... AG13: =COUNTIFS(AG3:AG12,TRUE) -> 0 | AH13: =SUM(AH3:AH12) -> 126 | AJ13: =Summary!B8 -> 0.7

Sheet Summary
A1: Item | B1: Value
A2: Month starts | B2: =DATE(2026,11,1) -> 46327
A3: Today | B3: =DATE(2026,11,18) -> 46344
A4: Days in the month | B4: =DAY(EOMONTH(B2,0)) -> 30
A5: Days so far | B5: =MAX(0,MIN(B3-B2+1,B4)) -> 18
A6: Habits tracked | B6: =COUNTA('Habit Tracker'!A3:A12) -> 10
A7: Check-ins so far | B7: =SUM('Habit Tracker'!AH3:AH12) -> 126
A8: Overall completion | B8: =IF(B5*B6=0,0,B7/(B5*B6)) -> 0.7
A9: Perfect days (every habit done) | B9: =IF(B6=0,0,COUNTIF('Habit Tracker'!C13:AG13,B6)) -> 2
A10: Habits on track or goal met | B10: =COUNTIF('Habit Tracker'!AI3:AI12,"On track")+COUNTIF('Habit Tracker'!AI3:AI12,"Goal met") -> 9
A11: Habits behind | B11: =COUNTIF('Habit Tracker'!AI3:AI12,"Behind")+COUNTIF('Habit Tracker'!AI3:AI12,"Out of reach") -> 1
A12: Longest current streak | B12: =MAX('Habit Tracker'!AK3:AK12) -> 18
A13: Best streak this month | B13: =MAX('Habit Tracker'!AL3:AL12) -> 18
