Workbook

Sheet Income Log
A1: Date received | B1: Source | C1: Details | D1: Amount | E1: Set aside for tax
A2: 46037 | B2: Day job | C2: Paycheck | D2: 1640 | E2: =ROUND(D2*IFERROR(VLOOKUP(B2,Sources!$A$2:$B$5,2,FALSE),0),2) -> 0
A3: 46044 | B3: Freelance design | C3: Logo for Harbor Coffee | D3: 450 | E3: =ROUND(D3*IFERROR(VLOOKUP(B3,Sources!$A$2:$B$5,2,FALSE),0),2) -> 112.5
A4: 46052 | B4: Day job | C4: Paycheck | D4: 1640 | E4: =ROUND(D4*IFERROR(VLOOKUP(B4,Sources!$A$2:$B$5,2,FALSE),0),2) -> 0
A5: 46052 | B5: Etsy shop | C5: January payout | D5: 286.4 | E5: =ROUND(D5*IFERROR(VLOOKUP(B5,Sources!$A$2:$B$5,2,FALSE),0),2) -> 71.6
A6: 46062 | B6: Dog walking | C6: Rover, 2 weeks | D6: 210 | E6: =ROUND(D6*IFERROR(VLOOKUP(B6,Sources!$A$2:$B$5,2,FALSE),0),2) -> 52.5
A7: 46067 | B7: Day job | C7: Paycheck | D7: 1640 | E7: =ROUND(D7*IFERROR(VLOOKUP(B7,Sources!$A$2:$B$5,2,FALSE),0),2) -> 0
A8: 46073 | B8: Freelance design | C8: Menu redesign | D8: 600 | E8: =ROUND(D8*IFERROR(VLOOKUP(B8,Sources!$A$2:$B$5,2,FALSE),0),2) -> 150
A9: 46080 | B9: Day job | C9: Paycheck | D9: 1640 | E9: =ROUND(D9*IFERROR(VLOOKUP(B9,Sources!$A$2:$B$5,2,FALSE),0),2) -> 0
A10: 46080 | B10: Etsy shop | C10: February payout | D10: 341.75 | E10: =ROUND(D10*IFERROR(VLOOKUP(B10,Sources!$A$2:$B$5,2,FALSE),0),2) -> 85.44
A11: 46093 | B11: Freelance design | C11: Website banner set | D11: 275 | E11: =ROUND(D11*IFERROR(VLOOKUP(B11,Sources!$A$2:$B$5,2,FALSE),0),2) -> 68.75
A12: 46096 | B12: Day job | C12: Paycheck | D12: 1640 | E12: =ROUND(D12*IFERROR(VLOOKUP(B12,Sources!$A$2:$B$5,2,FALSE),0),2) -> 0
A13: 46104 | B13: Dog walking | C13: Neighbor, 3 weeks | D13: 180 | E13: =ROUND(D13*IFERROR(VLOOKUP(B13,Sources!$A$2:$B$5,2,FALSE),0),2) -> 45
... A16: 46115 | B16: Freelance design | C16: Wedding invitations | D16: 520 | E16: =ROUND(D16*IFERROR(VLOOKUP(B16,Sources!$A$2:$B$5,2,FALSE),0),2) -> 130

Sheet By Month
A1: Month | B1: Day job | C1: Freelance design | D1: Etsy shop | E1: Dog walking | F1: Total | G1: Set aside for tax | H1: Yours to keep
A2: =DATE(2026,1,1) -> 46023 | B2: =SUMIFS('Income Log'!D:D,'Income Log'!B:B,B$1,'Income Log'!A:A,">="&$A2,'Income Log'!A:A,"<="&EOMONTH($A2,0)) -> 3280 | C2: =SUMIFS('Income Log'!D:D,'Income Log'!B:B,C$1,'Income Log'!A:A,">="&$A2,'Income Log'!A:A,"<="&EOMONTH($A2,0)) -> 450 | D2: =SUMIFS('Income Log'!D:D,'Income Log'!B:B,D$1,'Income Log'!A:A,">="&$A2,'Income Log'!A:A,"<="&EOMONTH($A2,0)) -> 286.4 | E2: =SUMIFS('Income Log'!D:D,'Income Log'!B:B,E$1,'Income Log'!A:A,">="&$A2,'Income Log'!A:A,"<="&EOMONTH($A2,0)) -> 0 | F2: =SUM(B2:E2) -> 4016.4 | G2: =SUMIFS('Income Log'!E:E,'Income Log'!A:A,">="&$A2,'Income Log'!A:A,"<="&EOMONTH($A2,0)) -> 184.1 | H2: =F2-G2 -> 3832.3
A3: =DATE(YEAR(A2),MONTH(A2)+1,1) -> 46054 | B3: =SUMIFS('Income Log'!D:D,'Income Log'!B:B,B$1,'Income Log'!A:A,">="&$A3,'Income Log'!A:A,"<="&EOMONTH($A3,0)) -> 3280 | C3: =SUMIFS('Income Log'!D:D,'Income Log'!B:B,C$1,'Income Log'!A:A,">="&$A3,'Income Log'!A:A,"<="&EOMONTH($A3,0)) -> 600 | D3: =SUMIFS('Income Log'!D:D,'Income Log'!B:B,D$1,'Income Log'!A:A,">="&$A3,'Income Log'!A:A,"<="&EOMONTH($A3,0)) -> 341.75 | E3: =SUMIFS('Income Log'!D:D,'Income Log'!B:B,E$1,'Income Log'!A:A,">="&$A3,'Income Log'!A:A,"<="&EOMONTH($A3,0)) -> 210 | F3: =SUM(B3:E3) -> 4431.75 | G3: =SUMIFS('Income Log'!E:E,'Income Log'!A:A,">="&$A3,'Income Log'!A:A,"<="&EOMONTH($A3,0)) -> 287.94 | H3: =F3-G3 -> 4143.81
A4: =DATE(YEAR(A3),MONTH(A3)+1,1) -> 46082 | B4: =SUMIFS('Income Log'!D:D,'Income Log'!B:B,B$1,'Income Log'!A:A,">="&$A4,'Income Log'!A:A,"<="&EOMONTH($A4,0)) -> 3352.5 | C4: =SUMIFS('Income Log'!D:D,'Income Log'!B:B,C$1,'Income Log'!A:A,">="&$A4,'Income Log'!A:A,"<="&EOMONTH($A4,0)) -> 275 | D4: =SUMIFS('Income Log'!D:D,'Income Log'!B:B,D$1,'Income Log'!A:A,">="&$A4,'Income Log'!A:A,"<="&EOMONTH($A4,0)) -> 198.2 | E4: =SUMIFS('Income Log'!D:D,'Income Log'!B:B,E$1,'Income Log'!A:A,">="&$A4,'Income Log'!A:A,"<="&EOMONTH($A4,0)) -> 180 | F4: =SUM(B4:E4) -> 4005.7 | G4: =SUMIFS('Income Log'!E:E,'Income Log'!A:A,">="&$A4,'Income Log'!A:A,"<="&EOMONTH($A4,0)) -> 163.3 | H4: =F4-G4 -> 3842.4
A5: =DATE(YEAR(A4),MONTH(A4)+1,1) -> 46113 | B5: =SUMIFS('Income Log'!D:D,'Income Log'!B:B,B$1,'Income Log'!A:A,">="&$A5,'Income Log'!A:A,"<="&EOMONTH($A5,0)) -> 0 | C5: =SUMIFS('Income Log'!D:D,'Income Log'!B:B,C$1,'Income Log'!A:A,">="&$A5,'Income Log'!A:A,"<="&EOMONTH($A5,0)) -> 520 | D5: =SUMIFS('Income Log'!D:D,'Income Log'!B:B,D$1,'Income Log'!A:A,">="&$A5,'Income Log'!A:A,"<="&EOMONTH($A5,0)) -> 0 | E5: =SUMIFS('Income Log'!D:D,'Income Log'!B:B,E$1,'Income Log'!A:A,">="&$A5,'Income Log'!A:A,"<="&EOMONTH($A5,0)) -> 0 | F5: =SUM(B5:E5) -> 520 | G5: =SUMIFS('Income Log'!E:E,'Income Log'!A:A,">="&$A5,'Income Log'!A:A,"<="&EOMONTH($A5,0)) -> 130 | H5: =F5-G5 -> 390
A6: =DATE(YEAR(A5),MONTH(A5)+1,1) -> 46143 | B6: =SUMIFS('Income Log'!D:D,'Income Log'!B:B,B$1,'Income Log'!A:A,">="&$A6,'Income Log'!A:A,"<="&EOMONTH($A6,0)) -> 0 | C6: =SUMIFS('Income Log'!D:D,'Income Log'!B:B,C$1,'Income Log'!A:A,">="&$A6,'Income Log'!A:A,"<="&EOMONTH($A6,0)) -> 0 | D6: =SUMIFS('Income Log'!D:D,'Income Log'!B:B,D$1,'Income Log'!A:A,">="&$A6,'Income Log'!A:A,"<="&EOMONTH($A6,0)) -> 0 | E6: =SUMIFS('Income Log'!D:D,'Income Log'!B:B,E$1,'Income Log'!A:A,">="&$A6,'Income Log'!A:A,"<="&EOMONTH($A6,0)) -> 0 | F6: =SUM(B6:E6) -> 0 | G6: =SUMIFS('Income Log'!E:E,'Income Log'!A:A,">="&$A6,'Income Log'!A:A,"<="&EOMONTH($A6,0)) -> 0 | H6: =F6-G6 -> 0
A7: =DATE(YEAR(A6),MONTH(A6)+1,1) -> 46174 | B7: =SUMIFS('Income Log'!D:D,'Income Log'!B:B,B$1,'Income Log'!A:A,">="&$A7,'Income Log'!A:A,"<="&EOMONTH($A7,0)) -> 0 | C7: =SUMIFS('Income Log'!D:D,'Income Log'!B:B,C$1,'Income Log'!A:A,">="&$A7,'Income Log'!A:A,"<="&EOMONTH($A7,0)) -> 0 | D7: =SUMIFS('Income Log'!D:D,'Income Log'!B:B,D$1,'Income Log'!A:A,">="&$A7,'Income Log'!A:A,"<="&EOMONTH($A7,0)) -> 0 | E7: =SUMIFS('Income Log'!D:D,'Income Log'!B:B,E$1,'Income Log'!A:A,">="&$A7,'Income Log'!A:A,"<="&EOMONTH($A7,0)) -> 0 | F7: =SUM(B7:E7) -> 0 | G7: =SUMIFS('Income Log'!E:E,'Income Log'!A:A,">="&$A7,'Income Log'!A:A,"<="&EOMONTH($A7,0)) -> 0 | H7: =F7-G7 -> 0
A8: =DATE(YEAR(A7),MONTH(A7)+1,1) -> 46204 | B8: =SUMIFS('Income Log'!D:D,'Income Log'!B:B,B$1,'Income Log'!A:A,">="&$A8,'Income Log'!A:A,"<="&EOMONTH($A8,0)) -> 0 | C8: =SUMIFS('Income Log'!D:D,'Income Log'!B:B,C$1,'Income Log'!A:A,">="&$A8,'Income Log'!A:A,"<="&EOMONTH($A8,0)) -> 0 | D8: =SUMIFS('Income Log'!D:D,'Income Log'!B:B,D$1,'Income Log'!A:A,">="&$A8,'Income Log'!A:A,"<="&EOMONTH($A8,0)) -> 0 | E8: =SUMIFS('Income Log'!D:D,'Income Log'!B:B,E$1,'Income Log'!A:A,">="&$A8,'Income Log'!A:A,"<="&EOMONTH($A8,0)) -> 0 | F8: =SUM(B8:E8) -> 0 | G8: =SUMIFS('Income Log'!E:E,'Income Log'!A:A,">="&$A8,'Income Log'!A:A,"<="&EOMONTH($A8,0)) -> 0 | H8: =F8-G8 -> 0
A9: =DATE(YEAR(A8),MONTH(A8)+1,1) -> 46235 | B9: =SUMIFS('Income Log'!D:D,'Income Log'!B:B,B$1,'Income Log'!A:A,">="&$A9,'Income Log'!A:A,"<="&EOMONTH($A9,0)) -> 0 | C9: =SUMIFS('Income Log'!D:D,'Income Log'!B:B,C$1,'Income Log'!A:A,">="&$A9,'Income Log'!A:A,"<="&EOMONTH($A9,0)) -> 0 | D9: =SUMIFS('Income Log'!D:D,'Income Log'!B:B,D$1,'Income Log'!A:A,">="&$A9,'Income Log'!A:A,"<="&EOMONTH($A9,0)) -> 0 | E9: =SUMIFS('Income Log'!D:D,'Income Log'!B:B,E$1,'Income Log'!A:A,">="&$A9,'Income Log'!A:A,"<="&EOMONTH($A9,0)) -> 0 | F9: =SUM(B9:E9) -> 0 | G9: =SUMIFS('Income Log'!E:E,'Income Log'!A:A,">="&$A9,'Income Log'!A:A,"<="&EOMONTH($A9,0)) -> 0 | H9: =F9-G9 -> 0
A10: =DATE(YEAR(A9),MONTH(A9)+1,1) -> 46266 | B10: =SUMIFS('Income Log'!D:D,'Income Log'!B:B,B$1,'Income Log'!A:A,">="&$A10,'Income Log'!A:A,"<="&EOMONTH($A10,0)) -> 0 | C10: =SUMIFS('Income Log'!D:D,'Income Log'!B:B,C$1,'Income Log'!A:A,">="&$A10,'Income Log'!A:A,"<="&EOMONTH($A10,0)) -> 0 | D10: =SUMIFS('Income Log'!D:D,'Income Log'!B:B,D$1,'Income Log'!A:A,">="&$A10,'Income Log'!A:A,"<="&EOMONTH($A10,0)) -> 0 | E10: =SUMIFS('Income Log'!D:D,'Income Log'!B:B,E$1,'Income Log'!A:A,">="&$A10,'Income Log'!A:A,"<="&EOMONTH($A10,0)) -> 0 | F10: =SUM(B10:E10) -> 0 | G10: =SUMIFS('Income Log'!E:E,'Income Log'!A:A,">="&$A10,'Income Log'!A:A,"<="&EOMONTH($A10,0)) -> 0 | H10: =F10-G10 -> 0
A11: =DATE(YEAR(A10),MONTH(A10)+1,1) -> 46296 | B11: =SUMIFS('Income Log'!D:D,'Income Log'!B:B,B$1,'Income Log'!A:A,">="&$A11,'Income Log'!A:A,"<="&EOMONTH($A11,0)) -> 0 | C11: =SUMIFS('Income Log'!D:D,'Income Log'!B:B,C$1,'Income Log'!A:A,">="&$A11,'Income Log'!A:A,"<="&EOMONTH($A11,0)) -> 0 | D11: =SUMIFS('Income Log'!D:D,'Income Log'!B:B,D$1,'Income Log'!A:A,">="&$A11,'Income Log'!A:A,"<="&EOMONTH($A11,0)) -> 0 | E11: =SUMIFS('Income Log'!D:D,'Income Log'!B:B,E$1,'Income Log'!A:A,">="&$A11,'Income Log'!A:A,"<="&EOMONTH($A11,0)) -> 0 | F11: =SUM(B11:E11) -> 0 | G11: =SUMIFS('Income Log'!E:E,'Income Log'!A:A,">="&$A11,'Income Log'!A:A,"<="&EOMONTH($A11,0)) -> 0 | H11: =F11-G11 -> 0
A12: =DATE(YEAR(A11),MONTH(A11)+1,1) -> 46327 | B12: =SUMIFS('Income Log'!D:D,'Income Log'!B:B,B$1,'Income Log'!A:A,">="&$A12,'Income Log'!A:A,"<="&EOMONTH($A12,0)) -> 0 | C12: =SUMIFS('Income Log'!D:D,'Income Log'!B:B,C$1,'Income Log'!A:A,">="&$A12,'Income Log'!A:A,"<="&EOMONTH($A12,0)) -> 0 | D12: =SUMIFS('Income Log'!D:D,'Income Log'!B:B,D$1,'Income Log'!A:A,">="&$A12,'Income Log'!A:A,"<="&EOMONTH($A12,0)) -> 0 | E12: =SUMIFS('Income Log'!D:D,'Income Log'!B:B,E$1,'Income Log'!A:A,">="&$A12,'Income Log'!A:A,"<="&EOMONTH($A12,0)) -> 0 | F12: =SUM(B12:E12) -> 0 | G12: =SUMIFS('Income Log'!E:E,'Income Log'!A:A,">="&$A12,'Income Log'!A:A,"<="&EOMONTH($A12,0)) -> 0 | H12: =F12-G12 -> 0
A13: =DATE(YEAR(A12),MONTH(A12)+1,1) -> 46357 | B13: =SUMIFS('Income Log'!D:D,'Income Log'!B:B,B$1,'Income Log'!A:A,">="&$A13,'Income Log'!A:A,"<="&EOMONTH($A13,0)) -> 0 | C13: =SUMIFS('Income Log'!D:D,'Income Log'!B:B,C$1,'Income Log'!A:A,">="&$A13,'Income Log'!A:A,"<="&EOMONTH($A13,0)) -> 0 | D13: =SUMIFS('Income Log'!D:D,'Income Log'!B:B,D$1,'Income Log'!A:A,">="&$A13,'Income Log'!A:A,"<="&EOMONTH($A13,0)) -> 0 | E13: =SUMIFS('Income Log'!D:D,'Income Log'!B:B,E$1,'Income Log'!A:A,">="&$A13,'Income Log'!A:A,"<="&EOMONTH($A13,0)) -> 0 | F13: =SUM(B13:E13) -> 0 | G13: =SUMIFS('Income Log'!E:E,'Income Log'!A:A,">="&$A13,'Income Log'!A:A,"<="&EOMONTH($A13,0)) -> 0 | H13: =F13-G13 -> 0
A14: Year total | B14: =SUM(B2:B13) -> 9912.5 | C14: =SUM(C2:C13) -> 1845 | D14: =SUM(D2:D13) -> 826.35 | E14: =SUM(E2:E13) -> 390 | F14: =SUM(F2:F13) -> 12973.85 | G14: =SUM(G2:G13) -> 765.34 | H14: =SUM(H2:H13) -> 12208.51

Sheet Sources
A1: Source | B1: Tax set-aside % | C1: Total so far | D1: Share of income | E1: Payments | F1: Set aside for tax
A2: Day job | B2: 0 | C2: =SUMIF('Income Log'!B:B,A2,'Income Log'!D:D) -> 9912.5 | D2: =IF($C$6=0,0,C2/$C$6) -> 0.76403689 | E2: =COUNTIF('Income Log'!B:B,A2) -> 6 | F2: =SUMIF('Income Log'!B:B,A2,'Income Log'!E:E) -> 0
A3: Freelance design | B3: 0.25 | C3: =SUMIF('Income Log'!B:B,A3,'Income Log'!D:D) -> 1845 | D3: =IF($C$6=0,0,C3/$C$6) -> 0.14220914 | E3: =COUNTIF('Income Log'!B:B,A3) -> 4 | F3: =SUMIF('Income Log'!B:B,A3,'Income Log'!E:E) -> 461.25
A4: Etsy shop | B4: 0.25 | C4: =SUMIF('Income Log'!B:B,A4,'Income Log'!D:D) -> 826.35 | D4: =IF($C$6=0,0,C4/$C$6) -> 0.063693507 | E4: =COUNTIF('Income Log'!B:B,A4) -> 3 | F4: =SUMIF('Income Log'!B:B,A4,'Income Log'!E:E) -> 206.59
A5: Dog walking | B5: 0.25 | C5: =SUMIF('Income Log'!B:B,A5,'Income Log'!D:D) -> 390 | D5: =IF($C$6=0,0,C5/$C$6) -> 0.030060468 | E5: =COUNTIF('Income Log'!B:B,A5) -> 2 | F5: =SUMIF('Income Log'!B:B,A5,'Income Log'!E:E) -> 97.5
A6: Total | C6: =SUM(C2:C5) -> 12973.85 | D6: =SUM(D2:D5) -> 1 | E6: =SUM(E2:E5) -> 15 | F6: =SUM(F2:F5) -> 765.34
