Workbook

Sheet Applications
B1: Applications | P1: rowsandcells.com
B2: Deadlines, applications, contacts and offers for recruiting season. | P2: Free template
B5: Company | C5: Role | D5: Season | E5: Location | F5: Work style | G5: Pay per hour | H5: Deadline | I5: Status | J5: Applied | K5: Resume version | L5: Cover letter | M5: Transcript | N5: Referral | O5: Days to deadline | P5: Follow up on | Q5: Next action | R5: Notes
B6: Kestrel Analytics | C6: Data Science Intern | D6: Summer 2027 | E6: Chicago, IL | F6: Hybrid | G6: 34 | H6: 46295 | I6: Interview | J6: 46277 | K6: Resume v3 (data) | L6: TRUE | M6: FALSE | N6: Jordan Lee | O6: =IF(OR(ISBLANK(B6),NOT(ISNUMBER(H6)),I6<>"Researching"),"",H6-Summary!$C$6) | P6: =IF(ISBLANK(B6),"",IF(AND(OR(I6="Applied",I6="Assessment",I6="Interview"),ISNUMBER(J6)),J6+Summary!$C$7,"")) -> 46287 | Q6: =IF(ISBLANK(B6),"",IF(I6="Researching",IF(NOT(ISNUMBER(H6)),"Apply soon",IF(H6<Summary!$C$6,"Deadline passed",IF(H6-Summary!$C$6<=Summary!$C$8,"Due soon","Not due yet"))),IF(I6="Offer","Decide on offer",IF(OR(I6="Applied",I6="Assessment",I6="Interview"),IF(ISNUMBER(P6),IF(P6<=Summary!$C$6,"Follow up now","Waiting"),"Waiting"),"Closed")))) -> Follow up now | R6: Final round Oct 23
B7: Northwind Logistics | C7: Supply Chain Intern | D7: Summer 2027 | E7: Columbus, OH | F7: On-site | G7: 24 | H7: 46296 | I7: Rejected | J7: 46280 | K7: Resume v2 (general) | L7: FALSE | M7: FALSE | O7: =IF(OR(ISBLANK(B7),NOT(ISNUMBER(H7)),I7<>"Researching"),"",H7-Summary!$C$6) | P7: =IF(ISBLANK(B7),"",IF(AND(OR(I7="Applied",I7="Assessment",I7="Interview"),ISNUMBER(J7)),J7+Summary!$C$7,"")) | Q7: =IF(ISBLANK(B7),"",IF(I7="Researching",IF(NOT(ISNUMBER(H7)),"Apply soon",IF(H7<Summary!$C$6,"Deadline passed",IF(H7-Summary!$C$6<=Summary!$C$8,"Due soon","Not due yet"))),IF(I7="Offer","Decide on offer",IF(OR(I7="Applied",I7="Assessment",I7="Interview"),IF(ISNUMBER(P7),IF(P7<=Summary!$C$6,"Follow up now","Waiting"),"Waiting"),"Closed")))) -> Closed | R7: Form email Oct 9
B8: Brightline Health | C8: Product Management Intern | D8: Summer 2027 | E8: Boston, MA | F8: Hybrid | G8: 38 | H8: 46310 | I8: Assessment | J8: 46305 | K8: Resume v3 (data) | L8: TRUE | M8: TRUE | O8: =IF(OR(ISBLANK(B8),NOT(ISNUMBER(H8)),I8<>"Researching"),"",H8-Summary!$C$6) | P8: =IF(ISBLANK(B8),"",IF(AND(OR(I8="Applied",I8="Assessment",I8="Interview"),ISNUMBER(J8)),J8+Summary!$C$7,"")) -> 46315 | Q8: =IF(ISBLANK(B8),"",IF(I8="Researching",IF(NOT(ISNUMBER(H8)),"Apply soon",IF(H8<Summary!$C$6,"Deadline passed",IF(H8-Summary!$C$6<=Summary!$C$8,"Due soon","Not due yet"))),IF(I8="Offer","Decide on offer",IF(OR(I8="Applied",I8="Assessment",I8="Interview"),IF(ISNUMBER(P8),IF(P8<=Summary!$C$6,"Follow up now","Waiting"),"Waiting"),"Closed")))) -> Waiting | R8: Online test due Oct 21
B9: Summit Outdoor Gear | C9: Marketing Intern | D9: Summer 2027 | E9: Denver, CO | F9: On-site | G9: 21 | H9: 46315 | I9: Applied | J9: 46307 | K9: Resume v2 (general) | L9: TRUE | M9: FALSE | N9: Chris Patel | O9: =IF(OR(ISBLANK(B9),NOT(ISNUMBER(H9)),I9<>"Researching"),"",H9-Summary!$C$6) | P9: =IF(ISBLANK(B9),"",IF(AND(OR(I9="Applied",I9="Assessment",I9="Interview"),ISNUMBER(J9)),J9+Summary!$C$7,"")) -> 46317 | Q9: =IF(ISBLANK(B9),"",IF(I9="Researching",IF(NOT(ISNUMBER(H9)),"Apply soon",IF(H9<Summary!$C$6,"Deadline passed",IF(H9-Summary!$C$6<=Summary!$C$8,"Due soon","Not due yet"))),IF(I9="Offer","Decide on offer",IF(OR(I9="Applied",I9="Assessment",I9="Interview"),IF(ISNUMBER(P9),IF(P9<=Summary!$C$6,"Follow up now","Waiting"),"Waiting"),"Closed")))) -> Waiting | R9: Met at fall career fair
B10: Lumen Software | C10: Software Engineering Intern | D10: Summer 2027 | E10: Remote | F10: Remote | G10: 45 | H10: 46326 | I10: Applied | J10: 46309 | K10: Resume v4 (software) | L10: FALSE | M10: TRUE | O10: =IF(OR(ISBLANK(B10),NOT(ISNUMBER(H10)),I10<>"Researching"),"",H10-Summary!$C$6) | P10: =IF(ISBLANK(B10),"",IF(AND(OR(I10="Applied",I10="Assessment",I10="Interview"),ISNUMBER(J10)),J10+Summary!$C$7,"")) -> 46319 | Q10: =IF(ISBLANK(B10),"",IF(I10="Researching",IF(NOT(ISNUMBER(H10)),"Apply soon",IF(H10<Summary!$C$6,"Deadline passed",IF(H10-Summary!$C$6<=Summary!$C$8,"Due soon","Not due yet"))),IF(I10="Offer","Decide on offer",IF(OR(I10="Applied",I10="Assessment",I10="Interview"),IF(ISNUMBER(P10),IF(P10<=Summary!$C$6,"Follow up now","Waiting"),"Waiting"),"Closed")))) -> Waiting
B11: Harbor Credit Union | C11: Finance Intern | D11: Summer 2027 | E11: Portland, ME | F11: On-site | G11: 22 | H11: 46327 | I11: Researching | L11: FALSE | M11: FALSE | O11: =IF(OR(ISBLANK(B11),NOT(ISNUMBER(H11)),I11<>"Researching"),"",H11-Summary!$C$6) -> 14 | P11: =IF(ISBLANK(B11),"",IF(AND(OR(I11="Applied",I11="Assessment",I11="Interview"),ISNUMBER(J11)),J11+Summary!$C$7,"")) | Q11: =IF(ISBLANK(B11),"",IF(I11="Researching",IF(NOT(ISNUMBER(H11)),"Apply soon",IF(H11<Summary!$C$6,"Deadline passed",IF(H11-Summary!$C$6<=Summary!$C$8,"Due soon","Not due yet"))),IF(I11="Offer","Decide on offer",IF(OR(I11="Applied",I11="Assessment",I11="Interview"),IF(ISNUMBER(P11),IF(P11<=Summary!$C$6,"Follow up now","Waiting"),"Waiting"),"Closed")))) -> Not due yet | R11: Ask career center to review cover letter
B12: Cedar & Pine Architects | C12: Design Intern | D12: Summer 2027 | E12: Seattle, WA | F12: Hybrid | G12: 25 | H12: 46319 | I12: Researching | L12: FALSE | M12: FALSE | N12: Prof. Alvarez | O12: =IF(OR(ISBLANK(B12),NOT(ISNUMBER(H12)),I12<>"Researching"),"",H12-Summary!$C$6) -> 6 | P12: =IF(ISBLANK(B12),"",IF(AND(OR(I12="Applied",I12="Assessment",I12="Interview"),ISNUMBER(J12)),J12+Summary!$C$7,"")) | Q12: =IF(ISBLANK(B12),"",IF(I12="Researching",IF(NOT(ISNUMBER(H12)),"Apply soon",IF(H12<Summary!$C$6,"Deadline passed",IF(H12-Summary!$C$6<=Summary!$C$8,"Due soon","Not due yet"))),IF(I12="Offer","Decide on offer",IF(OR(I12="Applied",I12="Assessment",I12="Interview"),IF(ISNUMBER(P12),IF(P12<=Summary!$C$6,"Follow up now","Waiting"),"Waiting"),"Closed")))) -> Due soon | R12: Portfolio needed
B13: Bluebird Media | C13: Social Media Intern | D13: Spring 2027 | E13: Remote | F13: Remote | G13: 18 | H13: 46307 | I13: Researching | L13: FALSE | M13: FALSE | O13: =IF(OR(ISBLANK(B13),NOT(ISNUMBER(H13)),I13<>"Researching"),"",H13-Summary!$C$6) -> -6 | P13: =IF(ISBLANK(B13),"",IF(AND(OR(I13="Applied",I13="Assessment",I13="Interview"),ISNUMBER(J13)),J13+Summary!$C$7,"")) | Q13: =IF(ISBLANK(B13),"",IF(I13="Researching",IF(NOT(ISNUMBER(H13)),"Apply soon",IF(H13<Summary!$C$6,"Deadline passed",IF(H13-Summary!$C$6<=Summary!$C$8,"Due soon","Not due yet"))),IF(I13="Offer","Decide on offer",IF(OR(I13="Applied",I13="Assessment",I13="Interview"),IF(ISNUMBER(P13),IF(P13<=Summary!$C$6,"Follow up now","Waiting"),"Waiting"),"Closed")))) -> Deadline passed | R13: Missed it, check for spring round
B14: Granite State Bank | C14: Audit Intern | D14: Summer 2027 | E14: Manchester, NH | F14: On-site | G14: 27 | H14: 46290 | I14: Offer | J14: 46270 | K14: Resume v2 (general) | L14: TRUE | M14: TRUE | N14: Ruth Gomez | O14: =IF(OR(ISBLANK(B14),NOT(ISNUMBER(H14)),I14<>"Researching"),"",H14-Summary!$C$6) | P14: =IF(ISBLANK(B14),"",IF(AND(OR(I14="Applied",I14="Assessment",I14="Interview"),ISNUMBER(J14)),J14+Summary!$C$7,"")) | Q14: =IF(ISBLANK(B14),"",IF(I14="Researching",IF(NOT(ISNUMBER(H14)),"Apply soon",IF(H14<Summary!$C$6,"Deadline passed",IF(H14-Summary!$C$6<=Summary!$C$8,"Due soon","Not due yet"))),IF(I14="Offer","Decide on offer",IF(OR(I14="Applied",I14="Assessment",I14="Interview"),IF(ISNUMBER(P14),IF(P14<=Summary!$C$6,"Follow up now","Waiting"),"Waiting"),"Closed")))) -> Decide on offer | R14: Answer by Nov 1
B15: Riverside Children's Museum | C15: Education Programs Intern | D15: Summer 2027 | E15: Albany, NY | F15: On-site | G15: 17 | H15: 46341 | I15: Researching | L15: FALSE | M15: FALSE | O15: =IF(OR(ISBLANK(B15),NOT(ISNUMBER(H15)),I15<>"Researching"),"",H15-Summary!$C$6) -> 28 | P15: =IF(ISBLANK(B15),"",IF(AND(OR(I15="Applied",I15="Assessment",I15="Interview"),ISNUMBER(J15)),J15+Summary!$C$7,"")) | Q15: =IF(ISBLANK(B15),"",IF(I15="Researching",IF(NOT(ISNUMBER(H15)),"Apply soon",IF(H15<Summary!$C$6,"Deadline passed",IF(H15-Summary!$C$6<=Summary!$C$8,"Due soon","Not due yet"))),IF(I15="Offer","Decide on offer",IF(OR(I15="Applied",I15="Assessment",I15="Interview"),IF(ISNUMBER(P15),IF(P15<=Summary!$C$6,"Follow up now","Waiting"),"Waiting"),"Closed")))) -> Not due yet
B16: Atlas Robotics | C16: Mechanical Engineering Co-op | D16: Spring 2027 | E16: Pittsburgh, PA | F16: On-site | G16: 30 | H16: 46305 | I16: Offer | J16: 46285 | K16: Resume v4 (software) | L16: TRUE | M16: TRUE | O16: =IF(OR(ISBLANK(B16),NOT(ISNUMBER(H16)),I16<>"Researching"),"",H16-Summary!$C$6) | P16: =IF(ISBLANK(B16),"",IF(AND(OR(I16="Applied",I16="Assessment",I16="Interview"),ISNUMBER(J16)),J16+Summary!$C$7,"")) | Q16: =IF(ISBLANK(B16),"",IF(I16="Researching",IF(NOT(ISNUMBER(H16)),"Apply soon",IF(H16<Summary!$C$6,"Deadline passed",IF(H16-Summary!$C$6<=Summary!$C$8,"Due soon","Not due yet"))),IF(I16="Offer","Decide on offer",IF(OR(I16="Applied",I16="Assessment",I16="Interview"),IF(ISNUMBER(P16),IF(P16<=Summary!$C$6,"Follow up now","Waiting"),"Waiting"),"Closed")))) -> Decide on offer | R16: Offer came Oct 15
B17: Meridian Consulting | C17: Business Analyst Intern | D17: Summer 2027 | E17: New York, NY | F17: Hybrid | G17: 40 | H17: 46293 | I17: Applied | J17: 46291 | K17: Resume v3 (data) | L17: TRUE | M17: TRUE | O17: =IF(OR(ISBLANK(B17),NOT(ISNUMBER(H17)),I17<>"Researching"),"",H17-Summary!$C$6) | P17: =IF(ISBLANK(B17),"",IF(AND(OR(I17="Applied",I17="Assessment",I17="Interview"),ISNUMBER(J17)),J17+Summary!$C$7,"")) -> 46301 | Q17: =IF(ISBLANK(B17),"",IF(I17="Researching",IF(NOT(ISNUMBER(H17)),"Apply soon",IF(H17<Summary!$C$6,"Deadline passed",IF(H17-Summary!$C$6<=Summary!$C$8,"Due soon","Not due yet"))),IF(I17="Offer","Decide on offer",IF(OR(I17="Applied",I17="Assessment",I17="Interview"),IF(ISNUMBER(P17),IF(P17<=Summary!$C$6,"Follow up now","Waiting"),"Waiting"),"Closed")))) -> Follow up now | R17: Case interview prep
B18: Greenleaf Foods | C18: Sustainability Intern | D18: Summer 2027 | E18: Minneapolis, MN | F18: Hybrid | G18: 20 | H18: 46300 | I18: Withdrawn | J18: 46283 | K18: Resume v2 (general) | L18: FALSE | M18: FALSE | O18: =IF(OR(ISBLANK(B18),NOT(ISNUMBER(H18)),I18<>"Researching"),"",H18-Summary!$C$6) | P18: =IF(ISBLANK(B18),"",IF(AND(OR(I18="Applied",I18="Assessment",I18="Interview"),ISNUMBER(J18)),J18+Summary!$C$7,"")) | Q18: =IF(ISBLANK(B18),"",IF(I18="Researching",IF(NOT(ISNUMBER(H18)),"Apply soon",IF(H18<Summary!$C$6,"Deadline passed",IF(H18-Summary!$C$6<=Summary!$C$8,"Due soon","Not due yet"))),IF(I18="Offer","Decide on offer",IF(OR(I18="Applied",I18="Assessment",I18="Interview"),IF(ISNUMBER(P18),IF(P18<=Summary!$C$6,"Follow up now","Waiting"),"Waiting"),"Closed")))) -> Closed | R18: Unpaid weeks, passed
B19: Orbit Games | C19: QA Testing Intern | D19: Summer 2027 | E19: Austin, TX | F19: Remote | G19: 23 | H19: 46356 | I19: Researching | L19: FALSE | M19: FALSE | N19: Sam Okafor | O19: =IF(OR(ISBLANK(B19),NOT(ISNUMBER(H19)),I19<>"Researching"),"",H19-Summary!$C$6) -> 43 | P19: =IF(ISBLANK(B19),"",IF(AND(OR(I19="Applied",I19="Assessment",I19="Interview"),ISNUMBER(J19)),J19+Summary!$C$7,"")) | Q19: =IF(ISBLANK(B19),"",IF(I19="Researching",IF(NOT(ISNUMBER(H19)),"Apply soon",IF(H19<Summary!$C$6,"Deadline passed",IF(H19-Summary!$C$6<=Summary!$C$8,"Due soon","Not due yet"))),IF(I19="Offer","Decide on offer",IF(OR(I19="Applied",I19="Assessment",I19="Interview"),IF(ISNUMBER(P19),IF(P19<=Summary!$C$6,"Follow up now","Waiting"),"Waiting"),"Closed")))) -> Not due yet | R19: Referral offered at info session
L20: FALSE | M20: FALSE | O20: =IF(OR(ISBLANK(B20),NOT(ISNUMBER(H20)),I20<>"Researching"),"",H20-Summary!$C$6) | P20: =IF(ISBLANK(B20),"",IF(AND(OR(I20="Applied",I20="Assessment",I20="Interview"),ISNUMBER(J20)),J20+Summary!$C$7,"")) | Q20: =IF(ISBLANK(B20),"",IF(I20="Researching",IF(NOT(ISNUMBER(H20)),"Apply soon",IF(H20<Summary!$C$6,"Deadline passed",IF(H20-Summary!$C$6<=Summary!$C$8,"Due soon","Not due yet"))),IF(I20="Offer","Decide on offer",IF(OR(I20="Applied",I20="Assessment",I20="Interview"),IF(ISNUMBER(P20),IF(P20<=Summary!$C$6,"Follow up now","Waiting"),"Waiting"),"Closed"))))
L21: FALSE | M21: FALSE | O21: =IF(OR(ISBLANK(B21),NOT(ISNUMBER(H21)),I21<>"Researching"),"",H21-Summary!$C$6) | P21: =IF(ISBLANK(B21),"",IF(AND(OR(I21="Applied",I21="Assessment",I21="Interview"),ISNUMBER(J21)),J21+Summary!$C$7,"")) | Q21: =IF(ISBLANK(B21),"",IF(I21="Researching",IF(NOT(ISNUMBER(H21)),"Apply soon",IF(H21<Summary!$C$6,"Deadline passed",IF(H21-Summary!$C$6<=Summary!$C$8,"Due soon","Not due yet"))),IF(I21="Offer","Decide on offer",IF(OR(I21="Applied",I21="Assessment",I21="Interview"),IF(ISNUMBER(P21),IF(P21<=Summary!$C$6,"Follow up now","Waiting"),"Waiting"),"Closed"))))
L22: FALSE | M22: FALSE | O22: =IF(OR(ISBLANK(B22),NOT(ISNUMBER(H22)),I22<>"Researching"),"",H22-Summary!$C$6) | P22: =IF(ISBLANK(B22),"",IF(AND(OR(I22="Applied",I22="Assessment",I22="Interview"),ISNUMBER(J22)),J22+Summary!$C$7,"")) | Q22: =IF(ISBLANK(B22),"",IF(I22="Researching",IF(NOT(ISNUMBER(H22)),"Apply soon",IF(H22<Summary!$C$6,"Deadline passed",IF(H22-Summary!$C$6<=Summary!$C$8,"Due soon","Not due yet"))),IF(I22="Offer","Decide on offer",IF(OR(I22="Applied",I22="Assessment",I22="Interview"),IF(ISNUMBER(P22),IF(P22<=Summary!$C$6,"Follow up now","Waiting"),"Waiting"),"Closed"))))
L23: FALSE | M23: FALSE | O23: =IF(OR(ISBLANK(B23),NOT(ISNUMBER(H23)),I23<>"Researching"),"",H23-Summary!$C$6) | P23: =IF(ISBLANK(B23),"",IF(AND(OR(I23="Applied",I23="Assessment",I23="Interview"),ISNUMBER(J23)),J23+Summary!$C$7,"")) | Q23: =IF(ISBLANK(B23),"",IF(I23="Researching",IF(NOT(ISNUMBER(H23)),"Apply soon",IF(H23<Summary!$C$6,"Deadline passed",IF(H23-Summary!$C$6<=Summary!$C$8,"Due soon","Not due yet"))),IF(I23="Offer","Decide on offer",IF(OR(I23="Applied",I23="Assessment",I23="Interview"),IF(ISNUMBER(P23),IF(P23<=Summary!$C$6,"Follow up now","Waiting"),"Waiting"),"Closed"))))
L24: FALSE | M24: FALSE | O24: =IF(OR(ISBLANK(B24),NOT(ISNUMBER(H24)),I24<>"Researching"),"",H24-Summary!$C$6) | P24: =IF(ISBLANK(B24),"",IF(AND(OR(I24="Applied",I24="Assessment",I24="Interview"),ISNUMBER(J24)),J24+Summary!$C$7,"")) | Q24: =IF(ISBLANK(B24),"",IF(I24="Researching",IF(NOT(ISNUMBER(H24)),"Apply soon",IF(H24<Summary!$C$6,"Deadline passed",IF(H24-Summary!$C$6<=Summary!$C$8,"Due soon","Not due yet"))),IF(I24="Offer","Decide on offer",IF(OR(I24="Applied",I24="Assessment",I24="Interview"),IF(ISNUMBER(P24),IF(P24<=Summary!$C$6,"Follow up now","Waiting"),"Waiting"),"Closed"))))
L25: FALSE | M25: FALSE | O25: =IF(OR(ISBLANK(B25),NOT(ISNUMBER(H25)),I25<>"Researching"),"",H25-Summary!$C$6) | P25: =IF(ISBLANK(B25),"",IF(AND(OR(I25="Applied",I25="Assessment",I25="Interview"),ISNUMBER(J25)),J25+Summary!$C$7,"")) | Q25: =IF(ISBLANK(B25),"",IF(I25="Researching",IF(NOT(ISNUMBER(H25)),"Apply soon",IF(H25<Summary!$C$6,"Deadline passed",IF(H25-Summary!$C$6<=Summary!$C$8,"Due soon","Not due yet"))),IF(I25="Offer","Decide on offer",IF(OR(I25="Applied",I25="Assessment",I25="Interview"),IF(ISNUMBER(P25),IF(P25<=Summary!$C$6,"Follow up now","Waiting"),"Waiting"),"Closed"))))
L26: FALSE | M26: FALSE | O26: =IF(OR(ISBLANK(B26),NOT(ISNUMBER(H26)),I26<>"Researching"),"",H26-Summary!$C$6) | P26: =IF(ISBLANK(B26),"",IF(AND(OR(I26="Applied",I26="Assessment",I26="Interview"),ISNUMBER(J26)),J26+Summary!$C$7,"")) | Q26: =IF(ISBLANK(B26),"",IF(I26="Researching",IF(NOT(ISNUMBER(H26)),"Apply soon",IF(H26<Summary!$C$6,"Deadline passed",IF(H26-Summary!$C$6<=Summary!$C$8,"Due soon","Not due yet"))),IF(I26="Offer","Decide on offer",IF(OR(I26="Applied",I26="Assessment",I26="Interview"),IF(ISNUMBER(P26),IF(P26<=Summary!$C$6,"Follow up now","Waiting"),"Waiting"),"Closed"))))
L27: FALSE | M27: FALSE | O27: =IF(OR(ISBLANK(B27),NOT(ISNUMBER(H27)),I27<>"Researching"),"",H27-Summary!$C$6) | P27: =IF(ISBLANK(B27),"",IF(AND(OR(I27="Applied",I27="Assessment",I27="Interview"),ISNUMBER(J27)),J27+Summary!$C$7,"")) | Q27: =IF(ISBLANK(B27),"",IF(I27="Researching",IF(NOT(ISNUMBER(H27)),"Apply soon",IF(H27<Summary!$C$6,"Deadline passed",IF(H27-Summary!$C$6<=Summary!$C$8,"Due soon","Not due yet"))),IF(I27="Offer","Decide on offer",IF(OR(I27="Applied",I27="Assessment",I27="Interview"),IF(ISNUMBER(P27),IF(P27<=Summary!$C$6,"Follow up now","Waiting"),"Waiting"),"Closed"))))
L28: FALSE | M28: FALSE | O28: =IF(OR(ISBLANK(B28),NOT(ISNUMBER(H28)),I28<>"Researching"),"",H28-Summary!$C$6) | P28: =IF(ISBLANK(B28),"",IF(AND(OR(I28="Applied",I28="Assessment",I28="Interview"),ISNUMBER(J28)),J28+Summary!$C$7,"")) | Q28: =IF(ISBLANK(B28),"",IF(I28="Researching",IF(NOT(ISNUMBER(H28)),"Apply soon",IF(H28<Summary!$C$6,"Deadline passed",IF(H28-Summary!$C$6<=Summary!$C$8,"Due soon","Not due yet"))),IF(I28="Offer","Decide on offer",IF(OR(I28="Applied",I28="Assessment",I28="Interview"),IF(ISNUMBER(P28),IF(P28<=Summary!$C$6,"Follow up now","Waiting"),"Waiting"),"Closed"))))
L29: FALSE | M29: FALSE | O29: =IF(OR(ISBLANK(B29),NOT(ISNUMBER(H29)),I29<>"Researching"),"",H29-Summary!$C$6) | P29: =IF(ISBLANK(B29),"",IF(AND(OR(I29="Applied",I29="Assessment",I29="Interview"),ISNUMBER(J29)),J29+Summary!$C$7,"")) | Q29: =IF(ISBLANK(B29),"",IF(I29="Researching",IF(NOT(ISNUMBER(H29)),"Apply soon",IF(H29<Summary!$C$6,"Deadline passed",IF(H29-Summary!$C$6<=Summary!$C$8,"Due soon","Not due yet"))),IF(I29="Offer","Decide on offer",IF(OR(I29="Applied",I29="Assessment",I29="Interview"),IF(ISNUMBER(P29),IF(P29<=Summary!$C$6,"Follow up now","Waiting"),"Waiting"),"Closed"))))
L30: FALSE | M30: FALSE | O30: =IF(OR(ISBLANK(B30),NOT(ISNUMBER(H30)),I30<>"Researching"),"",H30-Summary!$C$6) | P30: =IF(ISBLANK(B30),"",IF(AND(OR(I30="Applied",I30="Assessment",I30="Interview"),ISNUMBER(J30)),J30+Summary!$C$7,"")) | Q30: =IF(ISBLANK(B30),"",IF(I30="Researching",IF(NOT(ISNUMBER(H30)),"Apply soon",IF(H30<Summary!$C$6,"Deadline passed",IF(H30-Summary!$C$6<=Summary!$C$8,"Due soon","Not due yet"))),IF(I30="Offer","Decide on offer",IF(OR(I30="Applied",I30="Assessment",I30="Interview"),IF(ISNUMBER(P30),IF(P30<=Summary!$C$6,"Follow up now","Waiting"),"Waiting"),"Closed"))))
L31: FALSE | M31: FALSE | O31: =IF(OR(ISBLANK(B31),NOT(ISNUMBER(H31)),I31<>"Researching"),"",H31-Summary!$C$6) | P31: =IF(ISBLANK(B31),"",IF(AND(OR(I31="Applied",I31="Assessment",I31="Interview"),ISNUMBER(J31)),J31+Summary!$C$7,"")) | Q31: =IF(ISBLANK(B31),"",IF(I31="Researching",IF(NOT(ISNUMBER(H31)),"Apply soon",IF(H31<Summary!$C$6,"Deadline passed",IF(H31-Summary!$C$6<=Summary!$C$8,"Due soon","Not due yet"))),IF(I31="Offer","Decide on offer",IF(OR(I31="Applied",I31="Assessment",I31="Interview"),IF(ISNUMBER(P31),IF(P31<=Summary!$C$6,"Follow up now","Waiting"),"Waiting"),"Closed"))))
... L65: FALSE | M65: FALSE | O65: =IF(OR(ISBLANK(B65),NOT(ISNUMBER(H65)),I65<>"Researching"),"",H65-Summary!$C$6) | P65: =IF(ISBLANK(B65),"",IF(AND(OR(I65="Applied",I65="Assessment",I65="Interview"),ISNUMBER(J65)),J65+Summary!$C$7,"")) | Q65: =IF(ISBLANK(B65),"",IF(I65="Researching",IF(NOT(ISNUMBER(H65)),"Apply soon",IF(H65<Summary!$C$6,"Deadline passed",IF(H65-Summary!$C$6<=Summary!$C$8,"Due soon","Not due yet"))),IF(I65="Offer","Decide on offer",IF(OR(I65="Applied",I65="Assessment",I65="Interview"),IF(ISNUMBER(P65),IF(P65<=Summary!$C$6,"Follow up now","Waiting"),"Waiting"),"Closed"))))

Sheet Contacts
B1: Contacts | J1: rowsandcells.com
B2: Type in the cream cells. Shaded cells are formulas and fill in on their own. | J2: Free template
B5: Name | C5: Company | D5: Title | E5: Where you met | F5: Email | G5: Met on | H5: Thank-you sent | I5: Last contact | J5: Check in by | K5: Next step | L5: Notes
B6: Jordan Lee | C6: Kestrel Analytics | D6: Recruiter | E6: Career fair | F6: jordan.lee@email.com | G6: 46275 | H6: TRUE | I6: 46303 | J6: =IF(OR(ISBLANK(B6),NOT(ISNUMBER(I6))),"",I6+Summary!$C$9) -> 46324 | K6: =IF(ISBLANK(B6),"",IF(H6=TRUE,IF(ISNUMBER(J6),IF(J6<=Summary!$C$6,"Reach out","Not yet"),"Not yet"),"Send thank-you")) -> Not yet | L6: Asked about final round timing
B7: Chris Patel | C7: Summit Outdoor Gear | D7: Brand Manager | E7: Alumni | F7: chris.patel@email.com | G7: 46289 | H7: TRUE | I7: 46289 | J7: =IF(OR(ISBLANK(B7),NOT(ISNUMBER(I7))),"",I7+Summary!$C$9) -> 46310 | K7: =IF(ISBLANK(B7),"",IF(H7=TRUE,IF(ISNUMBER(J7),IF(J7<=Summary!$C$6,"Reach out","Not yet"),"Not yet"),"Send thank-you")) -> Reach out | L7: Referred me
B8: Ruth Gomez | C8: Granite State Bank | D8: HR Generalist | E8: Family friend | F8: ruth.gomez@email.com | G8: 46264 | H8: TRUE | I8: 46307 | J8: =IF(OR(ISBLANK(B8),NOT(ISNUMBER(I8))),"",I8+Summary!$C$9) -> 46328 | K8: =IF(ISBLANK(B8),"",IF(H8=TRUE,IF(ISNUMBER(J8),IF(J8<=Summary!$C$6,"Reach out","Not yet"),"Not yet"),"Send thank-you")) -> Not yet | L8: Thank her once I decide
B9: Sam Okafor | C9: Orbit Games | D9: QA Lead | E9: Info session | F9: sam.okafor@email.com | G9: 46309 | H9: FALSE | J9: =IF(OR(ISBLANK(B9),NOT(ISNUMBER(I9))),"",I9+Summary!$C$9) | K9: =IF(ISBLANK(B9),"",IF(H9=TRUE,IF(ISNUMBER(J9),IF(J9<=Summary!$C$6,"Reach out","Not yet"),"Not yet"),"Send thank-you")) -> Send thank-you | L9: Offered a referral
B10: Prof. Alvarez | C10: School of Design | D10: Professor | E10: Class | F10: alvarez@school.edu | G10: 46267 | H10: TRUE | I10: 46285 | J10: =IF(OR(ISBLANK(B10),NOT(ISNUMBER(I10))),"",I10+Summary!$C$9) -> 46306 | K10: =IF(ISBLANK(B10),"",IF(H10=TRUE,IF(ISNUMBER(J10),IF(J10<=Summary!$C$6,"Reach out","Not yet"),"Not yet"),"Send thank-you")) -> Reach out | L10: Will write a reference
B11: Mia Chen | C11: Meridian Consulting | D11: Analyst | E11: Career fair | F11: mia.chen@email.com | G11: 46275 | H11: FALSE | J11: =IF(OR(ISBLANK(B11),NOT(ISNUMBER(I11))),"",I11+Summary!$C$9) | K11: =IF(ISBLANK(B11),"",IF(H11=TRUE,IF(ISNUMBER(J11),IF(J11<=Summary!$C$6,"Reach out","Not yet"),"Not yet"),"Send thank-you")) -> Send thank-you | L11: Business card in folder
B12: Dev Sharma | C12: Lumen Software | D12: Engineer | E12: LinkedIn | F12: dev.sharma@email.com | G12: 46294 | H12: TRUE | I12: 46294 | J12: =IF(OR(ISBLANK(B12),NOT(ISNUMBER(I12))),"",I12+Summary!$C$9) -> 46315 | K12: =IF(ISBLANK(B12),"",IF(H12=TRUE,IF(ISNUMBER(J12),IF(J12<=Summary!$C$6,"Reach out","Not yet"),"Not yet"),"Send thank-you")) -> Not yet | L12: Coffee chat went well
H13: FALSE | J13: =IF(OR(ISBLANK(B13),NOT(ISNUMBER(I13))),"",I13+Summary!$C$9) | K13: =IF(ISBLANK(B13),"",IF(H13=TRUE,IF(ISNUMBER(J13),IF(J13<=Summary!$C$6,"Reach out","Not yet"),"Not yet"),"Send thank-you"))
H14: FALSE | J14: =IF(OR(ISBLANK(B14),NOT(ISNUMBER(I14))),"",I14+Summary!$C$9) | K14: =IF(ISBLANK(B14),"",IF(H14=TRUE,IF(ISNUMBER(J14),IF(J14<=Summary!$C$6,"Reach out","Not yet"),"Not yet"),"Send thank-you"))
H15: FALSE | J15: =IF(OR(ISBLANK(B15),NOT(ISNUMBER(I15))),"",I15+Summary!$C$9) | K15: =IF(ISBLANK(B15),"",IF(H15=TRUE,IF(ISNUMBER(J15),IF(J15<=Summary!$C$6,"Reach out","Not yet"),"Not yet"),"Send thank-you"))
H16: FALSE | J16: =IF(OR(ISBLANK(B16),NOT(ISNUMBER(I16))),"",I16+Summary!$C$9) | K16: =IF(ISBLANK(B16),"",IF(H16=TRUE,IF(ISNUMBER(J16),IF(J16<=Summary!$C$6,"Reach out","Not yet"),"Not yet"),"Send thank-you"))
H17: FALSE | J17: =IF(OR(ISBLANK(B17),NOT(ISNUMBER(I17))),"",I17+Summary!$C$9) | K17: =IF(ISBLANK(B17),"",IF(H17=TRUE,IF(ISNUMBER(J17),IF(J17<=Summary!$C$6,"Reach out","Not yet"),"Not yet"),"Send thank-you"))
H18: FALSE | J18: =IF(OR(ISBLANK(B18),NOT(ISNUMBER(I18))),"",I18+Summary!$C$9) | K18: =IF(ISBLANK(B18),"",IF(H18=TRUE,IF(ISNUMBER(J18),IF(J18<=Summary!$C$6,"Reach out","Not yet"),"Not yet"),"Send thank-you"))
H19: FALSE | J19: =IF(OR(ISBLANK(B19),NOT(ISNUMBER(I19))),"",I19+Summary!$C$9) | K19: =IF(ISBLANK(B19),"",IF(H19=TRUE,IF(ISNUMBER(J19),IF(J19<=Summary!$C$6,"Reach out","Not yet"),"Not yet"),"Send thank-you"))
H20: FALSE | J20: =IF(OR(ISBLANK(B20),NOT(ISNUMBER(I20))),"",I20+Summary!$C$9) | K20: =IF(ISBLANK(B20),"",IF(H20=TRUE,IF(ISNUMBER(J20),IF(J20<=Summary!$C$6,"Reach out","Not yet"),"Not yet"),"Send thank-you"))
H21: FALSE | J21: =IF(OR(ISBLANK(B21),NOT(ISNUMBER(I21))),"",I21+Summary!$C$9) | K21: =IF(ISBLANK(B21),"",IF(H21=TRUE,IF(ISNUMBER(J21),IF(J21<=Summary!$C$6,"Reach out","Not yet"),"Not yet"),"Send thank-you"))
H22: FALSE | J22: =IF(OR(ISBLANK(B22),NOT(ISNUMBER(I22))),"",I22+Summary!$C$9) | K22: =IF(ISBLANK(B22),"",IF(H22=TRUE,IF(ISNUMBER(J22),IF(J22<=Summary!$C$6,"Reach out","Not yet"),"Not yet"),"Send thank-you"))
H23: FALSE | J23: =IF(OR(ISBLANK(B23),NOT(ISNUMBER(I23))),"",I23+Summary!$C$9) | K23: =IF(ISBLANK(B23),"",IF(H23=TRUE,IF(ISNUMBER(J23),IF(J23<=Summary!$C$6,"Reach out","Not yet"),"Not yet"),"Send thank-you"))
H24: FALSE | J24: =IF(OR(ISBLANK(B24),NOT(ISNUMBER(I24))),"",I24+Summary!$C$9) | K24: =IF(ISBLANK(B24),"",IF(H24=TRUE,IF(ISNUMBER(J24),IF(J24<=Summary!$C$6,"Reach out","Not yet"),"Not yet"),"Send thank-you"))
... H35: FALSE | J35: =IF(OR(ISBLANK(B35),NOT(ISNUMBER(I35))),"",I35+Summary!$C$9) | K35: =IF(ISBLANK(B35),"",IF(H35=TRUE,IF(ISNUMBER(J35),IF(J35<=Summary!$C$6,"Reach out","Not yet"),"Not yet"),"Send thank-you"))

Sheet Offers
B1: Offers | L1: rowsandcells.com
B2: Type in the cream cells. Shaded cells are formulas and fill in on their own. | L2: Free template
B5: Company | C5: Role | D5: Pay per hour | E5: Hours per week | F5: Weeks | G5: Total pay | H5: Housing or stipend | I5: Travel or relocation | J5: Total value | K5: Location | L5: Respond by | M5: Days left | N5: Notes
B6: Granite State Bank | C6: Audit Intern | D6: 27 | E6: 40 | F6: 10 | G6: =IF(ISBLANK(B6),"",D6*E6*F6) -> 10800 | H6: 0 | I6: 0 | J6: =IF(ISBLANK(B6),"",SUM(G6:I6)) -> 10800 | K6: Manchester, NH | L6: 46327 | M6: =IF(OR(ISBLANK(B6),NOT(ISNUMBER(L6))),"",L6-Summary!$C$6) -> 14 | N6: Return offer possible
B7: Atlas Robotics | C7: Mechanical Engineering Co-op | D7: 30 | E7: 40 | F7: 16 | G7: =IF(ISBLANK(B7),"",D7*E7*F7) -> 19200 | H7: 0 | I7: 1000 | J7: =IF(ISBLANK(B7),"",SUM(G7:I7)) -> 20200 | K7: Pittsburgh, PA | L7: 46346 | M7: =IF(OR(ISBLANK(B7),NOT(ISNUMBER(L7))),"",L7-Summary!$C$6) -> 33 | N7: Co-op counts for credit
G8: =IF(ISBLANK(B8),"",D8*E8*F8) | J8: =IF(ISBLANK(B8),"",SUM(G8:I8)) | M8: =IF(OR(ISBLANK(B8),NOT(ISNUMBER(L8))),"",L8-Summary!$C$6)
G9: =IF(ISBLANK(B9),"",D9*E9*F9) | J9: =IF(ISBLANK(B9),"",SUM(G9:I9)) | M9: =IF(OR(ISBLANK(B9),NOT(ISNUMBER(L9))),"",L9-Summary!$C$6)
G10: =IF(ISBLANK(B10),"",D10*E10*F10) | J10: =IF(ISBLANK(B10),"",SUM(G10:I10)) | M10: =IF(OR(ISBLANK(B10),NOT(ISNUMBER(L10))),"",L10-Summary!$C$6)
G11: =IF(ISBLANK(B11),"",D11*E11*F11) | J11: =IF(ISBLANK(B11),"",SUM(G11:I11)) | M11: =IF(OR(ISBLANK(B11),NOT(ISNUMBER(L11))),"",L11-Summary!$C$6)

Sheet Summary
B1: Summary | D1: rowsandcells.com
B2: Type in the cream cells. Shaded cells are formulas and fill in on their own. | D2: Free template
B5: Item | C5: Value
B6: Today | C6: =DATE(2026,10,18) -> 46313
B7: Follow up after (days) | C7: 10
B8: Warn me about deadlines within (days) | C8: 7
B9: Check in with contacts every (days) | C9: 21
B10: Internships on your list | C10: =COUNTA(Applications!$B$6:$B$65) -> 14
B11: Applications sent | C11: =C10-COUNTIF(Applications!$I$6:$I$65,"Researching") -> 9
B12: Still waiting to hear | C12: =COUNTIF(Applications!$I$6:$I$65,"Applied")+COUNTIF(Applications!$I$6:$I$65,"Assessment")+COUNTIF(Applications!$I$6:$I$65,"Interview") -> 5
B13: Interviewing now | C13: =COUNTIF(Applications!$I$6:$I$65,"Interview") -> 1
B14: Offers (open or accepted) | C14: =COUNTIF(Applications!$I$6:$I$65,"Offer")+COUNTIF(Applications!$I$6:$I$65,"Accepted") -> 2
B15: Rejected | C15: =COUNTIF(Applications!$I$6:$I$65,"Rejected") -> 1
B16: Heard back rate | C16: =IF(C11=0,0,(COUNTIF(Applications!$I$6:$I$65,"Assessment")+COUNTIF(Applications!$I$6:$I$65,"Interview")+COUNTIF(Applications!$I$6:$I$65,"Offer")+COUNTIF(Applications!$I$6:$I$65,"Accepted")+COUNTIF(Applications!$I$6:$I$65,"Rejected"))/C11) -> 0.55555556
B17: Deadlines coming up (apply now) | C17: =COUNTIF(Applications!$Q$6:$Q$65,"Due soon") -> 1
B18: Deadlines missed | C18: =COUNTIF(Applications!$Q$6:$Q$65,"Deadline passed") -> 1
B19: Follow-ups due | C19: =COUNTIF(Applications!$Q$6:$Q$65,"Follow up now") -> 2
B20: Offers to decide on | C20: =COUNTIF(Applications!$Q$6:$Q$65,"Decide on offer") -> 2
B21: Thank-you notes to send | C21: =COUNTIF(Contacts!$K$6:$K$35,"Send thank-you") -> 2
B22: Contacts to reach out to | C22: =COUNTIF(Contacts!$K$6:$K$35,"Reach out") -> 2
B23: Next offer reply due | C23: =IF(COUNT(Offers!$L$6:$L$11)=0,"",MIN(Offers!$L$6:$L$11)) -> 46327
