Workbook

Sheet Applications
A1: Company | B1: Role | C1: Location | D1: Source | E1: Applied | F1: Salary range | G1: Status | H1: Last contact | I1: Follow up on | J1: Next action | K1: Days since applied | L1: Interviews | M1: Contact | N1: Notes
A2: Brightline Health | B2: Marketing Coordinator | C2: Denver, CO | D2: LinkedIn | E2: 46287 | F2: $55k-$62k | G2: Rejected | H2: 46309 | I2: =IF(ISBLANK(A2),"",IF(OR(G2="Applied",G2="Phone screen",G2="Interview"),IF(ISNUMBER(H2),H2,E2)+Summary!$B$3,"")) | J2: =IF(ISBLANK(A2),"",IF(G2="Offer","Decide on offer",IF(NOT(OR(G2="Applied",G2="Phone screen",G2="Interview")),"Closed",IF(AND(G2="Applied",ISNUMBER(E2),Summary!$B$2-E2>=Summary!$B$4),"Gone quiet",IF(I2<=Summary!$B$2,"Follow up now","Waiting"))))) -> Closed | K2: =IF(OR(ISBLANK(A2),NOT(ISNUMBER(E2))),"",Summary!$B$2-E2) -> 43 | L2: =IF(ISBLANK(A2),"",COUNTIFS(Interviews!$C$2:$C$31,A2)) -> 1 | M2: Dana Reyes | N2: Went with an internal hire
A3: Northwind Logistics | B3: Marketing Specialist | C3: Remote | D3: Indeed | E3: 46289 | F3: $60k-$68k | G3: No response | H3: 46289 | I3: =IF(ISBLANK(A3),"",IF(OR(G3="Applied",G3="Phone screen",G3="Interview"),IF(ISNUMBER(H3),H3,E3)+Summary!$B$3,"")) | J3: =IF(ISBLANK(A3),"",IF(G3="Offer","Decide on offer",IF(NOT(OR(G3="Applied",G3="Phone screen",G3="Interview")),"Closed",IF(AND(G3="Applied",ISNUMBER(E3),Summary!$B$2-E3>=Summary!$B$4),"Gone quiet",IF(I3<=Summary!$B$2,"Follow up now","Waiting"))))) -> Closed | K3: =IF(OR(ISBLANK(A3),NOT(ISNUMBER(E3))),"",Summary!$B$2-E3) -> 41 | L3: =IF(ISBLANK(A3),"",COUNTIFS(Interviews!$C$2:$C$31,A3)) -> 0
A4: Harbor Credit Union | B4: Communications Coordinator | C4: Denver, CO | D4: Company site | E4: 46294 | F4: $52k-$58k | G4: Interview | H4: 46325 | I4: =IF(ISBLANK(A4),"",IF(OR(G4="Applied",G4="Phone screen",G4="Interview"),IF(ISNUMBER(H4),H4,E4)+Summary!$B$3,"")) -> 46332 | J4: =IF(ISBLANK(A4),"",IF(G4="Offer","Decide on offer",IF(NOT(OR(G4="Applied",G4="Phone screen",G4="Interview")),"Closed",IF(AND(G4="Applied",ISNUMBER(E4),Summary!$B$2-E4>=Summary!$B$4),"Gone quiet",IF(I4<=Summary!$B$2,"Follow up now","Waiting"))))) -> Waiting | K4: =IF(OR(ISBLANK(A4),NOT(ISNUMBER(E4))),"",Summary!$B$2-E4) -> 36 | L4: =IF(ISBLANK(A4),"",COUNTIFS(Interviews!$C$2:$C$31,A4)) -> 2 | M4: Mark Ellis | N4: Second round Nov 6
A5: Lumen Software | B5: Content Marketing Associate | C5: Remote | D5: LinkedIn | E5: 46296 | F5: $65k-$75k | G5: Offer | H5: 46328 | I5: =IF(ISBLANK(A5),"",IF(OR(G5="Applied",G5="Phone screen",G5="Interview"),IF(ISNUMBER(H5),H5,E5)+Summary!$B$3,"")) | J5: =IF(ISBLANK(A5),"",IF(G5="Offer","Decide on offer",IF(NOT(OR(G5="Applied",G5="Phone screen",G5="Interview")),"Closed",IF(AND(G5="Applied",ISNUMBER(E5),Summary!$B$2-E5>=Summary!$B$4),"Gone quiet",IF(I5<=Summary!$B$2,"Follow up now","Waiting"))))) -> Decide on offer | K5: =IF(OR(ISBLANK(A5),NOT(ISNUMBER(E5))),"",Summary!$B$2-E5) -> 34 | L5: =IF(ISBLANK(A5),"",COUNTIFS(Interviews!$C$2:$C$31,A5)) -> 2 | M5: Priya Shah | N5: Offer $70k, answer by Nov 9
A6: Summit Outdoor Gear | B6: Social Media Coordinator | C6: Boulder, CO | D6: Referral | E6: 46298 | F6: $50k-$56k | G6: Phone screen | H6: 46322 | I6: =IF(ISBLANK(A6),"",IF(OR(G6="Applied",G6="Phone screen",G6="Interview"),IF(ISNUMBER(H6),H6,E6)+Summary!$B$3,"")) -> 46329 | J6: =IF(ISBLANK(A6),"",IF(G6="Offer","Decide on offer",IF(NOT(OR(G6="Applied",G6="Phone screen",G6="Interview")),"Closed",IF(AND(G6="Applied",ISNUMBER(E6),Summary!$B$2-E6>=Summary!$B$4),"Gone quiet",IF(I6<=Summary!$B$2,"Follow up now","Waiting"))))) -> Follow up now | K6: =IF(OR(ISBLANK(A6),NOT(ISNUMBER(E6))),"",Summary!$B$2-E6) -> 32 | L6: =IF(ISBLANK(A6),"",COUNTIFS(Interviews!$C$2:$C$31,A6)) -> 1 | M6: Chris Patel | N6: Chris referred me
A7: Pine Street Coffee Co. | B7: Brand Marketing Assistant | C7: Denver, CO | D7: Indeed | E7: 46300 | F7: $45k-$50k | G7: Applied | H7: 46300 | I7: =IF(ISBLANK(A7),"",IF(OR(G7="Applied",G7="Phone screen",G7="Interview"),IF(ISNUMBER(H7),H7,E7)+Summary!$B$3,"")) -> 46307 | J7: =IF(ISBLANK(A7),"",IF(G7="Offer","Decide on offer",IF(NOT(OR(G7="Applied",G7="Phone screen",G7="Interview")),"Closed",IF(AND(G7="Applied",ISNUMBER(E7),Summary!$B$2-E7>=Summary!$B$4),"Gone quiet",IF(I7<=Summary!$B$2,"Follow up now","Waiting"))))) -> Gone quiet | K7: =IF(OR(ISBLANK(A7),NOT(ISNUMBER(E7))),"",Summary!$B$2-E7) -> 30 | L7: =IF(ISBLANK(A7),"",COUNTIFS(Interviews!$C$2:$C$31,A7)) -> 0
A8: Cedar & Stone Realty | B8: Marketing Coordinator | C8: Littleton, CO | D8: Indeed | E8: 46303 | F8: $48k-$54k | G8: Withdrawn | H8: 46315 | I8: =IF(ISBLANK(A8),"",IF(OR(G8="Applied",G8="Phone screen",G8="Interview"),IF(ISNUMBER(H8),H8,E8)+Summary!$B$3,"")) | J8: =IF(ISBLANK(A8),"",IF(G8="Offer","Decide on offer",IF(NOT(OR(G8="Applied",G8="Phone screen",G8="Interview")),"Closed",IF(AND(G8="Applied",ISNUMBER(E8),Summary!$B$2-E8>=Summary!$B$4),"Gone quiet",IF(I8<=Summary!$B$2,"Follow up now","Waiting"))))) -> Closed | K8: =IF(OR(ISBLANK(A8),NOT(ISNUMBER(E8))),"",Summary!$B$2-E8) -> 27 | L8: =IF(ISBLANK(A8),"",COUNTIFS(Interviews!$C$2:$C$31,A8)) -> 0 | N8: Commute too long
A9: Bluebird Learning | B9: Email Marketing Specialist | C9: Remote | D9: LinkedIn | E9: 46308 | F9: $58k-$66k | G9: Interview | H9: 46324 | I9: =IF(ISBLANK(A9),"",IF(OR(G9="Applied",G9="Phone screen",G9="Interview"),IF(ISNUMBER(H9),H9,E9)+Summary!$B$3,"")) -> 46331 | J9: =IF(ISBLANK(A9),"",IF(G9="Offer","Decide on offer",IF(NOT(OR(G9="Applied",G9="Phone screen",G9="Interview")),"Closed",IF(AND(G9="Applied",ISNUMBER(E9),Summary!$B$2-E9>=Summary!$B$4),"Gone quiet",IF(I9<=Summary!$B$2,"Follow up now","Waiting"))))) -> Waiting | K9: =IF(OR(ISBLANK(A9),NOT(ISNUMBER(E9))),"",Summary!$B$2-E9) -> 22 | L9: =IF(ISBLANK(A9),"",COUNTIFS(Interviews!$C$2:$C$31,A9)) -> 1 | M9: Amy Chen | N9: Panel interview Nov 5
A10: Redwood Dental Group | B10: Marketing Coordinator | C10: Aurora, CO | D10: Company site | E10: 46310 | F10: $50k-$55k | G10: Applied | H10: 46310 | I10: =IF(ISBLANK(A10),"",IF(OR(G10="Applied",G10="Phone screen",G10="Interview"),IF(ISNUMBER(H10),H10,E10)+Summary!$B$3,"")) -> 46317 | J10: =IF(ISBLANK(A10),"",IF(G10="Offer","Decide on offer",IF(NOT(OR(G10="Applied",G10="Phone screen",G10="Interview")),"Closed",IF(AND(G10="Applied",ISNUMBER(E10),Summary!$B$2-E10>=Summary!$B$4),"Gone quiet",IF(I10<=Summary!$B$2,"Follow up now","Waiting"))))) -> Follow up now | K10: =IF(OR(ISBLANK(A10),NOT(ISNUMBER(E10))),"",Summary!$B$2-E10) -> 20 | L10: =IF(ISBLANK(A10),"",COUNTIFS(Interviews!$C$2:$C$31,A10)) -> 0
A11: Kestrel Analytics | B11: Marketing Operations Associate | C11: Remote | D11: Recruiter | E11: 46314 | F11: $62k-$70k | G11: Phone screen | H11: 46323 | I11: =IF(ISBLANK(A11),"",IF(OR(G11="Applied",G11="Phone screen",G11="Interview"),IF(ISNUMBER(H11),H11,E11)+Summary!$B$3,"")) -> 46330 | J11: =IF(ISBLANK(A11),"",IF(G11="Offer","Decide on offer",IF(NOT(OR(G11="Applied",G11="Phone screen",G11="Interview")),"Closed",IF(AND(G11="Applied",ISNUMBER(E11),Summary!$B$2-E11>=Summary!$B$4),"Gone quiet",IF(I11<=Summary!$B$2,"Follow up now","Waiting"))))) -> Follow up now | K11: =IF(OR(ISBLANK(A11),NOT(ISNUMBER(E11))),"",Summary!$B$2-E11) -> 16 | L11: =IF(ISBLANK(A11),"",COUNTIFS(Interviews!$C$2:$C$31,A11)) -> 1 | M11: Jordan Lee | N11: Recruiter call went well
A12: Fieldhouse Sports | B12: Digital Marketing Coordinator | C12: Denver, CO | D12: LinkedIn | E12: 46316 | F12: $52k-$60k | G12: Rejected | H12: 46326 | I12: =IF(ISBLANK(A12),"",IF(OR(G12="Applied",G12="Phone screen",G12="Interview"),IF(ISNUMBER(H12),H12,E12)+Summary!$B$3,"")) | J12: =IF(ISBLANK(A12),"",IF(G12="Offer","Decide on offer",IF(NOT(OR(G12="Applied",G12="Phone screen",G12="Interview")),"Closed",IF(AND(G12="Applied",ISNUMBER(E12),Summary!$B$2-E12>=Summary!$B$4),"Gone quiet",IF(I12<=Summary!$B$2,"Follow up now","Waiting"))))) -> Closed | K12: =IF(OR(ISBLANK(A12),NOT(ISNUMBER(E12))),"",Summary!$B$2-E12) -> 14 | L12: =IF(ISBLANK(A12),"",COUNTIFS(Interviews!$C$2:$C$31,A12)) -> 0 | N12: Form rejection email
A13: Copperline Media | B13: Junior Content Strategist | C13: Remote | D13: Indeed | E13: 46321 | F13: $55k-$62k | G13: Applied | H13: 46321 | I13: =IF(ISBLANK(A13),"",IF(OR(G13="Applied",G13="Phone screen",G13="Interview"),IF(ISNUMBER(H13),H13,E13)+Summary!$B$3,"")) -> 46328 | J13: =IF(ISBLANK(A13),"",IF(G13="Offer","Decide on offer",IF(NOT(OR(G13="Applied",G13="Phone screen",G13="Interview")),"Closed",IF(AND(G13="Applied",ISNUMBER(E13),Summary!$B$2-E13>=Summary!$B$4),"Gone quiet",IF(I13<=Summary!$B$2,"Follow up now","Waiting"))))) -> Follow up now | K13: =IF(OR(ISBLANK(A13),NOT(ISNUMBER(E13))),"",Summary!$B$2-E13) -> 9 | L13: =IF(ISBLANK(A13),"",COUNTIFS(Interviews!$C$2:$C$31,A13)) -> 0
A14: Atlas Home Services | B14: Marketing Coordinator | C14: Englewood, CO | D14: Company site | E14: 46323 | F14: $50k-$57k | G14: Applied | H14: 46323 | I14: =IF(ISBLANK(A14),"",IF(OR(G14="Applied",G14="Phone screen",G14="Interview"),IF(ISNUMBER(H14),H14,E14)+Summary!$B$3,"")) -> 46330 | J14: =IF(ISBLANK(A14),"",IF(G14="Offer","Decide on offer",IF(NOT(OR(G14="Applied",G14="Phone screen",G14="Interview")),"Closed",IF(AND(G14="Applied",ISNUMBER(E14),Summary!$B$2-E14>=Summary!$B$4),"Gone quiet",IF(I14<=Summary!$B$2,"Follow up now","Waiting"))))) -> Follow up now | K14: =IF(OR(ISBLANK(A14),NOT(ISNUMBER(E14))),"",Summary!$B$2-E14) -> 7 | L14: =IF(ISBLANK(A14),"",COUNTIFS(Interviews!$C$2:$C$31,A14)) -> 0
A15: Maple Grove Senior Living | B15: Community Relations Coordinator | C15: Lakewood, CO | D15: Referral | E15: 46325 | F15: $48k-$53k | G15: Applied | H15: 46325 | I15: =IF(ISBLANK(A15),"",IF(OR(G15="Applied",G15="Phone screen",G15="Interview"),IF(ISNUMBER(H15),H15,E15)+Summary!$B$3,"")) -> 46332 | J15: =IF(ISBLANK(A15),"",IF(G15="Offer","Decide on offer",IF(NOT(OR(G15="Applied",G15="Phone screen",G15="Interview")),"Closed",IF(AND(G15="Applied",ISNUMBER(E15),Summary!$B$2-E15>=Summary!$B$4),"Gone quiet",IF(I15<=Summary!$B$2,"Follow up now","Waiting"))))) -> Waiting | K15: =IF(OR(ISBLANK(A15),NOT(ISNUMBER(E15))),"",Summary!$B$2-E15) -> 5 | L15: =IF(ISBLANK(A15),"",COUNTIFS(Interviews!$C$2:$C$31,A15)) -> 0 | M15: Ruth Gomez | N15: Ruth passed my resume on
A16: Riverbend Bank | B16: Marketing Specialist | C16: Denver, CO | D16: LinkedIn | E16: 46328 | F16: $60k-$67k | G16: Applied | H16: 46328 | I16: =IF(ISBLANK(A16),"",IF(OR(G16="Applied",G16="Phone screen",G16="Interview"),IF(ISNUMBER(H16),H16,E16)+Summary!$B$3,"")) -> 46335 | J16: =IF(ISBLANK(A16),"",IF(G16="Offer","Decide on offer",IF(NOT(OR(G16="Applied",G16="Phone screen",G16="Interview")),"Closed",IF(AND(G16="Applied",ISNUMBER(E16),Summary!$B$2-E16>=Summary!$B$4),"Gone quiet",IF(I16<=Summary!$B$2,"Follow up now","Waiting"))))) -> Waiting | K16: =IF(OR(ISBLANK(A16),NOT(ISNUMBER(E16))),"",Summary!$B$2-E16) -> 2 | L16: =IF(ISBLANK(A16),"",COUNTIFS(Interviews!$C$2:$C$31,A16)) -> 0
A17: Oakline Studio | B17: Marketing and Events Assistant | C17: Denver, CO | D17: Indeed | E17: 46329 | F17: $44k-$49k | G17: Applied | H17: 46329 | I17: =IF(ISBLANK(A17),"",IF(OR(G17="Applied",G17="Phone screen",G17="Interview"),IF(ISNUMBER(H17),H17,E17)+Summary!$B$3,"")) -> 46336 | J17: =IF(ISBLANK(A17),"",IF(G17="Offer","Decide on offer",IF(NOT(OR(G17="Applied",G17="Phone screen",G17="Interview")),"Closed",IF(AND(G17="Applied",ISNUMBER(E17),Summary!$B$2-E17>=Summary!$B$4),"Gone quiet",IF(I17<=Summary!$B$2,"Follow up now","Waiting"))))) -> Waiting | K17: =IF(OR(ISBLANK(A17),NOT(ISNUMBER(E17))),"",Summary!$B$2-E17) -> 1 | L17: =IF(ISBLANK(A17),"",COUNTIFS(Interviews!$C$2:$C$31,A17)) -> 0
I18: =IF(ISBLANK(A18),"",IF(OR(G18="Applied",G18="Phone screen",G18="Interview"),IF(ISNUMBER(H18),H18,E18)+Summary!$B$3,"")) | J18: =IF(ISBLANK(A18),"",IF(G18="Offer","Decide on offer",IF(NOT(OR(G18="Applied",G18="Phone screen",G18="Interview")),"Closed",IF(AND(G18="Applied",ISNUMBER(E18),Summary!$B$2-E18>=Summary!$B$4),"Gone quiet",IF(I18<=Summary!$B$2,"Follow up now","Waiting"))))) | K18: =IF(OR(ISBLANK(A18),NOT(ISNUMBER(E18))),"",Summary!$B$2-E18) | L18: =IF(ISBLANK(A18),"",COUNTIFS(Interviews!$C$2:$C$31,A18))
I19: =IF(ISBLANK(A19),"",IF(OR(G19="Applied",G19="Phone screen",G19="Interview"),IF(ISNUMBER(H19),H19,E19)+Summary!$B$3,"")) | J19: =IF(ISBLANK(A19),"",IF(G19="Offer","Decide on offer",IF(NOT(OR(G19="Applied",G19="Phone screen",G19="Interview")),"Closed",IF(AND(G19="Applied",ISNUMBER(E19),Summary!$B$2-E19>=Summary!$B$4),"Gone quiet",IF(I19<=Summary!$B$2,"Follow up now","Waiting"))))) | K19: =IF(OR(ISBLANK(A19),NOT(ISNUMBER(E19))),"",Summary!$B$2-E19) | L19: =IF(ISBLANK(A19),"",COUNTIFS(Interviews!$C$2:$C$31,A19))
I20: =IF(ISBLANK(A20),"",IF(OR(G20="Applied",G20="Phone screen",G20="Interview"),IF(ISNUMBER(H20),H20,E20)+Summary!$B$3,"")) | J20: =IF(ISBLANK(A20),"",IF(G20="Offer","Decide on offer",IF(NOT(OR(G20="Applied",G20="Phone screen",G20="Interview")),"Closed",IF(AND(G20="Applied",ISNUMBER(E20),Summary!$B$2-E20>=Summary!$B$4),"Gone quiet",IF(I20<=Summary!$B$2,"Follow up now","Waiting"))))) | K20: =IF(OR(ISBLANK(A20),NOT(ISNUMBER(E20))),"",Summary!$B$2-E20) | L20: =IF(ISBLANK(A20),"",COUNTIFS(Interviews!$C$2:$C$31,A20))
I21: =IF(ISBLANK(A21),"",IF(OR(G21="Applied",G21="Phone screen",G21="Interview"),IF(ISNUMBER(H21),H21,E21)+Summary!$B$3,"")) | J21: =IF(ISBLANK(A21),"",IF(G21="Offer","Decide on offer",IF(NOT(OR(G21="Applied",G21="Phone screen",G21="Interview")),"Closed",IF(AND(G21="Applied",ISNUMBER(E21),Summary!$B$2-E21>=Summary!$B$4),"Gone quiet",IF(I21<=Summary!$B$2,"Follow up now","Waiting"))))) | K21: =IF(OR(ISBLANK(A21),NOT(ISNUMBER(E21))),"",Summary!$B$2-E21) | L21: =IF(ISBLANK(A21),"",COUNTIFS(Interviews!$C$2:$C$31,A21))
I22: =IF(ISBLANK(A22),"",IF(OR(G22="Applied",G22="Phone screen",G22="Interview"),IF(ISNUMBER(H22),H22,E22)+Summary!$B$3,"")) | J22: =IF(ISBLANK(A22),"",IF(G22="Offer","Decide on offer",IF(NOT(OR(G22="Applied",G22="Phone screen",G22="Interview")),"Closed",IF(AND(G22="Applied",ISNUMBER(E22),Summary!$B$2-E22>=Summary!$B$4),"Gone quiet",IF(I22<=Summary!$B$2,"Follow up now","Waiting"))))) | K22: =IF(OR(ISBLANK(A22),NOT(ISNUMBER(E22))),"",Summary!$B$2-E22) | L22: =IF(ISBLANK(A22),"",COUNTIFS(Interviews!$C$2:$C$31,A22))
I23: =IF(ISBLANK(A23),"",IF(OR(G23="Applied",G23="Phone screen",G23="Interview"),IF(ISNUMBER(H23),H23,E23)+Summary!$B$3,"")) | J23: =IF(ISBLANK(A23),"",IF(G23="Offer","Decide on offer",IF(NOT(OR(G23="Applied",G23="Phone screen",G23="Interview")),"Closed",IF(AND(G23="Applied",ISNUMBER(E23),Summary!$B$2-E23>=Summary!$B$4),"Gone quiet",IF(I23<=Summary!$B$2,"Follow up now","Waiting"))))) | K23: =IF(OR(ISBLANK(A23),NOT(ISNUMBER(E23))),"",Summary!$B$2-E23) | L23: =IF(ISBLANK(A23),"",COUNTIFS(Interviews!$C$2:$C$31,A23))
I24: =IF(ISBLANK(A24),"",IF(OR(G24="Applied",G24="Phone screen",G24="Interview"),IF(ISNUMBER(H24),H24,E24)+Summary!$B$3,"")) | J24: =IF(ISBLANK(A24),"",IF(G24="Offer","Decide on offer",IF(NOT(OR(G24="Applied",G24="Phone screen",G24="Interview")),"Closed",IF(AND(G24="Applied",ISNUMBER(E24),Summary!$B$2-E24>=Summary!$B$4),"Gone quiet",IF(I24<=Summary!$B$2,"Follow up now","Waiting"))))) | K24: =IF(OR(ISBLANK(A24),NOT(ISNUMBER(E24))),"",Summary!$B$2-E24) | L24: =IF(ISBLANK(A24),"",COUNTIFS(Interviews!$C$2:$C$31,A24))
I25: =IF(ISBLANK(A25),"",IF(OR(G25="Applied",G25="Phone screen",G25="Interview"),IF(ISNUMBER(H25),H25,E25)+Summary!$B$3,"")) | J25: =IF(ISBLANK(A25),"",IF(G25="Offer","Decide on offer",IF(NOT(OR(G25="Applied",G25="Phone screen",G25="Interview")),"Closed",IF(AND(G25="Applied",ISNUMBER(E25),Summary!$B$2-E25>=Summary!$B$4),"Gone quiet",IF(I25<=Summary!$B$2,"Follow up now","Waiting"))))) | K25: =IF(OR(ISBLANK(A25),NOT(ISNUMBER(E25))),"",Summary!$B$2-E25) | L25: =IF(ISBLANK(A25),"",COUNTIFS(Interviews!$C$2:$C$31,A25))
I26: =IF(ISBLANK(A26),"",IF(OR(G26="Applied",G26="Phone screen",G26="Interview"),IF(ISNUMBER(H26),H26,E26)+Summary!$B$3,"")) | J26: =IF(ISBLANK(A26),"",IF(G26="Offer","Decide on offer",IF(NOT(OR(G26="Applied",G26="Phone screen",G26="Interview")),"Closed",IF(AND(G26="Applied",ISNUMBER(E26),Summary!$B$2-E26>=Summary!$B$4),"Gone quiet",IF(I26<=Summary!$B$2,"Follow up now","Waiting"))))) | K26: =IF(OR(ISBLANK(A26),NOT(ISNUMBER(E26))),"",Summary!$B$2-E26) | L26: =IF(ISBLANK(A26),"",COUNTIFS(Interviews!$C$2:$C$31,A26))
I27: =IF(ISBLANK(A27),"",IF(OR(G27="Applied",G27="Phone screen",G27="Interview"),IF(ISNUMBER(H27),H27,E27)+Summary!$B$3,"")) | J27: =IF(ISBLANK(A27),"",IF(G27="Offer","Decide on offer",IF(NOT(OR(G27="Applied",G27="Phone screen",G27="Interview")),"Closed",IF(AND(G27="Applied",ISNUMBER(E27),Summary!$B$2-E27>=Summary!$B$4),"Gone quiet",IF(I27<=Summary!$B$2,"Follow up now","Waiting"))))) | K27: =IF(OR(ISBLANK(A27),NOT(ISNUMBER(E27))),"",Summary!$B$2-E27) | L27: =IF(ISBLANK(A27),"",COUNTIFS(Interviews!$C$2:$C$31,A27))
I28: =IF(ISBLANK(A28),"",IF(OR(G28="Applied",G28="Phone screen",G28="Interview"),IF(ISNUMBER(H28),H28,E28)+Summary!$B$3,"")) | J28: =IF(ISBLANK(A28),"",IF(G28="Offer","Decide on offer",IF(NOT(OR(G28="Applied",G28="Phone screen",G28="Interview")),"Closed",IF(AND(G28="Applied",ISNUMBER(E28),Summary!$B$2-E28>=Summary!$B$4),"Gone quiet",IF(I28<=Summary!$B$2,"Follow up now","Waiting"))))) | K28: =IF(OR(ISBLANK(A28),NOT(ISNUMBER(E28))),"",Summary!$B$2-E28) | L28: =IF(ISBLANK(A28),"",COUNTIFS(Interviews!$C$2:$C$31,A28))
I29: =IF(ISBLANK(A29),"",IF(OR(G29="Applied",G29="Phone screen",G29="Interview"),IF(ISNUMBER(H29),H29,E29)+Summary!$B$3,"")) | J29: =IF(ISBLANK(A29),"",IF(G29="Offer","Decide on offer",IF(NOT(OR(G29="Applied",G29="Phone screen",G29="Interview")),"Closed",IF(AND(G29="Applied",ISNUMBER(E29),Summary!$B$2-E29>=Summary!$B$4),"Gone quiet",IF(I29<=Summary!$B$2,"Follow up now","Waiting"))))) | K29: =IF(OR(ISBLANK(A29),NOT(ISNUMBER(E29))),"",Summary!$B$2-E29) | L29: =IF(ISBLANK(A29),"",COUNTIFS(Interviews!$C$2:$C$31,A29))
... I61: =IF(ISBLANK(A61),"",IF(OR(G61="Applied",G61="Phone screen",G61="Interview"),IF(ISNUMBER(H61),H61,E61)+Summary!$B$3,"")) | J61: =IF(ISBLANK(A61),"",IF(G61="Offer","Decide on offer",IF(NOT(OR(G61="Applied",G61="Phone screen",G61="Interview")),"Closed",IF(AND(G61="Applied",ISNUMBER(E61),Summary!$B$2-E61>=Summary!$B$4),"Gone quiet",IF(I61<=Summary!$B$2,"Follow up now","Waiting"))))) | K61: =IF(OR(ISBLANK(A61),NOT(ISNUMBER(E61))),"",Summary!$B$2-E61) | L61: =IF(ISBLANK(A61),"",COUNTIFS(Interviews!$C$2:$C$31,A61))

Sheet Interviews
A1: Date | B1: Time | C1: Company | D1: Role | E1: Round | F1: Interviewer | G1: Prep done | H1: Thank-you sent | I1: Next step | J1: Notes
A2: 46309 | B2: 0.41666667 | C2: Brightline Health | D2: Marketing Coordinator | E2: Phone screen | F2: Dana Reyes | G2: TRUE | H2: TRUE | I2: =IF(OR(ISBLANK(C2),NOT(ISNUMBER(A2))),"",IF(A2>Summary!$B$2,IF(G2=TRUE,"Ready","Prep needed"),IF(A2=Summary!$B$2,"Today",IF(H2=TRUE,"Done","Send thank-you")))) -> Done
A3: 46317 | B3: 0.5625 | C3: Harbor Credit Union | D3: Communications Coordinator | E3: Video | F3: Mark Ellis | G3: TRUE | H3: TRUE | I3: =IF(OR(ISBLANK(C3),NOT(ISNUMBER(A3))),"",IF(A3>Summary!$B$2,IF(G3=TRUE,"Ready","Prep needed"),IF(A3=Summary!$B$2,"Today",IF(H3=TRUE,"Done","Send thank-you")))) -> Done | J3: Asked about crisis comms
A4: 46318 | B4: 0.45833333 | C4: Lumen Software | D4: Content Marketing Associate | E4: Phone screen | F4: Priya Shah | G4: TRUE | H4: TRUE | I4: =IF(OR(ISBLANK(C4),NOT(ISNUMBER(A4))),"",IF(A4>Summary!$B$2,IF(G4=TRUE,"Ready","Prep needed"),IF(A4=Summary!$B$2,"Today",IF(H4=TRUE,"Done","Send thank-you")))) -> Done
A5: 46322 | B5: 0.625 | C5: Summit Outdoor Gear | D5: Social Media Coordinator | E5: Phone screen | F5: Chris Patel | G5: TRUE | H5: FALSE | I5: =IF(OR(ISBLANK(C5),NOT(ISNUMBER(A5))),"",IF(A5>Summary!$B$2,IF(G5=TRUE,"Ready","Prep needed"),IF(A5=Summary!$B$2,"Today",IF(H5=TRUE,"Done","Send thank-you")))) -> Send thank-you | J5: Send thank-you to Chris
A6: 46323 | B6: 0.39583333 | C6: Kestrel Analytics | D6: Marketing Operations Associate | E6: Phone screen | F6: Jordan Lee | G6: TRUE | H6: TRUE | I6: =IF(OR(ISBLANK(C6),NOT(ISNUMBER(A6))),"",IF(A6>Summary!$B$2,IF(G6=TRUE,"Ready","Prep needed"),IF(A6=Summary!$B$2,"Today",IF(H6=TRUE,"Done","Send thank-you")))) -> Done
A7: 46324 | B7: 0.58333333 | C7: Lumen Software | D7: Content Marketing Associate | E7: Final | F7: Sam Ortiz | G7: TRUE | H7: TRUE | I7: =IF(OR(ISBLANK(C7),NOT(ISNUMBER(A7))),"",IF(A7>Summary!$B$2,IF(G7=TRUE,"Ready","Prep needed"),IF(A7=Summary!$B$2,"Today",IF(H7=TRUE,"Done","Send thank-you")))) -> Done | J7: Portfolio review
A8: 46331 | B8: 0.41666667 | C8: Bluebird Learning | D8: Email Marketing Specialist | E8: Panel | F8: Amy Chen | G8: FALSE | H8: FALSE | I8: =IF(OR(ISBLANK(C8),NOT(ISNUMBER(A8))),"",IF(A8>Summary!$B$2,IF(G8=TRUE,"Ready","Prep needed"),IF(A8=Summary!$B$2,"Today",IF(H8=TRUE,"Done","Send thank-you")))) -> Prep needed | J8: Bring campaign examples
A9: 46332 | B9: 0.54166667 | C9: Harbor Credit Union | D9: Communications Coordinator | E9: Onsite | F9: Mark Ellis | G9: TRUE | H9: FALSE | I9: =IF(OR(ISBLANK(C9),NOT(ISNUMBER(A9))),"",IF(A9>Summary!$B$2,IF(G9=TRUE,"Ready","Prep needed"),IF(A9=Summary!$B$2,"Today",IF(H9=TRUE,"Done","Send thank-you")))) -> Ready | J9: Ask about the team size
G10: FALSE | H10: FALSE | I10: =IF(OR(ISBLANK(C10),NOT(ISNUMBER(A10))),"",IF(A10>Summary!$B$2,IF(G10=TRUE,"Ready","Prep needed"),IF(A10=Summary!$B$2,"Today",IF(H10=TRUE,"Done","Send thank-you"))))
G11: FALSE | H11: FALSE | I11: =IF(OR(ISBLANK(C11),NOT(ISNUMBER(A11))),"",IF(A11>Summary!$B$2,IF(G11=TRUE,"Ready","Prep needed"),IF(A11=Summary!$B$2,"Today",IF(H11=TRUE,"Done","Send thank-you"))))
G12: FALSE | H12: FALSE | I12: =IF(OR(ISBLANK(C12),NOT(ISNUMBER(A12))),"",IF(A12>Summary!$B$2,IF(G12=TRUE,"Ready","Prep needed"),IF(A12=Summary!$B$2,"Today",IF(H12=TRUE,"Done","Send thank-you"))))
G13: FALSE | H13: FALSE | I13: =IF(OR(ISBLANK(C13),NOT(ISNUMBER(A13))),"",IF(A13>Summary!$B$2,IF(G13=TRUE,"Ready","Prep needed"),IF(A13=Summary!$B$2,"Today",IF(H13=TRUE,"Done","Send thank-you"))))
G14: FALSE | H14: FALSE | I14: =IF(OR(ISBLANK(C14),NOT(ISNUMBER(A14))),"",IF(A14>Summary!$B$2,IF(G14=TRUE,"Ready","Prep needed"),IF(A14=Summary!$B$2,"Today",IF(H14=TRUE,"Done","Send thank-you"))))
G15: FALSE | H15: FALSE | I15: =IF(OR(ISBLANK(C15),NOT(ISNUMBER(A15))),"",IF(A15>Summary!$B$2,IF(G15=TRUE,"Ready","Prep needed"),IF(A15=Summary!$B$2,"Today",IF(H15=TRUE,"Done","Send thank-you"))))
G16: FALSE | H16: FALSE | I16: =IF(OR(ISBLANK(C16),NOT(ISNUMBER(A16))),"",IF(A16>Summary!$B$2,IF(G16=TRUE,"Ready","Prep needed"),IF(A16=Summary!$B$2,"Today",IF(H16=TRUE,"Done","Send thank-you"))))
G17: FALSE | H17: FALSE | I17: =IF(OR(ISBLANK(C17),NOT(ISNUMBER(A17))),"",IF(A17>Summary!$B$2,IF(G17=TRUE,"Ready","Prep needed"),IF(A17=Summary!$B$2,"Today",IF(H17=TRUE,"Done","Send thank-you"))))
G18: FALSE | H18: FALSE | I18: =IF(OR(ISBLANK(C18),NOT(ISNUMBER(A18))),"",IF(A18>Summary!$B$2,IF(G18=TRUE,"Ready","Prep needed"),IF(A18=Summary!$B$2,"Today",IF(H18=TRUE,"Done","Send thank-you"))))
G19: FALSE | H19: FALSE | I19: =IF(OR(ISBLANK(C19),NOT(ISNUMBER(A19))),"",IF(A19>Summary!$B$2,IF(G19=TRUE,"Ready","Prep needed"),IF(A19=Summary!$B$2,"Today",IF(H19=TRUE,"Done","Send thank-you"))))
G20: FALSE | H20: FALSE | I20: =IF(OR(ISBLANK(C20),NOT(ISNUMBER(A20))),"",IF(A20>Summary!$B$2,IF(G20=TRUE,"Ready","Prep needed"),IF(A20=Summary!$B$2,"Today",IF(H20=TRUE,"Done","Send thank-you"))))
G21: FALSE | H21: FALSE | I21: =IF(OR(ISBLANK(C21),NOT(ISNUMBER(A21))),"",IF(A21>Summary!$B$2,IF(G21=TRUE,"Ready","Prep needed"),IF(A21=Summary!$B$2,"Today",IF(H21=TRUE,"Done","Send thank-you"))))
... G31: FALSE | H31: FALSE | I31: =IF(OR(ISBLANK(C31),NOT(ISNUMBER(A31))),"",IF(A31>Summary!$B$2,IF(G31=TRUE,"Ready","Prep needed"),IF(A31=Summary!$B$2,"Today",IF(H31=TRUE,"Done","Send thank-you"))))

Sheet Contacts
A1: Name | B1: Company | C1: Title | D1: How you know them | E1: Email | F1: Last contact | G1: Check in by | H1: Due? | I1: Notes
A2: Chris Patel | B2: Summit Outdoor Gear | C2: Brand Manager | D2: College friend | E2: chris.patel@email.com | F2: 46322 | G2: =IF(OR(ISBLANK(A2),NOT(ISNUMBER(F2))),"",F2+Summary!$B$5) -> 46336 | H2: =IF(OR(ISBLANK(A2),NOT(ISNUMBER(G2))),"",IF(G2<=Summary!$B$2,"Reach out","Not yet")) -> Not yet | I2: Thank him for the referral
A3: Ruth Gomez | B3: Maple Grove Senior Living | C3: HR Generalist | D3: Neighbor | E3: ruth.gomez@email.com | F3: 46325 | G3: =IF(OR(ISBLANK(A3),NOT(ISNUMBER(F3))),"",F3+Summary!$B$5) -> 46339 | H3: =IF(OR(ISBLANK(A3),NOT(ISNUMBER(G3))),"",IF(G3<=Summary!$B$2,"Reach out","Not yet")) -> Not yet | I3: Ask if she heard anything
A4: Jordan Lee | B4: Kestrel Analytics | C4: Recruiter | D4: Reached out on LinkedIn | E4: jordan.lee@email.com | F4: 46323 | G4: =IF(OR(ISBLANK(A4),NOT(ISNUMBER(F4))),"",F4+Summary!$B$5) -> 46337 | H4: =IF(OR(ISBLANK(A4),NOT(ISNUMBER(G4))),"",IF(G4<=Summary!$B$2,"Reach out","Not yet")) -> Not yet
A5: Megan Brooks | B5: Copperline Media | C5: Content Director | D5: Marketing meetup | E5: megan.brooks@email.com | F5: 46307 | G5: =IF(OR(ISBLANK(A5),NOT(ISNUMBER(F5))),"",F5+Summary!$B$5) -> 46321 | H5: =IF(OR(ISBLANK(A5),NOT(ISNUMBER(G5))),"",IF(G5<=Summary!$B$2,"Reach out","Not yet")) -> Reach out | I5: Coffee chat follow-up
A6: Tom Nguyen | B6: Riverbend Bank | C6: Marketing Manager | D6: Former coworker | E6: tom.nguyen@email.com | F6: 46300 | G6: =IF(OR(ISBLANK(A6),NOT(ISNUMBER(F6))),"",F6+Summary!$B$5) -> 46314 | H6: =IF(OR(ISBLANK(A6),NOT(ISNUMBER(G6))),"",IF(G6<=Summary!$B$2,"Reach out","Not yet")) -> Reach out | I6: Ask about the open role
A7: Alicia Park | B7: Freelance | C7: Career coach | D7: Library workshop | E7: alicia.park@email.com | F7: 46315 | G7: =IF(OR(ISBLANK(A7),NOT(ISNUMBER(F7))),"",F7+Summary!$B$5) -> 46329 | H7: =IF(OR(ISBLANK(A7),NOT(ISNUMBER(G7))),"",IF(G7<=Summary!$B$2,"Reach out","Not yet")) -> Reach out | I7: Resume review in November
G8: =IF(OR(ISBLANK(A8),NOT(ISNUMBER(F8))),"",F8+Summary!$B$5) | H8: =IF(OR(ISBLANK(A8),NOT(ISNUMBER(G8))),"",IF(G8<=Summary!$B$2,"Reach out","Not yet"))
G9: =IF(OR(ISBLANK(A9),NOT(ISNUMBER(F9))),"",F9+Summary!$B$5) | H9: =IF(OR(ISBLANK(A9),NOT(ISNUMBER(G9))),"",IF(G9<=Summary!$B$2,"Reach out","Not yet"))
G10: =IF(OR(ISBLANK(A10),NOT(ISNUMBER(F10))),"",F10+Summary!$B$5) | H10: =IF(OR(ISBLANK(A10),NOT(ISNUMBER(G10))),"",IF(G10<=Summary!$B$2,"Reach out","Not yet"))
G11: =IF(OR(ISBLANK(A11),NOT(ISNUMBER(F11))),"",F11+Summary!$B$5) | H11: =IF(OR(ISBLANK(A11),NOT(ISNUMBER(G11))),"",IF(G11<=Summary!$B$2,"Reach out","Not yet"))
G12: =IF(OR(ISBLANK(A12),NOT(ISNUMBER(F12))),"",F12+Summary!$B$5) | H12: =IF(OR(ISBLANK(A12),NOT(ISNUMBER(G12))),"",IF(G12<=Summary!$B$2,"Reach out","Not yet"))
G13: =IF(OR(ISBLANK(A13),NOT(ISNUMBER(F13))),"",F13+Summary!$B$5) | H13: =IF(OR(ISBLANK(A13),NOT(ISNUMBER(G13))),"",IF(G13<=Summary!$B$2,"Reach out","Not yet"))
G14: =IF(OR(ISBLANK(A14),NOT(ISNUMBER(F14))),"",F14+Summary!$B$5) | H14: =IF(OR(ISBLANK(A14),NOT(ISNUMBER(G14))),"",IF(G14<=Summary!$B$2,"Reach out","Not yet"))
G15: =IF(OR(ISBLANK(A15),NOT(ISNUMBER(F15))),"",F15+Summary!$B$5) | H15: =IF(OR(ISBLANK(A15),NOT(ISNUMBER(G15))),"",IF(G15<=Summary!$B$2,"Reach out","Not yet"))
G16: =IF(OR(ISBLANK(A16),NOT(ISNUMBER(F16))),"",F16+Summary!$B$5) | H16: =IF(OR(ISBLANK(A16),NOT(ISNUMBER(G16))),"",IF(G16<=Summary!$B$2,"Reach out","Not yet"))
G17: =IF(OR(ISBLANK(A17),NOT(ISNUMBER(F17))),"",F17+Summary!$B$5) | H17: =IF(OR(ISBLANK(A17),NOT(ISNUMBER(G17))),"",IF(G17<=Summary!$B$2,"Reach out","Not yet"))
G18: =IF(OR(ISBLANK(A18),NOT(ISNUMBER(F18))),"",F18+Summary!$B$5) | H18: =IF(OR(ISBLANK(A18),NOT(ISNUMBER(G18))),"",IF(G18<=Summary!$B$2,"Reach out","Not yet"))
G19: =IF(OR(ISBLANK(A19),NOT(ISNUMBER(F19))),"",F19+Summary!$B$5) | H19: =IF(OR(ISBLANK(A19),NOT(ISNUMBER(G19))),"",IF(G19<=Summary!$B$2,"Reach out","Not yet"))
... G31: =IF(OR(ISBLANK(A31),NOT(ISNUMBER(F31))),"",F31+Summary!$B$5) | H31: =IF(OR(ISBLANK(A31),NOT(ISNUMBER(G31))),"",IF(G31<=Summary!$B$2,"Reach out","Not yet"))

Sheet By Source
A1: Source | B1: Applied | C1: Got a reply | D1: Got interview | E1: Offers | F1: Interview rate
A2: LinkedIn | B2: =COUNTIFS(Applications!$D$2:$D$61,A2) -> 5 | C2: =B2-COUNTIFS(Applications!$D$2:$D$61,A2,Applications!$G$2:$G$61,"Applied")-COUNTIFS(Applications!$D$2:$D$61,A2,Applications!$G$2:$G$61,"No response")-COUNTIFS(Applications!$D$2:$D$61,A2,Applications!$G$2:$G$61,"Withdrawn") -> 4 | D2: =COUNTIFS(Applications!$D$2:$D$61,A2,Applications!$L$2:$L$61,">0") -> 3 | E2: =COUNTIFS(Applications!$D$2:$D$61,A2,Applications!$G$2:$G$61,"Offer") -> 1 | F2: =IF(B2=0,"",D2/B2) -> 0.6
A3: Indeed | B3: =COUNTIFS(Applications!$D$2:$D$61,A3) -> 5 | C3: =B3-COUNTIFS(Applications!$D$2:$D$61,A3,Applications!$G$2:$G$61,"Applied")-COUNTIFS(Applications!$D$2:$D$61,A3,Applications!$G$2:$G$61,"No response")-COUNTIFS(Applications!$D$2:$D$61,A3,Applications!$G$2:$G$61,"Withdrawn") -> 0 | D3: =COUNTIFS(Applications!$D$2:$D$61,A3,Applications!$L$2:$L$61,">0") -> 0 | E3: =COUNTIFS(Applications!$D$2:$D$61,A3,Applications!$G$2:$G$61,"Offer") -> 0 | F3: =IF(B3=0,"",D3/B3) -> 0
A4: Company site | B4: =COUNTIFS(Applications!$D$2:$D$61,A4) -> 3 | C4: =B4-COUNTIFS(Applications!$D$2:$D$61,A4,Applications!$G$2:$G$61,"Applied")-COUNTIFS(Applications!$D$2:$D$61,A4,Applications!$G$2:$G$61,"No response")-COUNTIFS(Applications!$D$2:$D$61,A4,Applications!$G$2:$G$61,"Withdrawn") -> 1 | D4: =COUNTIFS(Applications!$D$2:$D$61,A4,Applications!$L$2:$L$61,">0") -> 1 | E4: =COUNTIFS(Applications!$D$2:$D$61,A4,Applications!$G$2:$G$61,"Offer") -> 0 | F4: =IF(B4=0,"",D4/B4) -> 0.33333333
A5: Referral | B5: =COUNTIFS(Applications!$D$2:$D$61,A5) -> 2 | C5: =B5-COUNTIFS(Applications!$D$2:$D$61,A5,Applications!$G$2:$G$61,"Applied")-COUNTIFS(Applications!$D$2:$D$61,A5,Applications!$G$2:$G$61,"No response")-COUNTIFS(Applications!$D$2:$D$61,A5,Applications!$G$2:$G$61,"Withdrawn") -> 1 | D5: =COUNTIFS(Applications!$D$2:$D$61,A5,Applications!$L$2:$L$61,">0") -> 1 | E5: =COUNTIFS(Applications!$D$2:$D$61,A5,Applications!$G$2:$G$61,"Offer") -> 0 | F5: =IF(B5=0,"",D5/B5) -> 0.5
A6: Recruiter | B6: =COUNTIFS(Applications!$D$2:$D$61,A6) -> 1 | C6: =B6-COUNTIFS(Applications!$D$2:$D$61,A6,Applications!$G$2:$G$61,"Applied")-COUNTIFS(Applications!$D$2:$D$61,A6,Applications!$G$2:$G$61,"No response")-COUNTIFS(Applications!$D$2:$D$61,A6,Applications!$G$2:$G$61,"Withdrawn") -> 1 | D6: =COUNTIFS(Applications!$D$2:$D$61,A6,Applications!$L$2:$L$61,">0") -> 1 | E6: =COUNTIFS(Applications!$D$2:$D$61,A6,Applications!$G$2:$G$61,"Offer") -> 0 | F6: =IF(B6=0,"",D6/B6) -> 1
A7: Other | B7: =COUNTIFS(Applications!$D$2:$D$61,A7) -> 0 | C7: =B7-COUNTIFS(Applications!$D$2:$D$61,A7,Applications!$G$2:$G$61,"Applied")-COUNTIFS(Applications!$D$2:$D$61,A7,Applications!$G$2:$G$61,"No response")-COUNTIFS(Applications!$D$2:$D$61,A7,Applications!$G$2:$G$61,"Withdrawn") -> 0 | D7: =COUNTIFS(Applications!$D$2:$D$61,A7,Applications!$L$2:$L$61,">0") -> 0 | E7: =COUNTIFS(Applications!$D$2:$D$61,A7,Applications!$G$2:$G$61,"Offer") -> 0 | F7: =IF(B7=0,"",D7/B7)
A8: Total | B8: =SUM(B2:B7) -> 16 | C8: =SUM(C2:C7) -> 7 | D8: =SUM(D2:D7) -> 6 | E8: =SUM(E2:E7) -> 1 | F8: =IF(B8=0,"",D8/B8) -> 0.375

Sheet Summary
A1: Item | B1: Value
A2: Today | B2: =DATE(2026,11,4) -> 46330
A3: Follow up after (days) | B3: 7
A4: Call it gone quiet after (days) | B4: 30
A5: Check in with contacts every (days) | B5: 14
A6: Weekly application goal | B6: 5
A7: Applications sent | B7: =COUNTA(Applications!$A$2:$A$61) -> 16
A8: Sent in the last 7 days | B8: =COUNTIFS(Applications!$E$2:$E$61,">"&(B2-7),Applications!$E$2:$E$61,"<="&B2) -> 3
A9: Weekly goal met? | B9: =IF(B8>=B6,"Yes","Not yet: "&(B6-B8)&" to go") -> Not yet: 2 to go
A10: Still active | B10: =COUNTIF(Applications!$G$2:$G$61,"Applied")+COUNTIF(Applications!$G$2:$G$61,"Phone screen")+COUNTIF(Applications!$G$2:$G$61,"Interview") -> 11
A11: Offers | B11: =COUNTIF(Applications!$G$2:$G$61,"Offer") -> 1
A12: Rejected | B12: =COUNTIF(Applications!$G$2:$G$61,"Rejected") -> 2
A13: No response | B13: =COUNTIF(Applications!$G$2:$G$61,"No response") -> 1
A14: Reply rate | B14: =IF(B7=0,0,'By Source'!C8/B7) -> 0.4375
A15: Interview rate | B15: =IF(B7=0,0,'By Source'!D8/B7) -> 0.375
A16: Follow-ups due now | B16: =COUNTIF(Applications!$J$2:$J$61,"Follow up now") -> 5
A17: Gone quiet (mark as No response?) | B17: =COUNTIF(Applications!$J$2:$J$61,"Gone quiet") -> 1
A18: Upcoming interviews | B18: =COUNTIFS(Interviews!$A$2:$A$31,">="&B2) -> 2
A19: Thank-you notes to send | B19: =COUNTIF(Interviews!$I$2:$I$31,"Send thank-you") -> 1
A20: Contacts to reach out to | B20: =COUNTIF(Contacts!$H$2:$H$31,"Reach out") -> 3
