Workbook

Sheet Week Plan
A1: Period | B1: Starts | C1: Class | D1: Monday | E1: Tuesday | F1: Wednesday | G1: Thursday | H1: Friday
A2: Date | D2: =DATE(2026,10,12) -> 46307 | E2: =D2+1 -> 46308 | F2: =E2+1 -> 46309 | G2: =F2+1 -> 46310 | H2: =G2+1 -> 46311
A3: =Periods!A2 -> 1 | B3: =Periods!B2 -> 0.34375 | C3: =Periods!D2 -> Reading | D3: =IFERROR(VLOOKUP(D$2&"-"&$A3,Lessons!$A$2:$J$300,6,FALSE),"") -> Character traits with evidence | E3: =IFERROR(VLOOKUP(E$2&"-"&$A3,Lessons!$A$2:$J$300,6,FALSE),"") -> How characters change | F3: =IFERROR(VLOOKUP(F$2&"-"&$A3,Lessons!$A$2:$J$300,6,FALSE),"") -> Finding the theme | G3: =IFERROR(VLOOKUP(G$2&"-"&$A3,Lessons!$A$2:$J$300,6,FALSE),"") -> Theme vs. topic | H3: =IFERROR(VLOOKUP(H$2&"-"&$A3,Lessons!$A$2:$J$300,6,FALSE),"") -> Book club talk
A4: =Periods!A3 -> 2 | B4: =Periods!B3 -> 0.38888889 | C4: =Periods!D3 -> Writing | D4: =IFERROR(VLOOKUP(D$2&"-"&$A4,Lessons!$A$2:$J$300,6,FALSE),"") -> Small moment ideas | E4: =IFERROR(VLOOKUP(E$2&"-"&$A4,Lessons!$A$2:$J$300,6,FALSE),"") -> Strong leads | F4: =IFERROR(VLOOKUP(F$2&"-"&$A4,Lessons!$A$2:$J$300,6,FALSE),"") -> Show, don't tell | G4: =IFERROR(VLOOKUP(G$2&"-"&$A4,Lessons!$A$2:$J$300,6,FALSE),"") -> Dialogue punctuation | H4: =IFERROR(VLOOKUP(H$2&"-"&$A4,Lessons!$A$2:$J$300,6,FALSE),"") -> Peer conference
A5: =Periods!A4 -> 3 | B5: =Periods!B4 -> 0.42361111 | C5: =Periods!D4 -> Math | D5: =IFERROR(VLOOKUP(D$2&"-"&$A5,Lessons!$A$2:$J$300,6,FALSE),"") -> Multiply by 10s and 100s | E5: =IFERROR(VLOOKUP(E$2&"-"&$A5,Lessons!$A$2:$J$300,6,FALSE),"") -> Area model, 2-digit by 1-digit | F5: =IFERROR(VLOOKUP(F$2&"-"&$A5,Lessons!$A$2:$J$300,6,FALSE),"") -> Area model, 2-digit by 2-digit | G5: =IFERROR(VLOOKUP(G$2&"-"&$A5,Lessons!$A$2:$J$300,6,FALSE),"") -> Partial products | H5: =IFERROR(VLOOKUP(H$2&"-"&$A5,Lessons!$A$2:$J$300,6,FALSE),"") -> Quiz: Lessons 1-4
A6: =Periods!A5 -> Lunch | B6: =Periods!B5 -> 0.47569444 | C6: =Periods!D5 -> Lunch and recess | D6: =IFERROR(VLOOKUP(D$2&"-"&$A6,Lessons!$A$2:$J$300,6,FALSE),"") | E6: =IFERROR(VLOOKUP(E$2&"-"&$A6,Lessons!$A$2:$J$300,6,FALSE),"") | F6: =IFERROR(VLOOKUP(F$2&"-"&$A6,Lessons!$A$2:$J$300,6,FALSE),"") | G6: =IFERROR(VLOOKUP(G$2&"-"&$A6,Lessons!$A$2:$J$300,6,FALSE),"") | H6: =IFERROR(VLOOKUP(H$2&"-"&$A6,Lessons!$A$2:$J$300,6,FALSE),"")
A7: =Periods!A6 -> 4 | B7: =Periods!B6 -> 0.50694444 | C7: =Periods!D6 -> Science | D7: =IFERROR(VLOOKUP(D$2&"-"&$A7,Lessons!$A$2:$J$300,6,FALSE),"") -> What is energy? | E7: =IFERROR(VLOOKUP(E$2&"-"&$A7,Lessons!$A$2:$J$300,6,FALSE),"") -> Speed and energy | F7: =IFERROR(VLOOKUP(F$2&"-"&$A7,Lessons!$A$2:$J$300,6,FALSE),"") -> Ramp lab day 1 | G7: =IFERROR(VLOOKUP(G$2&"-"&$A7,Lessons!$A$2:$J$300,6,FALSE),"") -> Ramp lab day 2 | H7: =IFERROR(VLOOKUP(H$2&"-"&$A7,Lessons!$A$2:$J$300,6,FALSE),"") -> Energy in collisions
A8: =Periods!A7 -> 5 | B8: =Periods!B7 -> 0.54513889 | C8: =Periods!D7 -> Social Studies | D8: =IFERROR(VLOOKUP(D$2&"-"&$A8,Lessons!$A$2:$J$300,6,FALSE),"") -> The Northeast | E8: =IFERROR(VLOOKUP(E$2&"-"&$A8,Lessons!$A$2:$J$300,6,FALSE),"") -> Northeast resources | F8: =IFERROR(VLOOKUP(F$2&"-"&$A8,Lessons!$A$2:$J$300,6,FALSE),"") -> The Southeast | G8: =IFERROR(VLOOKUP(G$2&"-"&$A8,Lessons!$A$2:$J$300,6,FALSE),"") -> Southeast map work | H8: =IFERROR(VLOOKUP(H$2&"-"&$A8,Lessons!$A$2:$J$300,6,FALSE),"") -> Region postcard
A9: Notes | D9: Bus duty 7:45 | E9: Staff meeting 3:30 | F9: Library day | G9: Fire drill 10:00 | H9: Spirit day, wear school colors

Sheet Lessons
A1: Key | B1: Date | C1: Period | D1: Class | E1: Unit | F1: Lesson topic | G1: Objective | H1: Materials | I1: Homework | J1: Taught
A2: =IF(ISNUMBER(B2),B2&"-"&C2,"") -> 46307-1 | B2: 46307 | C2: 1 | D2: =IFERROR(VLOOKUP(C2,Periods!$A$2:$D$20,4,FALSE),"") -> Reading | E2: Unit 3: Character and theme | F2: Character traits with evidence | G2: Name a trait and back it with two details | H2: Read-aloud book, trait chart | I2: Read 20 min | J2: TRUE
A3: =IF(ISNUMBER(B3),B3&"-"&C3,"") -> 46307-2 | B3: 46307 | C3: 2 | D3: =IFERROR(VLOOKUP(C3,Periods!$A$2:$D$20,4,FALSE),"") -> Writing | E3: Unit 2: Personal narrative | F3: Small moment ideas | G3: List three small moments worth writing | H3: Heart map | I3: Finish heart map | J3: TRUE
A4: =IF(ISNUMBER(B4),B4&"-"&C4,"") -> 46307-3 | B4: 46307 | C4: 3 | D4: =IFERROR(VLOOKUP(C4,Periods!$A$2:$D$20,4,FALSE),"") -> Math | E4: Unit 3: Multi-digit multiplication | F4: Multiply by 10s and 100s | G4: Use place value to multiply by multiples of 10 | H4: Base-ten blocks | I4: Page 84 | J4: TRUE
A5: =IF(ISNUMBER(B5),B5&"-"&C5,"") -> 46307-4 | B5: 46307 | C5: 4 | D5: =IFERROR(VLOOKUP(C5,Periods!$A$2:$D$20,4,FALSE),"") -> Science | E5: Unit 2: Energy and motion | F5: What is energy? | G5: Describe energy as the ability to cause change | H5: Video clip, journals | I5: None | J5: TRUE
A6: =IF(ISNUMBER(B6),B6&"-"&C6,"") -> 46307-5 | B6: 46307 | C6: 5 | D6: =IFERROR(VLOOKUP(C6,Periods!$A$2:$D$20,4,FALSE),"") -> Social Studies | E6: Unit 2: Regions of the US | F6: The Northeast | G6: Name states and key features | H6: Region map | I6: None | J6: TRUE
A7: =IF(ISNUMBER(B7),B7&"-"&C7,"") -> 46308-1 | B7: 46308 | C7: 1 | D7: =IFERROR(VLOOKUP(C7,Periods!$A$2:$D$20,4,FALSE),"") -> Reading | E7: Unit 3: Character and theme | F7: How characters change | G7: Compare a character at the start and end | H7: Novel ch. 6-7, T-chart | I7: Read 20 min | J7: TRUE
A8: =IF(ISNUMBER(B8),B8&"-"&C8,"") -> 46308-2 | B8: 46308 | C8: 2 | D8: =IFERROR(VLOOKUP(C8,Periods!$A$2:$D$20,4,FALSE),"") -> Writing | E8: Unit 2: Personal narrative | F8: Strong leads | G8: Write two possible leads | H8: Mentor text | I8: None | J8: TRUE
A9: =IF(ISNUMBER(B9),B9&"-"&C9,"") -> 46308-3 | B9: 46308 | C9: 3 | D9: =IFERROR(VLOOKUP(C9,Periods!$A$2:$D$20,4,FALSE),"") -> Math | E9: Unit 3: Multi-digit multiplication | F9: Area model, 2-digit by 1-digit | G9: Break a factor apart to multiply | H9: Grid paper | I9: Page 86 | J9: TRUE
A10: =IF(ISNUMBER(B10),B10&"-"&C10,"") -> 46308-4 | B10: 46308 | C10: 4 | D10: =IFERROR(VLOOKUP(C10,Periods!$A$2:$D$20,4,FALSE),"") -> Science | E10: Unit 2: Energy and motion | F10: Speed and energy | G10: Explain how speed relates to energy | H10: Ramps, toy cars | I10: None | J10: TRUE
A11: =IF(ISNUMBER(B11),B11&"-"&C11,"") -> 46308-5 | B11: 46308 | C11: 5 | D11: =IFERROR(VLOOKUP(C11,Periods!$A$2:$D$20,4,FALSE),"") -> Social Studies | E11: Unit 2: Regions of the US | F11: Northeast resources | G11: Link resources to jobs | H11: Textbook p. 52-55 | I11: None | J11: TRUE
A12: =IF(ISNUMBER(B12),B12&"-"&C12,"") -> 46309-1 | B12: 46309 | C12: 1 | D12: =IFERROR(VLOOKUP(C12,Periods!$A$2:$D$20,4,FALSE),"") -> Reading | E12: Unit 3: Character and theme | F12: Finding the theme | G12: State a theme in a full sentence | H12: Short story packet | I12: Read 20 min | J12: TRUE
A13: =IF(ISNUMBER(B13),B13&"-"&C13,"") -> 46309-2 | B13: 46309 | C13: 2 | D13: =IFERROR(VLOOKUP(C13,Periods!$A$2:$D$20,4,FALSE),"") -> Writing | E13: Unit 2: Personal narrative | F13: Show, don't tell | G13: Turn a telling sentence into a scene | H13: Anchor chart | I13: None | J13: TRUE
... A26: =IF(ISNUMBER(B26),B26&"-"&C26,"") -> 46311-5 | B26: 46311 | C26: 5 | D26: =IFERROR(VLOOKUP(C26,Periods!$A$2:$D$20,4,FALSE),"") -> Social Studies | E26: Unit 2: Regions of the US | F26: Region postcard | G26: Write a postcard from one region | H26: Postcard template | I26: None | J26: FALSE

Sheet Periods
A1: Period | B1: Starts | C1: Ends | D1: Class | E1: Room | F1: Minutes
A2: 1 | B2: 0.34375 | C2: 0.38541667 | D2: Reading | E2: Room 12 | F2: =ROUND((C2-B2)*1440,0) -> 60
A3: 2 | B3: 0.38888889 | C3: 0.42013889 | D3: Writing | E3: Room 12 | F3: =ROUND((C3-B3)*1440,0) -> 45
A4: 3 | B4: 0.42361111 | C4: 0.47222222 | D4: Math | E4: Room 12 | F4: =ROUND((C4-B4)*1440,0) -> 70
A5: Lunch | B5: 0.47569444 | C5: 0.50347222 | D5: Lunch and recess | E5: Cafeteria | F5: =ROUND((C5-B5)*1440,0) -> 40
A6: 4 | B6: 0.50694444 | C6: 0.54166667 | D6: Science | E6: Room 12 | F6: =ROUND((C6-B6)*1440,0) -> 50
A7: 5 | B7: 0.54513889 | C7: 0.57638889 | D7: Social Studies | E7: Room 12 | F7: =ROUND((C7-B7)*1440,0) -> 45

Sheet Pacing
A1: Class | B1: Unit | C1: Lessons in unit | D1: Planned | E1: Taught | F1: Still to teach | G1: Unit done
A2: Reading | B2: Unit 3: Character and theme | C2: 15 | D2: =COUNTIF(Lessons!$E$2:$E$66,B2) -> 5 | E2: =COUNTIFS(Lessons!$E$2:$E$66,B2,Lessons!$J$2:$J$66,TRUE) -> 3 | F2: =MAX(C2-E2,0) -> 12 | G2: =IFERROR(E2/C2,"") -> 0.2
A3: Writing | B3: Unit 2: Personal narrative | C3: 12 | D3: =COUNTIF(Lessons!$E$2:$E$66,B3) -> 5 | E3: =COUNTIFS(Lessons!$E$2:$E$66,B3,Lessons!$J$2:$J$66,TRUE) -> 3 | F3: =MAX(C3-E3,0) -> 9 | G3: =IFERROR(E3/C3,"") -> 0.25
A4: Math | B4: Unit 3: Multi-digit multiplication | C4: 18 | D4: =COUNTIF(Lessons!$E$2:$E$66,B4) -> 5 | E4: =COUNTIFS(Lessons!$E$2:$E$66,B4,Lessons!$J$2:$J$66,TRUE) -> 3 | F4: =MAX(C4-E4,0) -> 15 | G4: =IFERROR(E4/C4,"") -> 0.16666667
A5: Science | B5: Unit 2: Energy and motion | C5: 15 | D5: =COUNTIF(Lessons!$E$2:$E$66,B5) -> 5 | E5: =COUNTIFS(Lessons!$E$2:$E$66,B5,Lessons!$J$2:$J$66,TRUE) -> 3 | F5: =MAX(C5-E5,0) -> 12 | G5: =IFERROR(E5/C5,"") -> 0.2
A6: Social Studies | B6: Unit 2: Regions of the US | C6: 10 | D6: =COUNTIF(Lessons!$E$2:$E$66,B6) -> 5 | E6: =COUNTIFS(Lessons!$E$2:$E$66,B6,Lessons!$J$2:$J$66,TRUE) -> 3 | F6: =MAX(C6-E6,0) -> 7 | G6: =IFERROR(E6/C6,"") -> 0.3
