Workbook

Sheet Trip Log
B1: Trip Log | K1: rowsandcells.com
B2: Every drive logged, with business miles and value at your rate. | K2: Free template
B5: Date | C5: Purpose | D5: From | E5: To | F5: Type | G5: Odometer start | H5: Odometer end | I5: Or miles | J5: Miles | K5: Parking and tolls | L5: Mileage value | M5: Notes
B6: 46030 | C6: Client meeting, Bloom Florist | D6: Home office | E6: Bloom Florist, Elm St | F6: Business | G6: 38501 | H6: 38515 | J6: =IF(AND(ISNUMBER(G6),ISNUMBER(H6)),H6-G6,IF(ISNUMBER(I6),I6,"")) -> 14 | L6: =IF(AND(F6="Business",ISNUMBER(J6)),ROUND(J6*Summary!$C$8,2),"") -> 9.8
B7: 46037 | C7: Headshots, Carver Law | D7: Home office | E7: Carver Law, downtown | F7: Business | G7: 38574 | H7: 38596 | J7: =IF(AND(ISNUMBER(G7),ISNUMBER(H7)),H7-G7,IF(ISNUMBER(I7),I7,"")) -> 22 | K7: 9 | L7: =IF(AND(F7="Business",ISNUMBER(J7)),ROUND(J7*Summary!$C$8,2),"") -> 15.4 | M7: Garage downtown
B8: 46046 | C8: Weekend visit to Mom | D8: Home | E8: Portland | F8: Personal | G8: 38686 | H8: 38872 | J8: =IF(AND(ISNUMBER(G8),ISNUMBER(H8)),H8-G8,IF(ISNUMBER(I8),I8,"")) -> 186 | L8: =IF(AND(F8="Business",ISNUMBER(J8)),ROUND(J8*Summary!$C$8,2),"")
B9: 46056 | C9: Print lab pickup | D9: Home office | E9: Pro Print Lab | F9: Business | I9: 11 | J9: =IF(AND(ISNUMBER(G9),ISNUMBER(H9)),H9-G9,IF(ISNUMBER(I9),I9,"")) -> 11 | L9: =IF(AND(F9="Business",ISNUMBER(J9)),ROUND(J9*Summary!$C$8,2),"") -> 7.7
B10: 46065 | C10: Venue walkthrough, Cedar Barn | D10: Home office | E10: Cedar Barn, Route 9 | F10: Business | G10: 39052 | H10: 39100 | J10: =IF(AND(ISNUMBER(G10),ISNUMBER(H10)),H10-G10,IF(ISNUMBER(I10),I10,"")) -> 48 | L10: =IF(AND(F10="Business",ISNUMBER(J10)),ROUND(J10*Summary!$C$8,2),"") -> 33.6 | M10: Round trip
B11: 46079 | C11: Bank deposit | D11: Home office | E11: First Valley Bank | F11: Business | I11: 6 | J11: =IF(AND(ISNUMBER(G11),ISNUMBER(H11)),H11-G11,IF(ISNUMBER(I11),I11,"")) -> 6 | L11: =IF(AND(F11="Business",ISNUMBER(J11)),ROUND(J11*Summary!$C$8,2),"") -> 4.2
B12: 46088 | C12: Engagement shoot, Lin and Ortiz | D12: Home office | E12: Riverside Park | F12: Business | G12: 39300 | H12: 39318 | J12: =IF(AND(ISNUMBER(G12),ISNUMBER(H12)),H12-G12,IF(ISNUMBER(I12),I12,"")) -> 18 | K12: 5 | L12: =IF(AND(F12="Business",ISNUMBER(J12)),ROUND(J12*Summary!$C$8,2),"") -> 12.6
B13: 46100 | C13: Camera repair drop-off | D13: Home office | E13: Lens and Light Repair | F13: Business | G13: 39426 | H13: 39457 | J13: =IF(AND(ISNUMBER(G13),ISNUMBER(H13)),H13-G13,IF(ISNUMBER(I13),I13,"")) -> 31 | L13: =IF(AND(F13="Business",ISNUMBER(J13)),ROUND(J13*Summary!$C$8,2),"") -> 21.7
B14: 46109 | C14: Grocery run | D14: Home | E14: Market Basket | F14: Personal | I14: 9 | J14: =IF(AND(ISNUMBER(G14),ISNUMBER(H14)),H14-G14,IF(ISNUMBER(I14),I14,"")) -> 9 | L14: =IF(AND(F14="Business",ISNUMBER(J14)),ROUND(J14*Summary!$C$8,2),"")
B15: 46121 | C15: Product shoot, Hearth Bakery | D15: Home office | E15: Hearth Bakery | F15: Business | G15: 39604 | H15: 39620 | J15: =IF(AND(ISNUMBER(G15),ISNUMBER(H15)),H15-G15,IF(ISNUMBER(I15),I15,"")) -> 16 | L15: =IF(AND(F15="Business",ISNUMBER(J15)),ROUND(J15*Summary!$C$8,2),"") -> 11.2
B16: 46134 | C16: Client meeting, Summit Realty | D16: Home office | E16: Summit Realty office | F16: Business | G16: 39734 | H16: 39761 | J16: =IF(AND(ISNUMBER(G16),ISNUMBER(H16)),H16-G16,IF(ISNUMBER(I16),I16,"")) -> 27 | L16: =IF(AND(F16="Business",ISNUMBER(J16)),ROUND(J16*Summary!$C$8,2),"") -> 18.9
B17: 46144 | C17: Wedding, Patel and Moore | D17: Home office | E17: Lakeview Inn | F17: Business | G17: 39808 | H17: 39872 | J17: =IF(AND(ISNUMBER(G17),ISNUMBER(H17)),H17-G17,IF(ISNUMBER(I17),I17,"")) -> 64 | K17: 12 | L17: =IF(AND(F17="Business",ISNUMBER(J17)),ROUND(J17*Summary!$C$8,2),"") -> 44.8 | M17: Round trip, valet
B18: 46156 | C18: Print lab pickup | D18: Home office | E18: Pro Print Lab | F18: Business | I18: 11 | J18: =IF(AND(ISNUMBER(G18),ISNUMBER(H18)),H18-G18,IF(ISNUMBER(I18),I18,"")) -> 11 | L18: =IF(AND(F18="Business",ISNUMBER(J18)),ROUND(J18*Summary!$C$8,2),"") -> 7.7
B19: 46167 | C19: Memorial Day trip | D19: Home | E19: Bar Harbor | F19: Personal | G19: 40143 | H19: 40385 | J19: =IF(AND(ISNUMBER(G19),ISNUMBER(H19)),H19-G19,IF(ISNUMBER(I19),I19,"")) -> 242 | L19: =IF(AND(F19="Business",ISNUMBER(J19)),ROUND(J19*Summary!$C$8,2),"")
B20: 46179 | C20: Wedding, Nguyen and Hale | D20: Home office | E20: Cedar Barn, Route 9 | F20: Business | G20: 40452 | H20: 40500 | J20: =IF(AND(ISNUMBER(G20),ISNUMBER(H20)),H20-G20,IF(ISNUMBER(I20),I20,"")) -> 48 | L20: =IF(AND(F20="Business",ISNUMBER(J20)),ROUND(J20*Summary!$C$8,2),"") -> 33.6 | M20: Round trip
B21: 46191 | C21: Equipment rental return | D21: Home office | E21: Camera Rental Co | F21: Business | G21: 40544 | H21: 40578 | J21: =IF(AND(ISNUMBER(G21),ISNUMBER(H21)),H21-G21,IF(ISNUMBER(I21),I21,"")) -> 34 | L21: =IF(AND(F21="Business",ISNUMBER(J21)),ROUND(J21*Summary!$C$8,2),"") -> 23.8
B22: 46200 | C22: School pickup and errands | D22: Home | E22: Town center | F22: Personal | I22: 13 | J22: =IF(AND(ISNUMBER(G22),ISNUMBER(H22)),H22-G22,IF(ISNUMBER(I22),I22,"")) -> 13 | L22: =IF(AND(F22="Business",ISNUMBER(J22)),ROUND(J22*Summary!$C$8,2),"")
B23: 46214 | C23: Real estate shoot, 14 Oak Ln | D23: Home office | E23: 14 Oak Lane | F23: Business | G23: 40737 | H23: 40758 | J23: =IF(AND(ISNUMBER(G23),ISNUMBER(H23)),H23-G23,IF(ISNUMBER(I23),I23,"")) -> 21 | L23: =IF(AND(F23="Business",ISNUMBER(J23)),ROUND(J23*Summary!$C$8,2),"") -> 14.7
B24: 46222 | C24: Wedding, Brooks and Kim | D24: Home office | E24: Harbor Yacht Club | F24: Business | G24: 40851 | H24: 40908 | J24: =IF(AND(ISNUMBER(G24),ISNUMBER(H24)),H24-G24,IF(ISNUMBER(I24),I24,"")) -> 57 | K24: 15 | L24: =IF(AND(F24="Business",ISNUMBER(J24)),ROUND(J24*Summary!$C$8,2),"") -> 39.9 | M24: Round trip, lot fee
B25: 46233 | C25: Office supply run | D25: Home office | E25: Staples, Mill Rd | F25: Business | I25: 8 | J25: =IF(AND(ISNUMBER(G25),ISNUMBER(H25)),H25-G25,IF(ISNUMBER(I25),I25,"")) -> 8 | L25: =IF(AND(F25="Business",ISNUMBER(J25)),ROUND(J25*Summary!$C$8,2),"") -> 5.6
B26: 46242 | C26: Family reunion | D26: Home | E26: Burlington | F26: Personal | G26: 41034 | H26: 41248 | J26: =IF(AND(ISNUMBER(G26),ISNUMBER(H26)),H26-G26,IF(ISNUMBER(I26),I26,"")) -> 214 | L26: =IF(AND(F26="Business",ISNUMBER(J26)),ROUND(J26*Summary!$C$8,2),"")
B27: 46250 | C27: Headshots, Summit Realty | D27: Home office | E27: Summit Realty office | F27: Business | G27: 41299 | H27: 41326 | J27: =IF(AND(ISNUMBER(G27),ISNUMBER(H27)),H27-G27,IF(ISNUMBER(I27),I27,"")) -> 27 | L27: =IF(AND(F27="Business",ISNUMBER(J27)),ROUND(J27*Summary!$C$8,2),"") -> 18.9
B28: 46262 | C28: Client meeting, Hearth Bakery | D28: Home office | E28: Hearth Bakery | F28: Business | G28: 41436 | H28: 41452 | J28: =IF(AND(ISNUMBER(G28),ISNUMBER(H28)),H28-G28,IF(ISNUMBER(I28),I28,"")) -> 16 | L28: =IF(AND(F28="Business",ISNUMBER(J28)),ROUND(J28*Summary!$C$8,2),"") -> 11.2
B29: 46270 | C29: Wedding, Alvarez and Price | D29: Home office | E29: Lakeview Inn | F29: Business | G29: 41546 | H29: 41610 | J29: =IF(AND(ISNUMBER(G29),ISNUMBER(H29)),H29-G29,IF(ISNUMBER(I29),I29,"")) -> 64 | K29: 12 | L29: =IF(AND(F29="Business",ISNUMBER(J29)),ROUND(J29*Summary!$C$8,2),"") -> 44.8 | M29: Round trip, valet
B30: 46277 | C30: Print lab pickup | D30: Home office | E30: Pro Print Lab | F30: Business | I30: 11 | J30: =IF(AND(ISNUMBER(G30),ISNUMBER(H30)),H30-G30,IF(ISNUMBER(I30),I30,"")) -> 11 | L30: =IF(AND(F30="Business",ISNUMBER(J30)),ROUND(J30*Summary!$C$8,2),"") -> 7.7
B31: 46283 | C31: Venue walkthrough, Mill House | D31: Home office | E31: The Mill House | F31: Business | G31: 41813 | H31: 41851 | J31: =IF(AND(ISNUMBER(G31),ISNUMBER(H31)),H31-G31,IF(ISNUMBER(I31),I31,"")) -> 38 | L31: =IF(AND(F31="Business",ISNUMBER(J31)),ROUND(J31*Summary!$C$8,2),"") -> 26.6
B32: 46289 | C32: Real estate shoot, 9 Birch Ct | D32: Home office | E32: 9 Birch Court | F32: Business | G32: 41963 | H32: 41982 | J32: =IF(AND(ISNUMBER(G32),ISNUMBER(H32)),H32-G32,IF(ISNUMBER(I32),I32,"")) -> 19 | L32: =IF(AND(F32="Business",ISNUMBER(J32)),ROUND(J32*Summary!$C$8,2),"") -> 13.3
B33: 46292 | C33: Apple picking | D33: Home | E33: Hill Orchard | F33: Personal | I33: 26 | J33: =IF(AND(ISNUMBER(G33),ISNUMBER(H33)),H33-G33,IF(ISNUMBER(I33),I33,"")) -> 26 | L33: =IF(AND(F33="Business",ISNUMBER(J33)),ROUND(J33*Summary!$C$8,2),"")
B34: 46298 | C34: Wedding, Shah and Duarte | D34: Home office | E34: Harbor Yacht Club | F34: Business | G34: 42131 | H34: 42188 | J34: =IF(AND(ISNUMBER(G34),ISNUMBER(H34)),H34-G34,IF(ISNUMBER(I34),I34,"")) -> 57 | K34: 15 | L34: =IF(AND(F34="Business",ISNUMBER(J34)),ROUND(J34*Summary!$C$8,2),"") -> 39.9 | M34: Round trip, lot fee
B35: 46302 | C35: Bank deposit | D35: Home office | E35: First Valley Bank | F35: Business | I35: 6 | J35: =IF(AND(ISNUMBER(G35),ISNUMBER(H35)),H35-G35,IF(ISNUMBER(I35),I35,"")) -> 6 | L35: =IF(AND(F35="Business",ISNUMBER(J35)),ROUND(J35*Summary!$C$8,2),"") -> 4.2
B36: 46305 | C36: Fall mini sessions | D36: Home office | E36: Riverside Park | F36: Business | G36: 42434 | H36: 42452 | J36: =IF(AND(ISNUMBER(G36),ISNUMBER(H36)),H36-G36,IF(ISNUMBER(I36),I36,"")) -> 18 | K36: 5 | L36: =IF(AND(F36="Business",ISNUMBER(J36)),ROUND(J36*Summary!$C$8,2),"") -> 12.6
B37: 46309 | C37: Client meeting, Carver Law | D37: Home office | E37: Carver Law, downtown | F37: Business | G37: 42566 | H37: 42588 | J37: =IF(AND(ISNUMBER(G37),ISNUMBER(H37)),H37-G37,IF(ISNUMBER(I37),I37,"")) -> 22 | K37: 9 | L37: =IF(AND(F37="Business",ISNUMBER(J37)),ROUND(J37*Summary!$C$8,2),"") -> 15.4 | M37: Garage downtown
B38: 46311 | C38: Dentist | D38: Home | E38: Bright Smile Dental | F38: Personal | I38: 12 | J38: =IF(AND(ISNUMBER(G38),ISNUMBER(H38)),H38-G38,IF(ISNUMBER(I38),I38,"")) -> 12 | L38: =IF(AND(F38="Business",ISNUMBER(J38)),ROUND(J38*Summary!$C$8,2),"")
J39: =IF(AND(ISNUMBER(G39),ISNUMBER(H39)),H39-G39,IF(ISNUMBER(I39),I39,"")) | L39: =IF(AND(F39="Business",ISNUMBER(J39)),ROUND(J39*Summary!$C$8,2),"")
J40: =IF(AND(ISNUMBER(G40),ISNUMBER(H40)),H40-G40,IF(ISNUMBER(I40),I40,"")) | L40: =IF(AND(F40="Business",ISNUMBER(J40)),ROUND(J40*Summary!$C$8,2),"")
J41: =IF(AND(ISNUMBER(G41),ISNUMBER(H41)),H41-G41,IF(ISNUMBER(I41),I41,"")) | L41: =IF(AND(F41="Business",ISNUMBER(J41)),ROUND(J41*Summary!$C$8,2),"")
J42: =IF(AND(ISNUMBER(G42),ISNUMBER(H42)),H42-G42,IF(ISNUMBER(I42),I42,"")) | L42: =IF(AND(F42="Business",ISNUMBER(J42)),ROUND(J42*Summary!$C$8,2),"")
J43: =IF(AND(ISNUMBER(G43),ISNUMBER(H43)),H43-G43,IF(ISNUMBER(I43),I43,"")) | L43: =IF(AND(F43="Business",ISNUMBER(J43)),ROUND(J43*Summary!$C$8,2),"")
J44: =IF(AND(ISNUMBER(G44),ISNUMBER(H44)),H44-G44,IF(ISNUMBER(I44),I44,"")) | L44: =IF(AND(F44="Business",ISNUMBER(J44)),ROUND(J44*Summary!$C$8,2),"")
J45: =IF(AND(ISNUMBER(G45),ISNUMBER(H45)),H45-G45,IF(ISNUMBER(I45),I45,"")) | L45: =IF(AND(F45="Business",ISNUMBER(J45)),ROUND(J45*Summary!$C$8,2),"")
J46: =IF(AND(ISNUMBER(G46),ISNUMBER(H46)),H46-G46,IF(ISNUMBER(I46),I46,"")) | L46: =IF(AND(F46="Business",ISNUMBER(J46)),ROUND(J46*Summary!$C$8,2),"")
J47: =IF(AND(ISNUMBER(G47),ISNUMBER(H47)),H47-G47,IF(ISNUMBER(I47),I47,"")) | L47: =IF(AND(F47="Business",ISNUMBER(J47)),ROUND(J47*Summary!$C$8,2),"")
J48: =IF(AND(ISNUMBER(G48),ISNUMBER(H48)),H48-G48,IF(ISNUMBER(I48),I48,"")) | L48: =IF(AND(F48="Business",ISNUMBER(J48)),ROUND(J48*Summary!$C$8,2),"")
J49: =IF(AND(ISNUMBER(G49),ISNUMBER(H49)),H49-G49,IF(ISNUMBER(I49),I49,"")) | L49: =IF(AND(F49="Business",ISNUMBER(J49)),ROUND(J49*Summary!$C$8,2),"")
J50: =IF(AND(ISNUMBER(G50),ISNUMBER(H50)),H50-G50,IF(ISNUMBER(I50),I50,"")) | L50: =IF(AND(F50="Business",ISNUMBER(J50)),ROUND(J50*Summary!$C$8,2),"")
... J55: =IF(AND(ISNUMBER(G55),ISNUMBER(H55)),H55-G55,IF(ISNUMBER(I55),I55,"")) | L55: =IF(AND(F55="Business",ISNUMBER(J55)),ROUND(J55*Summary!$C$8,2),"")

Sheet Summary
B1: Summary | D1: rowsandcells.com
B2: Type in the cream cells. Shaded cells are formulas and fill in on their own. | D2: Free template
B5: Item | C5: Value
B6: Name or business | C6: Dana Ruiz Photography
B7: Vehicle | C7: 2021 Toyota RAV4
B8: Rate per mile (example, use your own) | C8: 0.7
B9: Log year starts | C9: =DATE(2026,1,1) -> 46023
B10: Log year ends | C10: =DATE(YEAR(C9),12,31) -> 46387
B11: Trips logged | C11: =COUNTIFS('Trip Log'!$B$6:$B$304,">="&$C$9,'Trip Log'!$B$6:$B$304,"<="&$C$10) -> 33
B12: Business trips | C12: =COUNTIFS('Trip Log'!$F$6:$F$304,"Business",'Trip Log'!$B$6:$B$304,">="&$C$9,'Trip Log'!$B$6:$B$304,"<="&$C$10) -> 26
B13: Total miles logged | C13: =SUMIFS('Trip Log'!$J$6:$J$304,'Trip Log'!$B$6:$B$304,">="&$C$9,'Trip Log'!$B$6:$B$304,"<="&$C$10) -> 1416
B14: Business miles | C14: =SUMIFS('Trip Log'!$J$6:$J$304,'Trip Log'!$F$6:$F$304,"Business",'Trip Log'!$B$6:$B$304,">="&$C$9,'Trip Log'!$B$6:$B$304,"<="&$C$10) -> 714
B15: Personal miles | C15: =SUMIFS('Trip Log'!$J$6:$J$304,'Trip Log'!$F$6:$F$304,"Personal",'Trip Log'!$B$6:$B$304,">="&$C$9,'Trip Log'!$B$6:$B$304,"<="&$C$10) -> 702
B16: Business share of logged miles | C16: =IF(C13>0,C14/C13,0) -> 0.50423729
B17: Mileage value (business miles x rate) | C17: =ROUND(C14*C8,2) -> 499.8
B18: Business parking and tolls | C18: =SUMIFS('Trip Log'!$K$6:$K$304,'Trip Log'!$F$6:$F$304,"Business",'Trip Log'!$B$6:$B$304,">="&$C$9,'Trip Log'!$B$6:$B$304,"<="&$C$10) -> 82
B19: Mileage value plus parking and tolls | C19: =C17+C18 -> 581.8
B20: Highest odometer reading | C20: =MAX('Trip Log'!$H$6:$H$304) -> 42588

Sheet Monthly
B1: Monthly | E1: rowsandcells.com
B2: Worked out from your other tabs. Shaded cells are formulas: nothing to type here. | E2: Free template
B5: Month | C5: Trips | D5: Business miles | E5: Personal miles | F5: Mileage value | G5: Parking and tolls
B6: =Summary!$C$9 -> 46023 | C6: =COUNTIFS('Trip Log'!$B$6:$B$304,">="&B6,'Trip Log'!$B$6:$B$304,"<"&DATE(YEAR(B6),MONTH(B6)+1,1)) -> 3 | D6: =SUMIFS('Trip Log'!$J$6:$J$304,'Trip Log'!$F$6:$F$304,"Business",'Trip Log'!$B$6:$B$304,">="&B6,'Trip Log'!$B$6:$B$304,"<"&DATE(YEAR(B6),MONTH(B6)+1,1)) -> 36 | E6: =SUMIFS('Trip Log'!$J$6:$J$304,'Trip Log'!$F$6:$F$304,"Personal",'Trip Log'!$B$6:$B$304,">="&B6,'Trip Log'!$B$6:$B$304,"<"&DATE(YEAR(B6),MONTH(B6)+1,1)) -> 186 | F6: =SUMIFS('Trip Log'!$L$6:$L$304,'Trip Log'!$B$6:$B$304,">="&B6,'Trip Log'!$B$6:$B$304,"<"&DATE(YEAR(B6),MONTH(B6)+1,1)) -> 25.2 | G6: =SUMIFS('Trip Log'!$K$6:$K$304,'Trip Log'!$F$6:$F$304,"Business",'Trip Log'!$B$6:$B$304,">="&B6,'Trip Log'!$B$6:$B$304,"<"&DATE(YEAR(B6),MONTH(B6)+1,1)) -> 9
B7: =DATE(YEAR(B6),MONTH(B6)+1,1) -> 46054 | C7: =COUNTIFS('Trip Log'!$B$6:$B$304,">="&B7,'Trip Log'!$B$6:$B$304,"<"&DATE(YEAR(B7),MONTH(B7)+1,1)) -> 3 | D7: =SUMIFS('Trip Log'!$J$6:$J$304,'Trip Log'!$F$6:$F$304,"Business",'Trip Log'!$B$6:$B$304,">="&B7,'Trip Log'!$B$6:$B$304,"<"&DATE(YEAR(B7),MONTH(B7)+1,1)) -> 65 | E7: =SUMIFS('Trip Log'!$J$6:$J$304,'Trip Log'!$F$6:$F$304,"Personal",'Trip Log'!$B$6:$B$304,">="&B7,'Trip Log'!$B$6:$B$304,"<"&DATE(YEAR(B7),MONTH(B7)+1,1)) -> 0 | F7: =SUMIFS('Trip Log'!$L$6:$L$304,'Trip Log'!$B$6:$B$304,">="&B7,'Trip Log'!$B$6:$B$304,"<"&DATE(YEAR(B7),MONTH(B7)+1,1)) -> 45.5 | G7: =SUMIFS('Trip Log'!$K$6:$K$304,'Trip Log'!$F$6:$F$304,"Business",'Trip Log'!$B$6:$B$304,">="&B7,'Trip Log'!$B$6:$B$304,"<"&DATE(YEAR(B7),MONTH(B7)+1,1)) -> 0
B8: =DATE(YEAR(B7),MONTH(B7)+1,1) -> 46082 | C8: =COUNTIFS('Trip Log'!$B$6:$B$304,">="&B8,'Trip Log'!$B$6:$B$304,"<"&DATE(YEAR(B8),MONTH(B8)+1,1)) -> 3 | D8: =SUMIFS('Trip Log'!$J$6:$J$304,'Trip Log'!$F$6:$F$304,"Business",'Trip Log'!$B$6:$B$304,">="&B8,'Trip Log'!$B$6:$B$304,"<"&DATE(YEAR(B8),MONTH(B8)+1,1)) -> 49 | E8: =SUMIFS('Trip Log'!$J$6:$J$304,'Trip Log'!$F$6:$F$304,"Personal",'Trip Log'!$B$6:$B$304,">="&B8,'Trip Log'!$B$6:$B$304,"<"&DATE(YEAR(B8),MONTH(B8)+1,1)) -> 9 | F8: =SUMIFS('Trip Log'!$L$6:$L$304,'Trip Log'!$B$6:$B$304,">="&B8,'Trip Log'!$B$6:$B$304,"<"&DATE(YEAR(B8),MONTH(B8)+1,1)) -> 34.3 | G8: =SUMIFS('Trip Log'!$K$6:$K$304,'Trip Log'!$F$6:$F$304,"Business",'Trip Log'!$B$6:$B$304,">="&B8,'Trip Log'!$B$6:$B$304,"<"&DATE(YEAR(B8),MONTH(B8)+1,1)) -> 5
B9: =DATE(YEAR(B8),MONTH(B8)+1,1) -> 46113 | C9: =COUNTIFS('Trip Log'!$B$6:$B$304,">="&B9,'Trip Log'!$B$6:$B$304,"<"&DATE(YEAR(B9),MONTH(B9)+1,1)) -> 2 | D9: =SUMIFS('Trip Log'!$J$6:$J$304,'Trip Log'!$F$6:$F$304,"Business",'Trip Log'!$B$6:$B$304,">="&B9,'Trip Log'!$B$6:$B$304,"<"&DATE(YEAR(B9),MONTH(B9)+1,1)) -> 43 | E9: =SUMIFS('Trip Log'!$J$6:$J$304,'Trip Log'!$F$6:$F$304,"Personal",'Trip Log'!$B$6:$B$304,">="&B9,'Trip Log'!$B$6:$B$304,"<"&DATE(YEAR(B9),MONTH(B9)+1,1)) -> 0 | F9: =SUMIFS('Trip Log'!$L$6:$L$304,'Trip Log'!$B$6:$B$304,">="&B9,'Trip Log'!$B$6:$B$304,"<"&DATE(YEAR(B9),MONTH(B9)+1,1)) -> 30.1 | G9: =SUMIFS('Trip Log'!$K$6:$K$304,'Trip Log'!$F$6:$F$304,"Business",'Trip Log'!$B$6:$B$304,">="&B9,'Trip Log'!$B$6:$B$304,"<"&DATE(YEAR(B9),MONTH(B9)+1,1)) -> 0
B10: =DATE(YEAR(B9),MONTH(B9)+1,1) -> 46143 | C10: =COUNTIFS('Trip Log'!$B$6:$B$304,">="&B10,'Trip Log'!$B$6:$B$304,"<"&DATE(YEAR(B10),MONTH(B10)+1,1)) -> 3 | D10: =SUMIFS('Trip Log'!$J$6:$J$304,'Trip Log'!$F$6:$F$304,"Business",'Trip Log'!$B$6:$B$304,">="&B10,'Trip Log'!$B$6:$B$304,"<"&DATE(YEAR(B10),MONTH(B10)+1,1)) -> 75 | E10: =SUMIFS('Trip Log'!$J$6:$J$304,'Trip Log'!$F$6:$F$304,"Personal",'Trip Log'!$B$6:$B$304,">="&B10,'Trip Log'!$B$6:$B$304,"<"&DATE(YEAR(B10),MONTH(B10)+1,1)) -> 242 | F10: =SUMIFS('Trip Log'!$L$6:$L$304,'Trip Log'!$B$6:$B$304,">="&B10,'Trip Log'!$B$6:$B$304,"<"&DATE(YEAR(B10),MONTH(B10)+1,1)) -> 52.5 | G10: =SUMIFS('Trip Log'!$K$6:$K$304,'Trip Log'!$F$6:$F$304,"Business",'Trip Log'!$B$6:$B$304,">="&B10,'Trip Log'!$B$6:$B$304,"<"&DATE(YEAR(B10),MONTH(B10)+1,1)) -> 12
B11: =DATE(YEAR(B10),MONTH(B10)+1,1) -> 46174 | C11: =COUNTIFS('Trip Log'!$B$6:$B$304,">="&B11,'Trip Log'!$B$6:$B$304,"<"&DATE(YEAR(B11),MONTH(B11)+1,1)) -> 3 | D11: =SUMIFS('Trip Log'!$J$6:$J$304,'Trip Log'!$F$6:$F$304,"Business",'Trip Log'!$B$6:$B$304,">="&B11,'Trip Log'!$B$6:$B$304,"<"&DATE(YEAR(B11),MONTH(B11)+1,1)) -> 82 | E11: =SUMIFS('Trip Log'!$J$6:$J$304,'Trip Log'!$F$6:$F$304,"Personal",'Trip Log'!$B$6:$B$304,">="&B11,'Trip Log'!$B$6:$B$304,"<"&DATE(YEAR(B11),MONTH(B11)+1,1)) -> 13 | F11: =SUMIFS('Trip Log'!$L$6:$L$304,'Trip Log'!$B$6:$B$304,">="&B11,'Trip Log'!$B$6:$B$304,"<"&DATE(YEAR(B11),MONTH(B11)+1,1)) -> 57.4 | G11: =SUMIFS('Trip Log'!$K$6:$K$304,'Trip Log'!$F$6:$F$304,"Business",'Trip Log'!$B$6:$B$304,">="&B11,'Trip Log'!$B$6:$B$304,"<"&DATE(YEAR(B11),MONTH(B11)+1,1)) -> 0
B12: =DATE(YEAR(B11),MONTH(B11)+1,1) -> 46204 | C12: =COUNTIFS('Trip Log'!$B$6:$B$304,">="&B12,'Trip Log'!$B$6:$B$304,"<"&DATE(YEAR(B12),MONTH(B12)+1,1)) -> 3 | D12: =SUMIFS('Trip Log'!$J$6:$J$304,'Trip Log'!$F$6:$F$304,"Business",'Trip Log'!$B$6:$B$304,">="&B12,'Trip Log'!$B$6:$B$304,"<"&DATE(YEAR(B12),MONTH(B12)+1,1)) -> 86 | E12: =SUMIFS('Trip Log'!$J$6:$J$304,'Trip Log'!$F$6:$F$304,"Personal",'Trip Log'!$B$6:$B$304,">="&B12,'Trip Log'!$B$6:$B$304,"<"&DATE(YEAR(B12),MONTH(B12)+1,1)) -> 0 | F12: =SUMIFS('Trip Log'!$L$6:$L$304,'Trip Log'!$B$6:$B$304,">="&B12,'Trip Log'!$B$6:$B$304,"<"&DATE(YEAR(B12),MONTH(B12)+1,1)) -> 60.2 | G12: =SUMIFS('Trip Log'!$K$6:$K$304,'Trip Log'!$F$6:$F$304,"Business",'Trip Log'!$B$6:$B$304,">="&B12,'Trip Log'!$B$6:$B$304,"<"&DATE(YEAR(B12),MONTH(B12)+1,1)) -> 15
B13: =DATE(YEAR(B12),MONTH(B12)+1,1) -> 46235 | C13: =COUNTIFS('Trip Log'!$B$6:$B$304,">="&B13,'Trip Log'!$B$6:$B$304,"<"&DATE(YEAR(B13),MONTH(B13)+1,1)) -> 3 | D13: =SUMIFS('Trip Log'!$J$6:$J$304,'Trip Log'!$F$6:$F$304,"Business",'Trip Log'!$B$6:$B$304,">="&B13,'Trip Log'!$B$6:$B$304,"<"&DATE(YEAR(B13),MONTH(B13)+1,1)) -> 43 | E13: =SUMIFS('Trip Log'!$J$6:$J$304,'Trip Log'!$F$6:$F$304,"Personal",'Trip Log'!$B$6:$B$304,">="&B13,'Trip Log'!$B$6:$B$304,"<"&DATE(YEAR(B13),MONTH(B13)+1,1)) -> 214 | F13: =SUMIFS('Trip Log'!$L$6:$L$304,'Trip Log'!$B$6:$B$304,">="&B13,'Trip Log'!$B$6:$B$304,"<"&DATE(YEAR(B13),MONTH(B13)+1,1)) -> 30.1 | G13: =SUMIFS('Trip Log'!$K$6:$K$304,'Trip Log'!$F$6:$F$304,"Business",'Trip Log'!$B$6:$B$304,">="&B13,'Trip Log'!$B$6:$B$304,"<"&DATE(YEAR(B13),MONTH(B13)+1,1)) -> 0
B14: =DATE(YEAR(B13),MONTH(B13)+1,1) -> 46266 | C14: =COUNTIFS('Trip Log'!$B$6:$B$304,">="&B14,'Trip Log'!$B$6:$B$304,"<"&DATE(YEAR(B14),MONTH(B14)+1,1)) -> 5 | D14: =SUMIFS('Trip Log'!$J$6:$J$304,'Trip Log'!$F$6:$F$304,"Business",'Trip Log'!$B$6:$B$304,">="&B14,'Trip Log'!$B$6:$B$304,"<"&DATE(YEAR(B14),MONTH(B14)+1,1)) -> 132 | E14: =SUMIFS('Trip Log'!$J$6:$J$304,'Trip Log'!$F$6:$F$304,"Personal",'Trip Log'!$B$6:$B$304,">="&B14,'Trip Log'!$B$6:$B$304,"<"&DATE(YEAR(B14),MONTH(B14)+1,1)) -> 26 | F14: =SUMIFS('Trip Log'!$L$6:$L$304,'Trip Log'!$B$6:$B$304,">="&B14,'Trip Log'!$B$6:$B$304,"<"&DATE(YEAR(B14),MONTH(B14)+1,1)) -> 92.4 | G14: =SUMIFS('Trip Log'!$K$6:$K$304,'Trip Log'!$F$6:$F$304,"Business",'Trip Log'!$B$6:$B$304,">="&B14,'Trip Log'!$B$6:$B$304,"<"&DATE(YEAR(B14),MONTH(B14)+1,1)) -> 12
B15: =DATE(YEAR(B14),MONTH(B14)+1,1) -> 46296 | C15: =COUNTIFS('Trip Log'!$B$6:$B$304,">="&B15,'Trip Log'!$B$6:$B$304,"<"&DATE(YEAR(B15),MONTH(B15)+1,1)) -> 5 | D15: =SUMIFS('Trip Log'!$J$6:$J$304,'Trip Log'!$F$6:$F$304,"Business",'Trip Log'!$B$6:$B$304,">="&B15,'Trip Log'!$B$6:$B$304,"<"&DATE(YEAR(B15),MONTH(B15)+1,1)) -> 103 | E15: =SUMIFS('Trip Log'!$J$6:$J$304,'Trip Log'!$F$6:$F$304,"Personal",'Trip Log'!$B$6:$B$304,">="&B15,'Trip Log'!$B$6:$B$304,"<"&DATE(YEAR(B15),MONTH(B15)+1,1)) -> 12 | F15: =SUMIFS('Trip Log'!$L$6:$L$304,'Trip Log'!$B$6:$B$304,">="&B15,'Trip Log'!$B$6:$B$304,"<"&DATE(YEAR(B15),MONTH(B15)+1,1)) -> 72.1 | G15: =SUMIFS('Trip Log'!$K$6:$K$304,'Trip Log'!$F$6:$F$304,"Business",'Trip Log'!$B$6:$B$304,">="&B15,'Trip Log'!$B$6:$B$304,"<"&DATE(YEAR(B15),MONTH(B15)+1,1)) -> 29
B16: =DATE(YEAR(B15),MONTH(B15)+1,1) -> 46327 | C16: =COUNTIFS('Trip Log'!$B$6:$B$304,">="&B16,'Trip Log'!$B$6:$B$304,"<"&DATE(YEAR(B16),MONTH(B16)+1,1)) -> 0 | D16: =SUMIFS('Trip Log'!$J$6:$J$304,'Trip Log'!$F$6:$F$304,"Business",'Trip Log'!$B$6:$B$304,">="&B16,'Trip Log'!$B$6:$B$304,"<"&DATE(YEAR(B16),MONTH(B16)+1,1)) -> 0 | E16: =SUMIFS('Trip Log'!$J$6:$J$304,'Trip Log'!$F$6:$F$304,"Personal",'Trip Log'!$B$6:$B$304,">="&B16,'Trip Log'!$B$6:$B$304,"<"&DATE(YEAR(B16),MONTH(B16)+1,1)) -> 0 | F16: =SUMIFS('Trip Log'!$L$6:$L$304,'Trip Log'!$B$6:$B$304,">="&B16,'Trip Log'!$B$6:$B$304,"<"&DATE(YEAR(B16),MONTH(B16)+1,1)) -> 0 | G16: =SUMIFS('Trip Log'!$K$6:$K$304,'Trip Log'!$F$6:$F$304,"Business",'Trip Log'!$B$6:$B$304,">="&B16,'Trip Log'!$B$6:$B$304,"<"&DATE(YEAR(B16),MONTH(B16)+1,1)) -> 0
B17: =DATE(YEAR(B16),MONTH(B16)+1,1) -> 46357 | C17: =COUNTIFS('Trip Log'!$B$6:$B$304,">="&B17,'Trip Log'!$B$6:$B$304,"<"&DATE(YEAR(B17),MONTH(B17)+1,1)) -> 0 | D17: =SUMIFS('Trip Log'!$J$6:$J$304,'Trip Log'!$F$6:$F$304,"Business",'Trip Log'!$B$6:$B$304,">="&B17,'Trip Log'!$B$6:$B$304,"<"&DATE(YEAR(B17),MONTH(B17)+1,1)) -> 0 | E17: =SUMIFS('Trip Log'!$J$6:$J$304,'Trip Log'!$F$6:$F$304,"Personal",'Trip Log'!$B$6:$B$304,">="&B17,'Trip Log'!$B$6:$B$304,"<"&DATE(YEAR(B17),MONTH(B17)+1,1)) -> 0 | F17: =SUMIFS('Trip Log'!$L$6:$L$304,'Trip Log'!$B$6:$B$304,">="&B17,'Trip Log'!$B$6:$B$304,"<"&DATE(YEAR(B17),MONTH(B17)+1,1)) -> 0 | G17: =SUMIFS('Trip Log'!$K$6:$K$304,'Trip Log'!$F$6:$F$304,"Business",'Trip Log'!$B$6:$B$304,">="&B17,'Trip Log'!$B$6:$B$304,"<"&DATE(YEAR(B17),MONTH(B17)+1,1)) -> 0
B18: ="Total" -> Total | C18: =SUM(C6:C17) -> 33 | D18: =SUM(D6:D17) -> 714 | E18: =SUM(E6:E17) -> 702 | F18: =SUM(F6:F17) -> 499.8 | G18: =SUM(G6:G17) -> 82
