Workbook

Sheet Collection
B1: Collection | N1: rowsandcells.com
B2: Every record, CD and download, with value and shelf. | N2: Free template
B5: Artist | C5: Title | D5: Year | E5: Decade | F5: Genre | G5: Format | H5: Condition | I5: Location | J5: Paid | K5: Value | L5: Gain or loss | M5: Rating (1-5) | N5: Notes | O5: Value key | P5: Label
B6: Fleetwood Mac | C6: Rumours | D6: 1977 | E6: =IF(ISNUMBER(D6),INT(D6/10)*10&"s","") -> 1970s | F6: Rock | G6: Vinyl LP | H6: VG+ | I6: Shelf A1 | J6: 4 | K6: 28 | L6: =IF(AND(ISNUMBER(J6),ISNUMBER(K6)),K6-J6,"") -> 24 | M6: 5 | N6: Thrift store find | O6: =IF(ISNUMBER(K6),K6,"") -> 28 | P6: =IF(ISBLANK(C6),"",C6&" by "&B6) -> Rumours by Fleetwood Mac
B7: Miles Davis | C7: Kind of Blue | D7: 1959 | E7: =IF(ISNUMBER(D7),INT(D7/10)*10&"s","") -> 1950s | F7: Jazz | G7: Vinyl LP | H7: NM | I7: Shelf A1 | J7: 32 | K7: 35 | L7: =IF(AND(ISNUMBER(J7),ISNUMBER(K7)),K7-J7,"") -> 3 | M7: 5 | N7: 2015 reissue | O7: =IF(ISNUMBER(K7),K7,"") -> 35 | P7: =IF(ISBLANK(C7),"",C7&" by "&B7) -> Kind of Blue by Miles Davis
B8: Pink Floyd | C8: The Dark Side of the Moon | D8: 1973 | E8: =IF(ISNUMBER(D8),INT(D8/10)*10&"s","") -> 1970s | F8: Rock | G8: Vinyl LP | H8: VG | I8: Shelf A1 | J8: 18 | K8: 40 | L8: =IF(AND(ISNUMBER(J8),ISNUMBER(K8)),K8-J8,"") -> 22 | M8: 5 | N8: Posters missing | O8: =IF(ISNUMBER(K8),K8,"") -> 40 | P8: =IF(ISBLANK(C8),"",C8&" by "&B8) -> The Dark Side of the Moon by Pink Floyd
B9: Marvin Gaye | C9: What's Going On | D9: 1971 | E9: =IF(ISNUMBER(D9),INT(D9/10)*10&"s","") -> 1970s | F9: Soul | G9: Vinyl LP | H9: VG+ | I9: Shelf A2 | J9: 22 | K9: 30 | L9: =IF(AND(ISNUMBER(J9),ISNUMBER(K9)),K9-J9,"") -> 8 | M9: 5 | O9: =IF(ISNUMBER(K9),K9,"") -> 30 | P9: =IF(ISBLANK(C9),"",C9&" by "&B9) -> What's Going On by Marvin Gaye
B10: Joni Mitchell | C10: Blue | D10: 1971 | E10: =IF(ISNUMBER(D10),INT(D10/10)*10&"s","") -> 1970s | F10: Folk | G10: Vinyl LP | H10: VG | I10: Shelf A2 | J10: 12 | K10: 25 | L10: =IF(AND(ISNUMBER(J10),ISNUMBER(K10)),K10-J10,"") -> 13 | M10: 5 | O10: =IF(ISNUMBER(K10),K10,"") -> 25 | P10: =IF(ISBLANK(C10),"",C10&" by "&B10) -> Blue by Joni Mitchell
B11: Stevie Wonder | C11: Songs in the Key of Life | D11: 1976 | E11: =IF(ISNUMBER(D11),INT(D11/10)*10&"s","") -> 1970s | F11: Soul | G11: Vinyl LP | H11: VG+ | I11: Shelf A2 | J11: 25 | K11: 35 | L11: =IF(AND(ISNUMBER(J11),ISNUMBER(K11)),K11-J11,"") -> 10 | M11: 4 | N11: Booklet included | O11: =IF(ISNUMBER(K11),K11,"") -> 35 | P11: =IF(ISBLANK(C11),"",C11&" by "&B11) -> Songs in the Key of Life by Stevie Wonder
B12: The Beatles | C12: Abbey Road | D12: 1969 | E12: =IF(ISNUMBER(D12),INT(D12/10)*10&"s","") -> 1960s | F12: Rock | G12: Vinyl LP | H12: VG | I12: Shelf A1 | J12: 20 | K12: 45 | L12: =IF(AND(ISNUMBER(J12),ISNUMBER(K12)),K12-J12,"") -> 25 | M12: 5 | N12: Dad's copy | O12: =IF(ISNUMBER(K12),K12,"") -> 45 | P12: =IF(ISBLANK(C12),"",C12&" by "&B12) -> Abbey Road by The Beatles
B13: Carole King | C13: Tapestry | D13: 1971 | E13: =IF(ISNUMBER(D13),INT(D13/10)*10&"s","") -> 1970s | F13: Pop | G13: Vinyl LP | H13: VG+ | I13: Shelf A2 | J13: 6 | K13: 18 | L13: =IF(AND(ISNUMBER(J13),ISNUMBER(K13)),K13-J13,"") -> 12 | M13: 4 | O13: =IF(ISNUMBER(K13),K13,"") -> 18 | P13: =IF(ISBLANK(C13),"",C13&" by "&B13) -> Tapestry by Carole King
B14: Prince | C14: Purple Rain | D14: 1984 | E14: =IF(ISNUMBER(D14),INT(D14/10)*10&"s","") -> 1980s | F14: Pop | G14: Vinyl LP | H14: NM | I14: Shelf A3 | J14: 28 | K14: 32 | L14: =IF(AND(ISNUMBER(J14),ISNUMBER(K14)),K14-J14,"") -> 4 | M14: 5 | O14: =IF(ISNUMBER(K14),K14,"") -> 32 | P14: =IF(ISBLANK(C14),"",C14&" by "&B14) -> Purple Rain by Prince
B15: Talking Heads | C15: Remain in Light | D15: 1980 | E15: =IF(ISNUMBER(D15),INT(D15/10)*10&"s","") -> 1980s | F15: Rock | G15: Vinyl LP | H15: VG+ | I15: Shelf A3 | J15: 24 | K15: 30 | L15: =IF(AND(ISNUMBER(J15),ISNUMBER(K15)),K15-J15,"") -> 6 | M15: 4 | O15: =IF(ISNUMBER(K15),K15,"") -> 30 | P15: =IF(ISBLANK(C15),"",C15&" by "&B15) -> Remain in Light by Talking Heads
B16: Nirvana | C16: Nevermind | D16: 1991 | E16: =IF(ISNUMBER(D16),INT(D16/10)*10&"s","") -> 1990s | F16: Rock | G16: CD | H16: NM | I16: CD tower | J16: 3 | K16: 6 | L16: =IF(AND(ISNUMBER(J16),ISNUMBER(K16)),K16-J16,"") -> 3 | M16: 5 | O16: =IF(ISNUMBER(K16),K16,"") -> 6 | P16: =IF(ISBLANK(C16),"",C16&" by "&B16) -> Nevermind by Nirvana
B17: Radiohead | C17: OK Computer | D17: 1997 | E17: =IF(ISNUMBER(D17),INT(D17/10)*10&"s","") -> 1990s | F17: Rock | G17: Vinyl LP | H17: NM | I17: Shelf A3 | J17: 30 | K17: 38 | L17: =IF(AND(ISNUMBER(J17),ISNUMBER(K17)),K17-J17,"") -> 8 | M17: 5 | N17: OKNOTOK edition | O17: =IF(ISNUMBER(K17),K17,"") -> 38 | P17: =IF(ISBLANK(C17),"",C17&" by "&B17) -> OK Computer by Radiohead
B18: Lauryn Hill | C18: The Miseducation of Lauryn Hill | D18: 1998 | E18: =IF(ISNUMBER(D18),INT(D18/10)*10&"s","") -> 1990s | F18: Hip-hop | G18: Vinyl LP | H18: NM | I18: Shelf A3 | J18: 34 | K18: 40 | L18: =IF(AND(ISNUMBER(J18),ISNUMBER(K18)),K18-J18,"") -> 6 | M18: 5 | O18: =IF(ISNUMBER(K18),K18,"") -> 40 | P18: =IF(ISBLANK(C18),"",C18&" by "&B18) -> The Miseducation of Lauryn Hill by Lauryn Hill
B19: Daft Punk | C19: Discovery | D19: 2001 | E19: =IF(ISNUMBER(D19),INT(D19/10)*10&"s","") -> 2000s | F19: Electronic | G19: CD | H19: VG+ | I19: CD tower | J19: 4 | K19: 8 | L19: =IF(AND(ISNUMBER(J19),ISNUMBER(K19)),K19-J19,"") -> 4 | M19: 4 | O19: =IF(ISNUMBER(K19),K19,"") -> 8 | P19: =IF(ISBLANK(C19),"",C19&" by "&B19) -> Discovery by Daft Punk
B20: Amy Winehouse | C20: Back to Black | D20: 2006 | E20: =IF(ISNUMBER(D20),INT(D20/10)*10&"s","") -> 2000s | F20: Soul | G20: Vinyl LP | H20: NM | I20: Shelf A4 | J20: 26 | K20: 30 | L20: =IF(AND(ISNUMBER(J20),ISNUMBER(K20)),K20-J20,"") -> 4 | M20: 5 | O20: =IF(ISNUMBER(K20),K20,"") -> 30 | P20: =IF(ISBLANK(C20),"",C20&" by "&B20) -> Back to Black by Amy Winehouse
B21: Adele | C21: 21 | D21: 2011 | E21: =IF(ISNUMBER(D21),INT(D21/10)*10&"s","") -> 2010s | F21: Pop | G21: CD | H21: NM | I21: CD tower | J21: 5 | K21: 5 | L21: =IF(AND(ISNUMBER(J21),ISNUMBER(K21)),K21-J21,"") -> 0 | M21: 4 | O21: =IF(ISNUMBER(K21),K21,"") -> 5 | P21: =IF(ISBLANK(C21),"",C21&" by "&B21) -> 21 by Adele
B22: Kendrick Lamar | C22: To Pimp a Butterfly | D22: 2015 | E22: =IF(ISNUMBER(D22),INT(D22/10)*10&"s","") -> 2010s | F22: Hip-hop | G22: Vinyl LP | H22: NM | I22: Shelf A4 | J22: 32 | K22: 36 | L22: =IF(AND(ISNUMBER(J22),ISNUMBER(K22)),K22-J22,"") -> 4 | M22: 5 | O22: =IF(ISNUMBER(K22),K22,"") -> 36 | P22: =IF(ISBLANK(C22),"",C22&" by "&B22) -> To Pimp a Butterfly by Kendrick Lamar
B23: Taylor Swift | C23: Folklore | D23: 2020 | E23: =IF(ISNUMBER(D23),INT(D23/10)*10&"s","") -> 2020s | F23: Pop | G23: Digital | I23: Music app | J23: 10 | L23: =IF(AND(ISNUMBER(J23),ISNUMBER(K23)),K23-J23,"") | M23: 4 | N23: Bought on iTunes | O23: =IF(ISNUMBER(K23),K23,"") | P23: =IF(ISBLANK(C23),"",C23&" by "&B23) -> Folklore by Taylor Swift
B24: Phoebe Bridgers | C24: Punisher | D24: 2020 | E24: =IF(ISNUMBER(D24),INT(D24/10)*10&"s","") -> 2020s | F24: Indie | G24: Vinyl LP | H24: M | I24: Shelf A4 | J24: 25 | K24: 28 | L24: =IF(AND(ISNUMBER(J24),ISNUMBER(K24)),K24-J24,"") -> 3 | M24: 4 | N24: Still sealed | O24: =IF(ISNUMBER(K24),K24,"") -> 28 | P24: =IF(ISBLANK(C24),"",C24&" by "&B24) -> Punisher by Phoebe Bridgers
B25: Bob Dylan | C25: Blood on the Tracks | D25: 1975 | E25: =IF(ISNUMBER(D25),INT(D25/10)*10&"s","") -> 1970s | F25: Folk | G25: Vinyl LP | H25: G+ | I25: Shelf A2 | J25: 5 | K25: 12 | L25: =IF(AND(ISNUMBER(J25),ISNUMBER(K25)),K25-J25,"") -> 7 | M25: 5 | N25: Ring wear on cover | O25: =IF(ISNUMBER(K25),K25,"") -> 12 | P25: =IF(ISBLANK(C25),"",C25&" by "&B25) -> Blood on the Tracks by Bob Dylan
B26: John Coltrane | C26: A Love Supreme | D26: 1965 | E26: =IF(ISNUMBER(D26),INT(D26/10)*10&"s","") -> 1960s | F26: Jazz | G26: Vinyl LP | H26: VG+ | I26: Shelf A1 | J26: 28 | K26: 32 | L26: =IF(AND(ISNUMBER(J26),ISNUMBER(K26)),K26-J26,"") -> 4 | M26: 5 | O26: =IF(ISNUMBER(K26),K26,"") -> 32 | P26: =IF(ISBLANK(C26),"",C26&" by "&B26) -> A Love Supreme by John Coltrane
B27: Michael Jackson | C27: Thriller | D27: 1982 | E27: =IF(ISNUMBER(D27),INT(D27/10)*10&"s","") -> 1980s | F27: Pop | G27: Cassette | H27: VG | I27: Box 1 | J27: 2 | K27: 6 | L27: =IF(AND(ISNUMBER(J27),ISNUMBER(K27)),K27-J27,"") -> 4 | M27: 4 | O27: =IF(ISNUMBER(K27),K27,"") -> 6 | P27: =IF(ISBLANK(C27),"",C27&" by "&B27) -> Thriller by Michael Jackson
B28: The Cure | C28: Disintegration | D28: 1989 | E28: =IF(ISNUMBER(D28),INT(D28/10)*10&"s","") -> 1980s | F28: Rock | G28: CD | H28: VG | I28: CD tower | J28: 3 | K28: 7 | L28: =IF(AND(ISNUMBER(J28),ISNUMBER(K28)),K28-J28,"") -> 4 | M28: 4 | O28: =IF(ISNUMBER(K28),K28,"") -> 7 | P28: =IF(ISBLANK(C28),"",C28&" by "&B28) -> Disintegration by The Cure
B29: Bruce Springsteen | C29: Born to Run | D29: 1975 | E29: =IF(ISNUMBER(D29),INT(D29/10)*10&"s","") -> 1970s | F29: Rock | G29: Vinyl LP | H29: VG | I29: Shelf A1 | J29: 10 | K29: 20 | L29: =IF(AND(ISNUMBER(J29),ISNUMBER(K29)),K29-J29,"") -> 10 | M29: 4 | O29: =IF(ISNUMBER(K29),K29,"") -> 20 | P29: =IF(ISBLANK(C29),"",C29&" by "&B29) -> Born to Run by Bruce Springsteen
B30: Beyonce | C30: Renaissance | D30: 2022 | E30: =IF(ISNUMBER(D30),INT(D30/10)*10&"s","") -> 2020s | F30: Pop | G30: Digital | I30: Music app | J30: 12 | L30: =IF(AND(ISNUMBER(J30),ISNUMBER(K30)),K30-J30,"") | M30: 4 | O30: =IF(ISNUMBER(K30),K30,"") | P30: =IF(ISBLANK(C30),"",C30&" by "&B30) -> Renaissance by Beyonce
B31: Johnny Cash | C31: At Folsom Prison | D31: 1968 | E31: =IF(ISNUMBER(D31),INT(D31/10)*10&"s","") -> 1960s | F31: Country | G31: Vinyl LP | H31: VG | I31: Shelf A2 | J31: 14 | K31: 22 | L31: =IF(AND(ISNUMBER(J31),ISNUMBER(K31)),K31-J31,"") -> 8 | M31: 4 | O31: =IF(ISNUMBER(K31),K31,"") -> 22 | P31: =IF(ISBLANK(C31),"",C31&" by "&B31) -> At Folsom Prison by Johnny Cash
B32: Dolly Parton | C32: Jolene | D32: 1974 | E32: =IF(ISNUMBER(D32),INT(D32/10)*10&"s","") -> 1970s | F32: Country | G32: Vinyl LP | H32: VG+ | I32: Shelf A2 | J32: 16 | K32: 24 | L32: =IF(AND(ISNUMBER(J32),ISNUMBER(K32)),K32-J32,"") -> 8 | M32: 4 | O32: =IF(ISNUMBER(K32),K32,"") -> 24 | P32: =IF(ISBLANK(C32),"",C32&" by "&B32) -> Jolene by Dolly Parton
B33: Aphex Twin | C33: Selected Ambient Works 85-92 | D33: 1992 | E33: =IF(ISNUMBER(D33),INT(D33/10)*10&"s","") -> 1990s | F33: Electronic | G33: CD | H33: NM | I33: CD tower | J33: 8 | K33: 12 | L33: =IF(AND(ISNUMBER(J33),ISNUMBER(K33)),K33-J33,"") -> 4 | M33: 4 | O33: =IF(ISNUMBER(K33),K33,"") -> 12 | P33: =IF(ISBLANK(C33),"",C33&" by "&B33) -> Selected Ambient Works 85-92 by Aphex Twin
B34: The Smiths | C34: The Queen Is Dead | D34: 1986 | E34: =IF(ISNUMBER(D34),INT(D34/10)*10&"s","") -> 1980s | F34: Indie | G34: Vinyl LP | H34: VG+ | I34: Shelf A3 | J34: 22 | K34: 30 | L34: =IF(AND(ISNUMBER(J34),ISNUMBER(K34)),K34-J34,"") -> 8 | M34: 4 | O34: =IF(ISNUMBER(K34),K34,"") -> 30 | P34: =IF(ISBLANK(C34),"",C34&" by "&B34) -> The Queen Is Dead by The Smiths
B35: Arctic Monkeys | C35: AM | D35: 2013 | E35: =IF(ISNUMBER(D35),INT(D35/10)*10&"s","") -> 2010s | F35: Indie | G35: Vinyl 7in | H35: NM | I35: Box 1 | J35: 9 | K35: 10 | L35: =IF(AND(ISNUMBER(J35),ISNUMBER(K35)),K35-J35,"") -> 1 | M35: 3 | N35: Do I Wanna Know? single | O35: =IF(ISNUMBER(K35),K35,"") -> 10 | P35: =IF(ISBLANK(C35),"",C35&" by "&B35) -> AM by Arctic Monkeys
E36: =IF(ISNUMBER(D36),INT(D36/10)*10&"s","") | L36: =IF(AND(ISNUMBER(J36),ISNUMBER(K36)),K36-J36,"") | O36: =IF(ISNUMBER(K36),K36,"") | P36: =IF(ISBLANK(C36),"",C36&" by "&B36)
E37: =IF(ISNUMBER(D37),INT(D37/10)*10&"s","") | L37: =IF(AND(ISNUMBER(J37),ISNUMBER(K37)),K37-J37,"") | O37: =IF(ISNUMBER(K37),K37,"") | P37: =IF(ISBLANK(C37),"",C37&" by "&B37)
E38: =IF(ISNUMBER(D38),INT(D38/10)*10&"s","") | L38: =IF(AND(ISNUMBER(J38),ISNUMBER(K38)),K38-J38,"") | O38: =IF(ISNUMBER(K38),K38,"") | P38: =IF(ISBLANK(C38),"",C38&" by "&B38)
E39: =IF(ISNUMBER(D39),INT(D39/10)*10&"s","") | L39: =IF(AND(ISNUMBER(J39),ISNUMBER(K39)),K39-J39,"") | O39: =IF(ISNUMBER(K39),K39,"") | P39: =IF(ISBLANK(C39),"",C39&" by "&B39)
E40: =IF(ISNUMBER(D40),INT(D40/10)*10&"s","") | L40: =IF(AND(ISNUMBER(J40),ISNUMBER(K40)),K40-J40,"") | O40: =IF(ISNUMBER(K40),K40,"") | P40: =IF(ISBLANK(C40),"",C40&" by "&B40)
E41: =IF(ISNUMBER(D41),INT(D41/10)*10&"s","") | L41: =IF(AND(ISNUMBER(J41),ISNUMBER(K41)),K41-J41,"") | O41: =IF(ISNUMBER(K41),K41,"") | P41: =IF(ISBLANK(C41),"",C41&" by "&B41)
E42: =IF(ISNUMBER(D42),INT(D42/10)*10&"s","") | L42: =IF(AND(ISNUMBER(J42),ISNUMBER(K42)),K42-J42,"") | O42: =IF(ISNUMBER(K42),K42,"") | P42: =IF(ISBLANK(C42),"",C42&" by "&B42)
E43: =IF(ISNUMBER(D43),INT(D43/10)*10&"s","") | L43: =IF(AND(ISNUMBER(J43),ISNUMBER(K43)),K43-J43,"") | O43: =IF(ISNUMBER(K43),K43,"") | P43: =IF(ISBLANK(C43),"",C43&" by "&B43)
E44: =IF(ISNUMBER(D44),INT(D44/10)*10&"s","") | L44: =IF(AND(ISNUMBER(J44),ISNUMBER(K44)),K44-J44,"") | O44: =IF(ISNUMBER(K44),K44,"") | P44: =IF(ISBLANK(C44),"",C44&" by "&B44)
E45: =IF(ISNUMBER(D45),INT(D45/10)*10&"s","") | L45: =IF(AND(ISNUMBER(J45),ISNUMBER(K45)),K45-J45,"") | O45: =IF(ISNUMBER(K45),K45,"") | P45: =IF(ISBLANK(C45),"",C45&" by "&B45)
E46: =IF(ISNUMBER(D46),INT(D46/10)*10&"s","") | L46: =IF(AND(ISNUMBER(J46),ISNUMBER(K46)),K46-J46,"") | O46: =IF(ISNUMBER(K46),K46,"") | P46: =IF(ISBLANK(C46),"",C46&" by "&B46)
E47: =IF(ISNUMBER(D47),INT(D47/10)*10&"s","") | L47: =IF(AND(ISNUMBER(J47),ISNUMBER(K47)),K47-J47,"") | O47: =IF(ISNUMBER(K47),K47,"") | P47: =IF(ISBLANK(C47),"",C47&" by "&B47)
... E85: =IF(ISNUMBER(D85),INT(D85/10)*10&"s","") | L85: =IF(AND(ISNUMBER(J85),ISNUMBER(K85)),K85-J85,"") | O85: =IF(ISNUMBER(K85),K85,"") | P85: =IF(ISBLANK(C85),"",C85&" by "&B85)

Sheet Summary
B1: Summary | D1: rowsandcells.com
B2: Worked out from your other tabs. Shaded cells are formulas: nothing to type here. | D2: Free template
B5: Item | C5: Value
B6: Items in the collection | C6: =COUNTA(Collection!$C$6:$C$85) -> 30
B7: Total paid | C7: =SUM(Collection!$J$6:$J$85) -> 489
B8: Total value | C8: =SUM(Collection!$K$6:$K$85) -> 684
B9: Gain or loss (items with both prices) | C9: =SUM(Collection!$L$6:$L$85) -> 217
B10: Average paid per item | C10: =IF(COUNT(Collection!$J$6:$J$85)=0,"",ROUND(AVERAGE(Collection!$J$6:$J$85),2)) -> 16.3
B11: Most valuable item | C11: =IF(MAX(Collection!$K$6:$K$85)=0,"",VLOOKUP(MAX(Collection!$K$6:$K$85),Collection!$O$6:$P$85,2,FALSE)) -> Abbey Road by The Beatles
B12: Its value | C12: =MAX(Collection!$K$6:$K$85) -> 45
B13: Items with no value yet | C13: =COUNTA(Collection!$C$6:$C$85)-COUNT(Collection!$K$6:$K$85) -> 2
B14: Oldest release year | C14: =IF(COUNT(Collection!$D$6:$D$85)=0,"",MIN(Collection!$D$6:$D$85)) -> 1959
B15: Newest release year | C15: =IF(COUNT(Collection!$D$6:$D$85)=0,"",MAX(Collection!$D$6:$D$85)) -> 2022
B16: Average rating | C16: =IF(COUNT(Collection!$M$6:$M$85)=0,"",ROUND(AVERAGE(Collection!$M$6:$M$85),1)) -> 4.4
B17: Rated 5 out of 5 | C17: =COUNTIF(Collection!$M$6:$M$85,5) -> 14

Sheet By Format
B1: By Format | D1: rowsandcells.com
B2: Worked out from your other tabs. Shaded cells are formulas: nothing to type here. | D2: Free template
B5: Format | C5: Items | D5: Paid | E5: Value | F5: Share
B6: Vinyl LP | C6: =COUNTIF(Collection!$G$6:$G$85,B6) -> 21 | D6: =SUMIF(Collection!$G$6:$G$85,B6,Collection!$J$6:$J$85) -> 433 | E6: =SUMIF(Collection!$G$6:$G$85,B6,Collection!$K$6:$K$85) -> 630 | F6: =IF(Summary!$C$6=0,0,C6/Summary!$C$6) -> 0.7
B7: Vinyl 7in | C7: =COUNTIF(Collection!$G$6:$G$85,B7) -> 1 | D7: =SUMIF(Collection!$G$6:$G$85,B7,Collection!$J$6:$J$85) -> 9 | E7: =SUMIF(Collection!$G$6:$G$85,B7,Collection!$K$6:$K$85) -> 10 | F7: =IF(Summary!$C$6=0,0,C7/Summary!$C$6) -> 0.033333333
B8: CD | C8: =COUNTIF(Collection!$G$6:$G$85,B8) -> 5 | D8: =SUMIF(Collection!$G$6:$G$85,B8,Collection!$J$6:$J$85) -> 23 | E8: =SUMIF(Collection!$G$6:$G$85,B8,Collection!$K$6:$K$85) -> 38 | F8: =IF(Summary!$C$6=0,0,C8/Summary!$C$6) -> 0.16666667
B9: Cassette | C9: =COUNTIF(Collection!$G$6:$G$85,B9) -> 1 | D9: =SUMIF(Collection!$G$6:$G$85,B9,Collection!$J$6:$J$85) -> 2 | E9: =SUMIF(Collection!$G$6:$G$85,B9,Collection!$K$6:$K$85) -> 6 | F9: =IF(Summary!$C$6=0,0,C9/Summary!$C$6) -> 0.033333333
B10: Digital | C10: =COUNTIF(Collection!$G$6:$G$85,B10) -> 2 | D10: =SUMIF(Collection!$G$6:$G$85,B10,Collection!$J$6:$J$85) -> 22 | E10: =SUMIF(Collection!$G$6:$G$85,B10,Collection!$K$6:$K$85) -> 0 | F10: =IF(Summary!$C$6=0,0,C10/Summary!$C$6) -> 0.066666667
B11: Other | C11: =COUNTIF(Collection!$G$6:$G$85,B11) -> 0 | D11: =SUMIF(Collection!$G$6:$G$85,B11,Collection!$J$6:$J$85) -> 0 | E11: =SUMIF(Collection!$G$6:$G$85,B11,Collection!$K$6:$K$85) -> 0 | F11: =IF(Summary!$C$6=0,0,C11/Summary!$C$6) -> 0
B12: Total | C12: =SUM(C6:C11) -> 30 | D12: =SUM(D6:D11) -> 489 | E12: =SUM(E6:E11) -> 684 | F12: =SUM(F6:F11) -> 1

Sheet By Genre
B1: By Genre | D1: rowsandcells.com
B2: Worked out from your other tabs. Shaded cells are formulas: nothing to type here. | D2: Free template
B5: Genre | C5: Items | D5: Paid | E5: Value | F5: Share
B6: Rock | C6: =COUNTIF(Collection!$F$6:$F$85,B6) -> 8 | D6: =SUMIF(Collection!$F$6:$F$85,B6,Collection!$J$6:$J$85) -> 112 | E6: =SUMIF(Collection!$F$6:$F$85,B6,Collection!$K$6:$K$85) -> 214 | F6: =IF(Summary!$C$6=0,0,C6/Summary!$C$6) -> 0.26666667
B7: Pop | C7: =COUNTIF(Collection!$F$6:$F$85,B7) -> 6 | D7: =SUMIF(Collection!$F$6:$F$85,B7,Collection!$J$6:$J$85) -> 63 | E7: =SUMIF(Collection!$F$6:$F$85,B7,Collection!$K$6:$K$85) -> 61 | F7: =IF(Summary!$C$6=0,0,C7/Summary!$C$6) -> 0.2
B8: Soul | C8: =COUNTIF(Collection!$F$6:$F$85,B8) -> 3 | D8: =SUMIF(Collection!$F$6:$F$85,B8,Collection!$J$6:$J$85) -> 73 | E8: =SUMIF(Collection!$F$6:$F$85,B8,Collection!$K$6:$K$85) -> 95 | F8: =IF(Summary!$C$6=0,0,C8/Summary!$C$6) -> 0.1
B9: Jazz | C9: =COUNTIF(Collection!$F$6:$F$85,B9) -> 2 | D9: =SUMIF(Collection!$F$6:$F$85,B9,Collection!$J$6:$J$85) -> 60 | E9: =SUMIF(Collection!$F$6:$F$85,B9,Collection!$K$6:$K$85) -> 67 | F9: =IF(Summary!$C$6=0,0,C9/Summary!$C$6) -> 0.066666667
B10: Hip-hop | C10: =COUNTIF(Collection!$F$6:$F$85,B10) -> 2 | D10: =SUMIF(Collection!$F$6:$F$85,B10,Collection!$J$6:$J$85) -> 66 | E10: =SUMIF(Collection!$F$6:$F$85,B10,Collection!$K$6:$K$85) -> 76 | F10: =IF(Summary!$C$6=0,0,C10/Summary!$C$6) -> 0.066666667
B11: Folk | C11: =COUNTIF(Collection!$F$6:$F$85,B11) -> 2 | D11: =SUMIF(Collection!$F$6:$F$85,B11,Collection!$J$6:$J$85) -> 17 | E11: =SUMIF(Collection!$F$6:$F$85,B11,Collection!$K$6:$K$85) -> 37 | F11: =IF(Summary!$C$6=0,0,C11/Summary!$C$6) -> 0.066666667
B12: Country | C12: =COUNTIF(Collection!$F$6:$F$85,B12) -> 2 | D12: =SUMIF(Collection!$F$6:$F$85,B12,Collection!$J$6:$J$85) -> 30 | E12: =SUMIF(Collection!$F$6:$F$85,B12,Collection!$K$6:$K$85) -> 46 | F12: =IF(Summary!$C$6=0,0,C12/Summary!$C$6) -> 0.066666667
B13: Electronic | C13: =COUNTIF(Collection!$F$6:$F$85,B13) -> 2 | D13: =SUMIF(Collection!$F$6:$F$85,B13,Collection!$J$6:$J$85) -> 12 | E13: =SUMIF(Collection!$F$6:$F$85,B13,Collection!$K$6:$K$85) -> 20 | F13: =IF(Summary!$C$6=0,0,C13/Summary!$C$6) -> 0.066666667
B14: Indie | C14: =COUNTIF(Collection!$F$6:$F$85,B14) -> 3 | D14: =SUMIF(Collection!$F$6:$F$85,B14,Collection!$J$6:$J$85) -> 56 | E14: =SUMIF(Collection!$F$6:$F$85,B14,Collection!$K$6:$K$85) -> 68 | F14: =IF(Summary!$C$6=0,0,C14/Summary!$C$6) -> 0.1
B15: Classical | C15: =COUNTIF(Collection!$F$6:$F$85,B15) -> 0 | D15: =SUMIF(Collection!$F$6:$F$85,B15,Collection!$J$6:$J$85) -> 0 | E15: =SUMIF(Collection!$F$6:$F$85,B15,Collection!$K$6:$K$85) -> 0 | F15: =IF(Summary!$C$6=0,0,C15/Summary!$C$6) -> 0
B16: Other | C16: =COUNTIF(Collection!$F$6:$F$85,B16) -> 0 | D16: =SUMIF(Collection!$F$6:$F$85,B16,Collection!$J$6:$J$85) -> 0 | E16: =SUMIF(Collection!$F$6:$F$85,B16,Collection!$K$6:$K$85) -> 0 | F16: =IF(Summary!$C$6=0,0,C16/Summary!$C$6) -> 0
B17: Total | C17: =SUM(C6:C16) -> 30 | D17: =SUM(D6:D16) -> 489 | E17: =SUM(E6:E16) -> 684 | F17: =SUM(F6:F16) -> 1

Sheet By Decade
B1: By Decade | D1: rowsandcells.com
B2: Worked out from your other tabs. Shaded cells are formulas: nothing to type here. | D2: Free template
B5: Decade | C5: Items | D5: Value | E5: Avg rating | F5: Chart
B6: 1950s | C6: =COUNTIFS(Collection!$D$6:$D$85,">="&1950,Collection!$D$6:$D$85,"<"&1960) -> 1 | D6: =SUMIFS(Collection!$K$6:$K$85,Collection!$D$6:$D$85,">="&1950,Collection!$D$6:$D$85,"<"&1960) -> 35 | E6: =IF(C6=0,"",ROUND(AVERAGEIFS(Collection!$M$6:$M$85,Collection!$D$6:$D$85,">="&1950,Collection!$D$6:$D$85,"<"&1960),1)) -> 5 | F6: =REPT("■",C6) -> ■
B7: 1960s | C7: =COUNTIFS(Collection!$D$6:$D$85,">="&1960,Collection!$D$6:$D$85,"<"&1970) -> 3 | D7: =SUMIFS(Collection!$K$6:$K$85,Collection!$D$6:$D$85,">="&1960,Collection!$D$6:$D$85,"<"&1970) -> 99 | E7: =IF(C7=0,"",ROUND(AVERAGEIFS(Collection!$M$6:$M$85,Collection!$D$6:$D$85,">="&1960,Collection!$D$6:$D$85,"<"&1970),1)) -> 4.7 | F7: =REPT("■",C7) -> ■■■
B8: 1970s | C8: =COUNTIFS(Collection!$D$6:$D$85,">="&1970,Collection!$D$6:$D$85,"<"&1980) -> 9 | D8: =SUMIFS(Collection!$K$6:$K$85,Collection!$D$6:$D$85,">="&1970,Collection!$D$6:$D$85,"<"&1980) -> 232 | E8: =IF(C8=0,"",ROUND(AVERAGEIFS(Collection!$M$6:$M$85,Collection!$D$6:$D$85,">="&1970,Collection!$D$6:$D$85,"<"&1980),1)) -> 4.6 | F8: =REPT("■",C8) -> ■■■■■■■■■
B9: 1980s | C9: =COUNTIFS(Collection!$D$6:$D$85,">="&1980,Collection!$D$6:$D$85,"<"&1990) -> 5 | D9: =SUMIFS(Collection!$K$6:$K$85,Collection!$D$6:$D$85,">="&1980,Collection!$D$6:$D$85,"<"&1990) -> 105 | E9: =IF(C9=0,"",ROUND(AVERAGEIFS(Collection!$M$6:$M$85,Collection!$D$6:$D$85,">="&1980,Collection!$D$6:$D$85,"<"&1990),1)) -> 4.2 | F9: =REPT("■",C9) -> ■■■■■
B10: 1990s | C10: =COUNTIFS(Collection!$D$6:$D$85,">="&1990,Collection!$D$6:$D$85,"<"&2000) -> 4 | D10: =SUMIFS(Collection!$K$6:$K$85,Collection!$D$6:$D$85,">="&1990,Collection!$D$6:$D$85,"<"&2000) -> 96 | E10: =IF(C10=0,"",ROUND(AVERAGEIFS(Collection!$M$6:$M$85,Collection!$D$6:$D$85,">="&1990,Collection!$D$6:$D$85,"<"&2000),1)) -> 4.8 | F10: =REPT("■",C10) -> ■■■■
B11: 2000s | C11: =COUNTIFS(Collection!$D$6:$D$85,">="&2000,Collection!$D$6:$D$85,"<"&2010) -> 2 | D11: =SUMIFS(Collection!$K$6:$K$85,Collection!$D$6:$D$85,">="&2000,Collection!$D$6:$D$85,"<"&2010) -> 38 | E11: =IF(C11=0,"",ROUND(AVERAGEIFS(Collection!$M$6:$M$85,Collection!$D$6:$D$85,">="&2000,Collection!$D$6:$D$85,"<"&2010),1)) -> 4.5 | F11: =REPT("■",C11) -> ■■
B12: 2010s | C12: =COUNTIFS(Collection!$D$6:$D$85,">="&2010,Collection!$D$6:$D$85,"<"&2020) -> 3 | D12: =SUMIFS(Collection!$K$6:$K$85,Collection!$D$6:$D$85,">="&2010,Collection!$D$6:$D$85,"<"&2020) -> 51 | E12: =IF(C12=0,"",ROUND(AVERAGEIFS(Collection!$M$6:$M$85,Collection!$D$6:$D$85,">="&2010,Collection!$D$6:$D$85,"<"&2020),1)) -> 4 | F12: =REPT("■",C12) -> ■■■
B13: 2020s | C13: =COUNTIFS(Collection!$D$6:$D$85,">="&2020,Collection!$D$6:$D$85,"<"&2030) -> 3 | D13: =SUMIFS(Collection!$K$6:$K$85,Collection!$D$6:$D$85,">="&2020,Collection!$D$6:$D$85,"<"&2030) -> 28 | E13: =IF(C13=0,"",ROUND(AVERAGEIFS(Collection!$M$6:$M$85,Collection!$D$6:$D$85,">="&2020,Collection!$D$6:$D$85,"<"&2030),1)) -> 4 | F13: =REPT("■",C13) -> ■■■
