Workbook

Sheet Packing List
A1: Item | B1: Section | C1: Category | D1: For | E1: How many | F1: Alex | G1: Sam | H1: Mia | I1: Leo | J1: Status | K1: Notes | L1: On this trip | M1: Ticked | N1: Needed
A2: Passports | B2: Every trip | C2: Documents | D2: Everyone | E2: 1 each | F2: TRUE | G2: TRUE | H2: TRUE | I2: TRUE | J2: =IF(ISBLANK(A2),"",IF(L2=TRUE,IF(M2>=N2,"Packed","To pack"),"Not this trip")) -> Packed | L2: =IFERROR(VLOOKUP(B2,'Trip Setup'!A:B,2,FALSE),FALSE) -> TRUE | M2: =IF(OR(D2="Everyone",D2="Shared"),COUNTIF(F2:I2,TRUE),IF(D2=F$1,IF(F2=TRUE,1,0),IF(D2=G$1,IF(G2=TRUE,1,0),IF(D2=H$1,IF(H2=TRUE,1,0),IF(D2=I$1,IF(I2=TRUE,1,0),0))))) -> 4 | N2: =IF(D2="Everyone",Summary!$B$4,1) -> 4
A3: Driver's license | B3: Every trip | C3: Documents | D3: Alex | E3: 1 | F3: TRUE | G3: FALSE | H3: FALSE | I3: FALSE | J3: =IF(ISBLANK(A3),"",IF(L3=TRUE,IF(M3>=N3,"Packed","To pack"),"Not this trip")) -> Packed | L3: =IFERROR(VLOOKUP(B3,'Trip Setup'!A:B,2,FALSE),FALSE) -> TRUE | M3: =IF(OR(D3="Everyone",D3="Shared"),COUNTIF(F3:I3,TRUE),IF(D3=F$1,IF(F3=TRUE,1,0),IF(D3=G$1,IF(G3=TRUE,1,0),IF(D3=H$1,IF(H3=TRUE,1,0),IF(D3=I$1,IF(I3=TRUE,1,0),0))))) -> 1 | N3: =IF(D3="Everyone",Summary!$B$4,1) -> 1
A4: Travel insurance and booking printouts | B4: Every trip | C4: Documents | D4: Shared | E4: 1 folder | F4: FALSE | G4: TRUE | H4: FALSE | I4: FALSE | J4: =IF(ISBLANK(A4),"",IF(L4=TRUE,IF(M4>=N4,"Packed","To pack"),"Not this trip")) -> Packed | L4: =IFERROR(VLOOKUP(B4,'Trip Setup'!A:B,2,FALSE),FALSE) -> TRUE | M4: =IF(OR(D4="Everyone",D4="Shared"),COUNTIF(F4:I4,TRUE),IF(D4=F$1,IF(F4=TRUE,1,0),IF(D4=G$1,IF(G4=TRUE,1,0),IF(D4=H$1,IF(H4=TRUE,1,0),IF(D4=I$1,IF(I4=TRUE,1,0),0))))) -> 1 | N4: =IF(D4="Everyone",Summary!$B$4,1) -> 1
A5: Credit cards and some cash | B5: Every trip | C5: Documents | D5: Alex | F5: FALSE | G5: FALSE | H5: FALSE | I5: FALSE | J5: =IF(ISBLANK(A5),"",IF(L5=TRUE,IF(M5>=N5,"Packed","To pack"),"Not this trip")) -> To pack | L5: =IFERROR(VLOOKUP(B5,'Trip Setup'!A:B,2,FALSE),FALSE) -> TRUE | M5: =IF(OR(D5="Everyone",D5="Shared"),COUNTIF(F5:I5,TRUE),IF(D5=F$1,IF(F5=TRUE,1,0),IF(D5=G$1,IF(G5=TRUE,1,0),IF(D5=H$1,IF(H5=TRUE,1,0),IF(D5=I$1,IF(I5=TRUE,1,0),0))))) -> 0 | N5: =IF(D5="Everyone",Summary!$B$4,1) -> 1
A6: Underwear | B6: Every trip | C6: Clothes | D6: Everyone | E6: 1 per day + 1 | F6: TRUE | G6: TRUE | H6: TRUE | I6: FALSE | J6: =IF(ISBLANK(A6),"",IF(L6=TRUE,IF(M6>=N6,"Packed","To pack"),"Not this trip")) -> To pack | L6: =IFERROR(VLOOKUP(B6,'Trip Setup'!A:B,2,FALSE),FALSE) -> TRUE | M6: =IF(OR(D6="Everyone",D6="Shared"),COUNTIF(F6:I6,TRUE),IF(D6=F$1,IF(F6=TRUE,1,0),IF(D6=G$1,IF(G6=TRUE,1,0),IF(D6=H$1,IF(H6=TRUE,1,0),IF(D6=I$1,IF(I6=TRUE,1,0),0))))) -> 3 | N6: =IF(D6="Everyone",Summary!$B$4,1) -> 4
A7: Socks | B7: Every trip | C7: Clothes | D7: Everyone | E7: 1 per day | F7: TRUE | G7: TRUE | H7: TRUE | I7: FALSE | J7: =IF(ISBLANK(A7),"",IF(L7=TRUE,IF(M7>=N7,"Packed","To pack"),"Not this trip")) -> To pack | L7: =IFERROR(VLOOKUP(B7,'Trip Setup'!A:B,2,FALSE),FALSE) -> TRUE | M7: =IF(OR(D7="Everyone",D7="Shared"),COUNTIF(F7:I7,TRUE),IF(D7=F$1,IF(F7=TRUE,1,0),IF(D7=G$1,IF(G7=TRUE,1,0),IF(D7=H$1,IF(H7=TRUE,1,0),IF(D7=I$1,IF(I7=TRUE,1,0),0))))) -> 3 | N7: =IF(D7="Everyone",Summary!$B$4,1) -> 4
A8: T-shirts and tops | B8: Every trip | C8: Clothes | D8: Everyone | E8: 5 | F8: TRUE | G8: TRUE | H8: FALSE | I8: FALSE | J8: =IF(ISBLANK(A8),"",IF(L8=TRUE,IF(M8>=N8,"Packed","To pack"),"Not this trip")) -> To pack | L8: =IFERROR(VLOOKUP(B8,'Trip Setup'!A:B,2,FALSE),FALSE) -> TRUE | M8: =IF(OR(D8="Everyone",D8="Shared"),COUNTIF(F8:I8,TRUE),IF(D8=F$1,IF(F8=TRUE,1,0),IF(D8=G$1,IF(G8=TRUE,1,0),IF(D8=H$1,IF(H8=TRUE,1,0),IF(D8=I$1,IF(I8=TRUE,1,0),0))))) -> 2 | N8: =IF(D8="Everyone",Summary!$B$4,1) -> 4
A9: Shorts or pants | B9: Every trip | C9: Clothes | D9: Everyone | E9: 3 | F9: TRUE | G9: TRUE | H9: FALSE | I9: FALSE | J9: =IF(ISBLANK(A9),"",IF(L9=TRUE,IF(M9>=N9,"Packed","To pack"),"Not this trip")) -> To pack | L9: =IFERROR(VLOOKUP(B9,'Trip Setup'!A:B,2,FALSE),FALSE) -> TRUE | M9: =IF(OR(D9="Everyone",D9="Shared"),COUNTIF(F9:I9,TRUE),IF(D9=F$1,IF(F9=TRUE,1,0),IF(D9=G$1,IF(G9=TRUE,1,0),IF(D9=H$1,IF(H9=TRUE,1,0),IF(D9=I$1,IF(I9=TRUE,1,0),0))))) -> 2 | N9: =IF(D9="Everyone",Summary!$B$4,1) -> 4
A10: Pajamas | B10: Every trip | C10: Clothes | D10: Everyone | E10: 2 | F10: TRUE | G10: TRUE | H10: TRUE | I10: TRUE | J10: =IF(ISBLANK(A10),"",IF(L10=TRUE,IF(M10>=N10,"Packed","To pack"),"Not this trip")) -> Packed | L10: =IFERROR(VLOOKUP(B10,'Trip Setup'!A:B,2,FALSE),FALSE) -> TRUE | M10: =IF(OR(D10="Everyone",D10="Shared"),COUNTIF(F10:I10,TRUE),IF(D10=F$1,IF(F10=TRUE,1,0),IF(D10=G$1,IF(G10=TRUE,1,0),IF(D10=H$1,IF(H10=TRUE,1,0),IF(D10=I$1,IF(I10=TRUE,1,0),0))))) -> 4 | N10: =IF(D10="Everyone",Summary!$B$4,1) -> 4
A11: Light sweater or jacket | B11: Every trip | C11: Clothes | D11: Everyone | E11: 1 | F11: FALSE | G11: TRUE | H11: FALSE | I11: FALSE | J11: =IF(ISBLANK(A11),"",IF(L11=TRUE,IF(M11>=N11,"Packed","To pack"),"Not this trip")) -> To pack | K11: Ships and planes get cold | L11: =IFERROR(VLOOKUP(B11,'Trip Setup'!A:B,2,FALSE),FALSE) -> TRUE | M11: =IF(OR(D11="Everyone",D11="Shared"),COUNTIF(F11:I11,TRUE),IF(D11=F$1,IF(F11=TRUE,1,0),IF(D11=G$1,IF(G11=TRUE,1,0),IF(D11=H$1,IF(H11=TRUE,1,0),IF(D11=I$1,IF(I11=TRUE,1,0),0))))) -> 1 | N11: =IF(D11="Everyone",Summary!$B$4,1) -> 4
A12: Comfortable walking shoes | B12: Every trip | C12: Clothes | D12: Everyone | E12: 1 pair | F12: TRUE | G12: TRUE | H12: TRUE | I12: TRUE | J12: =IF(ISBLANK(A12),"",IF(L12=TRUE,IF(M12>=N12,"Packed","To pack"),"Not this trip")) -> Packed | L12: =IFERROR(VLOOKUP(B12,'Trip Setup'!A:B,2,FALSE),FALSE) -> TRUE | M12: =IF(OR(D12="Everyone",D12="Shared"),COUNTIF(F12:I12,TRUE),IF(D12=F$1,IF(F12=TRUE,1,0),IF(D12=G$1,IF(G12=TRUE,1,0),IF(D12=H$1,IF(H12=TRUE,1,0),IF(D12=I$1,IF(I12=TRUE,1,0),0))))) -> 4 | N12: =IF(D12="Everyone",Summary!$B$4,1) -> 4
A13: Toothbrushes | B13: Every trip | C13: Toiletries | D13: Everyone | E13: 1 each | F13: FALSE | G13: FALSE | H13: FALSE | I13: FALSE | J13: =IF(ISBLANK(A13),"",IF(L13=TRUE,IF(M13>=N13,"Packed","To pack"),"Not this trip")) -> To pack | K13: Pack the morning we leave | L13: =IFERROR(VLOOKUP(B13,'Trip Setup'!A:B,2,FALSE),FALSE) -> TRUE | M13: =IF(OR(D13="Everyone",D13="Shared"),COUNTIF(F13:I13,TRUE),IF(D13=F$1,IF(F13=TRUE,1,0),IF(D13=G$1,IF(G13=TRUE,1,0),IF(D13=H$1,IF(H13=TRUE,1,0),IF(D13=I$1,IF(I13=TRUE,1,0),0))))) -> 0 | N13: =IF(D13="Everyone",Summary!$B$4,1) -> 4
A14: Toothpaste | B14: Every trip | C14: Toiletries | D14: Shared | E14: 1 | F14: FALSE | G14: FALSE | H14: FALSE | I14: FALSE | J14: =IF(ISBLANK(A14),"",IF(L14=TRUE,IF(M14>=N14,"Packed","To pack"),"Not this trip")) -> To pack | L14: =IFERROR(VLOOKUP(B14,'Trip Setup'!A:B,2,FALSE),FALSE) -> TRUE | M14: =IF(OR(D14="Everyone",D14="Shared"),COUNTIF(F14:I14,TRUE),IF(D14=F$1,IF(F14=TRUE,1,0),IF(D14=G$1,IF(G14=TRUE,1,0),IF(D14=H$1,IF(H14=TRUE,1,0),IF(D14=I$1,IF(I14=TRUE,1,0),0))))) -> 0 | N14: =IF(D14="Everyone",Summary!$B$4,1) -> 1
A15: Shampoo and body wash (travel size) | B15: Every trip | C15: Toiletries | D15: Shared | E15: 1 set | F15: FALSE | G15: TRUE | H15: FALSE | I15: FALSE | J15: =IF(ISBLANK(A15),"",IF(L15=TRUE,IF(M15>=N15,"Packed","To pack"),"Not this trip")) -> Packed | L15: =IFERROR(VLOOKUP(B15,'Trip Setup'!A:B,2,FALSE),FALSE) -> TRUE | M15: =IF(OR(D15="Everyone",D15="Shared"),COUNTIF(F15:I15,TRUE),IF(D15=F$1,IF(F15=TRUE,1,0),IF(D15=G$1,IF(G15=TRUE,1,0),IF(D15=H$1,IF(H15=TRUE,1,0),IF(D15=I$1,IF(I15=TRUE,1,0),0))))) -> 1 | N15: =IF(D15="Everyone",Summary!$B$4,1) -> 1
A16: Hairbrush | B16: Every trip | C16: Toiletries | D16: Sam | E16: 1 | F16: FALSE | G16: FALSE | H16: FALSE | I16: FALSE | J16: =IF(ISBLANK(A16),"",IF(L16=TRUE,IF(M16>=N16,"Packed","To pack"),"Not this trip")) -> To pack | L16: =IFERROR(VLOOKUP(B16,'Trip Setup'!A:B,2,FALSE),FALSE) -> TRUE | M16: =IF(OR(D16="Everyone",D16="Shared"),COUNTIF(F16:I16,TRUE),IF(D16=F$1,IF(F16=TRUE,1,0),IF(D16=G$1,IF(G16=TRUE,1,0),IF(D16=H$1,IF(H16=TRUE,1,0),IF(D16=I$1,IF(I16=TRUE,1,0),0))))) -> 0 | N16: =IF(D16="Everyone",Summary!$B$4,1) -> 1
A17: Prescription medications | B17: Every trip | C17: Health | D17: Alex | E17: Full trip + 3 days | F17: FALSE | G17: FALSE | H17: FALSE | I17: FALSE | J17: =IF(ISBLANK(A17),"",IF(L17=TRUE,IF(M17>=N17,"Packed","To pack"),"Not this trip")) -> To pack | K17: In carry-on, not checked bag | L17: =IFERROR(VLOOKUP(B17,'Trip Setup'!A:B,2,FALSE),FALSE) -> TRUE | M17: =IF(OR(D17="Everyone",D17="Shared"),COUNTIF(F17:I17,TRUE),IF(D17=F$1,IF(F17=TRUE,1,0),IF(D17=G$1,IF(G17=TRUE,1,0),IF(D17=H$1,IF(H17=TRUE,1,0),IF(D17=I$1,IF(I17=TRUE,1,0),0))))) -> 0 | N17: =IF(D17="Everyone",Summary!$B$4,1) -> 1
A18: Glasses and contacts | B18: Every trip | C18: Health | D18: Sam | F18: FALSE | G18: TRUE | H18: FALSE | I18: FALSE | J18: =IF(ISBLANK(A18),"",IF(L18=TRUE,IF(M18>=N18,"Packed","To pack"),"Not this trip")) -> Packed | L18: =IFERROR(VLOOKUP(B18,'Trip Setup'!A:B,2,FALSE),FALSE) -> TRUE | M18: =IF(OR(D18="Everyone",D18="Shared"),COUNTIF(F18:I18,TRUE),IF(D18=F$1,IF(F18=TRUE,1,0),IF(D18=G$1,IF(G18=TRUE,1,0),IF(D18=H$1,IF(H18=TRUE,1,0),IF(D18=I$1,IF(I18=TRUE,1,0),0))))) -> 1 | N18: =IF(D18="Everyone",Summary!$B$4,1) -> 1
A19: First aid kit and pain reliever | B19: Every trip | C19: Health | D19: Shared | E19: 1 | F19: TRUE | G19: FALSE | H19: FALSE | I19: FALSE | J19: =IF(ISBLANK(A19),"",IF(L19=TRUE,IF(M19>=N19,"Packed","To pack"),"Not this trip")) -> Packed | L19: =IFERROR(VLOOKUP(B19,'Trip Setup'!A:B,2,FALSE),FALSE) -> TRUE | M19: =IF(OR(D19="Everyone",D19="Shared"),COUNTIF(F19:I19,TRUE),IF(D19=F$1,IF(F19=TRUE,1,0),IF(D19=G$1,IF(G19=TRUE,1,0),IF(D19=H$1,IF(H19=TRUE,1,0),IF(D19=I$1,IF(I19=TRUE,1,0),0))))) -> 1 | N19: =IF(D19="Everyone",Summary!$B$4,1) -> 1
A20: Phone chargers | B20: Every trip | C20: Tech | D20: Shared | E20: 2 | F20: FALSE | G20: FALSE | H20: FALSE | I20: FALSE | J20: =IF(ISBLANK(A20),"",IF(L20=TRUE,IF(M20>=N20,"Packed","To pack"),"Not this trip")) -> To pack | L20: =IFERROR(VLOOKUP(B20,'Trip Setup'!A:B,2,FALSE),FALSE) -> TRUE | M20: =IF(OR(D20="Everyone",D20="Shared"),COUNTIF(F20:I20,TRUE),IF(D20=F$1,IF(F20=TRUE,1,0),IF(D20=G$1,IF(G20=TRUE,1,0),IF(D20=H$1,IF(H20=TRUE,1,0),IF(D20=I$1,IF(I20=TRUE,1,0),0))))) -> 0 | N20: =IF(D20="Everyone",Summary!$B$4,1) -> 1
A21: Portable battery | B21: Every trip | C21: Tech | D21: Shared | E21: 1 | F21: TRUE | G21: FALSE | H21: FALSE | I21: FALSE | J21: =IF(ISBLANK(A21),"",IF(L21=TRUE,IF(M21>=N21,"Packed","To pack"),"Not this trip")) -> Packed | L21: =IFERROR(VLOOKUP(B21,'Trip Setup'!A:B,2,FALSE),FALSE) -> TRUE | M21: =IF(OR(D21="Everyone",D21="Shared"),COUNTIF(F21:I21,TRUE),IF(D21=F$1,IF(F21=TRUE,1,0),IF(D21=G$1,IF(G21=TRUE,1,0),IF(D21=H$1,IF(H21=TRUE,1,0),IF(D21=I$1,IF(I21=TRUE,1,0),0))))) -> 1 | N21: =IF(D21="Everyone",Summary!$B$4,1) -> 1
A22: Tablet and headphones | B22: Every trip | C22: Tech | D22: Mia | E22: 1 | F22: FALSE | G22: FALSE | H22: TRUE | I22: FALSE | J22: =IF(ISBLANK(A22),"",IF(L22=TRUE,IF(M22>=N22,"Packed","To pack"),"Not this trip")) -> Packed | L22: =IFERROR(VLOOKUP(B22,'Trip Setup'!A:B,2,FALSE),FALSE) -> TRUE | M22: =IF(OR(D22="Everyone",D22="Shared"),COUNTIF(F22:I22,TRUE),IF(D22=F$1,IF(F22=TRUE,1,0),IF(D22=G$1,IF(G22=TRUE,1,0),IF(D22=H$1,IF(H22=TRUE,1,0),IF(D22=I$1,IF(I22=TRUE,1,0),0))))) -> 1 | N22: =IF(D22="Everyone",Summary!$B$4,1) -> 1
A23: Travel snacks | B23: Every trip | C23: Kids | D23: Shared | F23: FALSE | G23: FALSE | H23: FALSE | I23: FALSE | J23: =IF(ISBLANK(A23),"",IF(L23=TRUE,IF(M23>=N23,"Packed","To pack"),"Not this trip")) -> To pack | L23: =IFERROR(VLOOKUP(B23,'Trip Setup'!A:B,2,FALSE),FALSE) -> TRUE | M23: =IF(OR(D23="Everyone",D23="Shared"),COUNTIF(F23:I23,TRUE),IF(D23=F$1,IF(F23=TRUE,1,0),IF(D23=G$1,IF(G23=TRUE,1,0),IF(D23=H$1,IF(H23=TRUE,1,0),IF(D23=I$1,IF(I23=TRUE,1,0),0))))) -> 0 | N23: =IF(D23="Everyone",Summary!$B$4,1) -> 1
A24: Favorite stuffed animal | B24: Every trip | C24: Kids | D24: Leo | E24: 1 | F24: FALSE | G24: FALSE | H24: FALSE | I24: FALSE | J24: =IF(ISBLANK(A24),"",IF(L24=TRUE,IF(M24>=N24,"Packed","To pack"),"Not this trip")) -> To pack | K24: Don't forget this one | L24: =IFERROR(VLOOKUP(B24,'Trip Setup'!A:B,2,FALSE),FALSE) -> TRUE | M24: =IF(OR(D24="Everyone",D24="Shared"),COUNTIF(F24:I24,TRUE),IF(D24=F$1,IF(F24=TRUE,1,0),IF(D24=G$1,IF(G24=TRUE,1,0),IF(D24=H$1,IF(H24=TRUE,1,0),IF(D24=I$1,IF(I24=TRUE,1,0),0))))) -> 0 | N24: =IF(D24="Everyone",Summary!$B$4,1) -> 1
A25: Boarding documents and luggage tags | B25: Cruise | C25: Documents | D25: Shared | E25: 1 set | F25: TRUE | G25: FALSE | H25: FALSE | I25: FALSE | J25: =IF(ISBLANK(A25),"",IF(L25=TRUE,IF(M25>=N25,"Packed","To pack"),"Not this trip")) -> Packed | K25: Print from the cruise line app | L25: =IFERROR(VLOOKUP(B25,'Trip Setup'!A:B,2,FALSE),FALSE) -> TRUE | M25: =IF(OR(D25="Everyone",D25="Shared"),COUNTIF(F25:I25,TRUE),IF(D25=F$1,IF(F25=TRUE,1,0),IF(D25=G$1,IF(G25=TRUE,1,0),IF(D25=H$1,IF(H25=TRUE,1,0),IF(D25=I$1,IF(I25=TRUE,1,0),0))))) -> 1 | N25: =IF(D25="Everyone",Summary!$B$4,1) -> 1
A26: Lanyard for the key card | B26: Cruise | C26: Gear | D26: Everyone | E26: 1 each | F26: TRUE | G26: TRUE | H26: TRUE | I26: TRUE | J26: =IF(ISBLANK(A26),"",IF(L26=TRUE,IF(M26>=N26,"Packed","To pack"),"Not this trip")) -> Packed | L26: =IFERROR(VLOOKUP(B26,'Trip Setup'!A:B,2,FALSE),FALSE) -> TRUE | M26: =IF(OR(D26="Everyone",D26="Shared"),COUNTIF(F26:I26,TRUE),IF(D26=F$1,IF(F26=TRUE,1,0),IF(D26=G$1,IF(G26=TRUE,1,0),IF(D26=H$1,IF(H26=TRUE,1,0),IF(D26=I$1,IF(I26=TRUE,1,0),0))))) -> 4 | N26: =IF(D26="Everyone",Summary!$B$4,1) -> 4
A27: Formal night outfit | B27: Cruise | C27: Clothes | D27: Everyone | E27: 1 each | F27: TRUE | G27: TRUE | H27: FALSE | I27: FALSE | J27: =IF(ISBLANK(A27),"",IF(L27=TRUE,IF(M27>=N27,"Packed","To pack"),"Not this trip")) -> To pack | L27: =IFERROR(VLOOKUP(B27,'Trip Setup'!A:B,2,FALSE),FALSE) -> TRUE | M27: =IF(OR(D27="Everyone",D27="Shared"),COUNTIF(F27:I27,TRUE),IF(D27=F$1,IF(F27=TRUE,1,0),IF(D27=G$1,IF(G27=TRUE,1,0),IF(D27=H$1,IF(H27=TRUE,1,0),IF(D27=I$1,IF(I27=TRUE,1,0),0))))) -> 2 | N27: =IF(D27="Everyone",Summary!$B$4,1) -> 4
A28: Day-one carry-on with swimsuits | B28: Cruise | C28: Gear | D28: Shared | E28: 1 | F28: FALSE | G28: FALSE | H28: FALSE | I28: FALSE | J28: =IF(ISBLANK(A28),"",IF(L28=TRUE,IF(M28>=N28,"Packed","To pack"),"Not this trip")) -> To pack | K28: Cabins may not be ready until afternoon | L28: =IFERROR(VLOOKUP(B28,'Trip Setup'!A:B,2,FALSE),FALSE) -> TRUE | M28: =IF(OR(D28="Everyone",D28="Shared"),COUNTIF(F28:I28,TRUE),IF(D28=F$1,IF(F28=TRUE,1,0),IF(D28=G$1,IF(G28=TRUE,1,0),IF(D28=H$1,IF(H28=TRUE,1,0),IF(D28=I$1,IF(I28=TRUE,1,0),0))))) -> 0 | N28: =IF(D28="Everyone",Summary!$B$4,1) -> 1
A29: Day bag for port days | B29: Cruise | C29: Gear | D29: Shared | E29: 1 | F29: FALSE | G29: TRUE | H29: FALSE | I29: FALSE | J29: =IF(ISBLANK(A29),"",IF(L29=TRUE,IF(M29>=N29,"Packed","To pack"),"Not this trip")) -> Packed | L29: =IFERROR(VLOOKUP(B29,'Trip Setup'!A:B,2,FALSE),FALSE) -> TRUE | M29: =IF(OR(D29="Everyone",D29="Shared"),COUNTIF(F29:I29,TRUE),IF(D29=F$1,IF(F29=TRUE,1,0),IF(D29=G$1,IF(G29=TRUE,1,0),IF(D29=H$1,IF(H29=TRUE,1,0),IF(D29=I$1,IF(I29=TRUE,1,0),0))))) -> 1 | N29: =IF(D29="Everyone",Summary!$B$4,1) -> 1
A30: Seasickness bands or medicine | B30: Cruise | C30: Health | D30: Shared | F30: FALSE | G30: FALSE | H30: FALSE | I30: FALSE | J30: =IF(ISBLANK(A30),"",IF(L30=TRUE,IF(M30>=N30,"Packed","To pack"),"Not this trip")) -> To pack | L30: =IFERROR(VLOOKUP(B30,'Trip Setup'!A:B,2,FALSE),FALSE) -> TRUE | M30: =IF(OR(D30="Everyone",D30="Shared"),COUNTIF(F30:I30,TRUE),IF(D30=F$1,IF(F30=TRUE,1,0),IF(D30=G$1,IF(G30=TRUE,1,0),IF(D30=H$1,IF(H30=TRUE,1,0),IF(D30=I$1,IF(I30=TRUE,1,0),0))))) -> 0 | N30: =IF(D30="Everyone",Summary!$B$4,1) -> 1
A31: Magnetic hooks for the cabin | B31: Cruise | C31: Gear | D31: Shared | E31: 4 | F31: TRUE | G31: FALSE | H31: FALSE | I31: FALSE | J31: =IF(ISBLANK(A31),"",IF(L31=TRUE,IF(M31>=N31,"Packed","To pack"),"Not this trip")) -> Packed | K31: Cabin walls are usually metal | L31: =IFERROR(VLOOKUP(B31,'Trip Setup'!A:B,2,FALSE),FALSE) -> TRUE | M31: =IF(OR(D31="Everyone",D31="Shared"),COUNTIF(F31:I31,TRUE),IF(D31=F$1,IF(F31=TRUE,1,0),IF(D31=G$1,IF(G31=TRUE,1,0),IF(D31=H$1,IF(H31=TRUE,1,0),IF(D31=I$1,IF(I31=TRUE,1,0),0))))) -> 1 | N31: =IF(D31="Everyone",Summary!$B$4,1) -> 1
A32: Power strip without surge protector | B32: Cruise | C32: Tech | D32: Shared | E32: 1 | F32: FALSE | G32: FALSE | H32: FALSE | I32: FALSE | J32: =IF(ISBLANK(A32),"",IF(L32=TRUE,IF(M32>=N32,"Packed","To pack"),"Not this trip")) -> To pack | K32: Many cruise lines ban surge protectors. Check yours. | L32: =IFERROR(VLOOKUP(B32,'Trip Setup'!A:B,2,FALSE),FALSE) -> TRUE | M32: =IF(OR(D32="Everyone",D32="Shared"),COUNTIF(F32:I32,TRUE),IF(D32=F$1,IF(F32=TRUE,1,0),IF(D32=G$1,IF(G32=TRUE,1,0),IF(D32=H$1,IF(H32=TRUE,1,0),IF(D32=I$1,IF(I32=TRUE,1,0),0))))) -> 0 | N32: =IF(D32="Everyone",Summary!$B$4,1) -> 1
A33: Reusable water bottles | B33: Cruise | C33: Gear | D33: Everyone | E33: 1 each | F33: TRUE | G33: TRUE | H33: FALSE | I33: FALSE | J33: =IF(ISBLANK(A33),"",IF(L33=TRUE,IF(M33>=N33,"Packed","To pack"),"Not this trip")) -> To pack | L33: =IFERROR(VLOOKUP(B33,'Trip Setup'!A:B,2,FALSE),FALSE) -> TRUE | M33: =IF(OR(D33="Everyone",D33="Shared"),COUNTIF(F33:I33,TRUE),IF(D33=F$1,IF(F33=TRUE,1,0),IF(D33=G$1,IF(G33=TRUE,1,0),IF(D33=H$1,IF(H33=TRUE,1,0),IF(D33=I$1,IF(I33=TRUE,1,0),0))))) -> 2 | N33: =IF(D33="Everyone",Summary!$B$4,1) -> 4
A34: Small bills for tips | B34: Cruise | C34: Documents | D34: Alex | F34: FALSE | G34: FALSE | H34: FALSE | I34: FALSE | J34: =IF(ISBLANK(A34),"",IF(L34=TRUE,IF(M34>=N34,"Packed","To pack"),"Not this trip")) -> To pack | L34: =IFERROR(VLOOKUP(B34,'Trip Setup'!A:B,2,FALSE),FALSE) -> TRUE | M34: =IF(OR(D34="Everyone",D34="Shared"),COUNTIF(F34:I34,TRUE),IF(D34=F$1,IF(F34=TRUE,1,0),IF(D34=G$1,IF(G34=TRUE,1,0),IF(D34=H$1,IF(H34=TRUE,1,0),IF(D34=I$1,IF(I34=TRUE,1,0),0))))) -> 0 | N34: =IF(D34="Everyone",Summary!$B$4,1) -> 1
A35: Swimsuits | B35: Beach | C35: Clothes | D35: Everyone | E35: 2 each | F35: TRUE | G35: TRUE | H35: TRUE | I35: TRUE | J35: =IF(ISBLANK(A35),"",IF(L35=TRUE,IF(M35>=N35,"Packed","To pack"),"Not this trip")) -> Packed | L35: =IFERROR(VLOOKUP(B35,'Trip Setup'!A:B,2,FALSE),FALSE) -> TRUE | M35: =IF(OR(D35="Everyone",D35="Shared"),COUNTIF(F35:I35,TRUE),IF(D35=F$1,IF(F35=TRUE,1,0),IF(D35=G$1,IF(G35=TRUE,1,0),IF(D35=H$1,IF(H35=TRUE,1,0),IF(D35=I$1,IF(I35=TRUE,1,0),0))))) -> 4 | N35: =IF(D35="Everyone",Summary!$B$4,1) -> 4
A36: Cover-up | B36: Beach | C36: Clothes | D36: Sam | E36: 1 | F36: FALSE | G36: TRUE | H36: FALSE | I36: FALSE | J36: =IF(ISBLANK(A36),"",IF(L36=TRUE,IF(M36>=N36,"Packed","To pack"),"Not this trip")) -> Packed | L36: =IFERROR(VLOOKUP(B36,'Trip Setup'!A:B,2,FALSE),FALSE) -> TRUE | M36: =IF(OR(D36="Everyone",D36="Shared"),COUNTIF(F36:I36,TRUE),IF(D36=F$1,IF(F36=TRUE,1,0),IF(D36=G$1,IF(G36=TRUE,1,0),IF(D36=H$1,IF(H36=TRUE,1,0),IF(D36=I$1,IF(I36=TRUE,1,0),0))))) -> 1 | N36: =IF(D36="Everyone",Summary!$B$4,1) -> 1
A37: Rash guard | B37: Beach | C37: Clothes | D37: Leo | E37: 1 | F37: FALSE | G37: FALSE | H37: FALSE | I37: TRUE | J37: =IF(ISBLANK(A37),"",IF(L37=TRUE,IF(M37>=N37,"Packed","To pack"),"Not this trip")) -> Packed | L37: =IFERROR(VLOOKUP(B37,'Trip Setup'!A:B,2,FALSE),FALSE) -> TRUE | M37: =IF(OR(D37="Everyone",D37="Shared"),COUNTIF(F37:I37,TRUE),IF(D37=F$1,IF(F37=TRUE,1,0),IF(D37=G$1,IF(G37=TRUE,1,0),IF(D37=H$1,IF(H37=TRUE,1,0),IF(D37=I$1,IF(I37=TRUE,1,0),0))))) -> 1 | N37: =IF(D37="Everyone",Summary!$B$4,1) -> 1
A38: Reef-safe sunscreen | B38: Beach | C38: Health | D38: Shared | E38: 2 bottles | F38: FALSE | G38: TRUE | H38: FALSE | I38: FALSE | J38: =IF(ISBLANK(A38),"",IF(L38=TRUE,IF(M38>=N38,"Packed","To pack"),"Not this trip")) -> Packed | L38: =IFERROR(VLOOKUP(B38,'Trip Setup'!A:B,2,FALSE),FALSE) -> TRUE | M38: =IF(OR(D38="Everyone",D38="Shared"),COUNTIF(F38:I38,TRUE),IF(D38=F$1,IF(F38=TRUE,1,0),IF(D38=G$1,IF(G38=TRUE,1,0),IF(D38=H$1,IF(H38=TRUE,1,0),IF(D38=I$1,IF(I38=TRUE,1,0),0))))) -> 1 | N38: =IF(D38="Everyone",Summary!$B$4,1) -> 1
A39: Sunglasses | B39: Beach | C39: Gear | D39: Everyone | E39: 1 each | F39: TRUE | G39: TRUE | H39: FALSE | I39: FALSE | J39: =IF(ISBLANK(A39),"",IF(L39=TRUE,IF(M39>=N39,"Packed","To pack"),"Not this trip")) -> To pack | L39: =IFERROR(VLOOKUP(B39,'Trip Setup'!A:B,2,FALSE),FALSE) -> TRUE | M39: =IF(OR(D39="Everyone",D39="Shared"),COUNTIF(F39:I39,TRUE),IF(D39=F$1,IF(F39=TRUE,1,0),IF(D39=G$1,IF(G39=TRUE,1,0),IF(D39=H$1,IF(H39=TRUE,1,0),IF(D39=I$1,IF(I39=TRUE,1,0),0))))) -> 2 | N39: =IF(D39="Everyone",Summary!$B$4,1) -> 4
A40: Sun hats | B40: Beach | C40: Clothes | D40: Everyone | E40: 1 each | F40: TRUE | G40: FALSE | H40: FALSE | I40: FALSE | J40: =IF(ISBLANK(A40),"",IF(L40=TRUE,IF(M40>=N40,"Packed","To pack"),"Not this trip")) -> To pack | L40: =IFERROR(VLOOKUP(B40,'Trip Setup'!A:B,2,FALSE),FALSE) -> TRUE | M40: =IF(OR(D40="Everyone",D40="Shared"),COUNTIF(F40:I40,TRUE),IF(D40=F$1,IF(F40=TRUE,1,0),IF(D40=G$1,IF(G40=TRUE,1,0),IF(D40=H$1,IF(H40=TRUE,1,0),IF(D40=I$1,IF(I40=TRUE,1,0),0))))) -> 1 | N40: =IF(D40="Everyone",Summary!$B$4,1) -> 4
A41: Flip-flops or water shoes | B41: Beach | C41: Clothes | D41: Everyone | E41: 1 pair each | F41: TRUE | G41: TRUE | H41: TRUE | I41: TRUE | J41: =IF(ISBLANK(A41),"",IF(L41=TRUE,IF(M41>=N41,"Packed","To pack"),"Not this trip")) -> Packed | L41: =IFERROR(VLOOKUP(B41,'Trip Setup'!A:B,2,FALSE),FALSE) -> TRUE | M41: =IF(OR(D41="Everyone",D41="Shared"),COUNTIF(F41:I41,TRUE),IF(D41=F$1,IF(F41=TRUE,1,0),IF(D41=G$1,IF(G41=TRUE,1,0),IF(D41=H$1,IF(H41=TRUE,1,0),IF(D41=I$1,IF(I41=TRUE,1,0),0))))) -> 4 | N41: =IF(D41="Everyone",Summary!$B$4,1) -> 4
A42: Beach bag | B42: Beach | C42: Gear | D42: Shared | E42: 1 | F42: FALSE | G42: TRUE | H42: FALSE | I42: FALSE | J42: =IF(ISBLANK(A42),"",IF(L42=TRUE,IF(M42>=N42,"Packed","To pack"),"Not this trip")) -> Packed | L42: =IFERROR(VLOOKUP(B42,'Trip Setup'!A:B,2,FALSE),FALSE) -> TRUE | M42: =IF(OR(D42="Everyone",D42="Shared"),COUNTIF(F42:I42,TRUE),IF(D42=F$1,IF(F42=TRUE,1,0),IF(D42=G$1,IF(G42=TRUE,1,0),IF(D42=H$1,IF(H42=TRUE,1,0),IF(D42=I$1,IF(I42=TRUE,1,0),0))))) -> 1 | N42: =IF(D42="Everyone",Summary!$B$4,1) -> 1
A43: Snorkel set | B43: Beach | C43: Gear | D43: Mia | E43: 1 | F43: FALSE | G43: FALSE | H43: FALSE | I43: FALSE | J43: =IF(ISBLANK(A43),"",IF(L43=TRUE,IF(M43>=N43,"Packed","To pack"),"Not this trip")) -> To pack | L43: =IFERROR(VLOOKUP(B43,'Trip Setup'!A:B,2,FALSE),FALSE) -> TRUE | M43: =IF(OR(D43="Everyone",D43="Shared"),COUNTIF(F43:I43,TRUE),IF(D43=F$1,IF(F43=TRUE,1,0),IF(D43=G$1,IF(G43=TRUE,1,0),IF(D43=H$1,IF(H43=TRUE,1,0),IF(D43=I$1,IF(I43=TRUE,1,0),0))))) -> 0 | N43: =IF(D43="Everyone",Summary!$B$4,1) -> 1
A44: Waterproof phone pouch | B44: Beach | C44: Tech | D44: Shared | E44: 2 | F44: FALSE | G44: FALSE | H44: FALSE | I44: FALSE | J44: =IF(ISBLANK(A44),"",IF(L44=TRUE,IF(M44>=N44,"Packed","To pack"),"Not this trip")) -> To pack | L44: =IFERROR(VLOOKUP(B44,'Trip Setup'!A:B,2,FALSE),FALSE) -> TRUE | M44: =IF(OR(D44="Everyone",D44="Shared"),COUNTIF(F44:I44,TRUE),IF(D44=F$1,IF(F44=TRUE,1,0),IF(D44=G$1,IF(G44=TRUE,1,0),IF(D44=H$1,IF(H44=TRUE,1,0),IF(D44=I$1,IF(I44=TRUE,1,0),0))))) -> 0 | N44: =IF(D44="Everyone",Summary!$B$4,1) -> 1
A45: Aloe for sunburn | B45: Beach | C45: Health | D45: Shared | E45: 1 | F45: FALSE | G45: FALSE | H45: FALSE | I45: FALSE | J45: =IF(ISBLANK(A45),"",IF(L45=TRUE,IF(M45>=N45,"Packed","To pack"),"Not this trip")) -> To pack | L45: =IFERROR(VLOOKUP(B45,'Trip Setup'!A:B,2,FALSE),FALSE) -> TRUE | M45: =IF(OR(D45="Everyone",D45="Shared"),COUNTIF(F45:I45,TRUE),IF(D45=F$1,IF(F45=TRUE,1,0),IF(D45=G$1,IF(G45=TRUE,1,0),IF(D45=H$1,IF(H45=TRUE,1,0),IF(D45=I$1,IF(I45=TRUE,1,0),0))))) -> 0 | N45: =IF(D45="Everyone",Summary!$B$4,1) -> 1
A46: Tent and footprint | B46: Camping | C46: Gear | D46: Shared | E46: 1 | F46: FALSE | G46: FALSE | H46: FALSE | I46: FALSE | J46: =IF(ISBLANK(A46),"",IF(L46=TRUE,IF(M46>=N46,"Packed","To pack"),"Not this trip")) -> Not this trip | L46: =IFERROR(VLOOKUP(B46,'Trip Setup'!A:B,2,FALSE),FALSE) -> FALSE | M46: =IF(OR(D46="Everyone",D46="Shared"),COUNTIF(F46:I46,TRUE),IF(D46=F$1,IF(F46=TRUE,1,0),IF(D46=G$1,IF(G46=TRUE,1,0),IF(D46=H$1,IF(H46=TRUE,1,0),IF(D46=I$1,IF(I46=TRUE,1,0),0))))) -> 0 | N46: =IF(D46="Everyone",Summary!$B$4,1) -> 1
... A58: Hand warmers | B58: Winter | C58: Gear | D58: Shared | E58: 1 pack | F58: FALSE | G58: FALSE | H58: FALSE | I58: FALSE | J58: =IF(ISBLANK(A58),"",IF(L58=TRUE,IF(M58>=N58,"Packed","To pack"),"Not this trip")) -> Not this trip | L58: =IFERROR(VLOOKUP(B58,'Trip Setup'!A:B,2,FALSE),FALSE) -> FALSE | M58: =IF(OR(D58="Everyone",D58="Shared"),COUNTIF(F58:I58,TRUE),IF(D58=F$1,IF(F58=TRUE,1,0),IF(D58=G$1,IF(G58=TRUE,1,0),IF(D58=H$1,IF(H58=TRUE,1,0),IF(D58=I$1,IF(I58=TRUE,1,0),0))))) -> 0 | N58: =IF(D58="Everyone",Summary!$B$4,1) -> 1

Sheet Trip Setup
A1: Section | B1: On this trip | C1: Items | D1: Packed | E1: Left to pack
A2: Every trip | B2: TRUE | C2: =COUNTIF('Packing List'!B2:B500,A2) -> 23 | D2: =COUNTIFS('Packing List'!B2:B500,A2,'Packing List'!J2:J500,"Packed") -> 10 | E2: =COUNTIFS('Packing List'!B2:B500,A2,'Packing List'!J2:J500,"To pack") -> 13
A3: Cruise | B3: TRUE | C3: =COUNTIF('Packing List'!B2:B500,A3) -> 10 | D3: =COUNTIFS('Packing List'!B2:B500,A3,'Packing List'!J2:J500,"Packed") -> 4 | E3: =COUNTIFS('Packing List'!B2:B500,A3,'Packing List'!J2:J500,"To pack") -> 6
A4: Beach | B4: TRUE | C4: =COUNTIF('Packing List'!B2:B500,A4) -> 11 | D4: =COUNTIFS('Packing List'!B2:B500,A4,'Packing List'!J2:J500,"Packed") -> 6 | E4: =COUNTIFS('Packing List'!B2:B500,A4,'Packing List'!J2:J500,"To pack") -> 5
A5: Camping | B5: FALSE | C5: =COUNTIF('Packing List'!B2:B500,A5) -> 6 | D5: =COUNTIFS('Packing List'!B2:B500,A5,'Packing List'!J2:J500,"Packed") -> 0 | E5: =COUNTIFS('Packing List'!B2:B500,A5,'Packing List'!J2:J500,"To pack") -> 0
A6: Winter | B6: FALSE | C6: =COUNTIF('Packing List'!B2:B500,A6) -> 7 | D6: =COUNTIFS('Packing List'!B2:B500,A6,'Packing List'!J2:J500,"Packed") -> 0 | E6: =COUNTIFS('Packing List'!B2:B500,A6,'Packing List'!J2:J500,"To pack") -> 0

Sheet Travelers
A1: Traveler | B1: Their items | C1: Left to pack | D1: Packed | E1: Done
A2: ='Packing List'!F1 -> Alex | B2: =COUNTIFS('Packing List'!D2:D500,A2,'Packing List'!L2:L500,TRUE)+COUNTIFS('Packing List'!D2:D500,"Everyone",'Packing List'!L2:L500,TRUE) -> 20 | C2: =COUNTIFS('Packing List'!D2:D500,A2,'Packing List'!L2:L500,TRUE,'Packing List'!F2:F500,FALSE)+COUNTIFS('Packing List'!D2:D500,"Everyone",'Packing List'!L2:L500,TRUE,'Packing List'!F2:F500,FALSE) -> 5 | D2: =B2-C2 -> 15 | E2: =IF(B2=0,0,D2/B2) -> 0.75
A3: ='Packing List'!G1 -> Sam | B3: =COUNTIFS('Packing List'!D2:D500,A3,'Packing List'!L2:L500,TRUE)+COUNTIFS('Packing List'!D2:D500,"Everyone",'Packing List'!L2:L500,TRUE) -> 19 | C3: =COUNTIFS('Packing List'!D2:D500,A3,'Packing List'!L2:L500,TRUE,'Packing List'!G2:G500,FALSE)+COUNTIFS('Packing List'!D2:D500,"Everyone",'Packing List'!L2:L500,TRUE,'Packing List'!G2:G500,FALSE) -> 3 | D3: =B3-C3 -> 16 | E3: =IF(B3=0,0,D3/B3) -> 0.84210526
A4: ='Packing List'!H1 -> Mia | B4: =COUNTIFS('Packing List'!D2:D500,A4,'Packing List'!L2:L500,TRUE)+COUNTIFS('Packing List'!D2:D500,"Everyone",'Packing List'!L2:L500,TRUE) -> 18 | C4: =COUNTIFS('Packing List'!D2:D500,A4,'Packing List'!L2:L500,TRUE,'Packing List'!H2:H500,FALSE)+COUNTIFS('Packing List'!D2:D500,"Everyone",'Packing List'!L2:L500,TRUE,'Packing List'!H2:H500,FALSE) -> 9 | D4: =B4-C4 -> 9 | E4: =IF(B4=0,0,D4/B4) -> 0.5
A5: ='Packing List'!I1 -> Leo | B5: =COUNTIFS('Packing List'!D2:D500,A5,'Packing List'!L2:L500,TRUE)+COUNTIFS('Packing List'!D2:D500,"Everyone",'Packing List'!L2:L500,TRUE) -> 18 | C5: =COUNTIFS('Packing List'!D2:D500,A5,'Packing List'!L2:L500,TRUE,'Packing List'!I2:I500,FALSE)+COUNTIFS('Packing List'!D2:D500,"Everyone",'Packing List'!L2:L500,TRUE,'Packing List'!I2:I500,FALSE) -> 11 | D5: =B5-C5 -> 7 | E5: =IF(B5=0,0,D5/B5) -> 0.38888889

Sheet Summary
A1: Item | B1: Value
A2: Trip | B2: Caribbean cruise
A3: Leaving | B3: =DATE(2027,2,13) -> 46431
A4: Travelers on this trip | B4: 4
A5: Items on this trip | B5: =COUNTIF('Packing List'!J2:J500,"Packed")+COUNTIF('Packing List'!J2:J500,"To pack") -> 44
A6: Packed | B6: =COUNTIF('Packing List'!J2:J500,"Packed") -> 20
A7: Left to pack | B7: =COUNTIF('Packing List'!J2:J500,"To pack") -> 24
A8: Packed so far | B8: =IF(B5=0,0,B6/B5) -> 0.45454545
