Workbook

Sheet Paychecks
A1: Pay date | B1: Regular hours | C1: Overtime hours | D1: Hourly rate | E1: Other pay | F1: Gross pay | G1: Federal tax | H1: State tax | I1: Social Security | J1: Medicare | K1: Health insurance | L1: 401(k) | M1: Other deductions | N1: Total deductions | O1: Net pay | P1: Net on pay stub | Q1: Check | R1: Gross so far | S1: Net so far | T1: Take-home share
A2: 46024 | B2: 80 | C2: 0 | D2: 27.5 | E2: 0 | F2: =ROUND(B2*D2+C2*D2*1.5+E2,2) -> 2200 | G2: 183.77 | H2: 84.9 | I2: 130.68 | J2: 30.56 | K2: 92.3 | L2: 110 | M2: 0 | N2: =SUM(G2:M2) -> 632.21 | O2: =F2-N2 -> 1567.79 | P2: 1567.79 | Q2: =IF(ISBLANK(P2),"",IF(ROUND(O2-P2,2)=0,"Matches","Off by "&TEXT(ABS(O2-P2),"$#,##0.00"))) -> Matches | R2: =SUM($F$2:F2) -> 2200 | S2: =SUM($O$2:O2) -> 1567.79 | T2: =IF(F2=0,0,O2/F2) -> 0.71263182
A3: 46038 | B3: 80 | C3: 4 | D3: 27.5 | E3: 0 | F3: =ROUND(B3*D3+C3*D3*1.5+E3,2) -> 2365 | G3: 199.14 | H3: 91.56 | I3: 140.91 | J3: 32.95 | K3: 92.3 | L3: 118.25 | M3: 0 | N3: =SUM(G3:M3) -> 675.11 | O3: =F3-N3 -> 1689.89 | P3: 1689.89 | Q3: =IF(ISBLANK(P3),"",IF(ROUND(O3-P3,2)=0,"Matches","Off by "&TEXT(ABS(O3-P3),"$#,##0.00"))) -> Matches | R3: =SUM($F$2:F3) -> 4565 | S3: =SUM($O$2:O3) -> 3257.68 | T3: =IF(F3=0,0,O3/F3) -> 0.71454123
A4: 46052 | B4: 80 | C4: 0 | D4: 27.5 | E4: 0 | F4: =ROUND(B4*D4+C4*D4*1.5+E4,2) -> 2200 | G4: 183.77 | H4: 84.9 | I4: 130.68 | J4: 30.56 | K4: 92.3 | L4: 110 | M4: 0 | N4: =SUM(G4:M4) -> 632.21 | O4: =F4-N4 -> 1567.79 | P4: 1567.79 | Q4: =IF(ISBLANK(P4),"",IF(ROUND(O4-P4,2)=0,"Matches","Off by "&TEXT(ABS(O4-P4),"$#,##0.00"))) -> Matches | R4: =SUM($F$2:F4) -> 6765 | S4: =SUM($O$2:O4) -> 4825.47 | T4: =IF(F4=0,0,O4/F4) -> 0.71263182
A5: 46066 | B5: 80 | C5: 0 | D5: 27.5 | E5: 0 | F5: =ROUND(B5*D5+C5*D5*1.5+E5,2) -> 2200 | G5: 183.77 | H5: 84.9 | I5: 130.68 | J5: 30.56 | K5: 92.3 | L5: 110 | M5: 0 | N5: =SUM(G5:M5) -> 632.21 | O5: =F5-N5 -> 1567.79 | P5: 1567.79 | Q5: =IF(ISBLANK(P5),"",IF(ROUND(O5-P5,2)=0,"Matches","Off by "&TEXT(ABS(O5-P5),"$#,##0.00"))) -> Matches | R5: =SUM($F$2:F5) -> 8965 | S5: =SUM($O$2:O5) -> 6393.26 | T5: =IF(F5=0,0,O5/F5) -> 0.71263182
A6: 46080 | B6: 80 | C6: 6 | D6: 27.5 | E6: 0 | F6: =ROUND(B6*D6+C6*D6*1.5+E6,2) -> 2447.5 | G6: 206.82 | H6: 94.89 | I6: 146.02 | J6: 34.15 | K6: 92.3 | L6: 122.38 | M6: 0 | N6: =SUM(G6:M6) -> 696.56 | O6: =F6-N6 -> 1750.94 | P6: 1750.94 | Q6: =IF(ISBLANK(P6),"",IF(ROUND(O6-P6,2)=0,"Matches","Off by "&TEXT(ABS(O6-P6),"$#,##0.00"))) -> Matches | R6: =SUM($F$2:F6) -> 11412.5 | S6: =SUM($O$2:O6) -> 8144.2 | T6: =IF(F6=0,0,O6/F6) -> 0.71539939
A7: 46094 | B7: 80 | C7: 0 | D7: 27.5 | E7: 500 | F7: =ROUND(B7*D7+C7*D7*1.5+E7,2) -> 2700 | G7: 230.32 | H7: 105.09 | I7: 161.68 | J7: 37.81 | K7: 92.3 | L7: 135 | M7: 0 | N7: =SUM(G7:M7) -> 762.2 | O7: =F7-N7 -> 1937.8 | P7: 1937.8 | Q7: =IF(ISBLANK(P7),"",IF(ROUND(O7-P7,2)=0,"Matches","Off by "&TEXT(ABS(O7-P7),"$#,##0.00"))) -> Matches | R7: =SUM($F$2:F7) -> 14112.5 | S7: =SUM($O$2:O7) -> 10082 | T7: =IF(F7=0,0,O7/F7) -> 0.7177037
A8: 46108 | B8: 80 | C8: 0 | D8: 27.5 | E8: 0 | F8: =ROUND(B8*D8+C8*D8*1.5+E8,2) -> 2200 | G8: 183.77 | H8: 84.9 | I8: 130.68 | J8: 30.56 | K8: 92.3 | L8: 110 | M8: 0 | N8: =SUM(G8:M8) -> 632.21 | O8: =F8-N8 -> 1567.79 | P8: 1567.79 | Q8: =IF(ISBLANK(P8),"",IF(ROUND(O8-P8,2)=0,"Matches","Off by "&TEXT(ABS(O8-P8),"$#,##0.00"))) -> Matches | R8: =SUM($F$2:F8) -> 16312.5 | S8: =SUM($O$2:O8) -> 11649.79 | T8: =IF(F8=0,0,O8/F8) -> 0.71263182
A9: 46122 | B9: 80 | C9: 0 | D9: 27.5 | E9: 0 | F9: =ROUND(B9*D9+C9*D9*1.5+E9,2) -> 2200 | G9: 183.77 | H9: 84.9 | I9: 130.68 | J9: 30.56 | K9: 92.3 | L9: 110 | M9: 0 | N9: =SUM(G9:M9) -> 632.21 | O9: =F9-N9 -> 1567.79 | P9: 1567.79 | Q9: =IF(ISBLANK(P9),"",IF(ROUND(O9-P9,2)=0,"Matches","Off by "&TEXT(ABS(O9-P9),"$#,##0.00"))) -> Matches | R9: =SUM($F$2:F9) -> 18512.5 | S9: =SUM($O$2:O9) -> 13217.58 | T9: =IF(F9=0,0,O9/F9) -> 0.71263182
A10: 46136 | B10: 80 | C10: 0 | D10: 27.5 | E10: 0 | F10: =ROUND(B10*D10+C10*D10*1.5+E10,2) -> 2200 | G10: 183.77 | H10: 84.9 | I10: 130.68 | J10: 30.56 | K10: 92.3 | L10: 110 | M10: 0 | N10: =SUM(G10:M10) -> 632.21 | O10: =F10-N10 -> 1567.79 | P10: 1567.79 | Q10: =IF(ISBLANK(P10),"",IF(ROUND(O10-P10,2)=0,"Matches","Off by "&TEXT(ABS(O10-P10),"$#,##0.00"))) -> Matches | R10: =SUM($F$2:F10) -> 20712.5 | S10: =SUM($O$2:O10) -> 14785.37 | T10: =IF(F10=0,0,O10/F10) -> 0.71263182
A11: 46150 | B11: 80 | C11: 8 | D11: 27.5 | E11: 0 | F11: =ROUND(B11*D11+C11*D11*1.5+E11,2) -> 2530 | G11: 214.5 | H11: 98.23 | I11: 151.14 | J11: 35.35 | K11: 92.3 | L11: 126.5 | M11: 0 | N11: =SUM(G11:M11) -> 718.02 | O11: =F11-N11 -> 1811.98 | P11: 1811.98 | Q11: =IF(ISBLANK(P11),"",IF(ROUND(O11-P11,2)=0,"Matches","Off by "&TEXT(ABS(O11-P11),"$#,##0.00"))) -> Matches | R11: =SUM($F$2:F11) -> 23242.5 | S11: =SUM($O$2:O11) -> 16597.35 | T11: =IF(F11=0,0,O11/F11) -> 0.71619763
A12: 46164 | B12: 80 | C12: 5 | D12: 27.5 | E12: 0 | F12: =ROUND(B12*D12+C12*D12*1.5+E12,2) -> 2406.25 | G12: 202.98 | H12: 93.23 | I12: 143.46 | J12: 33.55 | K12: 92.3 | L12: 120.31 | M12: 0 | N12: =SUM(G12:M12) -> 685.83 | O12: =F12-N12 -> 1720.42 | P12: 1720.42 | Q12: =IF(ISBLANK(P12),"",IF(ROUND(O12-P12,2)=0,"Matches","Off by "&TEXT(ABS(O12-P12),"$#,##0.00"))) -> Matches | R12: =SUM($F$2:F12) -> 25648.75 | S12: =SUM($O$2:O12) -> 18317.77 | T12: =IF(F12=0,0,O12/F12) -> 0.71497974
A13: 46178 | B13: 80 | C13: 0 | D13: 27.5 | E13: 0 | F13: =ROUND(B13*D13+C13*D13*1.5+E13,2) -> 2200 | G13: 183.77 | H13: 84.9 | I13: 130.68 | J13: 30.56 | K13: 92.3 | L13: 110 | M13: 0 | N13: =SUM(G13:M13) -> 632.21 | O13: =F13-N13 -> 1567.79 | P13: 1567.79 | Q13: =IF(ISBLANK(P13),"",IF(ROUND(O13-P13,2)=0,"Matches","Off by "&TEXT(ABS(O13-P13),"$#,##0.00"))) -> Matches | R13: =SUM($F$2:F13) -> 27848.75 | S13: =SUM($O$2:O13) -> 19885.56 | T13: =IF(F13=0,0,O13/F13) -> 0.71263182
... A22: 46304 | B22: 80 | C22: 0 | D22: 28.75 | E22: 0 | F22: =ROUND(B22*D22+C22*D22*1.5+E22,2) -> 2300 | G22: 193.08 | H22: 88.94 | I22: 136.88 | J22: 32.01 | K22: 92.3 | L22: 115 | M22: 0 | N22: =SUM(G22:M22) -> 658.21 | O22: =F22-N22 -> 1641.79 | P22: 1641.79 | Q22: =IF(ISBLANK(P22),"",IF(ROUND(O22-P22,2)=0,"Matches","Off by "&TEXT(ABS(O22-P22),"$#,##0.00"))) -> Matches | R22: =SUM($F$2:F22) -> 48836.88 | S22: =SUM($O$2:O22) -> 34874.89 | T22: =IF(F22=0,0,O22/F22) -> 0.71382174

Sheet Year to Date
A1: Item | B1: Year to date | C1: Per paycheck | D1: Share of gross
A2: Paychecks this year | B2: =COUNTA(Paychecks!A2:A500) -> 21
A3: Regular hours | B3: =SUM(Paychecks!B2:B500) -> 1680 | C3: =IF($B$2=0,0,B3/$B$2) -> 80
A4: Overtime hours | B4: =SUM(Paychecks!C2:C500) -> 32 | C4: =IF($B$2=0,0,B4/$B$2) -> 1.5238095
A5: Other pay | B5: =SUM(Paychecks!E2:E500) -> 500 | C5: =IF($B$2=0,0,B5/$B$2) -> 23.809524 | D5: =IF($B$6=0,0,B5/$B$6) -> 0.010238164
A6: Gross pay | B6: =SUM(Paychecks!F2:F500) -> 48836.88 | C6: =IF($B$2=0,0,B6/$B$2) -> 2325.5657 | D6: =IF($B$6=0,0,B6/$B$6) -> 1
A7: Federal tax | B7: =SUM(Paychecks!G2:G500) -> 4104.7 | C7: =IF($B$2=0,0,B7/$B$2) -> 195.4619 | D7: =IF($B$6=0,0,B7/$B$6) -> 0.084049186
A8: State tax | B8: =SUM(Paychecks!H2:H500) -> 1889.39 | C8: =IF($B$2=0,0,B8/$B$2) -> 89.970952 | D8: =IF($B$6=0,0,B8/$B$6) -> 0.03868777
A9: Social Security | B9: =SUM(Paychecks!I2:I500) -> 2907.75 | C9: =IF($B$2=0,0,B9/$B$2) -> 138.46429 | D9: =IF($B$6=0,0,B9/$B$6) -> 0.059540044
A10: Medicare | B10: =SUM(Paychecks!J2:J500) -> 680 | C10: =IF($B$2=0,0,B10/$B$2) -> 32.380952 | D10: =IF($B$6=0,0,B10/$B$6) -> 0.013923903
A11: Health insurance | B11: =SUM(Paychecks!K2:K500) -> 1938.3 | C11: =IF($B$2=0,0,B11/$B$2) -> 92.3 | D11: =IF($B$6=0,0,B11/$B$6) -> 0.039689268
A12: 401(k) | B12: =SUM(Paychecks!L2:L500) -> 2441.85 | C12: =IF($B$2=0,0,B12/$B$2) -> 116.27857 | D12: =IF($B$6=0,0,B12/$B$6) -> 0.050000123
A13: Other deductions | B13: =SUM(Paychecks!M2:M500) -> 0 | C13: =IF($B$2=0,0,B13/$B$2) -> 0 | D13: =IF($B$6=0,0,B13/$B$6) -> 0
A14: Total deductions | B14: =SUM(Paychecks!N2:N500) -> 13961.99 | C14: =IF($B$2=0,0,B14/$B$2) -> 664.85667 | D14: =IF($B$6=0,0,B14/$B$6) -> 0.28589029
A15: Net pay | B15: =SUM(Paychecks!O2:O500) -> 34874.89 | C15: =IF($B$2=0,0,B15/$B$2) -> 1660.709 | D15: =IF($B$6=0,0,B15/$B$6) -> 0.71410971
A16: Taxes withheld (federal, state, FICA) | B16: =SUM(B7:B10) -> 9581.84 | C16: =IF($B$2=0,0,B16/$B$2) -> 456.2781 | D16: =IF($B$6=0,0,B16/$B$6) -> 0.1962009
A17: Paychecks that don't match the stub | B17: =COUNTIF(Paychecks!Q2:Q500,"Off*") -> 1

Sheet By Month
A1: Month | B1: Paychecks | C1: Gross pay | D1: Taxes | E1: Benefits and other | F1: Net pay | G1: Note
A2: =DATE(YEAR(Paychecks!A2),1,1) -> 46023 | B2: =COUNTIFS(Paychecks!A2:A500,">="&A2,Paychecks!A2:A500,"<="&EOMONTH(A2,0)) -> 3 | C2: =SUMIFS(Paychecks!F2:F500,Paychecks!A2:A500,">="&A2,Paychecks!A2:A500,"<="&EOMONTH(A2,0)) -> 6765 | D2: =SUMIFS(Paychecks!G2:G500,Paychecks!A2:A500,">="&A2,Paychecks!A2:A500,"<="&EOMONTH(A2,0))+SUMIFS(Paychecks!H2:H500,Paychecks!A2:A500,">="&A2,Paychecks!A2:A500,"<="&EOMONTH(A2,0))+SUMIFS(Paychecks!I2:I500,Paychecks!A2:A500,">="&A2,Paychecks!A2:A500,"<="&EOMONTH(A2,0))+SUMIFS(Paychecks!J2:J500,Paychecks!A2:A500,">="&A2,Paychecks!A2:A500,"<="&EOMONTH(A2,0)) -> 1324.38 | E2: =SUMIFS(Paychecks!K2:K500,Paychecks!A2:A500,">="&A2,Paychecks!A2:A500,"<="&EOMONTH(A2,0))+SUMIFS(Paychecks!L2:L500,Paychecks!A2:A500,">="&A2,Paychecks!A2:A500,"<="&EOMONTH(A2,0))+SUMIFS(Paychecks!M2:M500,Paychecks!A2:A500,">="&A2,Paychecks!A2:A500,"<="&EOMONTH(A2,0)) -> 615.15 | F2: =SUMIFS(Paychecks!O2:O500,Paychecks!A2:A500,">="&A2,Paychecks!A2:A500,"<="&EOMONTH(A2,0)) -> 4825.47 | G2: =IF(B2>2,"3 paychecks","") -> 3 paychecks
A3: =DATE(YEAR($A$2),2,1) -> 46054 | B3: =COUNTIFS(Paychecks!A2:A500,">="&A3,Paychecks!A2:A500,"<="&EOMONTH(A3,0)) -> 2 | C3: =SUMIFS(Paychecks!F2:F500,Paychecks!A2:A500,">="&A3,Paychecks!A2:A500,"<="&EOMONTH(A3,0)) -> 4647.5 | D3: =SUMIFS(Paychecks!G2:G500,Paychecks!A2:A500,">="&A3,Paychecks!A2:A500,"<="&EOMONTH(A3,0))+SUMIFS(Paychecks!H2:H500,Paychecks!A2:A500,">="&A3,Paychecks!A2:A500,"<="&EOMONTH(A3,0))+SUMIFS(Paychecks!I2:I500,Paychecks!A2:A500,">="&A3,Paychecks!A2:A500,"<="&EOMONTH(A3,0))+SUMIFS(Paychecks!J2:J500,Paychecks!A2:A500,">="&A3,Paychecks!A2:A500,"<="&EOMONTH(A3,0)) -> 911.79 | E3: =SUMIFS(Paychecks!K2:K500,Paychecks!A2:A500,">="&A3,Paychecks!A2:A500,"<="&EOMONTH(A3,0))+SUMIFS(Paychecks!L2:L500,Paychecks!A2:A500,">="&A3,Paychecks!A2:A500,"<="&EOMONTH(A3,0))+SUMIFS(Paychecks!M2:M500,Paychecks!A2:A500,">="&A3,Paychecks!A2:A500,"<="&EOMONTH(A3,0)) -> 416.98 | F3: =SUMIFS(Paychecks!O2:O500,Paychecks!A2:A500,">="&A3,Paychecks!A2:A500,"<="&EOMONTH(A3,0)) -> 3318.73 | G3: =IF(B3>2,"3 paychecks","")
A4: =DATE(YEAR($A$2),3,1) -> 46082 | B4: =COUNTIFS(Paychecks!A2:A500,">="&A4,Paychecks!A2:A500,"<="&EOMONTH(A4,0)) -> 2 | C4: =SUMIFS(Paychecks!F2:F500,Paychecks!A2:A500,">="&A4,Paychecks!A2:A500,"<="&EOMONTH(A4,0)) -> 4900 | D4: =SUMIFS(Paychecks!G2:G500,Paychecks!A2:A500,">="&A4,Paychecks!A2:A500,"<="&EOMONTH(A4,0))+SUMIFS(Paychecks!H2:H500,Paychecks!A2:A500,">="&A4,Paychecks!A2:A500,"<="&EOMONTH(A4,0))+SUMIFS(Paychecks!I2:I500,Paychecks!A2:A500,">="&A4,Paychecks!A2:A500,"<="&EOMONTH(A4,0))+SUMIFS(Paychecks!J2:J500,Paychecks!A2:A500,">="&A4,Paychecks!A2:A500,"<="&EOMONTH(A4,0)) -> 964.81 | E4: =SUMIFS(Paychecks!K2:K500,Paychecks!A2:A500,">="&A4,Paychecks!A2:A500,"<="&EOMONTH(A4,0))+SUMIFS(Paychecks!L2:L500,Paychecks!A2:A500,">="&A4,Paychecks!A2:A500,"<="&EOMONTH(A4,0))+SUMIFS(Paychecks!M2:M500,Paychecks!A2:A500,">="&A4,Paychecks!A2:A500,"<="&EOMONTH(A4,0)) -> 429.6 | F4: =SUMIFS(Paychecks!O2:O500,Paychecks!A2:A500,">="&A4,Paychecks!A2:A500,"<="&EOMONTH(A4,0)) -> 3505.59 | G4: =IF(B4>2,"3 paychecks","")
A5: =DATE(YEAR($A$2),4,1) -> 46113 | B5: =COUNTIFS(Paychecks!A2:A500,">="&A5,Paychecks!A2:A500,"<="&EOMONTH(A5,0)) -> 2 | C5: =SUMIFS(Paychecks!F2:F500,Paychecks!A2:A500,">="&A5,Paychecks!A2:A500,"<="&EOMONTH(A5,0)) -> 4400 | D5: =SUMIFS(Paychecks!G2:G500,Paychecks!A2:A500,">="&A5,Paychecks!A2:A500,"<="&EOMONTH(A5,0))+SUMIFS(Paychecks!H2:H500,Paychecks!A2:A500,">="&A5,Paychecks!A2:A500,"<="&EOMONTH(A5,0))+SUMIFS(Paychecks!I2:I500,Paychecks!A2:A500,">="&A5,Paychecks!A2:A500,"<="&EOMONTH(A5,0))+SUMIFS(Paychecks!J2:J500,Paychecks!A2:A500,">="&A5,Paychecks!A2:A500,"<="&EOMONTH(A5,0)) -> 859.82 | E5: =SUMIFS(Paychecks!K2:K500,Paychecks!A2:A500,">="&A5,Paychecks!A2:A500,"<="&EOMONTH(A5,0))+SUMIFS(Paychecks!L2:L500,Paychecks!A2:A500,">="&A5,Paychecks!A2:A500,"<="&EOMONTH(A5,0))+SUMIFS(Paychecks!M2:M500,Paychecks!A2:A500,">="&A5,Paychecks!A2:A500,"<="&EOMONTH(A5,0)) -> 404.6 | F5: =SUMIFS(Paychecks!O2:O500,Paychecks!A2:A500,">="&A5,Paychecks!A2:A500,"<="&EOMONTH(A5,0)) -> 3135.58 | G5: =IF(B5>2,"3 paychecks","")
A6: =DATE(YEAR($A$2),5,1) -> 46143 | B6: =COUNTIFS(Paychecks!A2:A500,">="&A6,Paychecks!A2:A500,"<="&EOMONTH(A6,0)) -> 2 | C6: =SUMIFS(Paychecks!F2:F500,Paychecks!A2:A500,">="&A6,Paychecks!A2:A500,"<="&EOMONTH(A6,0)) -> 4936.25 | D6: =SUMIFS(Paychecks!G2:G500,Paychecks!A2:A500,">="&A6,Paychecks!A2:A500,"<="&EOMONTH(A6,0))+SUMIFS(Paychecks!H2:H500,Paychecks!A2:A500,">="&A6,Paychecks!A2:A500,"<="&EOMONTH(A6,0))+SUMIFS(Paychecks!I2:I500,Paychecks!A2:A500,">="&A6,Paychecks!A2:A500,"<="&EOMONTH(A6,0))+SUMIFS(Paychecks!J2:J500,Paychecks!A2:A500,">="&A6,Paychecks!A2:A500,"<="&EOMONTH(A6,0)) -> 972.44 | E6: =SUMIFS(Paychecks!K2:K500,Paychecks!A2:A500,">="&A6,Paychecks!A2:A500,"<="&EOMONTH(A6,0))+SUMIFS(Paychecks!L2:L500,Paychecks!A2:A500,">="&A6,Paychecks!A2:A500,"<="&EOMONTH(A6,0))+SUMIFS(Paychecks!M2:M500,Paychecks!A2:A500,">="&A6,Paychecks!A2:A500,"<="&EOMONTH(A6,0)) -> 431.41 | F6: =SUMIFS(Paychecks!O2:O500,Paychecks!A2:A500,">="&A6,Paychecks!A2:A500,"<="&EOMONTH(A6,0)) -> 3532.4 | G6: =IF(B6>2,"3 paychecks","")
A7: =DATE(YEAR($A$2),6,1) -> 46174 | B7: =COUNTIFS(Paychecks!A2:A500,">="&A7,Paychecks!A2:A500,"<="&EOMONTH(A7,0)) -> 2 | C7: =SUMIFS(Paychecks!F2:F500,Paychecks!A2:A500,">="&A7,Paychecks!A2:A500,"<="&EOMONTH(A7,0)) -> 4400 | D7: =SUMIFS(Paychecks!G2:G500,Paychecks!A2:A500,">="&A7,Paychecks!A2:A500,"<="&EOMONTH(A7,0))+SUMIFS(Paychecks!H2:H500,Paychecks!A2:A500,">="&A7,Paychecks!A2:A500,"<="&EOMONTH(A7,0))+SUMIFS(Paychecks!I2:I500,Paychecks!A2:A500,">="&A7,Paychecks!A2:A500,"<="&EOMONTH(A7,0))+SUMIFS(Paychecks!J2:J500,Paychecks!A2:A500,">="&A7,Paychecks!A2:A500,"<="&EOMONTH(A7,0)) -> 859.82 | E7: =SUMIFS(Paychecks!K2:K500,Paychecks!A2:A500,">="&A7,Paychecks!A2:A500,"<="&EOMONTH(A7,0))+SUMIFS(Paychecks!L2:L500,Paychecks!A2:A500,">="&A7,Paychecks!A2:A500,"<="&EOMONTH(A7,0))+SUMIFS(Paychecks!M2:M500,Paychecks!A2:A500,">="&A7,Paychecks!A2:A500,"<="&EOMONTH(A7,0)) -> 404.6 | F7: =SUMIFS(Paychecks!O2:O500,Paychecks!A2:A500,">="&A7,Paychecks!A2:A500,"<="&EOMONTH(A7,0)) -> 3135.58 | G7: =IF(B7>2,"3 paychecks","")
A8: =DATE(YEAR($A$2),7,1) -> 46204 | B8: =COUNTIFS(Paychecks!A2:A500,">="&A8,Paychecks!A2:A500,"<="&EOMONTH(A8,0)) -> 3 | C8: =SUMIFS(Paychecks!F2:F500,Paychecks!A2:A500,">="&A8,Paychecks!A2:A500,"<="&EOMONTH(A8,0)) -> 7029.38 | D8: =SUMIFS(Paychecks!G2:G500,Paychecks!A2:A500,">="&A8,Paychecks!A2:A500,"<="&EOMONTH(A8,0))+SUMIFS(Paychecks!H2:H500,Paychecks!A2:A500,">="&A8,Paychecks!A2:A500,"<="&EOMONTH(A8,0))+SUMIFS(Paychecks!I2:I500,Paychecks!A2:A500,">="&A8,Paychecks!A2:A500,"<="&EOMONTH(A8,0))+SUMIFS(Paychecks!J2:J500,Paychecks!A2:A500,">="&A8,Paychecks!A2:A500,"<="&EOMONTH(A8,0)) -> 1379.9 | E8: =SUMIFS(Paychecks!K2:K500,Paychecks!A2:A500,">="&A8,Paychecks!A2:A500,"<="&EOMONTH(A8,0))+SUMIFS(Paychecks!L2:L500,Paychecks!A2:A500,">="&A8,Paychecks!A2:A500,"<="&EOMONTH(A8,0))+SUMIFS(Paychecks!M2:M500,Paychecks!A2:A500,">="&A8,Paychecks!A2:A500,"<="&EOMONTH(A8,0)) -> 628.37 | F8: =SUMIFS(Paychecks!O2:O500,Paychecks!A2:A500,">="&A8,Paychecks!A2:A500,"<="&EOMONTH(A8,0)) -> 5021.11 | G8: =IF(B8>2,"3 paychecks","") -> 3 paychecks
A9: =DATE(YEAR($A$2),8,1) -> 46235 | B9: =COUNTIFS(Paychecks!A2:A500,">="&A9,Paychecks!A2:A500,"<="&EOMONTH(A9,0)) -> 2 | C9: =SUMIFS(Paychecks!F2:F500,Paychecks!A2:A500,">="&A9,Paychecks!A2:A500,"<="&EOMONTH(A9,0)) -> 4600 | D9: =SUMIFS(Paychecks!G2:G500,Paychecks!A2:A500,">="&A9,Paychecks!A2:A500,"<="&EOMONTH(A9,0))+SUMIFS(Paychecks!H2:H500,Paychecks!A2:A500,">="&A9,Paychecks!A2:A500,"<="&EOMONTH(A9,0))+SUMIFS(Paychecks!I2:I500,Paychecks!A2:A500,">="&A9,Paychecks!A2:A500,"<="&EOMONTH(A9,0))+SUMIFS(Paychecks!J2:J500,Paychecks!A2:A500,">="&A9,Paychecks!A2:A500,"<="&EOMONTH(A9,0)) -> 901.82 | E9: =SUMIFS(Paychecks!K2:K500,Paychecks!A2:A500,">="&A9,Paychecks!A2:A500,"<="&EOMONTH(A9,0))+SUMIFS(Paychecks!L2:L500,Paychecks!A2:A500,">="&A9,Paychecks!A2:A500,"<="&EOMONTH(A9,0))+SUMIFS(Paychecks!M2:M500,Paychecks!A2:A500,">="&A9,Paychecks!A2:A500,"<="&EOMONTH(A9,0)) -> 414.6 | F9: =SUMIFS(Paychecks!O2:O500,Paychecks!A2:A500,">="&A9,Paychecks!A2:A500,"<="&EOMONTH(A9,0)) -> 3283.58 | G9: =IF(B9>2,"3 paychecks","")
A10: =DATE(YEAR($A$2),9,1) -> 46266 | B10: =COUNTIFS(Paychecks!A2:A500,">="&A10,Paychecks!A2:A500,"<="&EOMONTH(A10,0)) -> 2 | C10: =SUMIFS(Paychecks!F2:F500,Paychecks!A2:A500,">="&A10,Paychecks!A2:A500,"<="&EOMONTH(A10,0)) -> 4858.75 | D10: =SUMIFS(Paychecks!G2:G500,Paychecks!A2:A500,">="&A10,Paychecks!A2:A500,"<="&EOMONTH(A10,0))+SUMIFS(Paychecks!H2:H500,Paychecks!A2:A500,">="&A10,Paychecks!A2:A500,"<="&EOMONTH(A10,0))+SUMIFS(Paychecks!I2:I500,Paychecks!A2:A500,">="&A10,Paychecks!A2:A500,"<="&EOMONTH(A10,0))+SUMIFS(Paychecks!J2:J500,Paychecks!A2:A500,">="&A10,Paychecks!A2:A500,"<="&EOMONTH(A10,0)) -> 956.15 | E10: =SUMIFS(Paychecks!K2:K500,Paychecks!A2:A500,">="&A10,Paychecks!A2:A500,"<="&EOMONTH(A10,0))+SUMIFS(Paychecks!L2:L500,Paychecks!A2:A500,">="&A10,Paychecks!A2:A500,"<="&EOMONTH(A10,0))+SUMIFS(Paychecks!M2:M500,Paychecks!A2:A500,">="&A10,Paychecks!A2:A500,"<="&EOMONTH(A10,0)) -> 427.54 | F10: =SUMIFS(Paychecks!O2:O500,Paychecks!A2:A500,">="&A10,Paychecks!A2:A500,"<="&EOMONTH(A10,0)) -> 3475.06 | G10: =IF(B10>2,"3 paychecks","")
A11: =DATE(YEAR($A$2),10,1) -> 46296 | B11: =COUNTIFS(Paychecks!A2:A500,">="&A11,Paychecks!A2:A500,"<="&EOMONTH(A11,0)) -> 1 | C11: =SUMIFS(Paychecks!F2:F500,Paychecks!A2:A500,">="&A11,Paychecks!A2:A500,"<="&EOMONTH(A11,0)) -> 2300 | D11: =SUMIFS(Paychecks!G2:G500,Paychecks!A2:A500,">="&A11,Paychecks!A2:A500,"<="&EOMONTH(A11,0))+SUMIFS(Paychecks!H2:H500,Paychecks!A2:A500,">="&A11,Paychecks!A2:A500,"<="&EOMONTH(A11,0))+SUMIFS(Paychecks!I2:I500,Paychecks!A2:A500,">="&A11,Paychecks!A2:A500,"<="&EOMONTH(A11,0))+SUMIFS(Paychecks!J2:J500,Paychecks!A2:A500,">="&A11,Paychecks!A2:A500,"<="&EOMONTH(A11,0)) -> 450.91 | E11: =SUMIFS(Paychecks!K2:K500,Paychecks!A2:A500,">="&A11,Paychecks!A2:A500,"<="&EOMONTH(A11,0))+SUMIFS(Paychecks!L2:L500,Paychecks!A2:A500,">="&A11,Paychecks!A2:A500,"<="&EOMONTH(A11,0))+SUMIFS(Paychecks!M2:M500,Paychecks!A2:A500,">="&A11,Paychecks!A2:A500,"<="&EOMONTH(A11,0)) -> 207.3 | F11: =SUMIFS(Paychecks!O2:O500,Paychecks!A2:A500,">="&A11,Paychecks!A2:A500,"<="&EOMONTH(A11,0)) -> 1641.79 | G11: =IF(B11>2,"3 paychecks","")
A12: =DATE(YEAR($A$2),11,1) -> 46327 | B12: =COUNTIFS(Paychecks!A2:A500,">="&A12,Paychecks!A2:A500,"<="&EOMONTH(A12,0)) -> 0 | C12: =SUMIFS(Paychecks!F2:F500,Paychecks!A2:A500,">="&A12,Paychecks!A2:A500,"<="&EOMONTH(A12,0)) -> 0 | D12: =SUMIFS(Paychecks!G2:G500,Paychecks!A2:A500,">="&A12,Paychecks!A2:A500,"<="&EOMONTH(A12,0))+SUMIFS(Paychecks!H2:H500,Paychecks!A2:A500,">="&A12,Paychecks!A2:A500,"<="&EOMONTH(A12,0))+SUMIFS(Paychecks!I2:I500,Paychecks!A2:A500,">="&A12,Paychecks!A2:A500,"<="&EOMONTH(A12,0))+SUMIFS(Paychecks!J2:J500,Paychecks!A2:A500,">="&A12,Paychecks!A2:A500,"<="&EOMONTH(A12,0)) -> 0 | E12: =SUMIFS(Paychecks!K2:K500,Paychecks!A2:A500,">="&A12,Paychecks!A2:A500,"<="&EOMONTH(A12,0))+SUMIFS(Paychecks!L2:L500,Paychecks!A2:A500,">="&A12,Paychecks!A2:A500,"<="&EOMONTH(A12,0))+SUMIFS(Paychecks!M2:M500,Paychecks!A2:A500,">="&A12,Paychecks!A2:A500,"<="&EOMONTH(A12,0)) -> 0 | F12: =SUMIFS(Paychecks!O2:O500,Paychecks!A2:A500,">="&A12,Paychecks!A2:A500,"<="&EOMONTH(A12,0)) -> 0 | G12: =IF(B12>2,"3 paychecks","")
A13: =DATE(YEAR($A$2),12,1) -> 46357 | B13: =COUNTIFS(Paychecks!A2:A500,">="&A13,Paychecks!A2:A500,"<="&EOMONTH(A13,0)) -> 0 | C13: =SUMIFS(Paychecks!F2:F500,Paychecks!A2:A500,">="&A13,Paychecks!A2:A500,"<="&EOMONTH(A13,0)) -> 0 | D13: =SUMIFS(Paychecks!G2:G500,Paychecks!A2:A500,">="&A13,Paychecks!A2:A500,"<="&EOMONTH(A13,0))+SUMIFS(Paychecks!H2:H500,Paychecks!A2:A500,">="&A13,Paychecks!A2:A500,"<="&EOMONTH(A13,0))+SUMIFS(Paychecks!I2:I500,Paychecks!A2:A500,">="&A13,Paychecks!A2:A500,"<="&EOMONTH(A13,0))+SUMIFS(Paychecks!J2:J500,Paychecks!A2:A500,">="&A13,Paychecks!A2:A500,"<="&EOMONTH(A13,0)) -> 0 | E13: =SUMIFS(Paychecks!K2:K500,Paychecks!A2:A500,">="&A13,Paychecks!A2:A500,"<="&EOMONTH(A13,0))+SUMIFS(Paychecks!L2:L500,Paychecks!A2:A500,">="&A13,Paychecks!A2:A500,"<="&EOMONTH(A13,0))+SUMIFS(Paychecks!M2:M500,Paychecks!A2:A500,">="&A13,Paychecks!A2:A500,"<="&EOMONTH(A13,0)) -> 0 | F13: =SUMIFS(Paychecks!O2:O500,Paychecks!A2:A500,">="&A13,Paychecks!A2:A500,"<="&EOMONTH(A13,0)) -> 0 | G13: =IF(B13>2,"3 paychecks","")
A14: ="Total" -> Total | B14: =SUM(B2:B13) -> 21 | C14: =SUM(C2:C13) -> 48836.88 | D14: =SUM(D2:D13) -> 9581.84 | E14: =SUM(E2:E13) -> 4380.15 | F14: =SUM(F2:F13) -> 34874.89
