Workbook

Sheet Reading Log
A1: Title | B1: Author | C1: Genre | D1: Format | E1: Pages | F1: Started | G1: Finished | H1: Days | I1: Pages a day | J1: Rating (1-5) | K1: Status | L1: Notes
A2: Project Hail Mary | B2: Andy Weir | C2: Sci-fi | D2: Print | E2: 476 | F2: 46024 | G2: 46036 | H2: =IF(AND(ISNUMBER(F2),ISNUMBER(G2)),G2-F2+1,"") -> 13 | I2: =IF(AND(ISNUMBER(E2),ISNUMBER(H2)),ROUND(E2/H2,0),"") -> 37 | J2: 5 | K2: =IF(ISBLANK(A2),"",IF(ISNUMBER(G2),"Finished",IF(ISNUMBER(F2),"Reading","To read"))) -> Finished | L2: Couldn't put it down
A3: Atomic Habits | B3: James Clear | C3: Self-help | D3: Audio | E3: 320 | F3: 46032 | G3: 46051 | H3: =IF(AND(ISNUMBER(F3),ISNUMBER(G3)),G3-F3+1,"") -> 20 | I3: =IF(AND(ISNUMBER(E3),ISNUMBER(H3)),ROUND(E3/H3,0),"") -> 16 | J3: 4 | K3: =IF(ISBLANK(A3),"",IF(ISNUMBER(G3),"Finished",IF(ISNUMBER(F3),"Reading","To read"))) -> Finished | L3: Good for the commute
A4: The Thursday Murder Club | B4: Richard Osman | C4: Mystery | D4: Ebook | E4: 382 | F4: 46040 | G4: 46056 | H4: =IF(AND(ISNUMBER(F4),ISNUMBER(G4)),G4-F4+1,"") -> 17 | I4: =IF(AND(ISNUMBER(E4),ISNUMBER(H4)),ROUND(E4/H4,0),"") -> 22 | J4: 4 | K4: =IF(ISBLANK(A4),"",IF(ISNUMBER(G4),"Finished",IF(ISNUMBER(F4),"Reading","To read"))) -> Finished
A5: Lessons in Chemistry | B5: Bonnie Garmus | C5: Fiction | D5: Print | E5: 390 | F5: 46058 | G5: 46075 | H5: =IF(AND(ISNUMBER(F5),ISNUMBER(G5)),G5-F5+1,"") -> 18 | I5: =IF(AND(ISNUMBER(E5),ISNUMBER(H5)),ROUND(E5/H5,0),"") -> 22 | J5: 5 | K5: =IF(ISBLANK(A5),"",IF(ISNUMBER(G5),"Finished",IF(ISNUMBER(F5),"Reading","To read"))) -> Finished | L5: Book club pick
A6: The Midnight Library | B6: Matt Haig | C6: Fiction | D6: Ebook | E6: 304 | F6: 46077 | G6: 46087 | H6: =IF(AND(ISNUMBER(F6),ISNUMBER(G6)),G6-F6+1,"") -> 11 | I6: =IF(AND(ISNUMBER(E6),ISNUMBER(H6)),ROUND(E6/H6,0),"") -> 28 | J6: 3 | K6: =IF(ISBLANK(A6),"",IF(ISNUMBER(G6),"Finished",IF(ISNUMBER(F6),"Reading","To read"))) -> Finished
A7: Educated | B7: Tara Westover | C7: Memoir | D7: Print | E7: 334 | F7: 46089 | G7: 46108 | H7: =IF(AND(ISNUMBER(F7),ISNUMBER(G7)),G7-F7+1,"") -> 20 | I7: =IF(AND(ISNUMBER(E7),ISNUMBER(H7)),ROUND(E7/H7,0),"") -> 17 | J7: 5 | K7: =IF(ISBLANK(A7),"",IF(ISNUMBER(G7),"Finished",IF(ISNUMBER(F7),"Reading","To read"))) -> Finished | L7: Lend to Mom
A8: Tomorrow, and Tomorrow, and Tomorrow | B8: Gabrielle Zevin | C8: Fiction | D8: Print | E8: 401 | F8: 46113 | G8: 46137 | H8: =IF(AND(ISNUMBER(F8),ISNUMBER(G8)),G8-F8+1,"") -> 25 | I8: =IF(AND(ISNUMBER(E8),ISNUMBER(H8)),ROUND(E8/H8,0),"") -> 16 | J8: 4 | K8: =IF(ISBLANK(A8),"",IF(ISNUMBER(G8),"Finished",IF(ISNUMBER(F8),"Reading","To read"))) -> Finished
A9: The Silent Patient | B9: Alex Michaelides | C9: Thriller | D9: Audio | E9: 336 | F9: 46132 | G9: 46144 | H9: =IF(AND(ISNUMBER(F9),ISNUMBER(G9)),G9-F9+1,"") -> 13 | I9: =IF(AND(ISNUMBER(E9),ISNUMBER(H9)),ROUND(E9/H9,0),"") -> 26 | J9: 3 | K9: =IF(ISBLANK(A9),"",IF(ISNUMBER(G9),"Finished",IF(ISNUMBER(F9),"Reading","To read"))) -> Finished | L9: Saw the twist coming
A10: Fourth Wing | B10: Rebecca Yarros | C10: Fantasy | D10: Ebook | E10: 517 | F10: 46146 | G10: 46158 | H10: =IF(AND(ISNUMBER(F10),ISNUMBER(G10)),G10-F10+1,"") -> 13 | I10: =IF(AND(ISNUMBER(E10),ISNUMBER(H10)),ROUND(E10/H10,0),"") -> 40 | J10: 4 | K10: =IF(ISBLANK(A10),"",IF(ISNUMBER(G10),"Finished",IF(ISNUMBER(F10),"Reading","To read"))) -> Finished
A11: Born a Crime | B11: Trevor Noah | C11: Memoir | D11: Audio | E11: 304 | F11: 46162 | G11: 46177 | H11: =IF(AND(ISNUMBER(F11),ISNUMBER(G11)),G11-F11+1,"") -> 16 | I11: =IF(AND(ISNUMBER(E11),ISNUMBER(H11)),ROUND(E11/H11,0),"") -> 19 | J11: 5 | K11: =IF(ISBLANK(A11),"",IF(ISNUMBER(G11),"Finished",IF(ISNUMBER(F11),"Reading","To read"))) -> Finished | L11: He reads it himself
A12: Remarkably Bright Creatures | B12: Shelby Van Pelt | C12: Fiction | D12: Print | E12: 360 | F12: 46183 | G12: 46201 | H12: =IF(AND(ISNUMBER(F12),ISNUMBER(G12)),G12-F12+1,"") -> 19 | I12: =IF(AND(ISNUMBER(E12),ISNUMBER(H12)),ROUND(E12/H12,0),"") -> 19 | J12: 4 | K12: =IF(ISBLANK(A12),"",IF(ISNUMBER(G12),"Finished",IF(ISNUMBER(F12),"Reading","To read"))) -> Finished
A13: The Martian | B13: Andy Weir | C13: Sci-fi | D13: Print | E13: 369 | F13: 46206 | G13: 46215 | H13: =IF(AND(ISNUMBER(F13),ISNUMBER(G13)),G13-F13+1,"") -> 10 | I13: =IF(AND(ISNUMBER(E13),ISNUMBER(H13)),ROUND(E13/H13,0),"") -> 37 | J13: 5 | K13: =IF(ISBLANK(A13),"",IF(ISNUMBER(G13),"Finished",IF(ISNUMBER(F13),"Reading","To read"))) -> Finished | L13: Vacation read
A14: Where the Crawdads Sing | B14: Delia Owens | C14: Fiction | D14: Print | E14: 368 | F14: 46218 | G14: 46240 | H14: =IF(AND(ISNUMBER(F14),ISNUMBER(G14)),G14-F14+1,"") -> 23 | I14: =IF(AND(ISNUMBER(E14),ISNUMBER(H14)),ROUND(E14/H14,0),"") -> 16 | J14: 4 | K14: =IF(ISBLANK(A14),"",IF(ISNUMBER(G14),"Finished",IF(ISNUMBER(F14),"Reading","To read"))) -> Finished
A15: Sapiens | B15: Yuval Noah Harari | C15: History | D15: Audio | E15: 443 | F15: 46235 | G15: 46267 | H15: =IF(AND(ISNUMBER(F15),ISNUMBER(G15)),G15-F15+1,"") -> 33 | I15: =IF(AND(ISNUMBER(E15),ISNUMBER(H15)),ROUND(E15/H15,0),"") -> 13 | J15: 3 | K15: =IF(ISBLANK(A15),"",IF(ISNUMBER(G15),"Finished",IF(ISNUMBER(F15),"Reading","To read"))) -> Finished | L15: Slow in the middle
A16: The Seven Husbands of Evelyn Hugo | B16: Taylor Jenkins Reid | C16: Fiction | D16: Ebook | E16: 389 | F16: 46270 | G16: 46280 | H16: =IF(AND(ISNUMBER(F16),ISNUMBER(G16)),G16-F16+1,"") -> 11 | I16: =IF(AND(ISNUMBER(E16),ISNUMBER(H16)),ROUND(E16/H16,0),"") -> 35 | J16: 5 | K16: =IF(ISBLANK(A16),"",IF(ISNUMBER(G16),"Finished",IF(ISNUMBER(F16),"Reading","To read"))) -> Finished
A17: Killers of the Flower Moon | B17: David Grann | C17: History | D17: Print | E17: 338 | F17: 46285 | G17: 46313 | H17: =IF(AND(ISNUMBER(F17),ISNUMBER(G17)),G17-F17+1,"") -> 29 | I17: =IF(AND(ISNUMBER(E17),ISNUMBER(H17)),ROUND(E17/H17,0),"") -> 12 | J17: 4 | K17: =IF(ISBLANK(A17),"",IF(ISNUMBER(G17),"Finished",IF(ISNUMBER(F17),"Reading","To read"))) -> Finished | L17: Watch the movie next
A18: Demon Copperhead | B18: Barbara Kingsolver | C18: Fiction | D18: Print | E18: 548 | F18: 46315 | H18: =IF(AND(ISNUMBER(F18),ISNUMBER(G18)),G18-F18+1,"") | I18: =IF(AND(ISNUMBER(E18),ISNUMBER(H18)),ROUND(E18/H18,0),"") | K18: =IF(ISBLANK(A18),"",IF(ISNUMBER(G18),"Finished",IF(ISNUMBER(F18),"Reading","To read"))) -> Reading | L18: Page 310
A19: Mistborn: The Final Empire | B19: Brandon Sanderson | C19: Fantasy | D19: Ebook | E19: 541 | F19: 46323 | H19: =IF(AND(ISNUMBER(F19),ISNUMBER(G19)),G19-F19+1,"") | I19: =IF(AND(ISNUMBER(E19),ISNUMBER(H19)),ROUND(E19/H19,0),"") | K19: =IF(ISBLANK(A19),"",IF(ISNUMBER(G19),"Finished",IF(ISNUMBER(F19),"Reading","To read"))) -> Reading | L19: Reading before bed
A20: The Wager | B20: David Grann | C20: History | E20: 329 | H20: =IF(AND(ISNUMBER(F20),ISNUMBER(G20)),G20-F20+1,"") | I20: =IF(AND(ISNUMBER(E20),ISNUMBER(H20)),ROUND(E20/H20,0),"") | K20: =IF(ISBLANK(A20),"",IF(ISNUMBER(G20),"Finished",IF(ISNUMBER(F20),"Reading","To read"))) -> To read | L20: On hold at the library
A21: Piranesi | B21: Susanna Clarke | C21: Fantasy | E21: 272 | H21: =IF(AND(ISNUMBER(F21),ISNUMBER(G21)),G21-F21+1,"") | I21: =IF(AND(ISNUMBER(E21),ISNUMBER(H21)),ROUND(E21/H21,0),"") | K21: =IF(ISBLANK(A21),"",IF(ISNUMBER(G21),"Finished",IF(ISNUMBER(F21),"Reading","To read"))) -> To read | L21: Recommended by Jess
H22: =IF(AND(ISNUMBER(F22),ISNUMBER(G22)),G22-F22+1,"") | I22: =IF(AND(ISNUMBER(E22),ISNUMBER(H22)),ROUND(E22/H22,0),"") | K22: =IF(ISBLANK(A22),"",IF(ISNUMBER(G22),"Finished",IF(ISNUMBER(F22),"Reading","To read")))
H23: =IF(AND(ISNUMBER(F23),ISNUMBER(G23)),G23-F23+1,"") | I23: =IF(AND(ISNUMBER(E23),ISNUMBER(H23)),ROUND(E23/H23,0),"") | K23: =IF(ISBLANK(A23),"",IF(ISNUMBER(G23),"Finished",IF(ISNUMBER(F23),"Reading","To read")))
H24: =IF(AND(ISNUMBER(F24),ISNUMBER(G24)),G24-F24+1,"") | I24: =IF(AND(ISNUMBER(E24),ISNUMBER(H24)),ROUND(E24/H24,0),"") | K24: =IF(ISBLANK(A24),"",IF(ISNUMBER(G24),"Finished",IF(ISNUMBER(F24),"Reading","To read")))
H25: =IF(AND(ISNUMBER(F25),ISNUMBER(G25)),G25-F25+1,"") | I25: =IF(AND(ISNUMBER(E25),ISNUMBER(H25)),ROUND(E25/H25,0),"") | K25: =IF(ISBLANK(A25),"",IF(ISNUMBER(G25),"Finished",IF(ISNUMBER(F25),"Reading","To read")))
H26: =IF(AND(ISNUMBER(F26),ISNUMBER(G26)),G26-F26+1,"") | I26: =IF(AND(ISNUMBER(E26),ISNUMBER(H26)),ROUND(E26/H26,0),"") | K26: =IF(ISBLANK(A26),"",IF(ISNUMBER(G26),"Finished",IF(ISNUMBER(F26),"Reading","To read")))
H27: =IF(AND(ISNUMBER(F27),ISNUMBER(G27)),G27-F27+1,"") | I27: =IF(AND(ISNUMBER(E27),ISNUMBER(H27)),ROUND(E27/H27,0),"") | K27: =IF(ISBLANK(A27),"",IF(ISNUMBER(G27),"Finished",IF(ISNUMBER(F27),"Reading","To read")))
H28: =IF(AND(ISNUMBER(F28),ISNUMBER(G28)),G28-F28+1,"") | I28: =IF(AND(ISNUMBER(E28),ISNUMBER(H28)),ROUND(E28/H28,0),"") | K28: =IF(ISBLANK(A28),"",IF(ISNUMBER(G28),"Finished",IF(ISNUMBER(F28),"Reading","To read")))
H29: =IF(AND(ISNUMBER(F29),ISNUMBER(G29)),G29-F29+1,"") | I29: =IF(AND(ISNUMBER(E29),ISNUMBER(H29)),ROUND(E29/H29,0),"") | K29: =IF(ISBLANK(A29),"",IF(ISNUMBER(G29),"Finished",IF(ISNUMBER(F29),"Reading","To read")))
H30: =IF(AND(ISNUMBER(F30),ISNUMBER(G30)),G30-F30+1,"") | I30: =IF(AND(ISNUMBER(E30),ISNUMBER(H30)),ROUND(E30/H30,0),"") | K30: =IF(ISBLANK(A30),"",IF(ISNUMBER(G30),"Finished",IF(ISNUMBER(F30),"Reading","To read")))
H31: =IF(AND(ISNUMBER(F31),ISNUMBER(G31)),G31-F31+1,"") | I31: =IF(AND(ISNUMBER(E31),ISNUMBER(H31)),ROUND(E31/H31,0),"") | K31: =IF(ISBLANK(A31),"",IF(ISNUMBER(G31),"Finished",IF(ISNUMBER(F31),"Reading","To read")))
H32: =IF(AND(ISNUMBER(F32),ISNUMBER(G32)),G32-F32+1,"") | I32: =IF(AND(ISNUMBER(E32),ISNUMBER(H32)),ROUND(E32/H32,0),"") | K32: =IF(ISBLANK(A32),"",IF(ISNUMBER(G32),"Finished",IF(ISNUMBER(F32),"Reading","To read")))
H33: =IF(AND(ISNUMBER(F33),ISNUMBER(G33)),G33-F33+1,"") | I33: =IF(AND(ISNUMBER(E33),ISNUMBER(H33)),ROUND(E33/H33,0),"") | K33: =IF(ISBLANK(A33),"",IF(ISNUMBER(G33),"Finished",IF(ISNUMBER(F33),"Reading","To read")))
... H61: =IF(AND(ISNUMBER(F61),ISNUMBER(G61)),G61-F61+1,"") | I61: =IF(AND(ISNUMBER(E61),ISNUMBER(H61)),ROUND(E61/H61,0),"") | K61: =IF(ISBLANK(A61),"",IF(ISNUMBER(G61),"Finished",IF(ISNUMBER(F61),"Reading","To read")))

Sheet Summary
A1: Item | B1: Value
A2: Today | B2: =DATE(2026,11,4) -> 46330
A3: Year | B3: =YEAR(B2) -> 2026
A4: Reading goal (books) | B4: 20
A5: Books finished | B5: =COUNTIFS('Reading Log'!$G$2:$G$61,">="&DATE(B3,1,1),'Reading Log'!$G$2:$G$61,"<="&DATE(B3,12,31)) -> 16
A6: Percent of goal | B6: =IF(B4=0,0,B5/B4) -> 0.8
A7: Books to go | B7: =MAX(0,B4-B5) -> 4
A8: Where you'd be at an even pace | B8: =ROUND(B4*(B2-DATE(B3,1,1)+1)/(DATE(B3,12,31)-DATE(B3,1,1)+1),1) -> 16.9
A9: Pace | B9: =IF(B5>=B4,"Goal reached",IF(B5>=B8,"Ahead of pace","Behind pace")) -> Behind pace
A10: Books a month to finish on time | B10: =IF(B7=0,0,ROUND(B7/MAX(1,(DATE(B3,12,31)-B2)/30.4),1)) -> 2.1
A11: Pages read | B11: =SUMIFS('Reading Log'!$E$2:$E$61,'Reading Log'!$G$2:$G$61,">="&DATE(B3,1,1),'Reading Log'!$G$2:$G$61,"<="&DATE(B3,12,31)) -> 6031
A12: Average rating | B12: =IF(B5=0,"",ROUND(AVERAGEIFS('Reading Log'!$J$2:$J$61,'Reading Log'!$G$2:$G$61,">="&DATE(B3,1,1),'Reading Log'!$G$2:$G$61,"<="&DATE(B3,12,31)),1)) -> 4.2
A13: Average pages per book | B13: =IF(B5=0,"",ROUND(B11/B5,0)) -> 377
A14: Average days per book | B14: =IF(B5=0,"",ROUND(AVERAGEIFS('Reading Log'!$H$2:$H$61,'Reading Log'!$G$2:$G$61,">="&DATE(B3,1,1),'Reading Log'!$G$2:$G$61,"<="&DATE(B3,12,31)),0)) -> 18
A15: Audiobooks finished | B15: =COUNTIFS('Reading Log'!$G$2:$G$61,">="&DATE(B3,1,1),'Reading Log'!$G$2:$G$61,"<="&DATE(B3,12,31),'Reading Log'!$D$2:$D$61,"Audio") -> 4
A16: Reading now | B16: =COUNTIF('Reading Log'!$K$2:$K$61,"Reading") -> 2
A17: On the to-read list | B17: =COUNTIF('Reading Log'!$K$2:$K$61,"To read") -> 2

Sheet By Month
A1: Month | B1: Books | C1: Pages | D1: Avg rating
A2: =DATE(Summary!$B$3,1,1) -> 46023 | B2: =COUNTIFS('Reading Log'!$G$2:$G$61,">="&A2,'Reading Log'!$G$2:$G$61,"<="&EOMONTH(A2,0)) -> 2 | C2: =SUMIFS('Reading Log'!$E$2:$E$61,'Reading Log'!$G$2:$G$61,">="&A2,'Reading Log'!$G$2:$G$61,"<="&EOMONTH(A2,0)) -> 796 | D2: =IF(B2=0,"",ROUND(AVERAGEIFS('Reading Log'!$J$2:$J$61,'Reading Log'!$G$2:$G$61,">="&A2,'Reading Log'!$G$2:$G$61,"<="&EOMONTH(A2,0)),1)) -> 4.5
A3: =DATE(Summary!$B$3,2,1) -> 46054 | B3: =COUNTIFS('Reading Log'!$G$2:$G$61,">="&A3,'Reading Log'!$G$2:$G$61,"<="&EOMONTH(A3,0)) -> 2 | C3: =SUMIFS('Reading Log'!$E$2:$E$61,'Reading Log'!$G$2:$G$61,">="&A3,'Reading Log'!$G$2:$G$61,"<="&EOMONTH(A3,0)) -> 772 | D3: =IF(B3=0,"",ROUND(AVERAGEIFS('Reading Log'!$J$2:$J$61,'Reading Log'!$G$2:$G$61,">="&A3,'Reading Log'!$G$2:$G$61,"<="&EOMONTH(A3,0)),1)) -> 4.5
A4: =DATE(Summary!$B$3,3,1) -> 46082 | B4: =COUNTIFS('Reading Log'!$G$2:$G$61,">="&A4,'Reading Log'!$G$2:$G$61,"<="&EOMONTH(A4,0)) -> 2 | C4: =SUMIFS('Reading Log'!$E$2:$E$61,'Reading Log'!$G$2:$G$61,">="&A4,'Reading Log'!$G$2:$G$61,"<="&EOMONTH(A4,0)) -> 638 | D4: =IF(B4=0,"",ROUND(AVERAGEIFS('Reading Log'!$J$2:$J$61,'Reading Log'!$G$2:$G$61,">="&A4,'Reading Log'!$G$2:$G$61,"<="&EOMONTH(A4,0)),1)) -> 4
A5: =DATE(Summary!$B$3,4,1) -> 46113 | B5: =COUNTIFS('Reading Log'!$G$2:$G$61,">="&A5,'Reading Log'!$G$2:$G$61,"<="&EOMONTH(A5,0)) -> 1 | C5: =SUMIFS('Reading Log'!$E$2:$E$61,'Reading Log'!$G$2:$G$61,">="&A5,'Reading Log'!$G$2:$G$61,"<="&EOMONTH(A5,0)) -> 401 | D5: =IF(B5=0,"",ROUND(AVERAGEIFS('Reading Log'!$J$2:$J$61,'Reading Log'!$G$2:$G$61,">="&A5,'Reading Log'!$G$2:$G$61,"<="&EOMONTH(A5,0)),1)) -> 4
A6: =DATE(Summary!$B$3,5,1) -> 46143 | B6: =COUNTIFS('Reading Log'!$G$2:$G$61,">="&A6,'Reading Log'!$G$2:$G$61,"<="&EOMONTH(A6,0)) -> 2 | C6: =SUMIFS('Reading Log'!$E$2:$E$61,'Reading Log'!$G$2:$G$61,">="&A6,'Reading Log'!$G$2:$G$61,"<="&EOMONTH(A6,0)) -> 853 | D6: =IF(B6=0,"",ROUND(AVERAGEIFS('Reading Log'!$J$2:$J$61,'Reading Log'!$G$2:$G$61,">="&A6,'Reading Log'!$G$2:$G$61,"<="&EOMONTH(A6,0)),1)) -> 3.5
A7: =DATE(Summary!$B$3,6,1) -> 46174 | B7: =COUNTIFS('Reading Log'!$G$2:$G$61,">="&A7,'Reading Log'!$G$2:$G$61,"<="&EOMONTH(A7,0)) -> 2 | C7: =SUMIFS('Reading Log'!$E$2:$E$61,'Reading Log'!$G$2:$G$61,">="&A7,'Reading Log'!$G$2:$G$61,"<="&EOMONTH(A7,0)) -> 664 | D7: =IF(B7=0,"",ROUND(AVERAGEIFS('Reading Log'!$J$2:$J$61,'Reading Log'!$G$2:$G$61,">="&A7,'Reading Log'!$G$2:$G$61,"<="&EOMONTH(A7,0)),1)) -> 4.5
A8: =DATE(Summary!$B$3,7,1) -> 46204 | B8: =COUNTIFS('Reading Log'!$G$2:$G$61,">="&A8,'Reading Log'!$G$2:$G$61,"<="&EOMONTH(A8,0)) -> 1 | C8: =SUMIFS('Reading Log'!$E$2:$E$61,'Reading Log'!$G$2:$G$61,">="&A8,'Reading Log'!$G$2:$G$61,"<="&EOMONTH(A8,0)) -> 369 | D8: =IF(B8=0,"",ROUND(AVERAGEIFS('Reading Log'!$J$2:$J$61,'Reading Log'!$G$2:$G$61,">="&A8,'Reading Log'!$G$2:$G$61,"<="&EOMONTH(A8,0)),1)) -> 5
A9: =DATE(Summary!$B$3,8,1) -> 46235 | B9: =COUNTIFS('Reading Log'!$G$2:$G$61,">="&A9,'Reading Log'!$G$2:$G$61,"<="&EOMONTH(A9,0)) -> 1 | C9: =SUMIFS('Reading Log'!$E$2:$E$61,'Reading Log'!$G$2:$G$61,">="&A9,'Reading Log'!$G$2:$G$61,"<="&EOMONTH(A9,0)) -> 368 | D9: =IF(B9=0,"",ROUND(AVERAGEIFS('Reading Log'!$J$2:$J$61,'Reading Log'!$G$2:$G$61,">="&A9,'Reading Log'!$G$2:$G$61,"<="&EOMONTH(A9,0)),1)) -> 4
A10: =DATE(Summary!$B$3,9,1) -> 46266 | B10: =COUNTIFS('Reading Log'!$G$2:$G$61,">="&A10,'Reading Log'!$G$2:$G$61,"<="&EOMONTH(A10,0)) -> 2 | C10: =SUMIFS('Reading Log'!$E$2:$E$61,'Reading Log'!$G$2:$G$61,">="&A10,'Reading Log'!$G$2:$G$61,"<="&EOMONTH(A10,0)) -> 832 | D10: =IF(B10=0,"",ROUND(AVERAGEIFS('Reading Log'!$J$2:$J$61,'Reading Log'!$G$2:$G$61,">="&A10,'Reading Log'!$G$2:$G$61,"<="&EOMONTH(A10,0)),1)) -> 4
A11: =DATE(Summary!$B$3,10,1) -> 46296 | B11: =COUNTIFS('Reading Log'!$G$2:$G$61,">="&A11,'Reading Log'!$G$2:$G$61,"<="&EOMONTH(A11,0)) -> 1 | C11: =SUMIFS('Reading Log'!$E$2:$E$61,'Reading Log'!$G$2:$G$61,">="&A11,'Reading Log'!$G$2:$G$61,"<="&EOMONTH(A11,0)) -> 338 | D11: =IF(B11=0,"",ROUND(AVERAGEIFS('Reading Log'!$J$2:$J$61,'Reading Log'!$G$2:$G$61,">="&A11,'Reading Log'!$G$2:$G$61,"<="&EOMONTH(A11,0)),1)) -> 4
A12: =DATE(Summary!$B$3,11,1) -> 46327 | B12: =COUNTIFS('Reading Log'!$G$2:$G$61,">="&A12,'Reading Log'!$G$2:$G$61,"<="&EOMONTH(A12,0)) -> 0 | C12: =SUMIFS('Reading Log'!$E$2:$E$61,'Reading Log'!$G$2:$G$61,">="&A12,'Reading Log'!$G$2:$G$61,"<="&EOMONTH(A12,0)) -> 0 | D12: =IF(B12=0,"",ROUND(AVERAGEIFS('Reading Log'!$J$2:$J$61,'Reading Log'!$G$2:$G$61,">="&A12,'Reading Log'!$G$2:$G$61,"<="&EOMONTH(A12,0)),1))
A13: =DATE(Summary!$B$3,12,1) -> 46357 | B13: =COUNTIFS('Reading Log'!$G$2:$G$61,">="&A13,'Reading Log'!$G$2:$G$61,"<="&EOMONTH(A13,0)) -> 0 | C13: =SUMIFS('Reading Log'!$E$2:$E$61,'Reading Log'!$G$2:$G$61,">="&A13,'Reading Log'!$G$2:$G$61,"<="&EOMONTH(A13,0)) -> 0 | D13: =IF(B13=0,"",ROUND(AVERAGEIFS('Reading Log'!$J$2:$J$61,'Reading Log'!$G$2:$G$61,">="&A13,'Reading Log'!$G$2:$G$61,"<="&EOMONTH(A13,0)),1))
A14: Total | B14: =SUM(B2:B13) -> 16 | C14: =SUM(C2:C13) -> 6031 | D14: =Summary!B12 -> 4.2

Sheet By Genre
A1: Genre | B1: Books | C1: Pages | D1: Avg rating | E1: Share
A2: Fiction | B2: =COUNTIFS('Reading Log'!$C$2:$C$61,A2,'Reading Log'!$G$2:$G$61,">="&DATE(Summary!$B$3,1,1),'Reading Log'!$G$2:$G$61,"<="&DATE(Summary!$B$3,12,31)) -> 6 | C2: =SUMIFS('Reading Log'!$E$2:$E$61,'Reading Log'!$C$2:$C$61,A2,'Reading Log'!$G$2:$G$61,">="&DATE(Summary!$B$3,1,1),'Reading Log'!$G$2:$G$61,"<="&DATE(Summary!$B$3,12,31)) -> 2212 | D2: =IF(B2=0,"",ROUND(AVERAGEIFS('Reading Log'!$J$2:$J$61,'Reading Log'!$C$2:$C$61,A2,'Reading Log'!$G$2:$G$61,">="&DATE(Summary!$B$3,1,1),'Reading Log'!$G$2:$G$61,"<="&DATE(Summary!$B$3,12,31)),1)) -> 4.2 | E2: =IF(Summary!$B$5=0,"",B2/Summary!$B$5) -> 0.375
A3: Sci-fi | B3: =COUNTIFS('Reading Log'!$C$2:$C$61,A3,'Reading Log'!$G$2:$G$61,">="&DATE(Summary!$B$3,1,1),'Reading Log'!$G$2:$G$61,"<="&DATE(Summary!$B$3,12,31)) -> 2 | C3: =SUMIFS('Reading Log'!$E$2:$E$61,'Reading Log'!$C$2:$C$61,A3,'Reading Log'!$G$2:$G$61,">="&DATE(Summary!$B$3,1,1),'Reading Log'!$G$2:$G$61,"<="&DATE(Summary!$B$3,12,31)) -> 845 | D3: =IF(B3=0,"",ROUND(AVERAGEIFS('Reading Log'!$J$2:$J$61,'Reading Log'!$C$2:$C$61,A3,'Reading Log'!$G$2:$G$61,">="&DATE(Summary!$B$3,1,1),'Reading Log'!$G$2:$G$61,"<="&DATE(Summary!$B$3,12,31)),1)) -> 5 | E3: =IF(Summary!$B$5=0,"",B3/Summary!$B$5) -> 0.125
A4: Fantasy | B4: =COUNTIFS('Reading Log'!$C$2:$C$61,A4,'Reading Log'!$G$2:$G$61,">="&DATE(Summary!$B$3,1,1),'Reading Log'!$G$2:$G$61,"<="&DATE(Summary!$B$3,12,31)) -> 1 | C4: =SUMIFS('Reading Log'!$E$2:$E$61,'Reading Log'!$C$2:$C$61,A4,'Reading Log'!$G$2:$G$61,">="&DATE(Summary!$B$3,1,1),'Reading Log'!$G$2:$G$61,"<="&DATE(Summary!$B$3,12,31)) -> 517 | D4: =IF(B4=0,"",ROUND(AVERAGEIFS('Reading Log'!$J$2:$J$61,'Reading Log'!$C$2:$C$61,A4,'Reading Log'!$G$2:$G$61,">="&DATE(Summary!$B$3,1,1),'Reading Log'!$G$2:$G$61,"<="&DATE(Summary!$B$3,12,31)),1)) -> 4 | E4: =IF(Summary!$B$5=0,"",B4/Summary!$B$5) -> 0.0625
A5: Mystery | B5: =COUNTIFS('Reading Log'!$C$2:$C$61,A5,'Reading Log'!$G$2:$G$61,">="&DATE(Summary!$B$3,1,1),'Reading Log'!$G$2:$G$61,"<="&DATE(Summary!$B$3,12,31)) -> 1 | C5: =SUMIFS('Reading Log'!$E$2:$E$61,'Reading Log'!$C$2:$C$61,A5,'Reading Log'!$G$2:$G$61,">="&DATE(Summary!$B$3,1,1),'Reading Log'!$G$2:$G$61,"<="&DATE(Summary!$B$3,12,31)) -> 382 | D5: =IF(B5=0,"",ROUND(AVERAGEIFS('Reading Log'!$J$2:$J$61,'Reading Log'!$C$2:$C$61,A5,'Reading Log'!$G$2:$G$61,">="&DATE(Summary!$B$3,1,1),'Reading Log'!$G$2:$G$61,"<="&DATE(Summary!$B$3,12,31)),1)) -> 4 | E5: =IF(Summary!$B$5=0,"",B5/Summary!$B$5) -> 0.0625
A6: Thriller | B6: =COUNTIFS('Reading Log'!$C$2:$C$61,A6,'Reading Log'!$G$2:$G$61,">="&DATE(Summary!$B$3,1,1),'Reading Log'!$G$2:$G$61,"<="&DATE(Summary!$B$3,12,31)) -> 1 | C6: =SUMIFS('Reading Log'!$E$2:$E$61,'Reading Log'!$C$2:$C$61,A6,'Reading Log'!$G$2:$G$61,">="&DATE(Summary!$B$3,1,1),'Reading Log'!$G$2:$G$61,"<="&DATE(Summary!$B$3,12,31)) -> 336 | D6: =IF(B6=0,"",ROUND(AVERAGEIFS('Reading Log'!$J$2:$J$61,'Reading Log'!$C$2:$C$61,A6,'Reading Log'!$G$2:$G$61,">="&DATE(Summary!$B$3,1,1),'Reading Log'!$G$2:$G$61,"<="&DATE(Summary!$B$3,12,31)),1)) -> 3 | E6: =IF(Summary!$B$5=0,"",B6/Summary!$B$5) -> 0.0625
A7: Memoir | B7: =COUNTIFS('Reading Log'!$C$2:$C$61,A7,'Reading Log'!$G$2:$G$61,">="&DATE(Summary!$B$3,1,1),'Reading Log'!$G$2:$G$61,"<="&DATE(Summary!$B$3,12,31)) -> 2 | C7: =SUMIFS('Reading Log'!$E$2:$E$61,'Reading Log'!$C$2:$C$61,A7,'Reading Log'!$G$2:$G$61,">="&DATE(Summary!$B$3,1,1),'Reading Log'!$G$2:$G$61,"<="&DATE(Summary!$B$3,12,31)) -> 638 | D7: =IF(B7=0,"",ROUND(AVERAGEIFS('Reading Log'!$J$2:$J$61,'Reading Log'!$C$2:$C$61,A7,'Reading Log'!$G$2:$G$61,">="&DATE(Summary!$B$3,1,1),'Reading Log'!$G$2:$G$61,"<="&DATE(Summary!$B$3,12,31)),1)) -> 5 | E7: =IF(Summary!$B$5=0,"",B7/Summary!$B$5) -> 0.125
A8: History | B8: =COUNTIFS('Reading Log'!$C$2:$C$61,A8,'Reading Log'!$G$2:$G$61,">="&DATE(Summary!$B$3,1,1),'Reading Log'!$G$2:$G$61,"<="&DATE(Summary!$B$3,12,31)) -> 2 | C8: =SUMIFS('Reading Log'!$E$2:$E$61,'Reading Log'!$C$2:$C$61,A8,'Reading Log'!$G$2:$G$61,">="&DATE(Summary!$B$3,1,1),'Reading Log'!$G$2:$G$61,"<="&DATE(Summary!$B$3,12,31)) -> 781 | D8: =IF(B8=0,"",ROUND(AVERAGEIFS('Reading Log'!$J$2:$J$61,'Reading Log'!$C$2:$C$61,A8,'Reading Log'!$G$2:$G$61,">="&DATE(Summary!$B$3,1,1),'Reading Log'!$G$2:$G$61,"<="&DATE(Summary!$B$3,12,31)),1)) -> 3.5 | E8: =IF(Summary!$B$5=0,"",B8/Summary!$B$5) -> 0.125
A9: Self-help | B9: =COUNTIFS('Reading Log'!$C$2:$C$61,A9,'Reading Log'!$G$2:$G$61,">="&DATE(Summary!$B$3,1,1),'Reading Log'!$G$2:$G$61,"<="&DATE(Summary!$B$3,12,31)) -> 1 | C9: =SUMIFS('Reading Log'!$E$2:$E$61,'Reading Log'!$C$2:$C$61,A9,'Reading Log'!$G$2:$G$61,">="&DATE(Summary!$B$3,1,1),'Reading Log'!$G$2:$G$61,"<="&DATE(Summary!$B$3,12,31)) -> 320 | D9: =IF(B9=0,"",ROUND(AVERAGEIFS('Reading Log'!$J$2:$J$61,'Reading Log'!$C$2:$C$61,A9,'Reading Log'!$G$2:$G$61,">="&DATE(Summary!$B$3,1,1),'Reading Log'!$G$2:$G$61,"<="&DATE(Summary!$B$3,12,31)),1)) -> 4 | E9: =IF(Summary!$B$5=0,"",B9/Summary!$B$5) -> 0.0625
A10: Other | B10: =COUNTIFS('Reading Log'!$C$2:$C$61,A10,'Reading Log'!$G$2:$G$61,">="&DATE(Summary!$B$3,1,1),'Reading Log'!$G$2:$G$61,"<="&DATE(Summary!$B$3,12,31)) -> 0 | C10: =SUMIFS('Reading Log'!$E$2:$E$61,'Reading Log'!$C$2:$C$61,A10,'Reading Log'!$G$2:$G$61,">="&DATE(Summary!$B$3,1,1),'Reading Log'!$G$2:$G$61,"<="&DATE(Summary!$B$3,12,31)) -> 0 | D10: =IF(B10=0,"",ROUND(AVERAGEIFS('Reading Log'!$J$2:$J$61,'Reading Log'!$C$2:$C$61,A10,'Reading Log'!$G$2:$G$61,">="&DATE(Summary!$B$3,1,1),'Reading Log'!$G$2:$G$61,"<="&DATE(Summary!$B$3,12,31)),1)) | E10: =IF(Summary!$B$5=0,"",B10/Summary!$B$5) -> 0
A11: Total | B11: =SUM(B2:B10) -> 16 | C11: =SUM(C2:C10) -> 6031 | D11: =Summary!B12 -> 4.2 | E11: =SUM(E2:E10) -> 1
