Workbook

Sheet Items
B1: Items | M1: rowsandcells.com
B2: Weekly counts, par levels and an order list for your kitchen and bar. | M2: Free template
B5: Item | C5: Category | D5: Storage area | E5: Unit | F5: Unit cost | G5: Par level | H5: Supplier | I5: On hand | J5: Order qty | K5: Status | L5: Value | M5: Order cost | N5: Order line | O5: Item (for lookup)
B6: Chicken breast | C6: Meat and seafood | D6: Walk-in cooler | E6: lb | F6: 3.45 | G6: 60 | H6: Broadline Foods | I6: ='Weekly Count'!I6 -> 38 | J6: =IF(I6<G6,-INT(I6-G6),0) -> 22 | K6: =IF(ISBLANK(B6),"",IF(I6<G6,"Order","OK")) -> Order | L6: =I6*F6 -> 131.1 | M6: =J6*F6 -> 75.9 | N6: =IF(J6>0,COUNTIF($J$6:J6,">0"),"") -> 1 | O6: =B6 -> Chicken breast
B7: Ground beef 80/20 | C7: Meat and seafood | D7: Walk-in cooler | E7: lb | F7: 4.1 | G7: 50 | H7: Broadline Foods | I7: ='Weekly Count'!I7 -> 52 | J7: =IF(I7<G7,-INT(I7-G7),0) -> 0 | K7: =IF(ISBLANK(B7),"",IF(I7<G7,"Order","OK")) -> OK | L7: =I7*F7 -> 213.2 | M7: =J7*F7 -> 0 | N7: =IF(J7>0,COUNTIF($J$6:J7,">0"),"") | O7: =B7 -> Ground beef 80/20
B8: Salmon fillet | C8: Meat and seafood | D8: Walk-in cooler | E8: lb | F8: 11.8 | G8: 20 | H8: Harbor Seafood | I8: ='Weekly Count'!I8 -> 12 | J8: =IF(I8<G8,-INT(I8-G8),0) -> 8 | K8: =IF(ISBLANK(B8),"",IF(I8<G8,"Order","OK")) -> Order | L8: =I8*F8 -> 141.6 | M8: =J8*F8 -> 94.4 | N8: =IF(J8>0,COUNTIF($J$6:J8,">0"),"") -> 2 | O8: =B8 -> Salmon fillet
B9: Romaine hearts | C9: Produce | D9: Walk-in cooler | E9: case | F9: 38.5 | G9: 3 | H9: Valley Produce | I9: ='Weekly Count'!I9 -> 2 | J9: =IF(I9<G9,-INT(I9-G9),0) -> 1 | K9: =IF(ISBLANK(B9),"",IF(I9<G9,"Order","OK")) -> Order | L9: =I9*F9 -> 77 | M9: =J9*F9 -> 38.5 | N9: =IF(J9>0,COUNTIF($J$6:J9,">0"),"") -> 3 | O9: =B9 -> Romaine hearts
B10: Tomatoes | C10: Produce | D10: Walk-in cooler | E10: 25 lb case | F10: 29 | G10: 2 | H10: Valley Produce | I10: ='Weekly Count'!I10 -> 2 | J10: =IF(I10<G10,-INT(I10-G10),0) -> 0 | K10: =IF(ISBLANK(B10),"",IF(I10<G10,"Order","OK")) -> OK | L10: =I10*F10 -> 58 | M10: =J10*F10 -> 0 | N10: =IF(J10>0,COUNTIF($J$6:J10,">0"),"") | O10: =B10 -> Tomatoes
B11: Heavy cream | C11: Dairy | D11: Walk-in cooler | E11: quart | F11: 4.25 | G11: 12 | H11: Broadline Foods | I11: ='Weekly Count'!I11 -> 8 | J11: =IF(I11<G11,-INT(I11-G11),0) -> 4 | K11: =IF(ISBLANK(B11),"",IF(I11<G11,"Order","OK")) -> Order | L11: =I11*F11 -> 34 | M11: =J11*F11 -> 17 | N11: =IF(J11>0,COUNTIF($J$6:J11,">0"),"") -> 4 | O11: =B11 -> Heavy cream
B12: Butter | C12: Dairy | D12: Walk-in cooler | E12: lb | F12: 4.6 | G12: 20 | H12: Broadline Foods | I12: ='Weekly Count'!I12 -> 21 | J12: =IF(I12<G12,-INT(I12-G12),0) -> 0 | K12: =IF(ISBLANK(B12),"",IF(I12<G12,"Order","OK")) -> OK | L12: =I12*F12 -> 96.6 | M12: =J12*F12 -> 0 | N12: =IF(J12>0,COUNTIF($J$6:J12,">0"),"") | O12: =B12 -> Butter
B13: Eggs | C13: Dairy | D13: Walk-in cooler | E13: 15 dozen case | F13: 42 | G13: 2 | H13: Valley Produce | I13: ='Weekly Count'!I13 -> 1 | J13: =IF(I13<G13,-INT(I13-G13),0) -> 1 | K13: =IF(ISBLANK(B13),"",IF(I13<G13,"Order","OK")) -> Order | L13: =I13*F13 -> 42 | M13: =J13*F13 -> 42 | N13: =IF(J13>0,COUNTIF($J$6:J13,">0"),"") -> 5 | O13: =B13 -> Eggs
B14: Shredded cheddar | C14: Dairy | D14: Walk-in cooler | E14: 5 lb bag | F14: 17.5 | G14: 6 | H14: Broadline Foods | I14: ='Weekly Count'!I14 -> 6 | J14: =IF(I14<G14,-INT(I14-G14),0) -> 0 | K14: =IF(ISBLANK(B14),"",IF(I14<G14,"Order","OK")) -> OK | L14: =I14*F14 -> 105 | M14: =J14*F14 -> 0 | N14: =IF(J14>0,COUNTIF($J$6:J14,">0"),"") | O14: =B14 -> Shredded cheddar
B15: French fries | C15: Frozen | D15: Freezer | E15: case | F15: 36 | G15: 8 | H15: Broadline Foods | I15: ='Weekly Count'!I15 -> 5 | J15: =IF(I15<G15,-INT(I15-G15),0) -> 3 | K15: =IF(ISBLANK(B15),"",IF(I15<G15,"Order","OK")) -> Order | L15: =I15*F15 -> 180 | M15: =J15*F15 -> 108 | N15: =IF(J15>0,COUNTIF($J$6:J15,">0"),"") -> 6 | O15: =B15 -> French fries
B16: Yellow onions | C16: Produce | D16: Dry storage | E16: 50 lb bag | F16: 24 | G16: 2 | H16: Valley Produce | I16: ='Weekly Count'!I16 -> 1 | J16: =IF(I16<G16,-INT(I16-G16),0) -> 1 | K16: =IF(ISBLANK(B16),"",IF(I16<G16,"Order","OK")) -> Order | L16: =I16*F16 -> 24 | M16: =J16*F16 -> 24 | N16: =IF(J16>0,COUNTIF($J$6:J16,">0"),"") -> 7 | O16: =B16 -> Yellow onions
B17: Burger buns | C17: Dry goods | D17: Dry storage | E17: dozen | F17: 4.8 | G17: 15 | H17: Main St Bakery | I17: ='Weekly Count'!I17 -> 9 | J17: =IF(I17<G17,-INT(I17-G17),0) -> 6 | K17: =IF(ISBLANK(B17),"",IF(I17<G17,"Order","OK")) -> Order | L17: =I17*F17 -> 43.2 | M17: =J17*F17 -> 28.8 | N17: =IF(J17>0,COUNTIF($J$6:J17,">0"),"") -> 8 | O17: =B17 -> Burger buns
... B24: Draft IPA | C24: Beverages | D24: Bar | E24: keg | F24: 165 | G24: 2 | H24: City Beverage | I24: ='Weekly Count'!I24 -> 1.5 | J24: =IF(I24<G24,-INT(I24-G24),0) -> 1 | K24: =IF(ISBLANK(B24),"",IF(I24<G24,"Order","OK")) -> Order | L24: =I24*F24 -> 247.5 | M24: =J24*F24 -> 165 | N24: =IF(J24>0,COUNTIF($J$6:J24,">0"),"") -> 12 | O24: =B24 -> Draft IPA

Sheet Weekly Count
B1: Weekly Count | G1: rowsandcells.com
B2: Type in the cream cells. Shaded cells are formulas and fill in on their own. | G2: Free template
B5: Item | C5: Storage area | D5: Unit | E5: Week 1 | F5: Week 2 | G5: Week 3 | H5: Week 4 | I5: Latest count
B6: =IF(ISBLANK(Items!B6),"",Items!B6) -> Chicken breast | C6: =IF(ISBLANK(Items!D6),"",Items!D6) -> Walk-in cooler | D6: =IF(ISBLANK(Items!E6),"",Items!E6) -> lb | E6: 52 | F6: 48 | G6: 55 | H6: 38 | I6: =IF(ISNUMBER(H6),H6,IF(ISNUMBER(G6),G6,IF(ISNUMBER(F6),F6,IF(ISNUMBER(E6),E6,0)))) -> 38
B7: =IF(ISBLANK(Items!B7),"",Items!B7) -> Ground beef 80/20 | C7: =IF(ISBLANK(Items!D7),"",Items!D7) -> Walk-in cooler | D7: =IF(ISBLANK(Items!E7),"",Items!E7) -> lb | E7: 44 | F7: 40 | G7: 46 | H7: 52 | I7: =IF(ISNUMBER(H7),H7,IF(ISNUMBER(G7),G7,IF(ISNUMBER(F7),F7,IF(ISNUMBER(E7),E7,0)))) -> 52
B8: =IF(ISBLANK(Items!B8),"",Items!B8) -> Salmon fillet | C8: =IF(ISBLANK(Items!D8),"",Items!D8) -> Walk-in cooler | D8: =IF(ISBLANK(Items!E8),"",Items!E8) -> lb | E8: 18 | F8: 22 | G8: 15 | H8: 12 | I8: =IF(ISNUMBER(H8),H8,IF(ISNUMBER(G8),G8,IF(ISNUMBER(F8),F8,IF(ISNUMBER(E8),E8,0)))) -> 12
B9: =IF(ISBLANK(Items!B9),"",Items!B9) -> Romaine hearts | C9: =IF(ISBLANK(Items!D9),"",Items!D9) -> Walk-in cooler | D9: =IF(ISBLANK(Items!E9),"",Items!E9) -> case | E9: 3 | F9: 2 | G9: 4 | H9: 2 | I9: =IF(ISNUMBER(H9),H9,IF(ISNUMBER(G9),G9,IF(ISNUMBER(F9),F9,IF(ISNUMBER(E9),E9,0)))) -> 2
B10: =IF(ISBLANK(Items!B10),"",Items!B10) -> Tomatoes | C10: =IF(ISBLANK(Items!D10),"",Items!D10) -> Walk-in cooler | D10: =IF(ISBLANK(Items!E10),"",Items!E10) -> 25 lb case | E10: 2 | F10: 3 | G10: 2 | H10: 2 | I10: =IF(ISNUMBER(H10),H10,IF(ISNUMBER(G10),G10,IF(ISNUMBER(F10),F10,IF(ISNUMBER(E10),E10,0)))) -> 2
B11: =IF(ISBLANK(Items!B11),"",Items!B11) -> Heavy cream | C11: =IF(ISBLANK(Items!D11),"",Items!D11) -> Walk-in cooler | D11: =IF(ISBLANK(Items!E11),"",Items!E11) -> quart | E11: 10 | F11: 14 | G11: 9 | H11: 8 | I11: =IF(ISNUMBER(H11),H11,IF(ISNUMBER(G11),G11,IF(ISNUMBER(F11),F11,IF(ISNUMBER(E11),E11,0)))) -> 8
B12: =IF(ISBLANK(Items!B12),"",Items!B12) -> Butter | C12: =IF(ISBLANK(Items!D12),"",Items!D12) -> Walk-in cooler | D12: =IF(ISBLANK(Items!E12),"",Items!E12) -> lb | E12: 22 | F12: 18 | G12: 24 | H12: 21 | I12: =IF(ISNUMBER(H12),H12,IF(ISNUMBER(G12),G12,IF(ISNUMBER(F12),F12,IF(ISNUMBER(E12),E12,0)))) -> 21
B13: =IF(ISBLANK(Items!B13),"",Items!B13) -> Eggs | C13: =IF(ISBLANK(Items!D13),"",Items!D13) -> Walk-in cooler | D13: =IF(ISBLANK(Items!E13),"",Items!E13) -> 15 dozen case | E13: 2 | F13: 1 | G13: 2 | H13: 1 | I13: =IF(ISNUMBER(H13),H13,IF(ISNUMBER(G13),G13,IF(ISNUMBER(F13),F13,IF(ISNUMBER(E13),E13,0)))) -> 1
B14: =IF(ISBLANK(Items!B14),"",Items!B14) -> Shredded cheddar | C14: =IF(ISBLANK(Items!D14),"",Items!D14) -> Walk-in cooler | D14: =IF(ISBLANK(Items!E14),"",Items!E14) -> 5 lb bag | E14: 6 | F14: 5 | G14: 7 | H14: 6 | I14: =IF(ISNUMBER(H14),H14,IF(ISNUMBER(G14),G14,IF(ISNUMBER(F14),F14,IF(ISNUMBER(E14),E14,0)))) -> 6
B15: =IF(ISBLANK(Items!B15),"",Items!B15) -> French fries | C15: =IF(ISBLANK(Items!D15),"",Items!D15) -> Freezer | D15: =IF(ISBLANK(Items!E15),"",Items!E15) -> case | E15: 9 | F15: 7 | G15: 8 | H15: 5 | I15: =IF(ISNUMBER(H15),H15,IF(ISNUMBER(G15),G15,IF(ISNUMBER(F15),F15,IF(ISNUMBER(E15),E15,0)))) -> 5
B16: =IF(ISBLANK(Items!B16),"",Items!B16) -> Yellow onions | C16: =IF(ISBLANK(Items!D16),"",Items!D16) -> Dry storage | D16: =IF(ISBLANK(Items!E16),"",Items!E16) -> 50 lb bag | E16: 2 | F16: 1 | G16: 2 | H16: 1 | I16: =IF(ISNUMBER(H16),H16,IF(ISNUMBER(G16),G16,IF(ISNUMBER(F16),F16,IF(ISNUMBER(E16),E16,0)))) -> 1
B17: =IF(ISBLANK(Items!B17),"",Items!B17) -> Burger buns | C17: =IF(ISBLANK(Items!D17),"",Items!D17) -> Dry storage | D17: =IF(ISBLANK(Items!E17),"",Items!E17) -> dozen | E17: 14 | F17: 12 | G17: 16 | H17: 9 | I17: =IF(ISNUMBER(H17),H17,IF(ISNUMBER(G17),G17,IF(ISNUMBER(F17),F17,IF(ISNUMBER(E17),E17,0)))) -> 9
... B24: =IF(ISBLANK(Items!B24),"",Items!B24) -> Draft IPA | C24: =IF(ISBLANK(Items!D24),"",Items!D24) -> Bar | D24: =IF(ISBLANK(Items!E24),"",Items!E24) -> keg | E24: 2 | F24: 2 | G24: 3 | H24: 1.5 | I24: =IF(ISNUMBER(H24),H24,IF(ISNUMBER(G24),G24,IF(ISNUMBER(F24),F24,IF(ISNUMBER(E24),E24,0)))) -> 1.5

Sheet Order List
B1: Order List | H1: rowsandcells.com
B2: Worked out from your other tabs. Shaded cells are formulas: nothing to type here. | H2: Free template
B5: Line | C5: Item | D5: Supplier | E5: Unit | F5: On hand | G5: Par level | H5: Order qty | I5: Unit cost | J5: Order cost
B6: 1 | C6: =IFERROR(VLOOKUP(B6,Items!$N$6:$O$504,2,FALSE),"") -> Chicken breast | D6: =IF(C6="","",VLOOKUP(C6,Items!$B$6:$M$504,7,FALSE)) -> Broadline Foods | E6: =IF(C6="","",VLOOKUP(C6,Items!$B$6:$M$504,4,FALSE)) -> lb | F6: =IF(C6="","",VLOOKUP(C6,Items!$B$6:$M$504,8,FALSE)) -> 38 | G6: =IF(C6="","",VLOOKUP(C6,Items!$B$6:$M$504,6,FALSE)) -> 60 | H6: =IF(C6="","",VLOOKUP(C6,Items!$B$6:$M$504,9,FALSE)) -> 22 | I6: =IF(C6="","",VLOOKUP(C6,Items!$B$6:$M$504,5,FALSE)) -> 3.45 | J6: =IF(C6="","",VLOOKUP(C6,Items!$B$6:$M$504,12,FALSE)) -> 75.9
B7: 2 | C7: =IFERROR(VLOOKUP(B7,Items!$N$6:$O$504,2,FALSE),"") -> Salmon fillet | D7: =IF(C7="","",VLOOKUP(C7,Items!$B$6:$M$504,7,FALSE)) -> Harbor Seafood | E7: =IF(C7="","",VLOOKUP(C7,Items!$B$6:$M$504,4,FALSE)) -> lb | F7: =IF(C7="","",VLOOKUP(C7,Items!$B$6:$M$504,8,FALSE)) -> 12 | G7: =IF(C7="","",VLOOKUP(C7,Items!$B$6:$M$504,6,FALSE)) -> 20 | H7: =IF(C7="","",VLOOKUP(C7,Items!$B$6:$M$504,9,FALSE)) -> 8 | I7: =IF(C7="","",VLOOKUP(C7,Items!$B$6:$M$504,5,FALSE)) -> 11.8 | J7: =IF(C7="","",VLOOKUP(C7,Items!$B$6:$M$504,12,FALSE)) -> 94.4
B8: 3 | C8: =IFERROR(VLOOKUP(B8,Items!$N$6:$O$504,2,FALSE),"") -> Romaine hearts | D8: =IF(C8="","",VLOOKUP(C8,Items!$B$6:$M$504,7,FALSE)) -> Valley Produce | E8: =IF(C8="","",VLOOKUP(C8,Items!$B$6:$M$504,4,FALSE)) -> case | F8: =IF(C8="","",VLOOKUP(C8,Items!$B$6:$M$504,8,FALSE)) -> 2 | G8: =IF(C8="","",VLOOKUP(C8,Items!$B$6:$M$504,6,FALSE)) -> 3 | H8: =IF(C8="","",VLOOKUP(C8,Items!$B$6:$M$504,9,FALSE)) -> 1 | I8: =IF(C8="","",VLOOKUP(C8,Items!$B$6:$M$504,5,FALSE)) -> 38.5 | J8: =IF(C8="","",VLOOKUP(C8,Items!$B$6:$M$504,12,FALSE)) -> 38.5
B9: 4 | C9: =IFERROR(VLOOKUP(B9,Items!$N$6:$O$504,2,FALSE),"") -> Heavy cream | D9: =IF(C9="","",VLOOKUP(C9,Items!$B$6:$M$504,7,FALSE)) -> Broadline Foods | E9: =IF(C9="","",VLOOKUP(C9,Items!$B$6:$M$504,4,FALSE)) -> quart | F9: =IF(C9="","",VLOOKUP(C9,Items!$B$6:$M$504,8,FALSE)) -> 8 | G9: =IF(C9="","",VLOOKUP(C9,Items!$B$6:$M$504,6,FALSE)) -> 12 | H9: =IF(C9="","",VLOOKUP(C9,Items!$B$6:$M$504,9,FALSE)) -> 4 | I9: =IF(C9="","",VLOOKUP(C9,Items!$B$6:$M$504,5,FALSE)) -> 4.25 | J9: =IF(C9="","",VLOOKUP(C9,Items!$B$6:$M$504,12,FALSE)) -> 17
B10: 5 | C10: =IFERROR(VLOOKUP(B10,Items!$N$6:$O$504,2,FALSE),"") -> Eggs | D10: =IF(C10="","",VLOOKUP(C10,Items!$B$6:$M$504,7,FALSE)) -> Valley Produce | E10: =IF(C10="","",VLOOKUP(C10,Items!$B$6:$M$504,4,FALSE)) -> 15 dozen case | F10: =IF(C10="","",VLOOKUP(C10,Items!$B$6:$M$504,8,FALSE)) -> 1 | G10: =IF(C10="","",VLOOKUP(C10,Items!$B$6:$M$504,6,FALSE)) -> 2 | H10: =IF(C10="","",VLOOKUP(C10,Items!$B$6:$M$504,9,FALSE)) -> 1 | I10: =IF(C10="","",VLOOKUP(C10,Items!$B$6:$M$504,5,FALSE)) -> 42 | J10: =IF(C10="","",VLOOKUP(C10,Items!$B$6:$M$504,12,FALSE)) -> 42
B11: 6 | C11: =IFERROR(VLOOKUP(B11,Items!$N$6:$O$504,2,FALSE),"") -> French fries | D11: =IF(C11="","",VLOOKUP(C11,Items!$B$6:$M$504,7,FALSE)) -> Broadline Foods | E11: =IF(C11="","",VLOOKUP(C11,Items!$B$6:$M$504,4,FALSE)) -> case | F11: =IF(C11="","",VLOOKUP(C11,Items!$B$6:$M$504,8,FALSE)) -> 5 | G11: =IF(C11="","",VLOOKUP(C11,Items!$B$6:$M$504,6,FALSE)) -> 8 | H11: =IF(C11="","",VLOOKUP(C11,Items!$B$6:$M$504,9,FALSE)) -> 3 | I11: =IF(C11="","",VLOOKUP(C11,Items!$B$6:$M$504,5,FALSE)) -> 36 | J11: =IF(C11="","",VLOOKUP(C11,Items!$B$6:$M$504,12,FALSE)) -> 108
B12: 7 | C12: =IFERROR(VLOOKUP(B12,Items!$N$6:$O$504,2,FALSE),"") -> Yellow onions | D12: =IF(C12="","",VLOOKUP(C12,Items!$B$6:$M$504,7,FALSE)) -> Valley Produce | E12: =IF(C12="","",VLOOKUP(C12,Items!$B$6:$M$504,4,FALSE)) -> 50 lb bag | F12: =IF(C12="","",VLOOKUP(C12,Items!$B$6:$M$504,8,FALSE)) -> 1 | G12: =IF(C12="","",VLOOKUP(C12,Items!$B$6:$M$504,6,FALSE)) -> 2 | H12: =IF(C12="","",VLOOKUP(C12,Items!$B$6:$M$504,9,FALSE)) -> 1 | I12: =IF(C12="","",VLOOKUP(C12,Items!$B$6:$M$504,5,FALSE)) -> 24 | J12: =IF(C12="","",VLOOKUP(C12,Items!$B$6:$M$504,12,FALSE)) -> 24
B13: 8 | C13: =IFERROR(VLOOKUP(B13,Items!$N$6:$O$504,2,FALSE),"") -> Burger buns | D13: =IF(C13="","",VLOOKUP(C13,Items!$B$6:$M$504,7,FALSE)) -> Main St Bakery | E13: =IF(C13="","",VLOOKUP(C13,Items!$B$6:$M$504,4,FALSE)) -> dozen | F13: =IF(C13="","",VLOOKUP(C13,Items!$B$6:$M$504,8,FALSE)) -> 9 | G13: =IF(C13="","",VLOOKUP(C13,Items!$B$6:$M$504,6,FALSE)) -> 15 | H13: =IF(C13="","",VLOOKUP(C13,Items!$B$6:$M$504,9,FALSE)) -> 6 | I13: =IF(C13="","",VLOOKUP(C13,Items!$B$6:$M$504,5,FALSE)) -> 4.8 | J13: =IF(C13="","",VLOOKUP(C13,Items!$B$6:$M$504,12,FALSE)) -> 28.8
B14: 9 | C14: =IFERROR(VLOOKUP(B14,Items!$N$6:$O$504,2,FALSE),"") -> Canola oil | D14: =IF(C14="","",VLOOKUP(C14,Items!$B$6:$M$504,7,FALSE)) -> Broadline Foods | E14: =IF(C14="","",VLOOKUP(C14,Items!$B$6:$M$504,4,FALSE)) -> 35 lb jug | F14: =IF(C14="","",VLOOKUP(C14,Items!$B$6:$M$504,8,FALSE)) -> 2 | G14: =IF(C14="","",VLOOKUP(C14,Items!$B$6:$M$504,6,FALSE)) -> 3 | H14: =IF(C14="","",VLOOKUP(C14,Items!$B$6:$M$504,9,FALSE)) -> 1 | I14: =IF(C14="","",VLOOKUP(C14,Items!$B$6:$M$504,5,FALSE)) -> 39 | J14: =IF(C14="","",VLOOKUP(C14,Items!$B$6:$M$504,12,FALSE)) -> 39
B15: 10 | C15: =IFERROR(VLOOKUP(B15,Items!$N$6:$O$504,2,FALSE),"") -> To-go containers | D15: =IF(C15="","",VLOOKUP(C15,Items!$B$6:$M$504,7,FALSE)) -> Broadline Foods | E15: =IF(C15="","",VLOOKUP(C15,Items!$B$6:$M$504,4,FALSE)) -> case of 200 | F15: =IF(C15="","",VLOOKUP(C15,Items!$B$6:$M$504,8,FALSE)) -> 1 | G15: =IF(C15="","",VLOOKUP(C15,Items!$B$6:$M$504,6,FALSE)) -> 2 | H15: =IF(C15="","",VLOOKUP(C15,Items!$B$6:$M$504,9,FALSE)) -> 1 | I15: =IF(C15="","",VLOOKUP(C15,Items!$B$6:$M$504,5,FALSE)) -> 48 | J15: =IF(C15="","",VLOOKUP(C15,Items!$B$6:$M$504,12,FALSE)) -> 48
B16: 11 | C16: =IFERROR(VLOOKUP(B16,Items!$N$6:$O$504,2,FALSE),"") -> House red wine | D16: =IF(C16="","",VLOOKUP(C16,Items!$B$6:$M$504,7,FALSE)) -> City Beverage | E16: =IF(C16="","",VLOOKUP(C16,Items!$B$6:$M$504,4,FALSE)) -> bottle | F16: =IF(C16="","",VLOOKUP(C16,Items!$B$6:$M$504,8,FALSE)) -> 18 | G16: =IF(C16="","",VLOOKUP(C16,Items!$B$6:$M$504,6,FALSE)) -> 24 | H16: =IF(C16="","",VLOOKUP(C16,Items!$B$6:$M$504,9,FALSE)) -> 6 | I16: =IF(C16="","",VLOOKUP(C16,Items!$B$6:$M$504,5,FALSE)) -> 9.5 | J16: =IF(C16="","",VLOOKUP(C16,Items!$B$6:$M$504,12,FALSE)) -> 57
B17: 12 | C17: =IFERROR(VLOOKUP(B17,Items!$N$6:$O$504,2,FALSE),"") -> Draft IPA | D17: =IF(C17="","",VLOOKUP(C17,Items!$B$6:$M$504,7,FALSE)) -> City Beverage | E17: =IF(C17="","",VLOOKUP(C17,Items!$B$6:$M$504,4,FALSE)) -> keg | F17: =IF(C17="","",VLOOKUP(C17,Items!$B$6:$M$504,8,FALSE)) -> 1.5 | G17: =IF(C17="","",VLOOKUP(C17,Items!$B$6:$M$504,6,FALSE)) -> 2 | H17: =IF(C17="","",VLOOKUP(C17,Items!$B$6:$M$504,9,FALSE)) -> 1 | I17: =IF(C17="","",VLOOKUP(C17,Items!$B$6:$M$504,5,FALSE)) -> 165 | J17: =IF(C17="","",VLOOKUP(C17,Items!$B$6:$M$504,12,FALSE)) -> 165
... B23: 18 | C23: =IFERROR(VLOOKUP(B23,Items!$N$6:$O$504,2,FALSE),"") | D23: =IF(C23="","",VLOOKUP(C23,Items!$B$6:$M$504,7,FALSE)) | E23: =IF(C23="","",VLOOKUP(C23,Items!$B$6:$M$504,4,FALSE)) | F23: =IF(C23="","",VLOOKUP(C23,Items!$B$6:$M$504,8,FALSE)) | G23: =IF(C23="","",VLOOKUP(C23,Items!$B$6:$M$504,6,FALSE)) | H23: =IF(C23="","",VLOOKUP(C23,Items!$B$6:$M$504,9,FALSE)) | I23: =IF(C23="","",VLOOKUP(C23,Items!$B$6:$M$504,5,FALSE)) | J23: =IF(C23="","",VLOOKUP(C23,Items!$B$6:$M$504,12,FALSE))
B24: Total | C24: =COUNTIF(Items!$K$6:$K$504,"Order")&" items to order" -> 12 items to order | J24: =SUM(J6:J23) -> 737.6

Sheet Summary
B1: Summary | E1: rowsandcells.com
B2: Worked out from your other tabs. Shaded cells are formulas: nothing to type here. | E2: Free template
B5: Category | C5: Items | D5: Inventory value | E5: Share of value | F5: Items to order | G5: Order cost
B6: Meat and seafood | C6: =COUNTIF(Items!$C$6:$C$504,B6) -> 3 | D6: =SUMIF(Items!$C$6:$C$504,B6,Items!$L$6:$L$504) -> 485.9 | E6: =IF($D$13=0,0,D6/$D$13) -> 0.26089291 | F6: =COUNTIFS(Items!$C$6:$C$504,B6,Items!$K$6:$K$504,"Order") -> 2 | G6: =SUMIF(Items!$C$6:$C$504,B6,Items!$M$6:$M$504) -> 170.3
B7: Produce | C7: =COUNTIF(Items!$C$6:$C$504,B7) -> 3 | D7: =SUMIF(Items!$C$6:$C$504,B7,Items!$L$6:$L$504) -> 159 | E7: =IF($D$13=0,0,D7/$D$13) -> 0.085371419 | F7: =COUNTIFS(Items!$C$6:$C$504,B7,Items!$K$6:$K$504,"Order") -> 2 | G7: =SUMIF(Items!$C$6:$C$504,B7,Items!$M$6:$M$504) -> 62.5
B8: Dairy | C8: =COUNTIF(Items!$C$6:$C$504,B8) -> 4 | D8: =SUMIF(Items!$C$6:$C$504,B8,Items!$L$6:$L$504) -> 277.6 | E8: =IF($D$13=0,0,D8/$D$13) -> 0.14905098 | F8: =COUNTIFS(Items!$C$6:$C$504,B8,Items!$K$6:$K$504,"Order") -> 2 | G8: =SUMIF(Items!$C$6:$C$504,B8,Items!$M$6:$M$504) -> 59
B9: Frozen | C9: =COUNTIF(Items!$C$6:$C$504,B9) -> 1 | D9: =SUMIF(Items!$C$6:$C$504,B9,Items!$L$6:$L$504) -> 180 | E9: =IF($D$13=0,0,D9/$D$13) -> 0.09664689 | F9: =COUNTIFS(Items!$C$6:$C$504,B9,Items!$K$6:$K$504,"Order") -> 1 | G9: =SUMIF(Items!$C$6:$C$504,B9,Items!$M$6:$M$504) -> 108
B10: Dry goods | C10: =COUNTIF(Items!$C$6:$C$504,B10) -> 4 | D10: =SUMIF(Items!$C$6:$C$504,B10,Items!$L$6:$L$504) -> 245.45 | E10: =IF($D$13=0,0,D10/$D$13) -> 0.13178877 | F10: =COUNTIFS(Items!$C$6:$C$504,B10,Items!$K$6:$K$504,"Order") -> 2 | G10: =SUMIF(Items!$C$6:$C$504,B10,Items!$M$6:$M$504) -> 67.8
B11: Beverages | C11: =COUNTIF(Items!$C$6:$C$504,B11) -> 2 | D11: =SUMIF(Items!$C$6:$C$504,B11,Items!$L$6:$L$504) -> 418.5 | E11: =IF($D$13=0,0,D11/$D$13) -> 0.22470402 | F11: =COUNTIFS(Items!$C$6:$C$504,B11,Items!$K$6:$K$504,"Order") -> 2 | G11: =SUMIF(Items!$C$6:$C$504,B11,Items!$M$6:$M$504) -> 222
B12: Paper and cleaning | C12: =COUNTIF(Items!$C$6:$C$504,B12) -> 2 | D12: =SUMIF(Items!$C$6:$C$504,B12,Items!$L$6:$L$504) -> 96 | E12: =IF($D$13=0,0,D12/$D$13) -> 0.051545008 | F12: =COUNTIFS(Items!$C$6:$C$504,B12,Items!$K$6:$K$504,"Order") -> 1 | G12: =SUMIF(Items!$C$6:$C$504,B12,Items!$M$6:$M$504) -> 48
B13: Total | C13: =SUM(C6:C12) -> 19 | D13: =SUM(D6:D12) -> 1862.45 | E13: =IF(D13=0,0,1) -> 1 | F13: =SUM(F6:F12) -> 12 | G13: =SUM(G6:G12) -> 737.6
