Workbook

Sheet Plan
B1: Plan | G1: rowsandcells.com
B2: Your savings year by year, to retirement and beyond. | G2: Free template
B5: Current age | C5: Retirement age | D5: Savings now | E5: Monthly contribution | F5: Yearly growth (your guess) | G5: Yearly raise in contributions | H5: Withdrawal rate in retirement | I5: First year
B6: 38 | C6: 65 | D6: 62000 | E6: 750 | F6: 0.06 | G6: 0.02 | H6: 0.04 | I6: 2026

Sheet Projection
B1: Projection | H1: rowsandcells.com
B2: Worked out from your other tabs. Shaded cells are formulas: nothing to type here. | H2: Free template
B5: Year | C5: Age | D5: Phase | E5: Start balance | F5: Contributions | G5: Withdrawals | H5: Growth | I5: End balance | J5: Balance at retirement
B6: =Plan!$I$6 -> 2026 | C6: =Plan!$B$6 -> 38 | D6: =IF(C6<Plan!$C$6,"Saving","Retired") -> Saving | E6: =Plan!$D$6 -> 62000 | F6: =IF(C6<Plan!$C$6,ROUND(Plan!$E$6*12*(1+Plan!$G$6)^(C6-Plan!$B$6),2),0) -> 9000 | G6: =IF(C6>=Plan!$C$6,ROUND(MIN(E6,SUM(J$6:J6)*Plan!$H$6),2),0) -> 0 | H6: =ROUND(MAX(0,E6+(F6-G6)/2)*Plan!$F$6,2) -> 3990 | I6: =ROUND(MAX(0,E6+F6-G6+H6),2) -> 74990 | J6: =IF(C6=Plan!$C$6,E6,0) -> 0
B7: =B6+1 -> 2027 | C7: =C6+1 -> 39 | D7: =IF(C7<Plan!$C$6,"Saving","Retired") -> Saving | E7: =I6 -> 74990 | F7: =IF(C7<Plan!$C$6,ROUND(Plan!$E$6*12*(1+Plan!$G$6)^(C7-Plan!$B$6),2),0) -> 9180 | G7: =IF(C7>=Plan!$C$6,ROUND(MIN(E7,SUM(J$6:J7)*Plan!$H$6),2),0) -> 0 | H7: =ROUND(MAX(0,E7+(F7-G7)/2)*Plan!$F$6,2) -> 4774.8 | I7: =ROUND(MAX(0,E7+F7-G7+H7),2) -> 88944.8 | J7: =IF(C7=Plan!$C$6,E7,0) -> 0
B8: =B7+1 -> 2028 | C8: =C7+1 -> 40 | D8: =IF(C8<Plan!$C$6,"Saving","Retired") -> Saving | E8: =I7 -> 88944.8 | F8: =IF(C8<Plan!$C$6,ROUND(Plan!$E$6*12*(1+Plan!$G$6)^(C8-Plan!$B$6),2),0) -> 9363.6 | G8: =IF(C8>=Plan!$C$6,ROUND(MIN(E8,SUM(J$6:J8)*Plan!$H$6),2),0) -> 0 | H8: =ROUND(MAX(0,E8+(F8-G8)/2)*Plan!$F$6,2) -> 5617.6 | I8: =ROUND(MAX(0,E8+F8-G8+H8),2) -> 103926 | J8: =IF(C8=Plan!$C$6,E8,0) -> 0
B9: =B8+1 -> 2029 | C9: =C8+1 -> 41 | D9: =IF(C9<Plan!$C$6,"Saving","Retired") -> Saving | E9: =I8 -> 103926 | F9: =IF(C9<Plan!$C$6,ROUND(Plan!$E$6*12*(1+Plan!$G$6)^(C9-Plan!$B$6),2),0) -> 9550.87 | G9: =IF(C9>=Plan!$C$6,ROUND(MIN(E9,SUM(J$6:J9)*Plan!$H$6),2),0) -> 0 | H9: =ROUND(MAX(0,E9+(F9-G9)/2)*Plan!$F$6,2) -> 6522.09 | I9: =ROUND(MAX(0,E9+F9-G9+H9),2) -> 119998.96 | J9: =IF(C9=Plan!$C$6,E9,0) -> 0
B10: =B9+1 -> 2030 | C10: =C9+1 -> 42 | D10: =IF(C10<Plan!$C$6,"Saving","Retired") -> Saving | E10: =I9 -> 119998.96 | F10: =IF(C10<Plan!$C$6,ROUND(Plan!$E$6*12*(1+Plan!$G$6)^(C10-Plan!$B$6),2),0) -> 9741.89 | G10: =IF(C10>=Plan!$C$6,ROUND(MIN(E10,SUM(J$6:J10)*Plan!$H$6),2),0) -> 0 | H10: =ROUND(MAX(0,E10+(F10-G10)/2)*Plan!$F$6,2) -> 7492.19 | I10: =ROUND(MAX(0,E10+F10-G10+H10),2) -> 137233.04 | J10: =IF(C10=Plan!$C$6,E10,0) -> 0
B11: =B10+1 -> 2031 | C11: =C10+1 -> 43 | D11: =IF(C11<Plan!$C$6,"Saving","Retired") -> Saving | E11: =I10 -> 137233.04 | F11: =IF(C11<Plan!$C$6,ROUND(Plan!$E$6*12*(1+Plan!$G$6)^(C11-Plan!$B$6),2),0) -> 9936.73 | G11: =IF(C11>=Plan!$C$6,ROUND(MIN(E11,SUM(J$6:J11)*Plan!$H$6),2),0) -> 0 | H11: =ROUND(MAX(0,E11+(F11-G11)/2)*Plan!$F$6,2) -> 8532.08 | I11: =ROUND(MAX(0,E11+F11-G11+H11),2) -> 155701.85 | J11: =IF(C11=Plan!$C$6,E11,0) -> 0
B12: =B11+1 -> 2032 | C12: =C11+1 -> 44 | D12: =IF(C12<Plan!$C$6,"Saving","Retired") -> Saving | E12: =I11 -> 155701.85 | F12: =IF(C12<Plan!$C$6,ROUND(Plan!$E$6*12*(1+Plan!$G$6)^(C12-Plan!$B$6),2),0) -> 10135.46 | G12: =IF(C12>=Plan!$C$6,ROUND(MIN(E12,SUM(J$6:J12)*Plan!$H$6),2),0) -> 0 | H12: =ROUND(MAX(0,E12+(F12-G12)/2)*Plan!$F$6,2) -> 9646.17 | I12: =ROUND(MAX(0,E12+F12-G12+H12),2) -> 175483.48 | J12: =IF(C12=Plan!$C$6,E12,0) -> 0
B13: =B12+1 -> 2033 | C13: =C12+1 -> 45 | D13: =IF(C13<Plan!$C$6,"Saving","Retired") -> Saving | E13: =I12 -> 175483.48 | F13: =IF(C13<Plan!$C$6,ROUND(Plan!$E$6*12*(1+Plan!$G$6)^(C13-Plan!$B$6),2),0) -> 10338.17 | G13: =IF(C13>=Plan!$C$6,ROUND(MIN(E13,SUM(J$6:J13)*Plan!$H$6),2),0) -> 0 | H13: =ROUND(MAX(0,E13+(F13-G13)/2)*Plan!$F$6,2) -> 10839.15 | I13: =ROUND(MAX(0,E13+F13-G13+H13),2) -> 196660.8 | J13: =IF(C13=Plan!$C$6,E13,0) -> 0
B14: =B13+1 -> 2034 | C14: =C13+1 -> 46 | D14: =IF(C14<Plan!$C$6,"Saving","Retired") -> Saving | E14: =I13 -> 196660.8 | F14: =IF(C14<Plan!$C$6,ROUND(Plan!$E$6*12*(1+Plan!$G$6)^(C14-Plan!$B$6),2),0) -> 10544.93 | G14: =IF(C14>=Plan!$C$6,ROUND(MIN(E14,SUM(J$6:J14)*Plan!$H$6),2),0) -> 0 | H14: =ROUND(MAX(0,E14+(F14-G14)/2)*Plan!$F$6,2) -> 12116 | I14: =ROUND(MAX(0,E14+F14-G14+H14),2) -> 219321.73 | J14: =IF(C14=Plan!$C$6,E14,0) -> 0
B15: =B14+1 -> 2035 | C15: =C14+1 -> 47 | D15: =IF(C15<Plan!$C$6,"Saving","Retired") -> Saving | E15: =I14 -> 219321.73 | F15: =IF(C15<Plan!$C$6,ROUND(Plan!$E$6*12*(1+Plan!$G$6)^(C15-Plan!$B$6),2),0) -> 10755.83 | G15: =IF(C15>=Plan!$C$6,ROUND(MIN(E15,SUM(J$6:J15)*Plan!$H$6),2),0) -> 0 | H15: =ROUND(MAX(0,E15+(F15-G15)/2)*Plan!$F$6,2) -> 13481.98 | I15: =ROUND(MAX(0,E15+F15-G15+H15),2) -> 243559.54 | J15: =IF(C15=Plan!$C$6,E15,0) -> 0
B16: =B15+1 -> 2036 | C16: =C15+1 -> 48 | D16: =IF(C16<Plan!$C$6,"Saving","Retired") -> Saving | E16: =I15 -> 243559.54 | F16: =IF(C16<Plan!$C$6,ROUND(Plan!$E$6*12*(1+Plan!$G$6)^(C16-Plan!$B$6),2),0) -> 10970.95 | G16: =IF(C16>=Plan!$C$6,ROUND(MIN(E16,SUM(J$6:J16)*Plan!$H$6),2),0) -> 0 | H16: =ROUND(MAX(0,E16+(F16-G16)/2)*Plan!$F$6,2) -> 14942.7 | I16: =ROUND(MAX(0,E16+F16-G16+H16),2) -> 269473.19 | J16: =IF(C16=Plan!$C$6,E16,0) -> 0
B17: =B16+1 -> 2037 | C17: =C16+1 -> 49 | D17: =IF(C17<Plan!$C$6,"Saving","Retired") -> Saving | E17: =I16 -> 269473.19 | F17: =IF(C17<Plan!$C$6,ROUND(Plan!$E$6*12*(1+Plan!$G$6)^(C17-Plan!$B$6),2),0) -> 11190.37 | G17: =IF(C17>=Plan!$C$6,ROUND(MIN(E17,SUM(J$6:J17)*Plan!$H$6),2),0) -> 0 | H17: =ROUND(MAX(0,E17+(F17-G17)/2)*Plan!$F$6,2) -> 16504.1 | I17: =ROUND(MAX(0,E17+F17-G17+H17),2) -> 297167.66 | J17: =IF(C17=Plan!$C$6,E17,0) -> 0
B18: =B17+1 -> 2038 | C18: =C17+1 -> 50 | D18: =IF(C18<Plan!$C$6,"Saving","Retired") -> Saving | E18: =I17 -> 297167.66 | F18: =IF(C18<Plan!$C$6,ROUND(Plan!$E$6*12*(1+Plan!$G$6)^(C18-Plan!$B$6),2),0) -> 11414.18 | G18: =IF(C18>=Plan!$C$6,ROUND(MIN(E18,SUM(J$6:J18)*Plan!$H$6),2),0) -> 0 | H18: =ROUND(MAX(0,E18+(F18-G18)/2)*Plan!$F$6,2) -> 18172.49 | I18: =ROUND(MAX(0,E18+F18-G18+H18),2) -> 326754.33 | J18: =IF(C18=Plan!$C$6,E18,0) -> 0
... B71: =B70+1 -> 2091 | C71: =C70+1 -> 103 | D71: =IF(C71<Plan!$C$6,"Saving","Retired") -> Retired | E71: =I70 -> 3629629.4 | F71: =IF(C71<Plan!$C$6,ROUND(Plan!$E$6*12*(1+Plan!$G$6)^(C71-Plan!$B$6),2),0) -> 0 | G71: =IF(C71>=Plan!$C$6,ROUND(MIN(E71,SUM(J$6:J71)*Plan!$H$6),2),0) -> 40839.73 | H71: =ROUND(MAX(0,E71+(F71-G71)/2)*Plan!$F$6,2) -> 216552.57 | I71: =ROUND(MAX(0,E71+F71-G71+H71),2) -> 3805342.2 | J71: =IF(C71=Plan!$C$6,E71,0) -> 0

Sheet Summary
B1: Summary | D1: rowsandcells.com
B2: Worked out from your other tabs. Shaded cells are formulas: nothing to type here. | D2: Free template
B5: Result | C5: Value
B6: Years until you retire | C6: =MAX(0,Plan!C6-Plan!B6) -> 27
B7: First year of retirement | C7: =Plan!I6+C6 -> 2053
B8: Balance when you retire | C8: =SUM(Projection!J6:J71) -> 1020993.2
B9: Total you put in (savings now plus contributions) | C9: =Plan!D6+SUM(Projection!F6:F71) -> 380098.92
B10: Growth on top (at your assumed rate) | C10: =C8-C9 -> 640894.25
B11: Growth as a share of the balance | C11: =IF(C8=0,0,C10/C8) -> 0.62771649
B12: Rough yearly income from savings | C12: =ROUND(C8*Plan!H6,2) -> 40839.73
B13: Rough monthly income from savings | C13: =ROUND(C12/12,2) -> 3403.31
B14: Savings run out at about age | C14: =IF(COUNTIFS(Projection!I6:I71,">0")>=66,"Past "&Projection!C71,Projection!C6+COUNTIFS(Projection!I6:I71,">0")) -> Past 103
B15: Balance left at age 90 | C15: =IFERROR(VLOOKUP(90,Projection!C6:I71,7,FALSE),0) -> 2156480.3
