Workbook

Sheet Goals
B1: Goals | K1: rowsandcells.com
B2: Savings goals with a target date and the monthly amount to get there. | K2: Free template
B5: Goal | C5: Target | D5: Target date | E5: Already saved | F5: Deposits | G5: Saved | H5: Left to save | I5: Progress | J5: Months left | K5: Monthly needed | L5: Weekly needed | M5: Status
B6: Emergency fund | C6: 10000 | D6: 46752 | E6: 3500 | F6: =IF(ISBLANK(B6),"",SUMIFS(Deposits!$D$6:$D$105,Deposits!$C$6:$C$105,B6)) -> 3500 | G6: =IF(ISBLANK(B6),"",IF(ISNUMBER(E6),E6,0)+F6) -> 7000 | H6: =IF(OR(ISBLANK(B6),NOT(ISNUMBER(C6))),"",MAX(0,C6-G6)) -> 3000 | I6: =IF(OR(ISBLANK(B6),NOT(ISNUMBER(C6))),"",IF(C6<=0,"",MIN(1,G6/C6))) -> 0.7 | J6: =IF(OR(ISBLANK(B6),NOT(ISNUMBER(D6))),"",IF(D6<=Summary!$C$6,0,MAX(1,ROUND((D6-Summary!$C$6)/30.4375,0)))) -> 14 | K6: =IF(OR(ISBLANK(B6),NOT(ISNUMBER(H6)),NOT(ISNUMBER(J6))),"",IF(H6=0,0,IF(J6=0,H6,H6/J6))) -> 214.28571 | L6: =IF(NOT(ISNUMBER(K6)),"",K6*12/52) -> 49.450549 | M6: =IF(ISBLANK(B6),"",IF(AND(ISNUMBER(C6),G6>=C6),"Reached",IF(AND(ISNUMBER(D6),D6<Summary!$C$6),"Past date","Saving"))) -> Saving
B7: Summer trip to Portugal | C7: 4200 | D7: 46568 | E7: 0 | F7: =IF(ISBLANK(B7),"",SUMIFS(Deposits!$D$6:$D$105,Deposits!$C$6:$C$105,B7)) -> 2120 | G7: =IF(ISBLANK(B7),"",IF(ISNUMBER(E7),E7,0)+F7) -> 2120 | H7: =IF(OR(ISBLANK(B7),NOT(ISNUMBER(C7))),"",MAX(0,C7-G7)) -> 2080 | I7: =IF(OR(ISBLANK(B7),NOT(ISNUMBER(C7))),"",IF(C7<=0,"",MIN(1,G7/C7))) -> 0.5047619 | J7: =IF(OR(ISBLANK(B7),NOT(ISNUMBER(D7))),"",IF(D7<=Summary!$C$6,0,MAX(1,ROUND((D7-Summary!$C$6)/30.4375,0)))) -> 8 | K7: =IF(OR(ISBLANK(B7),NOT(ISNUMBER(H7)),NOT(ISNUMBER(J7))),"",IF(H7=0,0,IF(J7=0,H7,H7/J7))) -> 260 | L7: =IF(NOT(ISNUMBER(K7)),"",K7*12/52) -> 60 | M7: =IF(ISBLANK(B7),"",IF(AND(ISNUMBER(C7),G7>=C7),"Reached",IF(AND(ISNUMBER(D7),D7<Summary!$C$6),"Past date","Saving"))) -> Saving
B8: Next car down payment | C8: 6000 | D8: 46843 | E8: 1200 | F8: =IF(ISBLANK(B8),"",SUMIFS(Deposits!$D$6:$D$105,Deposits!$C$6:$C$105,B8)) -> 2000 | G8: =IF(ISBLANK(B8),"",IF(ISNUMBER(E8),E8,0)+F8) -> 3200 | H8: =IF(OR(ISBLANK(B8),NOT(ISNUMBER(C8))),"",MAX(0,C8-G8)) -> 2800 | I8: =IF(OR(ISBLANK(B8),NOT(ISNUMBER(C8))),"",IF(C8<=0,"",MIN(1,G8/C8))) -> 0.53333333 | J8: =IF(OR(ISBLANK(B8),NOT(ISNUMBER(D8))),"",IF(D8<=Summary!$C$6,0,MAX(1,ROUND((D8-Summary!$C$6)/30.4375,0)))) -> 17 | K8: =IF(OR(ISBLANK(B8),NOT(ISNUMBER(H8)),NOT(ISNUMBER(J8))),"",IF(H8=0,0,IF(J8=0,H8,H8/J8))) -> 164.70588 | L8: =IF(NOT(ISNUMBER(K8)),"",K8*12/52) -> 38.00905 | M8: =IF(ISBLANK(B8),"",IF(AND(ISNUMBER(C8),G8>=C8),"Reached",IF(AND(ISNUMBER(D8),D8<Summary!$C$6),"Past date","Saving"))) -> Saving
B9: Christmas gifts | C9: 900 | D9: 46371 | E9: 0 | F9: =IF(ISBLANK(B9),"",SUMIFS(Deposits!$D$6:$D$105,Deposits!$C$6:$C$105,B9)) -> 750 | G9: =IF(ISBLANK(B9),"",IF(ISNUMBER(E9),E9,0)+F9) -> 750 | H9: =IF(OR(ISBLANK(B9),NOT(ISNUMBER(C9))),"",MAX(0,C9-G9)) -> 150 | I9: =IF(OR(ISBLANK(B9),NOT(ISNUMBER(C9))),"",IF(C9<=0,"",MIN(1,G9/C9))) -> 0.83333333 | J9: =IF(OR(ISBLANK(B9),NOT(ISNUMBER(D9))),"",IF(D9<=Summary!$C$6,0,MAX(1,ROUND((D9-Summary!$C$6)/30.4375,0)))) -> 2 | K9: =IF(OR(ISBLANK(B9),NOT(ISNUMBER(H9)),NOT(ISNUMBER(J9))),"",IF(H9=0,0,IF(J9=0,H9,H9/J9))) -> 75 | L9: =IF(NOT(ISNUMBER(K9)),"",K9*12/52) -> 17.307692 | M9: =IF(ISBLANK(B9),"",IF(AND(ISNUMBER(C9),G9>=C9),"Reached",IF(AND(ISNUMBER(D9),D9<Summary!$C$6),"Past date","Saving"))) -> Saving
B10: New laptop | C10: 1500 | D10: 46295 | E10: 400 | F10: =IF(ISBLANK(B10),"",SUMIFS(Deposits!$D$6:$D$105,Deposits!$C$6:$C$105,B10)) -> 1100 | G10: =IF(ISBLANK(B10),"",IF(ISNUMBER(E10),E10,0)+F10) -> 1500 | H10: =IF(OR(ISBLANK(B10),NOT(ISNUMBER(C10))),"",MAX(0,C10-G10)) -> 0 | I10: =IF(OR(ISBLANK(B10),NOT(ISNUMBER(C10))),"",IF(C10<=0,"",MIN(1,G10/C10))) -> 1 | J10: =IF(OR(ISBLANK(B10),NOT(ISNUMBER(D10))),"",IF(D10<=Summary!$C$6,0,MAX(1,ROUND((D10-Summary!$C$6)/30.4375,0)))) -> 0 | K10: =IF(OR(ISBLANK(B10),NOT(ISNUMBER(H10)),NOT(ISNUMBER(J10))),"",IF(H10=0,0,IF(J10=0,H10,H10/J10))) -> 0 | L10: =IF(NOT(ISNUMBER(K10)),"",K10*12/52) -> 0 | M10: =IF(ISBLANK(B10),"",IF(AND(ISNUMBER(C10),G10>=C10),"Reached",IF(AND(ISNUMBER(D10),D10<Summary!$C$6),"Past date","Saving"))) -> Reached
B11: Home repairs | C11: 3000 | D11: 46507 | E11: 500 | F11: =IF(ISBLANK(B11),"",SUMIFS(Deposits!$D$6:$D$105,Deposits!$C$6:$C$105,B11)) -> 1000 | G11: =IF(ISBLANK(B11),"",IF(ISNUMBER(E11),E11,0)+F11) -> 1500 | H11: =IF(OR(ISBLANK(B11),NOT(ISNUMBER(C11))),"",MAX(0,C11-G11)) -> 1500 | I11: =IF(OR(ISBLANK(B11),NOT(ISNUMBER(C11))),"",IF(C11<=0,"",MIN(1,G11/C11))) -> 0.5 | J11: =IF(OR(ISBLANK(B11),NOT(ISNUMBER(D11))),"",IF(D11<=Summary!$C$6,0,MAX(1,ROUND((D11-Summary!$C$6)/30.4375,0)))) -> 6 | K11: =IF(OR(ISBLANK(B11),NOT(ISNUMBER(H11)),NOT(ISNUMBER(J11))),"",IF(H11=0,0,IF(J11=0,H11,H11/J11))) -> 250 | L11: =IF(NOT(ISNUMBER(K11)),"",K11*12/52) -> 57.692308 | M11: =IF(ISBLANK(B11),"",IF(AND(ISNUMBER(C11),G11>=C11),"Reached",IF(AND(ISNUMBER(D11),D11<Summary!$C$6),"Past date","Saving"))) -> Saving
B12: Dental work | C12: 1200 | D12: 46295 | E12: 300 | F12: =IF(ISBLANK(B12),"",SUMIFS(Deposits!$D$6:$D$105,Deposits!$C$6:$C$105,B12)) -> 450 | G12: =IF(ISBLANK(B12),"",IF(ISNUMBER(E12),E12,0)+F12) -> 750 | H12: =IF(OR(ISBLANK(B12),NOT(ISNUMBER(C12))),"",MAX(0,C12-G12)) -> 450 | I12: =IF(OR(ISBLANK(B12),NOT(ISNUMBER(C12))),"",IF(C12<=0,"",MIN(1,G12/C12))) -> 0.625 | J12: =IF(OR(ISBLANK(B12),NOT(ISNUMBER(D12))),"",IF(D12<=Summary!$C$6,0,MAX(1,ROUND((D12-Summary!$C$6)/30.4375,0)))) -> 0 | K12: =IF(OR(ISBLANK(B12),NOT(ISNUMBER(H12)),NOT(ISNUMBER(J12))),"",IF(H12=0,0,IF(J12=0,H12,H12/J12))) -> 450 | L12: =IF(NOT(ISNUMBER(K12)),"",K12*12/52) -> 103.84615 | M12: =IF(ISBLANK(B12),"",IF(AND(ISNUMBER(C12),G12>=C12),"Reached",IF(AND(ISNUMBER(D12),D12<Summary!$C$6),"Past date","Saving"))) -> Past date
F13: =IF(ISBLANK(B13),"",SUMIFS(Deposits!$D$6:$D$105,Deposits!$C$6:$C$105,B13)) | G13: =IF(ISBLANK(B13),"",IF(ISNUMBER(E13),E13,0)+F13) | H13: =IF(OR(ISBLANK(B13),NOT(ISNUMBER(C13))),"",MAX(0,C13-G13)) | I13: =IF(OR(ISBLANK(B13),NOT(ISNUMBER(C13))),"",IF(C13<=0,"",MIN(1,G13/C13))) | J13: =IF(OR(ISBLANK(B13),NOT(ISNUMBER(D13))),"",IF(D13<=Summary!$C$6,0,MAX(1,ROUND((D13-Summary!$C$6)/30.4375,0)))) | K13: =IF(OR(ISBLANK(B13),NOT(ISNUMBER(H13)),NOT(ISNUMBER(J13))),"",IF(H13=0,0,IF(J13=0,H13,H13/J13))) | L13: =IF(NOT(ISNUMBER(K13)),"",K13*12/52) | M13: =IF(ISBLANK(B13),"",IF(AND(ISNUMBER(C13),G13>=C13),"Reached",IF(AND(ISNUMBER(D13),D13<Summary!$C$6),"Past date","Saving")))
F14: =IF(ISBLANK(B14),"",SUMIFS(Deposits!$D$6:$D$105,Deposits!$C$6:$C$105,B14)) | G14: =IF(ISBLANK(B14),"",IF(ISNUMBER(E14),E14,0)+F14) | H14: =IF(OR(ISBLANK(B14),NOT(ISNUMBER(C14))),"",MAX(0,C14-G14)) | I14: =IF(OR(ISBLANK(B14),NOT(ISNUMBER(C14))),"",IF(C14<=0,"",MIN(1,G14/C14))) | J14: =IF(OR(ISBLANK(B14),NOT(ISNUMBER(D14))),"",IF(D14<=Summary!$C$6,0,MAX(1,ROUND((D14-Summary!$C$6)/30.4375,0)))) | K14: =IF(OR(ISBLANK(B14),NOT(ISNUMBER(H14)),NOT(ISNUMBER(J14))),"",IF(H14=0,0,IF(J14=0,H14,H14/J14))) | L14: =IF(NOT(ISNUMBER(K14)),"",K14*12/52) | M14: =IF(ISBLANK(B14),"",IF(AND(ISNUMBER(C14),G14>=C14),"Reached",IF(AND(ISNUMBER(D14),D14<Summary!$C$6),"Past date","Saving")))
F15: =IF(ISBLANK(B15),"",SUMIFS(Deposits!$D$6:$D$105,Deposits!$C$6:$C$105,B15)) | G15: =IF(ISBLANK(B15),"",IF(ISNUMBER(E15),E15,0)+F15) | H15: =IF(OR(ISBLANK(B15),NOT(ISNUMBER(C15))),"",MAX(0,C15-G15)) | I15: =IF(OR(ISBLANK(B15),NOT(ISNUMBER(C15))),"",IF(C15<=0,"",MIN(1,G15/C15))) | J15: =IF(OR(ISBLANK(B15),NOT(ISNUMBER(D15))),"",IF(D15<=Summary!$C$6,0,MAX(1,ROUND((D15-Summary!$C$6)/30.4375,0)))) | K15: =IF(OR(ISBLANK(B15),NOT(ISNUMBER(H15)),NOT(ISNUMBER(J15))),"",IF(H15=0,0,IF(J15=0,H15,H15/J15))) | L15: =IF(NOT(ISNUMBER(K15)),"",K15*12/52) | M15: =IF(ISBLANK(B15),"",IF(AND(ISNUMBER(C15),G15>=C15),"Reached",IF(AND(ISNUMBER(D15),D15<Summary!$C$6),"Past date","Saving")))
F16: =IF(ISBLANK(B16),"",SUMIFS(Deposits!$D$6:$D$105,Deposits!$C$6:$C$105,B16)) | G16: =IF(ISBLANK(B16),"",IF(ISNUMBER(E16),E16,0)+F16) | H16: =IF(OR(ISBLANK(B16),NOT(ISNUMBER(C16))),"",MAX(0,C16-G16)) | I16: =IF(OR(ISBLANK(B16),NOT(ISNUMBER(C16))),"",IF(C16<=0,"",MIN(1,G16/C16))) | J16: =IF(OR(ISBLANK(B16),NOT(ISNUMBER(D16))),"",IF(D16<=Summary!$C$6,0,MAX(1,ROUND((D16-Summary!$C$6)/30.4375,0)))) | K16: =IF(OR(ISBLANK(B16),NOT(ISNUMBER(H16)),NOT(ISNUMBER(J16))),"",IF(H16=0,0,IF(J16=0,H16,H16/J16))) | L16: =IF(NOT(ISNUMBER(K16)),"",K16*12/52) | M16: =IF(ISBLANK(B16),"",IF(AND(ISNUMBER(C16),G16>=C16),"Reached",IF(AND(ISNUMBER(D16),D16<Summary!$C$6),"Past date","Saving")))
F17: =IF(ISBLANK(B17),"",SUMIFS(Deposits!$D$6:$D$105,Deposits!$C$6:$C$105,B17)) | G17: =IF(ISBLANK(B17),"",IF(ISNUMBER(E17),E17,0)+F17) | H17: =IF(OR(ISBLANK(B17),NOT(ISNUMBER(C17))),"",MAX(0,C17-G17)) | I17: =IF(OR(ISBLANK(B17),NOT(ISNUMBER(C17))),"",IF(C17<=0,"",MIN(1,G17/C17))) | J17: =IF(OR(ISBLANK(B17),NOT(ISNUMBER(D17))),"",IF(D17<=Summary!$C$6,0,MAX(1,ROUND((D17-Summary!$C$6)/30.4375,0)))) | K17: =IF(OR(ISBLANK(B17),NOT(ISNUMBER(H17)),NOT(ISNUMBER(J17))),"",IF(H17=0,0,IF(J17=0,H17,H17/J17))) | L17: =IF(NOT(ISNUMBER(K17)),"",K17*12/52) | M17: =IF(ISBLANK(B17),"",IF(AND(ISNUMBER(C17),G17>=C17),"Reached",IF(AND(ISNUMBER(D17),D17<Summary!$C$6),"Past date","Saving")))

Sheet Deposits
B1: Deposits | D1: rowsandcells.com
B2: Type in the cream cells. Shaded cells are formulas and fill in on their own. | D2: Free template
B5: Date | C5: Goal | D5: Amount | E5: Note | F5: Check
B6: 46023 | C6: Emergency fund | D6: 300 | E6: Payday transfer | F6: =IF(ISBLANK(C6),"",IF(COUNTIFS(Goals!$B$6:$B$17,C6)=0,"Not a goal","OK")) -> OK
B7: 46023 | C7: Next car down payment | D7: 200 | F7: =IF(ISBLANK(C7),"",IF(COUNTIFS(Goals!$B$6:$B$17,C7)=0,"Not a goal","OK")) -> OK
B8: 46037 | C8: Christmas gifts | D8: 75 | F8: =IF(ISBLANK(C8),"",IF(COUNTIFS(Goals!$B$6:$B$17,C8)=0,"Not a goal","OK")) -> OK
B9: 46042 | C9: New laptop | D9: 100 | F9: =IF(ISBLANK(C9),"",IF(COUNTIFS(Goals!$B$6:$B$17,C9)=0,"Not a goal","OK")) -> OK
B10: 46054 | C10: Emergency fund | D10: 300 | F10: =IF(ISBLANK(C10),"",IF(COUNTIFS(Goals!$B$6:$B$17,C10)=0,"Not a goal","OK")) -> OK
B11: 46054 | C11: Next car down payment | D11: 200 | F11: =IF(ISBLANK(C11),"",IF(COUNTIFS(Goals!$B$6:$B$17,C11)=0,"Not a goal","OK")) -> OK
B12: 46063 | C12: Home repairs | D12: 400 | E12: Tax refund | F12: =IF(ISBLANK(C12),"",IF(COUNTIFS(Goals!$B$6:$B$17,C12)=0,"Not a goal","OK")) -> OK
B13: 46068 | C13: Christmas gifts | D13: 75 | F13: =IF(ISBLANK(C13),"",IF(COUNTIFS(Goals!$B$6:$B$17,C13)=0,"Not a goal","OK")) -> OK
B14: 46073 | C14: New laptop | D14: 100 | F14: =IF(ISBLANK(C14),"",IF(COUNTIFS(Goals!$B$6:$B$17,C14)=0,"Not a goal","OK")) -> OK
B15: 46082 | C15: Emergency fund | D15: 300 | F15: =IF(ISBLANK(C15),"",IF(COUNTIFS(Goals!$B$6:$B$17,C15)=0,"Not a goal","OK")) -> OK
B16: 46082 | C16: Next car down payment | D16: 200 | F16: =IF(ISBLANK(C16),"",IF(COUNTIFS(Goals!$B$6:$B$17,C16)=0,"Not a goal","OK")) -> OK
B17: 46096 | C17: Christmas gifts | D17: 75 | F17: =IF(ISBLANK(C17),"",IF(COUNTIFS(Goals!$B$6:$B$17,C17)=0,"Not a goal","OK")) -> OK
B18: 46096 | C18: Summer trip to Portugal | D18: 250 | F18: =IF(ISBLANK(C18),"",IF(COUNTIFS(Goals!$B$6:$B$17,C18)=0,"Not a goal","OK")) -> OK
B19: 46101 | C19: New laptop | D19: 100 | F19: =IF(ISBLANK(C19),"",IF(COUNTIFS(Goals!$B$6:$B$17,C19)=0,"Not a goal","OK")) -> OK
B20: 46113 | C20: Emergency fund | D20: 300 | F20: =IF(ISBLANK(C20),"",IF(COUNTIFS(Goals!$B$6:$B$17,C20)=0,"Not a goal","OK")) -> OK
B21: 46113 | C21: Next car down payment | D21: 200 | F21: =IF(ISBLANK(C21),"",IF(COUNTIFS(Goals!$B$6:$B$17,C21)=0,"Not a goal","OK")) -> OK
B22: 46117 | C22: Dental work | D22: 150 | F22: =IF(ISBLANK(C22),"",IF(COUNTIFS(Goals!$B$6:$B$17,C22)=0,"Not a goal","OK")) -> OK
B23: 46127 | C23: Christmas gifts | D23: 75 | F23: =IF(ISBLANK(C23),"",IF(COUNTIFS(Goals!$B$6:$B$17,C23)=0,"Not a goal","OK")) -> OK
B24: 46127 | C24: Summer trip to Portugal | D24: 250 | F24: =IF(ISBLANK(C24),"",IF(COUNTIFS(Goals!$B$6:$B$17,C24)=0,"Not a goal","OK")) -> OK
... B37: 46193 | C37: New laptop | D37: 100 | F37: =IF(ISBLANK(C37),"",IF(COUNTIFS(Goals!$B$6:$B$17,C37)=0,"Not a goal","OK")) -> OK
B38: 46201 | C38: Emergency fund | D38: 500 | E38: Bonus | F38: =IF(ISBLANK(C38),"",IF(COUNTIFS(Goals!$B$6:$B$17,C38)=0,"Not a goal","OK")) -> OK
B39: 46204 | C39: Emergency fund | D39: 300 | F39: =IF(ISBLANK(C39),"",IF(COUNTIFS(Goals!$B$6:$B$17,C39)=0,"Not a goal","OK")) -> OK
B40: 46204 | C40: Next car down payment | D40: 200 | F40: =IF(ISBLANK(C40),"",IF(COUNTIFS(Goals!$B$6:$B$17,C40)=0,"Not a goal","OK")) -> OK
B41: 46211 | C41: Home repairs | D41: 300 | F41: =IF(ISBLANK(C41),"",IF(COUNTIFS(Goals!$B$6:$B$17,C41)=0,"Not a goal","OK")) -> OK
B42: 46218 | C42: Christmas gifts | D42: 75 | F42: =IF(ISBLANK(C42),"",IF(COUNTIFS(Goals!$B$6:$B$17,C42)=0,"Not a goal","OK")) -> OK
B43: 46218 | C43: Summer trip to Portugal | D43: 250 | F43: =IF(ISBLANK(C43),"",IF(COUNTIFS(Goals!$B$6:$B$17,C43)=0,"Not a goal","OK")) -> OK
B44: 46223 | C44: New laptop | D44: 100 | F44: =IF(ISBLANK(C44),"",IF(COUNTIFS(Goals!$B$6:$B$17,C44)=0,"Not a goal","OK")) -> OK
B45: 46235 | C45: Emergency fund | D45: 300 | F45: =IF(ISBLANK(C45),"",IF(COUNTIFS(Goals!$B$6:$B$17,C45)=0,"Not a goal","OK")) -> OK
B46: 46235 | C46: Next car down payment | D46: 200 | F46: =IF(ISBLANK(C46),"",IF(COUNTIFS(Goals!$B$6:$B$17,C46)=0,"Not a goal","OK")) -> OK
B47: 46239 | C47: Dental work | D47: 150 | F47: =IF(ISBLANK(C47),"",IF(COUNTIFS(Goals!$B$6:$B$17,C47)=0,"Not a goal","OK")) -> OK
B48: 46249 | C48: Christmas gifts | D48: 75 | F48: =IF(ISBLANK(C48),"",IF(COUNTIFS(Goals!$B$6:$B$17,C48)=0,"Not a goal","OK")) -> OK
B49: 46249 | C49: Summer trip to Portugal | D49: 250 | F49: =IF(ISBLANK(C49),"",IF(COUNTIFS(Goals!$B$6:$B$17,C49)=0,"Not a goal","OK")) -> OK
B50: 46254 | C50: New laptop | D50: 100 | F50: =IF(ISBLANK(C50),"",IF(COUNTIFS(Goals!$B$6:$B$17,C50)=0,"Not a goal","OK")) -> OK
B51: 46256 | C51: Home repairs | D51: -350 | E51: Furnace repair | F51: =IF(ISBLANK(C51),"",IF(COUNTIFS(Goals!$B$6:$B$17,C51)=0,"Not a goal","OK")) -> OK
B52: 46264 | C52: Summer trip to Portugal | D52: 120 | E52: Sold old bike | F52: =IF(ISBLANK(C52),"",IF(COUNTIFS(Goals!$B$6:$B$17,C52)=0,"Not a goal","OK")) -> OK
B53: 46266 | C53: Emergency fund | D53: 300 | F53: =IF(ISBLANK(C53),"",IF(COUNTIFS(Goals!$B$6:$B$17,C53)=0,"Not a goal","OK")) -> OK
B54: 46266 | C54: Next car down payment | D54: 200 | F54: =IF(ISBLANK(C54),"",IF(COUNTIFS(Goals!$B$6:$B$17,C54)=0,"Not a goal","OK")) -> OK
B55: 46277 | C55: Home repairs | D55: 200 | F55: =IF(ISBLANK(C55),"",IF(COUNTIFS(Goals!$B$6:$B$17,C55)=0,"Not a goal","OK")) -> OK
B56: 46280 | C56: Christmas gifts | D56: 75 | F56: =IF(ISBLANK(C56),"",IF(COUNTIFS(Goals!$B$6:$B$17,C56)=0,"Not a goal","OK")) -> OK
B57: 46280 | C57: Summer trip to Portugal | D57: 250 | F57: =IF(ISBLANK(C57),"",IF(COUNTIFS(Goals!$B$6:$B$17,C57)=0,"Not a goal","OK")) -> OK
B58: 46285 | C58: New laptop | D58: 300 | E58: Topped up to finish | F58: =IF(ISBLANK(C58),"",IF(COUNTIFS(Goals!$B$6:$B$17,C58)=0,"Not a goal","OK")) -> OK
B59: 46296 | C59: Emergency fund | D59: 300 | F59: =IF(ISBLANK(C59),"",IF(COUNTIFS(Goals!$B$6:$B$17,C59)=0,"Not a goal","OK")) -> OK
B60: 46296 | C60: Next car down payment | D60: 200 | F60: =IF(ISBLANK(C60),"",IF(COUNTIFS(Goals!$B$6:$B$17,C60)=0,"Not a goal","OK")) -> OK
B61: 46305 | C61: Home repairs | D61: 200 | F61: =IF(ISBLANK(C61),"",IF(COUNTIFS(Goals!$B$6:$B$17,C61)=0,"Not a goal","OK")) -> OK
B62: 46310 | C62: Christmas gifts | D62: 75 | F62: =IF(ISBLANK(C62),"",IF(COUNTIFS(Goals!$B$6:$B$17,C62)=0,"Not a goal","OK")) -> OK
B63: 46310 | C63: Summer trip to Portugal | D63: 250 | F63: =IF(ISBLANK(C63),"",IF(COUNTIFS(Goals!$B$6:$B$17,C63)=0,"Not a goal","OK")) -> OK
F64: =IF(ISBLANK(C64),"",IF(COUNTIFS(Goals!$B$6:$B$17,C64)=0,"Not a goal","OK"))
F65: =IF(ISBLANK(C65),"",IF(COUNTIFS(Goals!$B$6:$B$17,C65)=0,"Not a goal","OK"))
F66: =IF(ISBLANK(C66),"",IF(COUNTIFS(Goals!$B$6:$B$17,C66)=0,"Not a goal","OK"))
F67: =IF(ISBLANK(C67),"",IF(COUNTIFS(Goals!$B$6:$B$17,C67)=0,"Not a goal","OK"))
F68: =IF(ISBLANK(C68),"",IF(COUNTIFS(Goals!$B$6:$B$17,C68)=0,"Not a goal","OK"))
F69: =IF(ISBLANK(C69),"",IF(COUNTIFS(Goals!$B$6:$B$17,C69)=0,"Not a goal","OK"))
F70: =IF(ISBLANK(C70),"",IF(COUNTIFS(Goals!$B$6:$B$17,C70)=0,"Not a goal","OK"))
F71: =IF(ISBLANK(C71),"",IF(COUNTIFS(Goals!$B$6:$B$17,C71)=0,"Not a goal","OK"))
F72: =IF(ISBLANK(C72),"",IF(COUNTIFS(Goals!$B$6:$B$17,C72)=0,"Not a goal","OK"))
F73: =IF(ISBLANK(C73),"",IF(COUNTIFS(Goals!$B$6:$B$17,C73)=0,"Not a goal","OK"))
F74: =IF(ISBLANK(C74),"",IF(COUNTIFS(Goals!$B$6:$B$17,C74)=0,"Not a goal","OK"))
F75: =IF(ISBLANK(C75),"",IF(COUNTIFS(Goals!$B$6:$B$17,C75)=0,"Not a goal","OK"))
... F105: =IF(ISBLANK(C105),"",IF(COUNTIFS(Goals!$B$6:$B$17,C105)=0,"Not a goal","OK"))

Sheet Summary
B1: Summary | D1: rowsandcells.com
B2: Worked out from your other tabs. Shaded cells are formulas: nothing to type here. | D2: Free template
B5: Item | C5: Value
B6: Today (type =TODAY() here) | C6: =DATE(2026,10,18) -> 46313
B7: Savings goals | C7: =COUNTA(Goals!$B$6:$B$17) -> 7
B8: Total of all targets | C8: =SUM(Goals!$C$6:$C$17) -> 26800
B9: Saved so far | C9: =SUM(Goals!$G$6:$G$17) -> 16820
B10: Left to save | C10: =SUM(Goals!$H$6:$H$17) -> 9980
B11: Overall progress | C11: =IF(C8=0,0,MIN(1,C9/C8)) -> 0.62761194
B12: Needed each month to hit every target | C12: =SUM(Goals!$K$6:$K$17) -> 1413.9916
B13: Needed each week | C13: =SUM(Goals!$L$6:$L$17) -> 326.30575
B14: Goals reached | C14: =COUNTIFS(Goals!$M$6:$M$17,"Reached") -> 1
B15: Goals past their target date | C15: =COUNTIFS(Goals!$M$6:$M$17,"Past date") -> 1
B16: Saved in the last 30 days | C16: =SUMIFS(Deposits!$D$6:$D$105,Deposits!$B$6:$B$105,">"&(C6-30),Deposits!$B$6:$B$105,"<="&C6) -> 1325
B17: Average saved per month (last 3 months) | C17: =SUMIFS(Deposits!$D$6:$D$105,Deposits!$B$6:$B$105,">"&(C6-91),Deposits!$B$6:$B$105,"<="&C6)/3 -> 1098.3333
B18: Saved this year | C18: =SUMIFS(Deposits!$D$6:$D$105,Deposits!$B$6:$B$105,">="&DATE(YEAR(C6),1,1),Deposits!$B$6:$B$105,"<="&C6,Deposits!$D$6:$D$105,">0") -> 11270
B19: Taken out this year | C19: =-SUMIFS(Deposits!$D$6:$D$105,Deposits!$B$6:$B$105,">="&DATE(YEAR(C6),1,1),Deposits!$B$6:$B$105,"<="&C6,Deposits!$D$6:$D$105,"<0") -> 350
B20: Deposits not matching a goal | C20: =COUNTIFS(Deposits!$F$6:$F$105,"Not a goal") -> 0
