Workbook

Sheet Sleep Log
A1: Night of | B1: Day | C1: Bedtime | D1: Min to fall asleep | E1: Wake time | F1: Wake-ups | G1: Hours in bed | H1: Hours asleep | I1: Met goal | J1: Quality (1-5) | K1: Caffeine after 2 PM | L1: Screens in last hour | M1: Alcohol | N1: Exercised | O1: Notes | P1: Week of | Q1: Bedtime offset
A2: 46300 | B2: =A2 -> 46300 | C2: 0.94791667 | D2: 15 | E2: 0.27083333 | F2: 1 | G2: =IF(AND(ISNUMBER(C2),ISNUMBER(E2)),ROUND(MOD(E2-C2,1)*24,2),"") -> 7.75 | H2: =IF(ISNUMBER(G2),ROUND(G2-D2/60,2),"") -> 7.5 | I2: =IF(ISNUMBER(H2),IF(H2>=Summary!$B$2,"Yes","No"),"") -> Yes | J2: 4 | K2: FALSE | L2: FALSE | M2: FALSE | N2: TRUE | P2: =IF(ISNUMBER(A2),A2-WEEKDAY(A2,2)+1,"") -> 46300 | Q2: =IF(ISNUMBER(C2),MOD(C2+0.5,1),"") -> 0.44791667
A3: 46301 | B3: =A3 -> 46301 | C3: 0.97916667 | D3: 30 | E3: 0.27083333 | F3: 2 | G3: =IF(AND(ISNUMBER(C3),ISNUMBER(E3)),ROUND(MOD(E3-C3,1)*24,2),"") -> 7 | H3: =IF(ISNUMBER(G3),ROUND(G3-D3/60,2),"") -> 6.5 | I3: =IF(ISNUMBER(H3),IF(H3>=Summary!$B$2,"Yes","No"),"") -> No | J3: 3 | K3: TRUE | L3: TRUE | M3: FALSE | N3: FALSE | O3: Late coffee at 3 PM | P3: =IF(ISNUMBER(A3),A3-WEEKDAY(A3,2)+1,"") -> 46300 | Q3: =IF(ISNUMBER(C3),MOD(C3+0.5,1),"") -> 0.47916667
A4: 46302 | B4: =A4 -> 46302 | C4: 0.9375 | D4: 10 | E4: 0.27083333 | F4: 1 | G4: =IF(AND(ISNUMBER(C4),ISNUMBER(E4)),ROUND(MOD(E4-C4,1)*24,2),"") -> 8 | H4: =IF(ISNUMBER(G4),ROUND(G4-D4/60,2),"") -> 7.83 | I4: =IF(ISNUMBER(H4),IF(H4>=Summary!$B$2,"Yes","No"),"") -> Yes | J4: 4 | K4: FALSE | L4: FALSE | M4: FALSE | N4: TRUE | P4: =IF(ISNUMBER(A4),A4-WEEKDAY(A4,2)+1,"") -> 46300 | Q4: =IF(ISNUMBER(C4),MOD(C4+0.5,1),"") -> 0.4375
A5: 46303 | B5: =A5 -> 46303 | C5: 0.010416667 | D5: 40 | E5: 0.27083333 | F5: 3 | G5: =IF(AND(ISNUMBER(C5),ISNUMBER(E5)),ROUND(MOD(E5-C5,1)*24,2),"") -> 6.25 | H5: =IF(ISNUMBER(G5),ROUND(G5-D5/60,2),"") -> 5.58 | I5: =IF(ISNUMBER(H5),IF(H5>=Summary!$B$2,"Yes","No"),"") -> No | J5: 2 | K5: TRUE | L5: TRUE | M5: FALSE | N5: FALSE | O5: Work stress, phone in bed | P5: =IF(ISNUMBER(A5),A5-WEEKDAY(A5,2)+1,"") -> 46300 | Q5: =IF(ISNUMBER(C5),MOD(C5+0.5,1),"") -> 0.51041667
A6: 46304 | B6: =A6 -> 46304 | C6: 0.98958333 | D6: 20 | E6: 0.28125 | F6: 2 | G6: =IF(AND(ISNUMBER(C6),ISNUMBER(E6)),ROUND(MOD(E6-C6,1)*24,2),"") -> 7 | H6: =IF(ISNUMBER(G6),ROUND(G6-D6/60,2),"") -> 6.67 | I6: =IF(ISNUMBER(H6),IF(H6>=Summary!$B$2,"Yes","No"),"") -> No | J6: 3 | K6: FALSE | L6: TRUE | M6: TRUE | N6: FALSE | O6: Two glasses of wine | P6: =IF(ISNUMBER(A6),A6-WEEKDAY(A6,2)+1,"") -> 46300 | Q6: =IF(ISNUMBER(C6),MOD(C6+0.5,1),"") -> 0.48958333
A7: 46305 | B7: =A7 -> 46305 | C7: 0.020833333 | D7: 25 | E7: 0.35416667 | F7: 2 | G7: =IF(AND(ISNUMBER(C7),ISNUMBER(E7)),ROUND(MOD(E7-C7,1)*24,2),"") -> 8 | H7: =IF(ISNUMBER(G7),ROUND(G7-D7/60,2),"") -> 7.58 | I7: =IF(ISNUMBER(H7),IF(H7>=Summary!$B$2,"Yes","No"),"") -> Yes | J7: 3 | K7: FALSE | L7: TRUE | M7: TRUE | N7: FALSE | O7: Friday night out | P7: =IF(ISNUMBER(A7),A7-WEEKDAY(A7,2)+1,"") -> 46300 | Q7: =IF(ISNUMBER(C7),MOD(C7+0.5,1),"") -> 0.52083333
A8: 46306 | B8: =A8 -> 46306 | C8: 0.96875 | D8: 15 | E8: 0.33333333 | F8: 1 | G8: =IF(AND(ISNUMBER(C8),ISNUMBER(E8)),ROUND(MOD(E8-C8,1)*24,2),"") -> 8.75 | H8: =IF(ISNUMBER(G8),ROUND(G8-D8/60,2),"") -> 8.5 | I8: =IF(ISNUMBER(H8),IF(H8>=Summary!$B$2,"Yes","No"),"") -> Yes | J8: 4 | K8: FALSE | L8: FALSE | M8: FALSE | N8: TRUE | O8: Long hike | P8: =IF(ISNUMBER(A8),A8-WEEKDAY(A8,2)+1,"") -> 46300 | Q8: =IF(ISNUMBER(C8),MOD(C8+0.5,1),"") -> 0.46875
A9: 46307 | B9: =A9 -> 46307 | C9: 0.94444444 | D9: 10 | E9: 0.27083333 | F9: 0 | G9: =IF(AND(ISNUMBER(C9),ISNUMBER(E9)),ROUND(MOD(E9-C9,1)*24,2),"") -> 7.83 | H9: =IF(ISNUMBER(G9),ROUND(G9-D9/60,2),"") -> 7.66 | I9: =IF(ISNUMBER(H9),IF(H9>=Summary!$B$2,"Yes","No"),"") -> Yes | J9: 5 | K9: FALSE | L9: FALSE | M9: FALSE | N9: TRUE | P9: =IF(ISNUMBER(A9),A9-WEEKDAY(A9,2)+1,"") -> 46307 | Q9: =IF(ISNUMBER(C9),MOD(C9+0.5,1),"") -> 0.44444444
A10: 46308 | B10: =A10 -> 46308 | C10: 0.95138889 | D10: 15 | E10: 0.27083333 | F10: 1 | G10: =IF(AND(ISNUMBER(C10),ISNUMBER(E10)),ROUND(MOD(E10-C10,1)*24,2),"") -> 7.67 | H10: =IF(ISNUMBER(G10),ROUND(G10-D10/60,2),"") -> 7.42 | I10: =IF(ISNUMBER(H10),IF(H10>=Summary!$B$2,"Yes","No"),"") -> Yes | J10: 4 | K10: FALSE | L10: FALSE | M10: FALSE | N10: FALSE | P10: =IF(ISNUMBER(A10),A10-WEEKDAY(A10,2)+1,"") -> 46307 | Q10: =IF(ISNUMBER(C10),MOD(C10+0.5,1),"") -> 0.45138889
A11: 46309 | B11: =A11 -> 46309 | C11: 0.98611111 | D11: 35 | E11: 0.27083333 | F11: 2 | G11: =IF(AND(ISNUMBER(C11),ISNUMBER(E11)),ROUND(MOD(E11-C11,1)*24,2),"") -> 6.83 | H11: =IF(ISNUMBER(G11),ROUND(G11-D11/60,2),"") -> 6.25 | I11: =IF(ISNUMBER(H11),IF(H11>=Summary!$B$2,"Yes","No"),"") -> No | J11: 2 | K11: TRUE | L11: TRUE | M11: FALSE | N11: FALSE | O11: Energy drink in the afternoon | P11: =IF(ISNUMBER(A11),A11-WEEKDAY(A11,2)+1,"") -> 46307 | Q11: =IF(ISNUMBER(C11),MOD(C11+0.5,1),"") -> 0.48611111
A12: 46310 | B12: =A12 -> 46310 | C12: 0.94097222 | D12: 10 | E12: 0.27083333 | F12: 1 | G12: =IF(AND(ISNUMBER(C12),ISNUMBER(E12)),ROUND(MOD(E12-C12,1)*24,2),"") -> 7.92 | H12: =IF(ISNUMBER(G12),ROUND(G12-D12/60,2),"") -> 7.75 | I12: =IF(ISNUMBER(H12),IF(H12>=Summary!$B$2,"Yes","No"),"") -> Yes | J12: 4 | K12: FALSE | L12: FALSE | M12: FALSE | N12: TRUE | P12: =IF(ISNUMBER(A12),A12-WEEKDAY(A12,2)+1,"") -> 46307 | Q12: =IF(ISNUMBER(C12),MOD(C12+0.5,1),"") -> 0.44097222
A13: 46311 | B13: =A13 -> 46311 | C13: 0.96180556 | D13: 20 | E13: 0.27083333 | F13: 1 | G13: =IF(AND(ISNUMBER(C13),ISNUMBER(E13)),ROUND(MOD(E13-C13,1)*24,2),"") -> 7.42 | H13: =IF(ISNUMBER(G13),ROUND(G13-D13/60,2),"") -> 7.09 | I13: =IF(ISNUMBER(H13),IF(H13>=Summary!$B$2,"Yes","No"),"") -> Yes | J13: 3 | K13: FALSE | L13: TRUE | M13: FALSE | N13: FALSE | P13: =IF(ISNUMBER(A13),A13-WEEKDAY(A13,2)+1,"") -> 46307 | Q13: =IF(ISNUMBER(C13),MOD(C13+0.5,1),"") -> 0.46180556
A14: 46312 | B14: =A14 -> 46312 | C14: 0.0069444444 | D14: 20 | E14: 0.34375 | F14: 2 | G14: =IF(AND(ISNUMBER(C14),ISNUMBER(E14)),ROUND(MOD(E14-C14,1)*24,2),"") -> 8.08 | H14: =IF(ISNUMBER(G14),ROUND(G14-D14/60,2),"") -> 7.75 | I14: =IF(ISNUMBER(H14),IF(H14>=Summary!$B$2,"Yes","No"),"") -> Yes | J14: 3 | K14: FALSE | L14: TRUE | M14: TRUE | N14: FALSE | O14: Movie night | P14: =IF(ISNUMBER(A14),A14-WEEKDAY(A14,2)+1,"") -> 46307 | Q14: =IF(ISNUMBER(C14),MOD(C14+0.5,1),"") -> 0.50694444
A15: 46313 | B15: =A15 -> 46313 | C15: 0.95486111 | D15: 10 | E15: 0.3125 | F15: 0 | G15: =IF(AND(ISNUMBER(C15),ISNUMBER(E15)),ROUND(MOD(E15-C15,1)*24,2),"") -> 8.58 | H15: =IF(ISNUMBER(G15),ROUND(G15-D15/60,2),"") -> 8.41 | I15: =IF(ISNUMBER(H15),IF(H15>=Summary!$B$2,"Yes","No"),"") -> Yes | J15: 5 | K15: FALSE | L15: FALSE | M15: FALSE | N15: TRUE | O15: Phone charging in kitchen | P15: =IF(ISNUMBER(A15),A15-WEEKDAY(A15,2)+1,"") -> 46307 | Q15: =IF(ISNUMBER(C15),MOD(C15+0.5,1),"") -> 0.45486111

Sheet Weekly Averages
A1: Week of | B1: Nights | C1: Avg bedtime | D1: Avg wake time | E1: Avg hours asleep | F1: Avg quality | G1: Nights under goal
A2: 46300 | B2: =COUNTIFS('Sleep Log'!P:P,A2,'Sleep Log'!H:H,">0") -> 7 | C2: =IF(B2=0,"",MOD(AVERAGEIFS('Sleep Log'!Q:Q,'Sleep Log'!P:P,A2,'Sleep Log'!H:H,">0")-0.5,1)) -> 0.97916667 | D2: =IF(B2=0,"",AVERAGEIFS('Sleep Log'!E:E,'Sleep Log'!P:P,A2,'Sleep Log'!H:H,">0")) -> 0.29315476 | E2: =IF(B2=0,"",ROUND(AVERAGEIFS('Sleep Log'!H:H,'Sleep Log'!P:P,A2,'Sleep Log'!H:H,">0"),2)) -> 7.17 | F2: =IF(B2=0,"",ROUND(AVERAGEIFS('Sleep Log'!J:J,'Sleep Log'!P:P,A2,'Sleep Log'!H:H,">0"),1)) -> 3.3 | G2: =COUNTIFS('Sleep Log'!P:P,A2,'Sleep Log'!I:I,"No") -> 3
A3: =A2+7 -> 46307 | B3: =COUNTIFS('Sleep Log'!P:P,A3,'Sleep Log'!H:H,">0") -> 7 | C3: =IF(B3=0,"",MOD(AVERAGEIFS('Sleep Log'!Q:Q,'Sleep Log'!P:P,A3,'Sleep Log'!H:H,">0")-0.5,1)) -> 0.96378968 | D3: =IF(B3=0,"",AVERAGEIFS('Sleep Log'!E:E,'Sleep Log'!P:P,A3,'Sleep Log'!H:H,">0")) -> 0.28720238 | E3: =IF(B3=0,"",ROUND(AVERAGEIFS('Sleep Log'!H:H,'Sleep Log'!P:P,A3,'Sleep Log'!H:H,">0"),2)) -> 7.48 | F3: =IF(B3=0,"",ROUND(AVERAGEIFS('Sleep Log'!J:J,'Sleep Log'!P:P,A3,'Sleep Log'!H:H,">0"),1)) -> 3.7 | G3: =COUNTIFS('Sleep Log'!P:P,A3,'Sleep Log'!I:I,"No") -> 1
A4: =A3+7 -> 46314 | B4: =COUNTIFS('Sleep Log'!P:P,A4,'Sleep Log'!H:H,">0") -> 0 | C4: =IF(B4=0,"",MOD(AVERAGEIFS('Sleep Log'!Q:Q,'Sleep Log'!P:P,A4,'Sleep Log'!H:H,">0")-0.5,1)) | D4: =IF(B4=0,"",AVERAGEIFS('Sleep Log'!E:E,'Sleep Log'!P:P,A4,'Sleep Log'!H:H,">0")) | E4: =IF(B4=0,"",ROUND(AVERAGEIFS('Sleep Log'!H:H,'Sleep Log'!P:P,A4,'Sleep Log'!H:H,">0"),2)) | F4: =IF(B4=0,"",ROUND(AVERAGEIFS('Sleep Log'!J:J,'Sleep Log'!P:P,A4,'Sleep Log'!H:H,">0"),1)) | G4: =COUNTIFS('Sleep Log'!P:P,A4,'Sleep Log'!I:I,"No") -> 0
A5: =A4+7 -> 46321 | B5: =COUNTIFS('Sleep Log'!P:P,A5,'Sleep Log'!H:H,">0") -> 0 | C5: =IF(B5=0,"",MOD(AVERAGEIFS('Sleep Log'!Q:Q,'Sleep Log'!P:P,A5,'Sleep Log'!H:H,">0")-0.5,1)) | D5: =IF(B5=0,"",AVERAGEIFS('Sleep Log'!E:E,'Sleep Log'!P:P,A5,'Sleep Log'!H:H,">0")) | E5: =IF(B5=0,"",ROUND(AVERAGEIFS('Sleep Log'!H:H,'Sleep Log'!P:P,A5,'Sleep Log'!H:H,">0"),2)) | F5: =IF(B5=0,"",ROUND(AVERAGEIFS('Sleep Log'!J:J,'Sleep Log'!P:P,A5,'Sleep Log'!H:H,">0"),1)) | G5: =COUNTIFS('Sleep Log'!P:P,A5,'Sleep Log'!I:I,"No") -> 0
A6: =A5+7 -> 46328 | B6: =COUNTIFS('Sleep Log'!P:P,A6,'Sleep Log'!H:H,">0") -> 0 | C6: =IF(B6=0,"",MOD(AVERAGEIFS('Sleep Log'!Q:Q,'Sleep Log'!P:P,A6,'Sleep Log'!H:H,">0")-0.5,1)) | D6: =IF(B6=0,"",AVERAGEIFS('Sleep Log'!E:E,'Sleep Log'!P:P,A6,'Sleep Log'!H:H,">0")) | E6: =IF(B6=0,"",ROUND(AVERAGEIFS('Sleep Log'!H:H,'Sleep Log'!P:P,A6,'Sleep Log'!H:H,">0"),2)) | F6: =IF(B6=0,"",ROUND(AVERAGEIFS('Sleep Log'!J:J,'Sleep Log'!P:P,A6,'Sleep Log'!H:H,">0"),1)) | G6: =COUNTIFS('Sleep Log'!P:P,A6,'Sleep Log'!I:I,"No") -> 0
A7: =A6+7 -> 46335 | B7: =COUNTIFS('Sleep Log'!P:P,A7,'Sleep Log'!H:H,">0") -> 0 | C7: =IF(B7=0,"",MOD(AVERAGEIFS('Sleep Log'!Q:Q,'Sleep Log'!P:P,A7,'Sleep Log'!H:H,">0")-0.5,1)) | D7: =IF(B7=0,"",AVERAGEIFS('Sleep Log'!E:E,'Sleep Log'!P:P,A7,'Sleep Log'!H:H,">0")) | E7: =IF(B7=0,"",ROUND(AVERAGEIFS('Sleep Log'!H:H,'Sleep Log'!P:P,A7,'Sleep Log'!H:H,">0"),2)) | F7: =IF(B7=0,"",ROUND(AVERAGEIFS('Sleep Log'!J:J,'Sleep Log'!P:P,A7,'Sleep Log'!H:H,">0"),1)) | G7: =COUNTIFS('Sleep Log'!P:P,A7,'Sleep Log'!I:I,"No") -> 0

Sheet Summary
A1: Item | B1: Value
A2: Sleep goal (hours) | B2: 7
A3: Nights logged | B3: =COUNTIF('Sleep Log'!H2:H1000,">0") -> 14
A4: Average hours asleep | B4: =IF(B3=0,"",ROUND(AVERAGEIFS('Sleep Log'!H2:H1000,'Sleep Log'!H2:H1000,">0"),2)) -> 7.32
A5: Average hours in bed | B5: =IF(B3=0,"",ROUND(AVERAGEIFS('Sleep Log'!G2:G1000,'Sleep Log'!H2:H1000,">0"),2)) -> 7.65
A6: Average bedtime | B6: =IF(B3=0,"",MOD(AVERAGEIFS('Sleep Log'!Q2:Q1000,'Sleep Log'!H2:H1000,">0")-0.5,1)) -> 0.97147817
A7: Average wake time | B7: =IF(B3=0,"",AVERAGEIFS('Sleep Log'!E2:E1000,'Sleep Log'!H2:H1000,">0")) -> 0.29017857
A8: Average minutes to fall asleep | B8: =IF(B3=0,"",ROUND(AVERAGEIFS('Sleep Log'!D2:D1000,'Sleep Log'!H2:H1000,">0"),0)) -> 20
A9: Average quality (1-5) | B9: =IF(B3=0,"",ROUND(AVERAGEIFS('Sleep Log'!J2:J1000,'Sleep Log'!H2:H1000,">0"),1)) -> 3.5
A10: Nights that met your goal | B10: =IF(B3=0,0,COUNTIF('Sleep Log'!I2:I1000,"Yes")/B3) -> 0.71428571
A11: Shortest night (hours) | B11: =IF(B3=0,"",MIN('Sleep Log'!H2:H1000)) -> 5.58
A12: Longest night (hours) | B12: =IF(B3=0,"",MAX('Sleep Log'!H2:H1000)) -> 8.5

Sheet What Affects Sleep
A1: Factor | B1: Nights with it | C1: Quality with | D1: Quality without | E1: Hours with | F1: Hours without
A2: Caffeine after 2 PM | B2: =COUNTIFS('Sleep Log'!K2:K1000,TRUE,'Sleep Log'!H2:H1000,">0") -> 3 | C2: =IF(B2=0,"",ROUND(AVERAGEIFS('Sleep Log'!J2:J1000,'Sleep Log'!K2:K1000,TRUE,'Sleep Log'!H2:H1000,">0"),1)) -> 2.3 | D2: =IF(COUNTIFS('Sleep Log'!K2:K1000,FALSE,'Sleep Log'!H2:H1000,">0")=0,"",ROUND(AVERAGEIFS('Sleep Log'!J2:J1000,'Sleep Log'!K2:K1000,FALSE,'Sleep Log'!H2:H1000,">0"),1)) -> 3.8 | E2: =IF(B2=0,"",ROUND(AVERAGEIFS('Sleep Log'!H2:H1000,'Sleep Log'!K2:K1000,TRUE,'Sleep Log'!H2:H1000,">0"),2)) -> 6.11 | F2: =IF(COUNTIFS('Sleep Log'!K2:K1000,FALSE,'Sleep Log'!H2:H1000,">0")=0,"",ROUND(AVERAGEIFS('Sleep Log'!H2:H1000,'Sleep Log'!K2:K1000,FALSE,'Sleep Log'!H2:H1000,">0"),2)) -> 7.65
A3: Screens in last hour | B3: =COUNTIFS('Sleep Log'!L2:L1000,TRUE,'Sleep Log'!H2:H1000,">0") -> 7 | C3: =IF(B3=0,"",ROUND(AVERAGEIFS('Sleep Log'!J2:J1000,'Sleep Log'!L2:L1000,TRUE,'Sleep Log'!H2:H1000,">0"),1)) -> 2.7 | D3: =IF(COUNTIFS('Sleep Log'!L2:L1000,FALSE,'Sleep Log'!H2:H1000,">0")=0,"",ROUND(AVERAGEIFS('Sleep Log'!J2:J1000,'Sleep Log'!L2:L1000,FALSE,'Sleep Log'!H2:H1000,">0"),1)) -> 4.3 | E3: =IF(B3=0,"",ROUND(AVERAGEIFS('Sleep Log'!H2:H1000,'Sleep Log'!L2:L1000,TRUE,'Sleep Log'!H2:H1000,">0"),2)) -> 6.77 | F3: =IF(COUNTIFS('Sleep Log'!L2:L1000,FALSE,'Sleep Log'!H2:H1000,">0")=0,"",ROUND(AVERAGEIFS('Sleep Log'!H2:H1000,'Sleep Log'!L2:L1000,FALSE,'Sleep Log'!H2:H1000,">0"),2)) -> 7.87
A4: Alcohol | B4: =COUNTIFS('Sleep Log'!M2:M1000,TRUE,'Sleep Log'!H2:H1000,">0") -> 3 | C4: =IF(B4=0,"",ROUND(AVERAGEIFS('Sleep Log'!J2:J1000,'Sleep Log'!M2:M1000,TRUE,'Sleep Log'!H2:H1000,">0"),1)) -> 3 | D4: =IF(COUNTIFS('Sleep Log'!M2:M1000,FALSE,'Sleep Log'!H2:H1000,">0")=0,"",ROUND(AVERAGEIFS('Sleep Log'!J2:J1000,'Sleep Log'!M2:M1000,FALSE,'Sleep Log'!H2:H1000,">0"),1)) -> 3.6 | E4: =IF(B4=0,"",ROUND(AVERAGEIFS('Sleep Log'!H2:H1000,'Sleep Log'!M2:M1000,TRUE,'Sleep Log'!H2:H1000,">0"),2)) -> 7.33 | F4: =IF(COUNTIFS('Sleep Log'!M2:M1000,FALSE,'Sleep Log'!H2:H1000,">0")=0,"",ROUND(AVERAGEIFS('Sleep Log'!H2:H1000,'Sleep Log'!M2:M1000,FALSE,'Sleep Log'!H2:H1000,">0"),2)) -> 7.32
A5: Exercised that day | B5: =COUNTIFS('Sleep Log'!N2:N1000,TRUE,'Sleep Log'!H2:H1000,">0") -> 6 | C5: =IF(B5=0,"",ROUND(AVERAGEIFS('Sleep Log'!J2:J1000,'Sleep Log'!N2:N1000,TRUE,'Sleep Log'!H2:H1000,">0"),1)) -> 4.3 | D5: =IF(COUNTIFS('Sleep Log'!N2:N1000,FALSE,'Sleep Log'!H2:H1000,">0")=0,"",ROUND(AVERAGEIFS('Sleep Log'!J2:J1000,'Sleep Log'!N2:N1000,FALSE,'Sleep Log'!H2:H1000,">0"),1)) -> 2.9 | E5: =IF(B5=0,"",ROUND(AVERAGEIFS('Sleep Log'!H2:H1000,'Sleep Log'!N2:N1000,TRUE,'Sleep Log'!H2:H1000,">0"),2)) -> 7.94 | F5: =IF(COUNTIFS('Sleep Log'!N2:N1000,FALSE,'Sleep Log'!H2:H1000,">0")=0,"",ROUND(AVERAGEIFS('Sleep Log'!H2:H1000,'Sleep Log'!N2:N1000,FALSE,'Sleep Log'!H2:H1000,">0"),2)) -> 6.86
