Workbook

Sheet Temp Log
A1: Date | B1: Time | C1: Unit | D1: Reading (°F) | E1: Lowest OK | F1: Highest OK | G1: Result | H1: Action taken | I1: Initials | J1: Follow-up
A2: 46342 | B2: 0.29166667 | C2: Walk-in cooler | D2: 37 | E2: =IF(ISBLANK(C2),"",IFERROR(VLOOKUP(C2,Units!$A$2:$D$50,3,FALSE),"")) -> 33 | F2: =IF(ISBLANK(C2),"",IFERROR(VLOOKUP(C2,Units!$A$2:$D$50,4,FALSE),"")) -> 41 | G2: =IF(ISBLANK(C2),"",IF(NOT(ISNUMBER(D2)),"No reading",IF(NOT(ISNUMBER(E2)),"Unknown unit",IF(D2>F2,"Too warm",IF(D2<E2,"Too cold","OK"))))) -> OK | I2: MR | J2: =IF(OR(G2="Too warm",G2="Too cold"),IF(ISBLANK(H2),"Add action","Action logged"),IF(G2="No reading","Take reading",""))
A3: 46342 | B3: 0.29166667 | C3: Reach-in fridge (line) | D3: 38 | E3: =IF(ISBLANK(C3),"",IFERROR(VLOOKUP(C3,Units!$A$2:$D$50,3,FALSE),"")) -> 33 | F3: =IF(ISBLANK(C3),"",IFERROR(VLOOKUP(C3,Units!$A$2:$D$50,4,FALSE),"")) -> 41 | G3: =IF(ISBLANK(C3),"",IF(NOT(ISNUMBER(D3)),"No reading",IF(NOT(ISNUMBER(E3)),"Unknown unit",IF(D3>F3,"Too warm",IF(D3<E3,"Too cold","OK"))))) -> OK | I3: MR | J3: =IF(OR(G3="Too warm",G3="Too cold"),IF(ISBLANK(H3),"Add action","Action logged"),IF(G3="No reading","Take reading",""))
A4: 46342 | B4: 0.29166667 | C4: Freezer | D4: -4 | E4: =IF(ISBLANK(C4),"",IFERROR(VLOOKUP(C4,Units!$A$2:$D$50,3,FALSE),"")) -> -10 | F4: =IF(ISBLANK(C4),"",IFERROR(VLOOKUP(C4,Units!$A$2:$D$50,4,FALSE),"")) -> 0 | G4: =IF(ISBLANK(C4),"",IF(NOT(ISNUMBER(D4)),"No reading",IF(NOT(ISNUMBER(E4)),"Unknown unit",IF(D4>F4,"Too warm",IF(D4<E4,"Too cold","OK"))))) -> OK | I4: MR | J4: =IF(OR(G4="Too warm",G4="Too cold"),IF(ISBLANK(H4),"Add action","Action logged"),IF(G4="No reading","Take reading",""))
A5: 46342 | B5: 0.47916667 | C5: Hot holding well | D5: 158 | E5: =IF(ISBLANK(C5),"",IFERROR(VLOOKUP(C5,Units!$A$2:$D$50,3,FALSE),"")) -> 135 | F5: =IF(ISBLANK(C5),"",IFERROR(VLOOKUP(C5,Units!$A$2:$D$50,4,FALSE),"")) -> 200 | G5: =IF(ISBLANK(C5),"",IF(NOT(ISNUMBER(D5)),"No reading",IF(NOT(ISNUMBER(E5)),"Unknown unit",IF(D5>F5,"Too warm",IF(D5<E5,"Too cold","OK"))))) -> OK | I5: TJ | J5: =IF(OR(G5="Too warm",G5="Too cold"),IF(ISBLANK(H5),"Add action","Action logged"),IF(G5="No reading","Take reading",""))
A6: 46342 | B6: 0.625 | C6: Walk-in cooler | D6: 39 | E6: =IF(ISBLANK(C6),"",IFERROR(VLOOKUP(C6,Units!$A$2:$D$50,3,FALSE),"")) -> 33 | F6: =IF(ISBLANK(C6),"",IFERROR(VLOOKUP(C6,Units!$A$2:$D$50,4,FALSE),"")) -> 41 | G6: =IF(ISBLANK(C6),"",IF(NOT(ISNUMBER(D6)),"No reading",IF(NOT(ISNUMBER(E6)),"Unknown unit",IF(D6>F6,"Too warm",IF(D6<E6,"Too cold","OK"))))) -> OK | I6: TJ | J6: =IF(OR(G6="Too warm",G6="Too cold"),IF(ISBLANK(H6),"Add action","Action logged"),IF(G6="No reading","Take reading",""))
A7: 46342 | B7: 0.625 | C7: Reach-in fridge (line) | D7: 44 | E7: =IF(ISBLANK(C7),"",IFERROR(VLOOKUP(C7,Units!$A$2:$D$50,3,FALSE),"")) -> 33 | F7: =IF(ISBLANK(C7),"",IFERROR(VLOOKUP(C7,Units!$A$2:$D$50,4,FALSE),"")) -> 41 | G7: =IF(ISBLANK(C7),"",IF(NOT(ISNUMBER(D7)),"No reading",IF(NOT(ISNUMBER(E7)),"Unknown unit",IF(D7>F7,"Too warm",IF(D7<E7,"Too cold","OK"))))) -> Too warm | H7: Door left ajar during rush. Closed it, moved dairy to walk-in, rechecked at 15:30 | I7: TJ | J7: =IF(OR(G7="Too warm",G7="Too cold"),IF(ISBLANK(H7),"Add action","Action logged"),IF(G7="No reading","Take reading","")) -> Action logged
A8: 46342 | B8: 0.64583333 | C8: Reach-in fridge (line) | D8: 40 | E8: =IF(ISBLANK(C8),"",IFERROR(VLOOKUP(C8,Units!$A$2:$D$50,3,FALSE),"")) -> 33 | F8: =IF(ISBLANK(C8),"",IFERROR(VLOOKUP(C8,Units!$A$2:$D$50,4,FALSE),"")) -> 41 | G8: =IF(ISBLANK(C8),"",IF(NOT(ISNUMBER(D8)),"No reading",IF(NOT(ISNUMBER(E8)),"Unknown unit",IF(D8>F8,"Too warm",IF(D8<E8,"Too cold","OK"))))) -> OK | I8: TJ | J8: =IF(OR(G8="Too warm",G8="Too cold"),IF(ISBLANK(H8),"Add action","Action logged"),IF(G8="No reading","Take reading",""))
A9: 46342 | B9: 0.625 | C9: Freezer | D9: -2 | E9: =IF(ISBLANK(C9),"",IFERROR(VLOOKUP(C9,Units!$A$2:$D$50,3,FALSE),"")) -> -10 | F9: =IF(ISBLANK(C9),"",IFERROR(VLOOKUP(C9,Units!$A$2:$D$50,4,FALSE),"")) -> 0 | G9: =IF(ISBLANK(C9),"",IF(NOT(ISNUMBER(D9)),"No reading",IF(NOT(ISNUMBER(E9)),"Unknown unit",IF(D9>F9,"Too warm",IF(D9<E9,"Too cold","OK"))))) -> OK | I9: TJ | J9: =IF(OR(G9="Too warm",G9="Too cold"),IF(ISBLANK(H9),"Add action","Action logged"),IF(G9="No reading","Take reading",""))
A10: 46342 | B10: 0.625 | C10: Hot holding well | D10: 129 | E10: =IF(ISBLANK(C10),"",IFERROR(VLOOKUP(C10,Units!$A$2:$D$50,3,FALSE),"")) -> 135 | F10: =IF(ISBLANK(C10),"",IFERROR(VLOOKUP(C10,Units!$A$2:$D$50,4,FALSE),"")) -> 200 | G10: =IF(ISBLANK(C10),"",IF(NOT(ISNUMBER(D10)),"No reading",IF(NOT(ISNUMBER(E10)),"Unknown unit",IF(D10>F10,"Too warm",IF(D10<E10,"Too cold","OK"))))) -> Too cold | H10: Soup reheated and well turned up. Rechecked at 15:20: 152 | I10: TJ | J10: =IF(OR(G10="Too warm",G10="Too cold"),IF(ISBLANK(H10),"Add action","Action logged"),IF(G10="No reading","Take reading","")) -> Action logged
A11: 46343 | B11: 0.29166667 | C11: Walk-in cooler | D11: 36 | E11: =IF(ISBLANK(C11),"",IFERROR(VLOOKUP(C11,Units!$A$2:$D$50,3,FALSE),"")) -> 33 | F11: =IF(ISBLANK(C11),"",IFERROR(VLOOKUP(C11,Units!$A$2:$D$50,4,FALSE),"")) -> 41 | G11: =IF(ISBLANK(C11),"",IF(NOT(ISNUMBER(D11)),"No reading",IF(NOT(ISNUMBER(E11)),"Unknown unit",IF(D11>F11,"Too warm",IF(D11<E11,"Too cold","OK"))))) -> OK | I11: MR | J11: =IF(OR(G11="Too warm",G11="Too cold"),IF(ISBLANK(H11),"Add action","Action logged"),IF(G11="No reading","Take reading",""))
A12: 46343 | B12: 0.29166667 | C12: Reach-in fridge (line) | D12: 37 | E12: =IF(ISBLANK(C12),"",IFERROR(VLOOKUP(C12,Units!$A$2:$D$50,3,FALSE),"")) -> 33 | F12: =IF(ISBLANK(C12),"",IFERROR(VLOOKUP(C12,Units!$A$2:$D$50,4,FALSE),"")) -> 41 | G12: =IF(ISBLANK(C12),"",IF(NOT(ISNUMBER(D12)),"No reading",IF(NOT(ISNUMBER(E12)),"Unknown unit",IF(D12>F12,"Too warm",IF(D12<E12,"Too cold","OK"))))) -> OK | I12: MR | J12: =IF(OR(G12="Too warm",G12="Too cold"),IF(ISBLANK(H12),"Add action","Action logged"),IF(G12="No reading","Take reading",""))
A13: 46343 | B13: 0.29166667 | C13: Freezer | D13: 3 | E13: =IF(ISBLANK(C13),"",IFERROR(VLOOKUP(C13,Units!$A$2:$D$50,3,FALSE),"")) -> -10 | F13: =IF(ISBLANK(C13),"",IFERROR(VLOOKUP(C13,Units!$A$2:$D$50,4,FALSE),"")) -> 0 | G13: =IF(ISBLANK(C13),"",IF(NOT(ISNUMBER(D13)),"No reading",IF(NOT(ISNUMBER(E13)),"Unknown unit",IF(D13>F13,"Too warm",IF(D13<E13,"Too cold","OK"))))) -> Too warm | I13: MR | J13: =IF(OR(G13="Too warm",G13="Too cold"),IF(ISBLANK(H13),"Add action","Action logged"),IF(G13="No reading","Take reading","")) -> Add action
A14: 46343 | B14: 0.47916667 | C14: Hot holding well | D14: 161 | E14: =IF(ISBLANK(C14),"",IFERROR(VLOOKUP(C14,Units!$A$2:$D$50,3,FALSE),"")) -> 135 | F14: =IF(ISBLANK(C14),"",IFERROR(VLOOKUP(C14,Units!$A$2:$D$50,4,FALSE),"")) -> 200 | G14: =IF(ISBLANK(C14),"",IF(NOT(ISNUMBER(D14)),"No reading",IF(NOT(ISNUMBER(E14)),"Unknown unit",IF(D14>F14,"Too warm",IF(D14<E14,"Too cold","OK"))))) -> OK | I14: SK | J14: =IF(OR(G14="Too warm",G14="Too cold"),IF(ISBLANK(H14),"Add action","Action logged"),IF(G14="No reading","Take reading",""))
A15: 46343 | B15: 0.625 | C15: Walk-in cooler | D15: 38 | E15: =IF(ISBLANK(C15),"",IFERROR(VLOOKUP(C15,Units!$A$2:$D$50,3,FALSE),"")) -> 33 | F15: =IF(ISBLANK(C15),"",IFERROR(VLOOKUP(C15,Units!$A$2:$D$50,4,FALSE),"")) -> 41 | G15: =IF(ISBLANK(C15),"",IF(NOT(ISNUMBER(D15)),"No reading",IF(NOT(ISNUMBER(E15)),"Unknown unit",IF(D15>F15,"Too warm",IF(D15<E15,"Too cold","OK"))))) -> OK | I15: SK | J15: =IF(OR(G15="Too warm",G15="Too cold"),IF(ISBLANK(H15),"Add action","Action logged"),IF(G15="No reading","Take reading",""))
A16: 46343 | B16: 0.625 | C16: Reach-in fridge (line) | D16: 39 | E16: =IF(ISBLANK(C16),"",IFERROR(VLOOKUP(C16,Units!$A$2:$D$50,3,FALSE),"")) -> 33 | F16: =IF(ISBLANK(C16),"",IFERROR(VLOOKUP(C16,Units!$A$2:$D$50,4,FALSE),"")) -> 41 | G16: =IF(ISBLANK(C16),"",IF(NOT(ISNUMBER(D16)),"No reading",IF(NOT(ISNUMBER(E16)),"Unknown unit",IF(D16>F16,"Too warm",IF(D16<E16,"Too cold","OK"))))) -> OK | I16: SK | J16: =IF(OR(G16="Too warm",G16="Too cold"),IF(ISBLANK(H16),"Add action","Action logged"),IF(G16="No reading","Take reading",""))
A17: 46343 | B17: 0.625 | C17: Freezer | D17: -1 | E17: =IF(ISBLANK(C17),"",IFERROR(VLOOKUP(C17,Units!$A$2:$D$50,3,FALSE),"")) -> -10 | F17: =IF(ISBLANK(C17),"",IFERROR(VLOOKUP(C17,Units!$A$2:$D$50,4,FALSE),"")) -> 0 | G17: =IF(ISBLANK(C17),"",IF(NOT(ISNUMBER(D17)),"No reading",IF(NOT(ISNUMBER(E17)),"Unknown unit",IF(D17>F17,"Too warm",IF(D17<E17,"Too cold","OK"))))) -> OK | I17: SK | J17: =IF(OR(G17="Too warm",G17="Too cold"),IF(ISBLANK(H17),"Add action","Action logged"),IF(G17="No reading","Take reading",""))
A18: 46343 | B18: 0.625 | C18: Hot holding well | E18: =IF(ISBLANK(C18),"",IFERROR(VLOOKUP(C18,Units!$A$2:$D$50,3,FALSE),"")) -> 135 | F18: =IF(ISBLANK(C18),"",IFERROR(VLOOKUP(C18,Units!$A$2:$D$50,4,FALSE),"")) -> 200 | G18: =IF(ISBLANK(C18),"",IF(NOT(ISNUMBER(D18)),"No reading",IF(NOT(ISNUMBER(E18)),"Unknown unit",IF(D18>F18,"Too warm",IF(D18<E18,"Too cold","OK"))))) -> No reading | I18: SK | J18: =IF(OR(G18="Too warm",G18="Too cold"),IF(ISBLANK(H18),"Add action","Action logged"),IF(G18="No reading","Take reading","")) -> Take reading

Sheet Units
A1: Unit | B1: Type | C1: Lowest OK (°F) | D1: Highest OK (°F) | E1: Notes
A2: Walk-in cooler | B2: Cold holding | C2: 33 | D2: 41 | E2: Back of kitchen
A3: Reach-in fridge (line) | B3: Cold holding | C3: 33 | D3: 41 | E3: Under the grill station
A4: Freezer | B4: Frozen | C4: -10 | D4: 0 | E4: Chest freezer, dry store
A5: Hot holding well | B5: Hot holding | C5: 135 | D5: 200 | E5: Soup and sides

Sheet Summary
A1: Unit | B1: Readings | C1: In range | D1: Out of range | E1: % in range | F1: Average °F | G1: Needs follow-up
A2: =IF(ISBLANK(Units!A2),"",Units!A2) -> Walk-in cooler | B2: =COUNTIFS('Temp Log'!$C$2:$C$2000,A2,'Temp Log'!$D$2:$D$2000,">-1000") -> 4 | C2: =COUNTIFS('Temp Log'!$C$2:$C$2000,A2,'Temp Log'!$G$2:$G$2000,"OK") -> 4 | D2: =COUNTIFS('Temp Log'!$C$2:$C$2000,A2,'Temp Log'!$G$2:$G$2000,"Too warm")+COUNTIFS('Temp Log'!$C$2:$C$2000,A2,'Temp Log'!$G$2:$G$2000,"Too cold") -> 0 | E2: =IF(B2=0,0,C2/B2) -> 1 | F2: =IF(B2=0,"",ROUND(AVERAGEIFS('Temp Log'!$D$2:$D$2000,'Temp Log'!$C$2:$C$2000,A2,'Temp Log'!$D$2:$D$2000,">-1000"),1)) -> 37.5 | G2: =COUNTIFS('Temp Log'!$C$2:$C$2000,A2,'Temp Log'!$J$2:$J$2000,"Add action")+COUNTIFS('Temp Log'!$C$2:$C$2000,A2,'Temp Log'!$J$2:$J$2000,"Take reading") -> 0
A3: =IF(ISBLANK(Units!A3),"",Units!A3) -> Reach-in fridge (line) | B3: =COUNTIFS('Temp Log'!$C$2:$C$2000,A3,'Temp Log'!$D$2:$D$2000,">-1000") -> 5 | C3: =COUNTIFS('Temp Log'!$C$2:$C$2000,A3,'Temp Log'!$G$2:$G$2000,"OK") -> 4 | D3: =COUNTIFS('Temp Log'!$C$2:$C$2000,A3,'Temp Log'!$G$2:$G$2000,"Too warm")+COUNTIFS('Temp Log'!$C$2:$C$2000,A3,'Temp Log'!$G$2:$G$2000,"Too cold") -> 1 | E3: =IF(B3=0,0,C3/B3) -> 0.8 | F3: =IF(B3=0,"",ROUND(AVERAGEIFS('Temp Log'!$D$2:$D$2000,'Temp Log'!$C$2:$C$2000,A3,'Temp Log'!$D$2:$D$2000,">-1000"),1)) -> 39.6 | G3: =COUNTIFS('Temp Log'!$C$2:$C$2000,A3,'Temp Log'!$J$2:$J$2000,"Add action")+COUNTIFS('Temp Log'!$C$2:$C$2000,A3,'Temp Log'!$J$2:$J$2000,"Take reading") -> 0
A4: =IF(ISBLANK(Units!A4),"",Units!A4) -> Freezer | B4: =COUNTIFS('Temp Log'!$C$2:$C$2000,A4,'Temp Log'!$D$2:$D$2000,">-1000") -> 4 | C4: =COUNTIFS('Temp Log'!$C$2:$C$2000,A4,'Temp Log'!$G$2:$G$2000,"OK") -> 3 | D4: =COUNTIFS('Temp Log'!$C$2:$C$2000,A4,'Temp Log'!$G$2:$G$2000,"Too warm")+COUNTIFS('Temp Log'!$C$2:$C$2000,A4,'Temp Log'!$G$2:$G$2000,"Too cold") -> 1 | E4: =IF(B4=0,0,C4/B4) -> 0.75 | F4: =IF(B4=0,"",ROUND(AVERAGEIFS('Temp Log'!$D$2:$D$2000,'Temp Log'!$C$2:$C$2000,A4,'Temp Log'!$D$2:$D$2000,">-1000"),1)) -> -1 | G4: =COUNTIFS('Temp Log'!$C$2:$C$2000,A4,'Temp Log'!$J$2:$J$2000,"Add action")+COUNTIFS('Temp Log'!$C$2:$C$2000,A4,'Temp Log'!$J$2:$J$2000,"Take reading") -> 1
A5: =IF(ISBLANK(Units!A5),"",Units!A5) -> Hot holding well | B5: =COUNTIFS('Temp Log'!$C$2:$C$2000,A5,'Temp Log'!$D$2:$D$2000,">-1000") -> 3 | C5: =COUNTIFS('Temp Log'!$C$2:$C$2000,A5,'Temp Log'!$G$2:$G$2000,"OK") -> 2 | D5: =COUNTIFS('Temp Log'!$C$2:$C$2000,A5,'Temp Log'!$G$2:$G$2000,"Too warm")+COUNTIFS('Temp Log'!$C$2:$C$2000,A5,'Temp Log'!$G$2:$G$2000,"Too cold") -> 1 | E5: =IF(B5=0,0,C5/B5) -> 0.66666667 | F5: =IF(B5=0,"",ROUND(AVERAGEIFS('Temp Log'!$D$2:$D$2000,'Temp Log'!$C$2:$C$2000,A5,'Temp Log'!$D$2:$D$2000,">-1000"),1)) -> 149.3 | G5: =COUNTIFS('Temp Log'!$C$2:$C$2000,A5,'Temp Log'!$J$2:$J$2000,"Add action")+COUNTIFS('Temp Log'!$C$2:$C$2000,A5,'Temp Log'!$J$2:$J$2000,"Take reading") -> 1
A6: All units | B6: =SUM(B2:B5) -> 16 | C6: =SUM(C2:C5) -> 13 | D6: =SUM(D2:D5) -> 3 | E6: =IF(B6=0,0,C6/B6) -> 0.8125 | G6: =SUM(G2:G5) -> 2
