Workbook

Sheet Timesheet
A1: Date | B1: Day | C1: Start | D1: End | E1: Break (min) | F1: Hours | G1: Notes
A2: 46328 | B2: =A2 -> 46328 | C2: 0.33333333 | D2: 0.6875 | E2: 30 | F2: =IF(OR(ISBLANK(C2),ISBLANK(D2)),0,ROUND(MOD(D2-C2,1)*24-E2/60,2)) -> 8
A3: =A2+1 -> 46329 | B3: =A3 -> 46329 | C3: 0.33333333 | D3: 0.70833333 | E3: 30 | F3: =IF(OR(ISBLANK(C3),ISBLANK(D3)),0,ROUND(MOD(D3-C3,1)*24-E3/60,2)) -> 8.5
A4: =A3+1 -> 46330 | B4: =A4 -> 46330 | C4: 0.33333333 | D4: 0.6875 | E4: 30 | F4: =IF(OR(ISBLANK(C4),ISBLANK(D4)),0,ROUND(MOD(D4-C4,1)*24-E4/60,2)) -> 8
A5: =A4+1 -> 46331 | B5: =A5 -> 46331 | C5: 0.3125 | D5: 0.72916667 | E5: 30 | F5: =IF(OR(ISBLANK(C5),ISBLANK(D5)),0,ROUND(MOD(D5-C5,1)*24-E5/60,2)) -> 9.5 | G5: Stayed late for inventory
A6: =A5+1 -> 46332 | B6: =A6 -> 46332 | C6: 0.33333333 | D6: 0.66666667 | E6: 30 | F6: =IF(OR(ISBLANK(C6),ISBLANK(D6)),0,ROUND(MOD(D6-C6,1)*24-E6/60,2)) -> 7.5
A7: =A6+1 -> 46333 | B7: =A7 -> 46333 | C7: 0.375 | D7: 0.58333333 | E7: 0 | F7: =IF(OR(ISBLANK(C7),ISBLANK(D7)),0,ROUND(MOD(D7-C7,1)*24-E7/60,2)) -> 5 | G7: Covered Sam's shift
A8: =A7+1 -> 46334 | B8: =A8 -> 46334 | F8: =IF(OR(ISBLANK(C8),ISBLANK(D8)),0,ROUND(MOD(D8-C8,1)*24-E8/60,2)) -> 0 | G8: Day off
A9: Week 1 total | F9: =SUM(F2:F8) -> 46.5
A10: =A8+1 -> 46335 | B10: =A10 -> 46335 | C10: 0.33333333 | D10: 0.6875 | E10: 30 | F10: =IF(OR(ISBLANK(C10),ISBLANK(D10)),0,ROUND(MOD(D10-C10,1)*24-E10/60,2)) -> 8
A11: =A10+1 -> 46336 | B11: =A11 -> 46336 | C11: 0.33333333 | D11: 0.6875 | E11: 30 | F11: =IF(OR(ISBLANK(C11),ISBLANK(D11)),0,ROUND(MOD(D11-C11,1)*24-E11/60,2)) -> 8
A12: =A11+1 -> 46337 | B12: =A12 -> 46337 | F12: =IF(OR(ISBLANK(C12),ISBLANK(D12)),0,ROUND(MOD(D12-C12,1)*24-E12/60,2)) -> 0 | G12: Veterans Day, store closed
A13: =A12+1 -> 46338 | B13: =A13 -> 46338 | C13: 0.33333333 | D13: 0.6875 | E13: 30 | F13: =IF(OR(ISBLANK(C13),ISBLANK(D13)),0,ROUND(MOD(D13-C13,1)*24-E13/60,2)) -> 8
A14: =A13+1 -> 46339 | B14: =A14 -> 46339 | C14: 0.33333333 | D14: 0.6875 | E14: 30 | F14: =IF(OR(ISBLANK(C14),ISBLANK(D14)),0,ROUND(MOD(D14-C14,1)*24-E14/60,2)) -> 8
A15: =A14+1 -> 46340 | B15: =A15 -> 46340 | C15: 0.91666667 | D15: 0.25 | E15: 30 | F15: =IF(OR(ISBLANK(C15),ISBLANK(D15)),0,ROUND(MOD(D15-C15,1)*24-E15/60,2)) -> 7.5 | G15: Overnight stocktake
A16: =A15+1 -> 46341 | B16: =A16 -> 46341 | F16: =IF(OR(ISBLANK(C16),ISBLANK(D16)),0,ROUND(MOD(D16-C16,1)*24-E16/60,2)) -> 0 | G16: Day off
A17: Week 2 total | F17: =SUM(F10:F16) -> 39.5
A18: Pay period total | F18: =F9+F17 -> 86

Sheet Summary
A1: Item | B1: Week 1 | C1: Week 2 | D1: Pay period
A2: Hours worked | B2: =Timesheet!F9 -> 46.5 | C2: =Timesheet!F17 -> 39.5 | D2: =B2+C2 -> 86
A3: Regular hours | B3: =MIN(B2,'Pay Settings'!$B$4) -> 40 | C3: =MIN(C2,'Pay Settings'!$B$4) -> 39.5 | D3: =B3+C3 -> 79.5
A4: Overtime hours | B4: =MAX(0,B2-'Pay Settings'!$B$4) -> 6.5 | C4: =MAX(0,C2-'Pay Settings'!$B$4) -> 0 | D4: =B4+C4 -> 6.5
A5: Regular pay | B5: =ROUND(B3*'Pay Settings'!$B$3,2) -> 900 | C5: =ROUND(C3*'Pay Settings'!$B$3,2) -> 888.75 | D5: =B5+C5 -> 1788.75
A6: Overtime pay | B6: =ROUND(B4*'Pay Settings'!$B$3*'Pay Settings'!$B$5,2) -> 219.38 | C6: =ROUND(C4*'Pay Settings'!$B$3*'Pay Settings'!$B$5,2) -> 0 | D6: =B6+C6 -> 219.38
A7: Total pay (before tax) | B7: =B5+B6 -> 1119.38 | C7: =C5+C6 -> 888.75 | D7: =B7+C7 -> 2008.13
A8: Days worked | B8: =COUNTIF(Timesheet!F2:F8,">0") -> 6 | C8: =COUNTIF(Timesheet!F10:F16,">0") -> 5 | D8: =B8+C8 -> 11

Sheet Pay Settings
A1: Setting | B1: Value
A2: Name | B2: Jordan Lee
A3: Hourly rate ($) | B3: 22.5
A4: Overtime after (hours per week) | B4: 40
A5: Overtime rate (times hourly) | B5: 1.5
