Workbook

Sheet Training Log
A1: Employee | B1: Department | C1: Course | D1: Required | E1: Completed | F1: Hours | G1: Valid for (months) | H1: Expires | I1: Days left | J1: Status | K1: Provider | L1: Certificate #
A2: Carlos Mendez | B2: Warehouse | C2: Forklift operator certification | D2: Yes | E2: 45264 | F2: 8 | G2: 36 | H2: =IF(OR(ISBLANK(E2),NOT(ISNUMBER(G2))),"",DATE(YEAR(E2+0),MONTH(E2+0)+G2,DAY(E2+0))) -> 46360 | I2: =IF(ISNUMBER(H2),H2-Settings!$B$2,"") -> 18 | J2: =IF(ISBLANK(C2),"",IF(ISBLANK(E2),"Not done",IF(NOT(ISNUMBER(H2)),"No expiry",IF(I2<0,"Expired",IF(I2<=Settings!$B$3,"Due soon","Current"))))) -> Due soon | K2: Safety Pro Training | L2: FL-20931
A3: Carlos Mendez | B3: Warehouse | C3: First aid and CPR | D3: Yes | E3: 45616 | F3: 4 | G3: 24 | H3: =IF(OR(ISBLANK(E3),NOT(ISNUMBER(G3))),"",DATE(YEAR(E3+0),MONTH(E3+0)+G3,DAY(E3+0))) -> 46346 | I3: =IF(ISNUMBER(H3),H3-Settings!$B$2,"") -> 4 | J3: =IF(ISBLANK(C3),"",IF(ISBLANK(E3),"Not done",IF(NOT(ISNUMBER(H3)),"No expiry",IF(I3<0,"Expired",IF(I3<=Settings!$B$3,"Due soon","Current"))))) -> Due soon | K3: Red Cross | L3: CPR-55120
A4: Carlos Mendez | B4: Warehouse | C4: Hazard communication | D4: Yes | E4: 45971 | F4: 1.5 | G4: 12 | H4: =IF(OR(ISBLANK(E4),NOT(ISNUMBER(G4))),"",DATE(YEAR(E4+0),MONTH(E4+0)+G4,DAY(E4+0))) -> 46336 | I4: =IF(ISNUMBER(H4),H4-Settings!$B$2,"") -> -6 | J4: =IF(ISBLANK(C4),"",IF(ISBLANK(E4),"Not done",IF(NOT(ISNUMBER(H4)),"No expiry",IF(I4<0,"Expired",IF(I4<=Settings!$B$3,"Due soon","Current"))))) -> Expired | K4: In-house
A5: Dana Whitfield | B5: Warehouse | C5: Forklift operator certification | D5: Yes | E5: 45733 | F5: 8 | G5: 36 | H5: =IF(OR(ISBLANK(E5),NOT(ISNUMBER(G5))),"",DATE(YEAR(E5+0),MONTH(E5+0)+G5,DAY(E5+0))) -> 46829 | I5: =IF(ISNUMBER(H5),H5-Settings!$B$2,"") -> 487 | J5: =IF(ISBLANK(C5),"",IF(ISBLANK(E5),"Not done",IF(NOT(ISNUMBER(H5)),"No expiry",IF(I5<0,"Expired",IF(I5<=Settings!$B$3,"Due soon","Current"))))) -> Current | K5: Safety Pro Training | L5: FL-21877
A6: Dana Whitfield | B6: Warehouse | C6: Hazard communication | D6: Yes | E6: 46034 | F6: 1.5 | G6: 12 | H6: =IF(OR(ISBLANK(E6),NOT(ISNUMBER(G6))),"",DATE(YEAR(E6+0),MONTH(E6+0)+G6,DAY(E6+0))) -> 46399 | I6: =IF(ISNUMBER(H6),H6-Settings!$B$2,"") -> 57 | J6: =IF(ISBLANK(C6),"",IF(ISBLANK(E6),"Not done",IF(NOT(ISNUMBER(H6)),"No expiry",IF(I6<0,"Expired",IF(I6<=Settings!$B$3,"Due soon","Current"))))) -> Due soon | K6: In-house
A7: Dana Whitfield | B7: Warehouse | C7: Fire extinguisher training | D7: Yes | E7: 45958 | F7: 1 | G7: 12 | H7: =IF(OR(ISBLANK(E7),NOT(ISNUMBER(G7))),"",DATE(YEAR(E7+0),MONTH(E7+0)+G7,DAY(E7+0))) -> 46323 | I7: =IF(ISNUMBER(H7),H7-Settings!$B$2,"") -> -19 | J7: =IF(ISBLANK(C7),"",IF(ISBLANK(E7),"Not done",IF(NOT(ISNUMBER(H7)),"No expiry",IF(I7<0,"Expired",IF(I7<=Settings!$B$3,"Due soon","Current"))))) -> Expired | K7: City Fire Dept.
A8: Grace Kim | B8: Office | C8: Harassment prevention | D8: Yes | E8: 45992 | F8: 2 | G8: 12 | H8: =IF(OR(ISBLANK(E8),NOT(ISNUMBER(G8))),"",DATE(YEAR(E8+0),MONTH(E8+0)+G8,DAY(E8+0))) -> 46357 | I8: =IF(ISNUMBER(H8),H8-Settings!$B$2,"") -> 15 | J8: =IF(ISBLANK(C8),"",IF(ISBLANK(E8),"Not done",IF(NOT(ISNUMBER(H8)),"No expiry",IF(I8<0,"Expired",IF(I8<=Settings!$B$3,"Due soon","Current"))))) -> Due soon | K8: Online course | L8: HP-7731
A9: Grace Kim | B9: Office | C9: First aid and CPR | D9: No | E9: 46062 | F9: 4 | G9: 24 | H9: =IF(OR(ISBLANK(E9),NOT(ISNUMBER(G9))),"",DATE(YEAR(E9+0),MONTH(E9+0)+G9,DAY(E9+0))) -> 46792 | I9: =IF(ISNUMBER(H9),H9-Settings!$B$2,"") -> 450 | J9: =IF(ISBLANK(C9),"",IF(ISBLANK(E9),"Not done",IF(NOT(ISNUMBER(H9)),"No expiry",IF(I9<0,"Expired",IF(I9<=Settings!$B$3,"Due soon","Current"))))) -> Current | K9: Red Cross | L9: CPR-60215
A10: Grace Kim | B10: Office | C10: Excel for reporting | D10: No | E10: 46156 | F10: 6 | H10: =IF(OR(ISBLANK(E10),NOT(ISNUMBER(G10))),"",DATE(YEAR(E10+0),MONTH(E10+0)+G10,DAY(E10+0))) | I10: =IF(ISNUMBER(H10),H10-Settings!$B$2,"") | J10: =IF(ISBLANK(C10),"",IF(ISBLANK(E10),"Not done",IF(NOT(ISNUMBER(H10)),"No expiry",IF(I10<0,"Expired",IF(I10<=Settings!$B$3,"Due soon","Current"))))) -> No expiry | K10: Online course
A11: Marcus Hill | B11: Drivers | C11: Defensive driving | D11: Yes | E11: 45628 | F11: 4 | G11: 24 | H11: =IF(OR(ISBLANK(E11),NOT(ISNUMBER(G11))),"",DATE(YEAR(E11+0),MONTH(E11+0)+G11,DAY(E11+0))) -> 46358 | I11: =IF(ISNUMBER(H11),H11-Settings!$B$2,"") -> 16 | J11: =IF(ISBLANK(C11),"",IF(ISBLANK(E11),"Not done",IF(NOT(ISNUMBER(H11)),"No expiry",IF(I11<0,"Expired",IF(I11<=Settings!$B$3,"Due soon","Current"))))) -> Due soon | K11: National Safety Council | L11: DD-4410
A12: Marcus Hill | B12: Drivers | C12: Hazard communication | D12: Yes | E12: 46062 | F12: 1.5 | G12: 12 | H12: =IF(OR(ISBLANK(E12),NOT(ISNUMBER(G12))),"",DATE(YEAR(E12+0),MONTH(E12+0)+G12,DAY(E12+0))) -> 46427 | I12: =IF(ISNUMBER(H12),H12-Settings!$B$2,"") -> 85 | J12: =IF(ISBLANK(C12),"",IF(ISBLANK(E12),"Not done",IF(NOT(ISNUMBER(H12)),"No expiry",IF(I12<0,"Expired",IF(I12<=Settings!$B$3,"Due soon","Current"))))) -> Current | K12: In-house
A13: Marcus Hill | B13: Drivers | C13: OSHA 10-hour general industry | D13: No | E13: 45828 | F13: 10 | H13: =IF(OR(ISBLANK(E13),NOT(ISNUMBER(G13))),"",DATE(YEAR(E13+0),MONTH(E13+0)+G13,DAY(E13+0))) | I13: =IF(ISNUMBER(H13),H13-Settings!$B$2,"") | J13: =IF(ISBLANK(C13),"",IF(ISBLANK(E13),"Not done",IF(NOT(ISNUMBER(H13)),"No expiry",IF(I13<0,"Expired",IF(I13<=Settings!$B$3,"Due soon","Current"))))) -> No expiry | K13: Online course | L13: OSHA-10-88231
A14: Priya Shah | B14: Office | C14: Harassment prevention | D14: Yes | E14: 46325 | F14: 2 | G14: 12 | H14: =IF(OR(ISBLANK(E14),NOT(ISNUMBER(G14))),"",DATE(YEAR(E14+0),MONTH(E14+0)+G14,DAY(E14+0))) -> 46690 | I14: =IF(ISNUMBER(H14),H14-Settings!$B$2,"") -> 348 | J14: =IF(ISBLANK(C14),"",IF(ISBLANK(E14),"Not done",IF(NOT(ISNUMBER(H14)),"No expiry",IF(I14<0,"Expired",IF(I14<=Settings!$B$3,"Due soon","Current"))))) -> Current | K14: Online course | L14: HP-8102
A15: Priya Shah | B15: Office | C15: New hire orientation | D15: Yes | E15: 46321 | F15: 3 | H15: =IF(OR(ISBLANK(E15),NOT(ISNUMBER(G15))),"",DATE(YEAR(E15+0),MONTH(E15+0)+G15,DAY(E15+0))) | I15: =IF(ISNUMBER(H15),H15-Settings!$B$2,"") | J15: =IF(ISBLANK(C15),"",IF(ISBLANK(E15),"Not done",IF(NOT(ISNUMBER(H15)),"No expiry",IF(I15<0,"Expired",IF(I15<=Settings!$B$3,"Due soon","Current"))))) -> No expiry | K15: In-house
A16: Priya Shah | B16: Office | C16: Fire extinguisher training | D16: Yes | G16: 12 | H16: =IF(OR(ISBLANK(E16),NOT(ISNUMBER(G16))),"",DATE(YEAR(E16+0),MONTH(E16+0)+G16,DAY(E16+0))) | I16: =IF(ISNUMBER(H16),H16-Settings!$B$2,"") | J16: =IF(ISBLANK(C16),"",IF(ISBLANK(E16),"Not done",IF(NOT(ISNUMBER(H16)),"No expiry",IF(I16<0,"Expired",IF(I16<=Settings!$B$3,"Due soon","Current"))))) -> Not done | K16: City Fire Dept.
A17: Tom Becker | B17: Warehouse | C17: Forklift operator certification | D17: Yes | E17: 46237 | F17: 8 | G17: 36 | H17: =IF(OR(ISBLANK(E17),NOT(ISNUMBER(G17))),"",DATE(YEAR(E17+0),MONTH(E17+0)+G17,DAY(E17+0))) -> 47333 | I17: =IF(ISNUMBER(H17),H17-Settings!$B$2,"") -> 991 | J17: =IF(ISBLANK(C17),"",IF(ISBLANK(E17),"Not done",IF(NOT(ISNUMBER(H17)),"No expiry",IF(I17<0,"Expired",IF(I17<=Settings!$B$3,"Due soon","Current"))))) -> Current | K17: Safety Pro Training | L17: FL-23015
A18: Tom Becker | B18: Warehouse | C18: First aid and CPR | D18: Yes | E18: 45672 | F18: 4 | G18: 24 | H18: =IF(OR(ISBLANK(E18),NOT(ISNUMBER(G18))),"",DATE(YEAR(E18+0),MONTH(E18+0)+G18,DAY(E18+0))) -> 46402 | I18: =IF(ISNUMBER(H18),H18-Settings!$B$2,"") -> 60 | J18: =IF(ISBLANK(C18),"",IF(ISBLANK(E18),"Not done",IF(NOT(ISNUMBER(H18)),"No expiry",IF(I18<0,"Expired",IF(I18<=Settings!$B$3,"Due soon","Current"))))) -> Due soon | K18: Red Cross | L18: CPR-57004
A19: Tom Becker | B19: Warehouse | C19: Fire extinguisher training | D19: Yes | E19: 46097 | F19: 1 | G19: 12 | H19: =IF(OR(ISBLANK(E19),NOT(ISNUMBER(G19))),"",DATE(YEAR(E19+0),MONTH(E19+0)+G19,DAY(E19+0))) -> 46462 | I19: =IF(ISNUMBER(H19),H19-Settings!$B$2,"") -> 120 | J19: =IF(ISBLANK(C19),"",IF(ISBLANK(E19),"Not done",IF(NOT(ISNUMBER(H19)),"No expiry",IF(I19<0,"Expired",IF(I19<=Settings!$B$3,"Due soon","Current"))))) -> Current | K19: City Fire Dept.

Sheet By Employee
A1: Employee | B1: Courses | C1: Hours | D1: Current | E1: Due soon | F1: Expired | G1: Not done | H1: Overall
A2: Carlos Mendez | B2: =COUNTIF('Training Log'!$A$2:$A$500,A2) -> 3 | C2: =SUMIF('Training Log'!$A$2:$A$500,A2,'Training Log'!$F$2:$F$500) -> 13.5 | D2: =COUNTIFS('Training Log'!$A$2:$A$500,A2,'Training Log'!$J$2:$J$500,"Current")+COUNTIFS('Training Log'!$A$2:$A$500,A2,'Training Log'!$J$2:$J$500,"No expiry") -> 0 | E2: =COUNTIFS('Training Log'!$A$2:$A$500,A2,'Training Log'!$J$2:$J$500,"Due soon") -> 2 | F2: =COUNTIFS('Training Log'!$A$2:$A$500,A2,'Training Log'!$J$2:$J$500,"Expired") -> 1 | G2: =COUNTIFS('Training Log'!$A$2:$A$500,A2,'Training Log'!$J$2:$J$500,"Not done") -> 0 | H2: =IF(F2+G2>0,"Action needed",IF(E2>0,"Renew soon","All good")) -> Action needed
A3: Dana Whitfield | B3: =COUNTIF('Training Log'!$A$2:$A$500,A3) -> 3 | C3: =SUMIF('Training Log'!$A$2:$A$500,A3,'Training Log'!$F$2:$F$500) -> 10.5 | D3: =COUNTIFS('Training Log'!$A$2:$A$500,A3,'Training Log'!$J$2:$J$500,"Current")+COUNTIFS('Training Log'!$A$2:$A$500,A3,'Training Log'!$J$2:$J$500,"No expiry") -> 1 | E3: =COUNTIFS('Training Log'!$A$2:$A$500,A3,'Training Log'!$J$2:$J$500,"Due soon") -> 1 | F3: =COUNTIFS('Training Log'!$A$2:$A$500,A3,'Training Log'!$J$2:$J$500,"Expired") -> 1 | G3: =COUNTIFS('Training Log'!$A$2:$A$500,A3,'Training Log'!$J$2:$J$500,"Not done") -> 0 | H3: =IF(F3+G3>0,"Action needed",IF(E3>0,"Renew soon","All good")) -> Action needed
A4: Grace Kim | B4: =COUNTIF('Training Log'!$A$2:$A$500,A4) -> 3 | C4: =SUMIF('Training Log'!$A$2:$A$500,A4,'Training Log'!$F$2:$F$500) -> 12 | D4: =COUNTIFS('Training Log'!$A$2:$A$500,A4,'Training Log'!$J$2:$J$500,"Current")+COUNTIFS('Training Log'!$A$2:$A$500,A4,'Training Log'!$J$2:$J$500,"No expiry") -> 2 | E4: =COUNTIFS('Training Log'!$A$2:$A$500,A4,'Training Log'!$J$2:$J$500,"Due soon") -> 1 | F4: =COUNTIFS('Training Log'!$A$2:$A$500,A4,'Training Log'!$J$2:$J$500,"Expired") -> 0 | G4: =COUNTIFS('Training Log'!$A$2:$A$500,A4,'Training Log'!$J$2:$J$500,"Not done") -> 0 | H4: =IF(F4+G4>0,"Action needed",IF(E4>0,"Renew soon","All good")) -> Renew soon
A5: Marcus Hill | B5: =COUNTIF('Training Log'!$A$2:$A$500,A5) -> 3 | C5: =SUMIF('Training Log'!$A$2:$A$500,A5,'Training Log'!$F$2:$F$500) -> 15.5 | D5: =COUNTIFS('Training Log'!$A$2:$A$500,A5,'Training Log'!$J$2:$J$500,"Current")+COUNTIFS('Training Log'!$A$2:$A$500,A5,'Training Log'!$J$2:$J$500,"No expiry") -> 2 | E5: =COUNTIFS('Training Log'!$A$2:$A$500,A5,'Training Log'!$J$2:$J$500,"Due soon") -> 1 | F5: =COUNTIFS('Training Log'!$A$2:$A$500,A5,'Training Log'!$J$2:$J$500,"Expired") -> 0 | G5: =COUNTIFS('Training Log'!$A$2:$A$500,A5,'Training Log'!$J$2:$J$500,"Not done") -> 0 | H5: =IF(F5+G5>0,"Action needed",IF(E5>0,"Renew soon","All good")) -> Renew soon
A6: Priya Shah | B6: =COUNTIF('Training Log'!$A$2:$A$500,A6) -> 3 | C6: =SUMIF('Training Log'!$A$2:$A$500,A6,'Training Log'!$F$2:$F$500) -> 5 | D6: =COUNTIFS('Training Log'!$A$2:$A$500,A6,'Training Log'!$J$2:$J$500,"Current")+COUNTIFS('Training Log'!$A$2:$A$500,A6,'Training Log'!$J$2:$J$500,"No expiry") -> 2 | E6: =COUNTIFS('Training Log'!$A$2:$A$500,A6,'Training Log'!$J$2:$J$500,"Due soon") -> 0 | F6: =COUNTIFS('Training Log'!$A$2:$A$500,A6,'Training Log'!$J$2:$J$500,"Expired") -> 0 | G6: =COUNTIFS('Training Log'!$A$2:$A$500,A6,'Training Log'!$J$2:$J$500,"Not done") -> 1 | H6: =IF(F6+G6>0,"Action needed",IF(E6>0,"Renew soon","All good")) -> Action needed
A7: Tom Becker | B7: =COUNTIF('Training Log'!$A$2:$A$500,A7) -> 3 | C7: =SUMIF('Training Log'!$A$2:$A$500,A7,'Training Log'!$F$2:$F$500) -> 13 | D7: =COUNTIFS('Training Log'!$A$2:$A$500,A7,'Training Log'!$J$2:$J$500,"Current")+COUNTIFS('Training Log'!$A$2:$A$500,A7,'Training Log'!$J$2:$J$500,"No expiry") -> 2 | E7: =COUNTIFS('Training Log'!$A$2:$A$500,A7,'Training Log'!$J$2:$J$500,"Due soon") -> 1 | F7: =COUNTIFS('Training Log'!$A$2:$A$500,A7,'Training Log'!$J$2:$J$500,"Expired") -> 0 | G7: =COUNTIFS('Training Log'!$A$2:$A$500,A7,'Training Log'!$J$2:$J$500,"Not done") -> 0 | H7: =IF(F7+G7>0,"Action needed",IF(E7>0,"Renew soon","All good")) -> Renew soon
A8: Everyone | B8: =SUM(B2:B7) -> 18 | C8: =SUM(C2:C7) -> 69.5 | D8: =SUM(D2:D7) -> 9 | E8: =SUM(E2:E7) -> 6 | F8: =SUM(F2:F7) -> 2 | G8: =SUM(G2:G7) -> 1

Sheet By Course
A1: Course | B1: Records | C1: Current | D1: Due soon | E1: Expired | F1: Not done | G1: Hours
A2: Forklift operator certification | B2: =COUNTIF('Training Log'!$C$2:$C$500,A2) -> 3 | C2: =COUNTIFS('Training Log'!$C$2:$C$500,A2,'Training Log'!$J$2:$J$500,"Current")+COUNTIFS('Training Log'!$C$2:$C$500,A2,'Training Log'!$J$2:$J$500,"No expiry") -> 2 | D2: =COUNTIFS('Training Log'!$C$2:$C$500,A2,'Training Log'!$J$2:$J$500,"Due soon") -> 1 | E2: =COUNTIFS('Training Log'!$C$2:$C$500,A2,'Training Log'!$J$2:$J$500,"Expired") -> 0 | F2: =COUNTIFS('Training Log'!$C$2:$C$500,A2,'Training Log'!$J$2:$J$500,"Not done") -> 0 | G2: =SUMIF('Training Log'!$C$2:$C$500,A2,'Training Log'!$F$2:$F$500) -> 24
A3: First aid and CPR | B3: =COUNTIF('Training Log'!$C$2:$C$500,A3) -> 3 | C3: =COUNTIFS('Training Log'!$C$2:$C$500,A3,'Training Log'!$J$2:$J$500,"Current")+COUNTIFS('Training Log'!$C$2:$C$500,A3,'Training Log'!$J$2:$J$500,"No expiry") -> 1 | D3: =COUNTIFS('Training Log'!$C$2:$C$500,A3,'Training Log'!$J$2:$J$500,"Due soon") -> 2 | E3: =COUNTIFS('Training Log'!$C$2:$C$500,A3,'Training Log'!$J$2:$J$500,"Expired") -> 0 | F3: =COUNTIFS('Training Log'!$C$2:$C$500,A3,'Training Log'!$J$2:$J$500,"Not done") -> 0 | G3: =SUMIF('Training Log'!$C$2:$C$500,A3,'Training Log'!$F$2:$F$500) -> 12
A4: Hazard communication | B4: =COUNTIF('Training Log'!$C$2:$C$500,A4) -> 3 | C4: =COUNTIFS('Training Log'!$C$2:$C$500,A4,'Training Log'!$J$2:$J$500,"Current")+COUNTIFS('Training Log'!$C$2:$C$500,A4,'Training Log'!$J$2:$J$500,"No expiry") -> 1 | D4: =COUNTIFS('Training Log'!$C$2:$C$500,A4,'Training Log'!$J$2:$J$500,"Due soon") -> 1 | E4: =COUNTIFS('Training Log'!$C$2:$C$500,A4,'Training Log'!$J$2:$J$500,"Expired") -> 1 | F4: =COUNTIFS('Training Log'!$C$2:$C$500,A4,'Training Log'!$J$2:$J$500,"Not done") -> 0 | G4: =SUMIF('Training Log'!$C$2:$C$500,A4,'Training Log'!$F$2:$F$500) -> 4.5
A5: Fire extinguisher training | B5: =COUNTIF('Training Log'!$C$2:$C$500,A5) -> 3 | C5: =COUNTIFS('Training Log'!$C$2:$C$500,A5,'Training Log'!$J$2:$J$500,"Current")+COUNTIFS('Training Log'!$C$2:$C$500,A5,'Training Log'!$J$2:$J$500,"No expiry") -> 1 | D5: =COUNTIFS('Training Log'!$C$2:$C$500,A5,'Training Log'!$J$2:$J$500,"Due soon") -> 0 | E5: =COUNTIFS('Training Log'!$C$2:$C$500,A5,'Training Log'!$J$2:$J$500,"Expired") -> 1 | F5: =COUNTIFS('Training Log'!$C$2:$C$500,A5,'Training Log'!$J$2:$J$500,"Not done") -> 1 | G5: =SUMIF('Training Log'!$C$2:$C$500,A5,'Training Log'!$F$2:$F$500) -> 2
A6: Harassment prevention | B6: =COUNTIF('Training Log'!$C$2:$C$500,A6) -> 2 | C6: =COUNTIFS('Training Log'!$C$2:$C$500,A6,'Training Log'!$J$2:$J$500,"Current")+COUNTIFS('Training Log'!$C$2:$C$500,A6,'Training Log'!$J$2:$J$500,"No expiry") -> 1 | D6: =COUNTIFS('Training Log'!$C$2:$C$500,A6,'Training Log'!$J$2:$J$500,"Due soon") -> 1 | E6: =COUNTIFS('Training Log'!$C$2:$C$500,A6,'Training Log'!$J$2:$J$500,"Expired") -> 0 | F6: =COUNTIFS('Training Log'!$C$2:$C$500,A6,'Training Log'!$J$2:$J$500,"Not done") -> 0 | G6: =SUMIF('Training Log'!$C$2:$C$500,A6,'Training Log'!$F$2:$F$500) -> 4
A7: Defensive driving | B7: =COUNTIF('Training Log'!$C$2:$C$500,A7) -> 1 | C7: =COUNTIFS('Training Log'!$C$2:$C$500,A7,'Training Log'!$J$2:$J$500,"Current")+COUNTIFS('Training Log'!$C$2:$C$500,A7,'Training Log'!$J$2:$J$500,"No expiry") -> 0 | D7: =COUNTIFS('Training Log'!$C$2:$C$500,A7,'Training Log'!$J$2:$J$500,"Due soon") -> 1 | E7: =COUNTIFS('Training Log'!$C$2:$C$500,A7,'Training Log'!$J$2:$J$500,"Expired") -> 0 | F7: =COUNTIFS('Training Log'!$C$2:$C$500,A7,'Training Log'!$J$2:$J$500,"Not done") -> 0 | G7: =SUMIF('Training Log'!$C$2:$C$500,A7,'Training Log'!$F$2:$F$500) -> 4
A8: OSHA 10-hour general industry | B8: =COUNTIF('Training Log'!$C$2:$C$500,A8) -> 1 | C8: =COUNTIFS('Training Log'!$C$2:$C$500,A8,'Training Log'!$J$2:$J$500,"Current")+COUNTIFS('Training Log'!$C$2:$C$500,A8,'Training Log'!$J$2:$J$500,"No expiry") -> 1 | D8: =COUNTIFS('Training Log'!$C$2:$C$500,A8,'Training Log'!$J$2:$J$500,"Due soon") -> 0 | E8: =COUNTIFS('Training Log'!$C$2:$C$500,A8,'Training Log'!$J$2:$J$500,"Expired") -> 0 | F8: =COUNTIFS('Training Log'!$C$2:$C$500,A8,'Training Log'!$J$2:$J$500,"Not done") -> 0 | G8: =SUMIF('Training Log'!$C$2:$C$500,A8,'Training Log'!$F$2:$F$500) -> 10
A9: New hire orientation | B9: =COUNTIF('Training Log'!$C$2:$C$500,A9) -> 1 | C9: =COUNTIFS('Training Log'!$C$2:$C$500,A9,'Training Log'!$J$2:$J$500,"Current")+COUNTIFS('Training Log'!$C$2:$C$500,A9,'Training Log'!$J$2:$J$500,"No expiry") -> 1 | D9: =COUNTIFS('Training Log'!$C$2:$C$500,A9,'Training Log'!$J$2:$J$500,"Due soon") -> 0 | E9: =COUNTIFS('Training Log'!$C$2:$C$500,A9,'Training Log'!$J$2:$J$500,"Expired") -> 0 | F9: =COUNTIFS('Training Log'!$C$2:$C$500,A9,'Training Log'!$J$2:$J$500,"Not done") -> 0 | G9: =SUMIF('Training Log'!$C$2:$C$500,A9,'Training Log'!$F$2:$F$500) -> 3
A10: Excel for reporting | B10: =COUNTIF('Training Log'!$C$2:$C$500,A10) -> 1 | C10: =COUNTIFS('Training Log'!$C$2:$C$500,A10,'Training Log'!$J$2:$J$500,"Current")+COUNTIFS('Training Log'!$C$2:$C$500,A10,'Training Log'!$J$2:$J$500,"No expiry") -> 1 | D10: =COUNTIFS('Training Log'!$C$2:$C$500,A10,'Training Log'!$J$2:$J$500,"Due soon") -> 0 | E10: =COUNTIFS('Training Log'!$C$2:$C$500,A10,'Training Log'!$J$2:$J$500,"Expired") -> 0 | F10: =COUNTIFS('Training Log'!$C$2:$C$500,A10,'Training Log'!$J$2:$J$500,"Not done") -> 0 | G10: =SUMIF('Training Log'!$C$2:$C$500,A10,'Training Log'!$F$2:$F$500) -> 6

Sheet Settings
A1: Setting | B1: Value | C1: Notes
A2: Today's date | B2: =DATE(2026,11,16) -> 46342 | C2: Type today's date, or =TODAY() to keep it current
A3: Warn me this many days before expiry | B3: 60 | C3: Training that expires within this many days shows as Due soon
A4: Training hours logged | B4: =SUM('Training Log'!$F$2:$F$500) -> 69.5
A5: Records needing action | B5: =COUNTIF('Training Log'!$J$2:$J$500,"Expired")+COUNTIF('Training Log'!$J$2:$J$500,"Not done") -> 3 | C5: Expired or not done yet
A6: Records due soon | B6: =COUNTIF('Training Log'!$J$2:$J$500,"Due soon") -> 6
