Workbook

Sheet Itinerary
A1: Date | B1: Day | C1: Time | D1: Plan | E1: Where | F1: Category | G1: Confirmation # | H1: Cost | I1: Paid | J1: Notes
A2: 46457 | B2: =A2 -> 46457 | C2: 0.29861111 | D2: Leave for airport | E2: Home | F2: Getting around | I2: FALSE | J2: Park in Lot C, $18 a day
A3: 46457 | B3: =A3 -> 46457 | C3: 0.37847222 | D3: Flight DEN to SAN | E3: Denver International Airport | F3: Flights | G3: KX7Q2M | I3: FALSE | J3: Southwest 1442, arrives 10:40 AM
A4: 46457 | B4: =A4 -> 46457 | C4: 0.46875 | D4: Pick up rental car | E4: San Diego Airport rental center | F4: Car rental | G4: R-55821904 | I4: FALSE
A5: 46457 | B5: =A5 -> 46457 | C5: 0.625 | D5: Check in to hotel | E5: Hotel La Playa, Pacific Beach | F5: Lodging | G5: HLP-302118 | I5: FALSE | J5: Ask for an ocean view room
A6: 46457 | B6: =A6 -> 46457 | C6: 0.77083333 | D6: Dinner at Oscar's Mexican Seafood | E6: 703 Turquoise St, San Diego | F6: Food | H6: 48 | I6: FALSE | J6: Cash or card, line moves fast
A7: 46458 | B7: =A7 -> 46458 | C7: 0.375 | D7: San Diego Zoo | E7: 2920 Zoo Dr, San Diego | F7: Activities | G7: ZOO-88123 | H7: 148 | I7: TRUE | J7: Two 1-day passes, bring sunscreen
A8: 46458 | B8: =A8 -> 46458 | C8: 0.54166667 | D8: Lunch in Balboa Park | E8: Balboa Park | F8: Food | H8: 35 | I8: FALSE
A9: 46458 | B9: =A9 -> 46458 | C9: 0.79166667 | D9: Dinner in Little Italy | E9: India St, San Diego | F9: Food | H9: 90 | I9: FALSE | J9: Saturday farmers market is here too
A10: 46459 | B10: =A10 -> 46459 | C10: 0.35416667 | D10: Breakfast | E10: Hotel La Playa | F10: Food | H10: 0 | I10: TRUE | J10: Included with room
A11: 46459 | B11: =A11 -> 46459 | C11: 0.41666667 | D11: La Jolla kayak tour | E11: 2199 Avenida de la Playa, La Jolla | F11: Activities | G11: LJK-4471 | I11: FALSE | J11: Check in 15 min early
A12: 46459 | B12: =A12 -> 46459 | C12: 0.72916667 | D12: Sunset Cliffs walk | E12: Sunset Cliffs Natural Park | F12: Activities | H12: 0 | I12: FALSE | J12: Sunset about 7:05 PM
A13: 46459 | B13: =A13 -> 46459 | C13: 0.8125 | D13: Dinner at the beach | E13: Pacific Beach | F13: Food | H13: 75 | I13: FALSE
A14: 46460 | B14: =A14 -> 46460 | C14: 0.41666667 | D14: Check out of hotel | E14: Hotel La Playa | F14: Lodging | I14: FALSE | J14: Checkout by 11 AM
A15: 46460 | B15: =A15 -> 46460 | C15: 0.45833333 | D15: Old Town San Diego | E15: Old Town State Historic Park | F15: Activities | H15: 25 | I15: FALSE | J15: Free to walk around
A16: 46460 | B16: =A16 -> 46460 | C16: 0.60416667 | D16: Return rental car, fill tank first | E16: San Diego Airport rental center | F16: Getting around | H16: 60 | I16: FALSE | J16: Gas
A17: 46460 | B17: =A17 -> 46460 | C17: 0.69791667 | D17: Flight SAN to DEN | E17: San Diego International Airport | F17: Flights | G17: KX7Q2M | I17: FALSE | J17: Southwest 2219, lands 8:05 PM

Sheet Bookings
A1: Category | B1: Company | C1: Details | D1: Start date | E1: Start time | F1: End date | G1: End time | H1: Confirmation # | I1: Cost | J1: Paid | K1: Nights
A2: Flights | B2: Southwest | C2: Round trip for 2, return flight departs 4:45 PM | D2: 46457 | E2: 0.37847222 | F2: 46460 | G2: 0.69791667 | H2: KX7Q2M | I2: 486 | J2: TRUE | K2: =IF(A2="Lodging",F2-D2,"")
A3: Lodging | B3: Hotel La Playa | C3: King room, ocean view | D3: 46457 | E3: 0.625 | F3: 46460 | G3: 0.45833333 | H3: HLP-302118 | I3: 789 | J3: FALSE | K3: =IF(A3="Lodging",F3-D3,"") -> 3
A4: Car rental | B4: Enterprise | C4: Midsize SUV, airport pickup | D4: 46457 | E4: 0.46875 | F4: 46460 | G4: 0.60416667 | H4: R-55821904 | I4: 214 | J4: FALSE | K4: =IF(A4="Lodging",F4-D4,"")
A5: Activities | B5: La Jolla Kayak | C5: Sea cave tour, 2 people | D5: 46459 | E5: 0.41666667 | F5: 46459 | G5: 0.5 | H5: LJK-4471 | I5: 130 | J5: TRUE | K5: =IF(A5="Lodging",F5-D5,"")
A6: Getting around | B6: Denver Airport Parking | C6: Economy lot, 4 days | D6: 46457 | E6: 0.3125 | F6: 46460 | G6: 0.85416667 | I6: 72 | J6: FALSE | K6: =IF(A6="Lodging",F6-D6,"")

Sheet Budget
A1: Category | B1: Planned | C1: Booked or spent | D1: Left
A2: Flights | B2: 500 | C2: =SUMIFS(Bookings!I2:I100,Bookings!A2:A100,A2)+SUMIFS(Itinerary!H2:H300,Itinerary!F2:F300,A2) -> 486 | D2: =B2-C2 -> 14
A3: Lodging | B3: 800 | C3: =SUMIFS(Bookings!I2:I100,Bookings!A2:A100,A3)+SUMIFS(Itinerary!H2:H300,Itinerary!F2:F300,A3) -> 789 | D3: =B3-C3 -> 11
A4: Car rental | B4: 250 | C4: =SUMIFS(Bookings!I2:I100,Bookings!A2:A100,A4)+SUMIFS(Itinerary!H2:H300,Itinerary!F2:F300,A4) -> 214 | D4: =B4-C4 -> 36
A5: Activities | B5: 350 | C5: =SUMIFS(Bookings!I2:I100,Bookings!A2:A100,A5)+SUMIFS(Itinerary!H2:H300,Itinerary!F2:F300,A5) -> 303 | D5: =B5-C5 -> 47
A6: Food | B6: 400 | C6: =SUMIFS(Bookings!I2:I100,Bookings!A2:A100,A6)+SUMIFS(Itinerary!H2:H300,Itinerary!F2:F300,A6) -> 248 | D6: =B6-C6 -> 152
A7: Getting around | B7: 150 | C7: =SUMIFS(Bookings!I2:I100,Bookings!A2:A100,A7)+SUMIFS(Itinerary!H2:H300,Itinerary!F2:F300,A7) -> 132 | D7: =B7-C7 -> 18
A8: Other | B8: 100 | C8: =SUMIFS(Bookings!I2:I100,Bookings!A2:A100,A8)+SUMIFS(Itinerary!H2:H300,Itinerary!F2:F300,A8) -> 0 | D8: =B8-C8 -> 100
A9: Total | B9: =SUM(B2:B8) -> 2550 | C9: =SUM(C2:C8) -> 2172 | D9: =SUM(D2:D8) -> 378

Sheet Packing List
A1: Item | B1: Category | C1: Whose | D1: Packed
A2: Driver's licenses | B2: Documents | C2: Both | D2: TRUE
A3: Boarding passes on phone | B3: Documents | C3: Both | D3: TRUE
A4: Credit card and some cash | B4: Documents | C4: Both | D4: TRUE
A5: Phone chargers | B5: Electronics | C5: Both | D5: FALSE
A6: Portable battery | B6: Electronics | C6: Jess | D6: FALSE
A7: Swimsuits | B7: Clothes | C7: Both | D7: FALSE
A8: Light jacket for evenings | B8: Clothes | C8: Both | D8: FALSE
A9: Walking shoes | B9: Clothes | C9: Both | D9: TRUE
A10: Sunscreen, travel size | B10: Toiletries | C10: Jess | D10: FALSE
A11: Toothbrushes and toothpaste | B11: Toiletries | C11: Both | D11: FALSE
A12: Medications | B12: Toiletries | C12: Mark | D12: TRUE
A13: Sunglasses and hats | B13: Beach | C13: Both | D13: FALSE
... A15: Snacks for the plane | B15: Other | C15: Mark | D15: FALSE

Sheet Trip Summary
A1: Item | B1: Value
A2: Trip starts | B2: =MIN(Itinerary!A2:A300) -> 46457
A3: Trip ends | B3: =MAX(Itinerary!A2:A300) -> 46460
A4: Days | B4: =B3-B2+1 -> 4
A5: Travelers | B5: 2
A6: Budget | B6: =Budget!B9 -> 2550
A7: Booked or spent | B7: =Budget!C9 -> 2172
A8: Left in budget | B8: =B6-B7 -> 378
A9: Cost per traveler | B9: =IF(B5=0,0,B7/B5) -> 1086
A10: Bookings not paid yet | B10: =SUMIFS(Bookings!I2:I100,Bookings!J2:J100,FALSE) -> 1075
A11: Items packed | B11: =COUNTIFS('Packing List'!D2:D200,TRUE) -> 5
A12: Items left to pack | B12: =COUNTA('Packing List'!A2:A200)-B11 -> 9
