Workbook

Sheet Service Log
A1: Date | B1: Vehicle | C1: Mileage | D1: Service | E1: Done by | F1: Cost | G1: Notes | H1: Latest
A2: 44695 | B2: F-150 | C2: 60800 | D2: Transmission fluid change | E2: Ford dealer | F2: 219 | H2: =IF(OR(ISBLANK(B2),ISBLANK(D2),NOT(ISNUMBER(A2))),0,IF(COUNTIFS($B$2:$B$200,B2,$D$2:$D$200,D2,$A$2:$A$200,">"&A2)=0,1,0)) -> 1
A3: 45181 | B3: CR-V | C3: 27400 | D3: Brake fluid change | E3: Honda dealer | F3: 129.95 | H3: =IF(OR(ISBLANK(B3),ISBLANK(D3),NOT(ISNUMBER(A3))),0,IF(COUNTIFS($B$2:$B$200,B3,$D$2:$D$200,D3,$A$2:$A$200,">"&A3)=0,1,0)) -> 1
A4: 45920 | B4: F-150 | C4: 101000 | D4: Engine air filter | E4: DIY | F4: 22.99 | G4: Motorcraft filter | H4: =IF(OR(ISBLANK(B4),ISBLANK(D4),NOT(ISNUMBER(A4))),0,IF(COUNTIFS($B$2:$B$200,B4,$D$2:$D$200,D4,$A$2:$A$200,">"&A4)=0,1,0)) -> 1
A5: 45975 | B5: CR-V | C5: 36900 | D5: Oil and filter change | E5: Valvoline | F5: 79.99 | G5: 0W-20 synthetic | H5: =IF(OR(ISBLANK(B5),ISBLANK(D5),NOT(ISNUMBER(A5))),0,IF(COUNTIFS($B$2:$B$200,B5,$D$2:$D$200,D5,$A$2:$A$200,">"&A5)=0,1,0)) -> 0
A6: 45975 | B6: CR-V | C6: 36900 | D6: Tire rotation | E6: Valvoline | F6: 25 | H6: =IF(OR(ISBLANK(B6),ISBLANK(D6),NOT(ISNUMBER(A6))),0,IF(COUNTIFS($B$2:$B$200,B6,$D$2:$D$200,D6,$A$2:$A$200,">"&A6)=0,1,0)) -> 0
A7: 45991 | B7: F-150 | C7: 103900 | D7: Battery test | E7: AutoZone | F7: 0 | G7: Free test, battery fine | H7: =IF(OR(ISBLANK(B7),ISBLANK(D7),NOT(ISNUMBER(A7))),0,IF(COUNTIFS($B$2:$B$200,B7,$D$2:$D$200,D7,$A$2:$A$200,">"&A7)=0,1,0)) -> 1
A8: 46039 | B8: F-150 | C8: 104800 | D8: Oil and filter change | E8: Main Street Auto | F8: 69.95 | H8: =IF(OR(ISBLANK(B8),ISBLANK(D8),NOT(ISNUMBER(A8))),0,IF(COUNTIFS($B$2:$B$200,B8,$D$2:$D$200,D8,$A$2:$A$200,">"&A8)=0,1,0)) -> 0
A9: 46061 | B9: CR-V | C9: 39350 | D9: Wiper blades | E9: DIY | F9: 32.48 | H9: =IF(OR(ISBLANK(B9),ISBLANK(D9),NOT(ISNUMBER(A9))),0,IF(COUNTIFS($B$2:$B$200,B9,$D$2:$D$200,D9,$A$2:$A$200,">"&A9)=0,1,0)) -> 1
A10: 46117 | B10: F-150 | C10: 107300 | D10: Front brake pads | E10: Main Street Auto | F10: 289 | G10: Rotors still OK | H10: =IF(OR(ISBLANK(B10),ISBLANK(D10),NOT(ISNUMBER(A10))),0,IF(COUNTIFS($B$2:$B$200,B10,$D$2:$D$200,D10,$A$2:$A$200,">"&A10)=0,1,0)) -> 1
A11: 46132 | B11: CR-V | C11: 41880 | D11: State inspection | E11: Main Street Auto | F11: 35 | G11: Passed | H11: =IF(OR(ISBLANK(B11),ISBLANK(D11),NOT(ISNUMBER(A11))),0,IF(COUNTIFS($B$2:$B$200,B11,$D$2:$D$200,D11,$A$2:$A$200,">"&A11)=0,1,0)) -> 1
A12: 46145 | B12: CR-V | C12: 42100 | D12: Oil and filter change | E12: Valvoline | F12: 84.99 | H12: =IF(OR(ISBLANK(B12),ISBLANK(D12),NOT(ISNUMBER(A12))),0,IF(COUNTIFS($B$2:$B$200,B12,$D$2:$D$200,D12,$A$2:$A$200,">"&A12)=0,1,0)) -> 0
A13: 46183 | B13: F-150 | C13: 109950 | D13: Oil and filter change | E13: Main Street Auto | F13: 72.5 | H13: =IF(OR(ISBLANK(B13),ISBLANK(D13),NOT(ISNUMBER(A13))),0,IF(COUNTIFS($B$2:$B$200,B13,$D$2:$D$200,D13,$A$2:$A$200,">"&A13)=0,1,0)) -> 1
A14: 46183 | B14: F-150 | C14: 109950 | D14: Tire rotation | E14: Main Street Auto | F14: 20 | H14: =IF(OR(ISBLANK(B14),ISBLANK(D14),NOT(ISNUMBER(A14))),0,IF(COUNTIFS($B$2:$B$200,B14,$D$2:$D$200,D14,$A$2:$A$200,">"&A14)=0,1,0)) -> 1
A15: 46194 | B15: CR-V | C15: 43500 | D15: New tires (set of 4) | E15: Discount Tire | F15: 812.4 | G15: Rotation free with the tires | H15: =IF(OR(ISBLANK(B15),ISBLANK(D15),NOT(ISNUMBER(A15))),0,IF(COUNTIFS($B$2:$B$200,B15,$D$2:$D$200,D15,$A$2:$A$200,">"&A15)=0,1,0)) -> 1
A16: 46194 | B16: CR-V | C16: 43500 | D16: Tire rotation | E16: Discount Tire | F16: 0 | H16: =IF(OR(ISBLANK(B16),ISBLANK(D16),NOT(ISNUMBER(A16))),0,IF(COUNTIFS($B$2:$B$200,B16,$D$2:$D$200,D16,$A$2:$A$200,">"&A16)=0,1,0)) -> 1
A17: 46264 | B17: CR-V | C17: 45900 | D17: Engine air filter | E17: DIY | F17: 24.99 | H17: =IF(OR(ISBLANK(B17),ISBLANK(D17),NOT(ISNUMBER(A17))),0,IF(COUNTIFS($B$2:$B$200,B17,$D$2:$D$200,D17,$A$2:$A$200,">"&A17)=0,1,0)) -> 1
A18: 46264 | B18: CR-V | C18: 45900 | D18: Cabin air filter | E18: DIY | F18: 18.99 | H18: =IF(OR(ISBLANK(B18),ISBLANK(D18),NOT(ISNUMBER(A18))),0,IF(COUNTIFS($B$2:$B$200,B18,$D$2:$D$200,D18,$A$2:$A$200,">"&A18)=0,1,0)) -> 1
A19: 46306 | B19: CR-V | C19: 47600 | D19: Oil and filter change | E19: Valvoline | F19: 84.99 | G19: Sticker says next at 52,600 | H19: =IF(OR(ISBLANK(B19),ISBLANK(D19),NOT(ISNUMBER(A19))),0,IF(COUNTIFS($B$2:$B$200,B19,$D$2:$D$200,D19,$A$2:$A$200,">"&A19)=0,1,0)) -> 1
H20: =IF(OR(ISBLANK(B20),ISBLANK(D20),NOT(ISNUMBER(A20))),0,IF(COUNTIFS($B$2:$B$200,B20,$D$2:$D$200,D20,$A$2:$A$200,">"&A20)=0,1,0)) -> 0
H21: =IF(OR(ISBLANK(B21),ISBLANK(D21),NOT(ISNUMBER(A21))),0,IF(COUNTIFS($B$2:$B$200,B21,$D$2:$D$200,D21,$A$2:$A$200,">"&A21)=0,1,0)) -> 0
H22: =IF(OR(ISBLANK(B22),ISBLANK(D22),NOT(ISNUMBER(A22))),0,IF(COUNTIFS($B$2:$B$200,B22,$D$2:$D$200,D22,$A$2:$A$200,">"&A22)=0,1,0)) -> 0
H23: =IF(OR(ISBLANK(B23),ISBLANK(D23),NOT(ISNUMBER(A23))),0,IF(COUNTIFS($B$2:$B$200,B23,$D$2:$D$200,D23,$A$2:$A$200,">"&A23)=0,1,0)) -> 0
H24: =IF(OR(ISBLANK(B24),ISBLANK(D24),NOT(ISNUMBER(A24))),0,IF(COUNTIFS($B$2:$B$200,B24,$D$2:$D$200,D24,$A$2:$A$200,">"&A24)=0,1,0)) -> 0
H25: =IF(OR(ISBLANK(B25),ISBLANK(D25),NOT(ISNUMBER(A25))),0,IF(COUNTIFS($B$2:$B$200,B25,$D$2:$D$200,D25,$A$2:$A$200,">"&A25)=0,1,0)) -> 0
H26: =IF(OR(ISBLANK(B26),ISBLANK(D26),NOT(ISNUMBER(A26))),0,IF(COUNTIFS($B$2:$B$200,B26,$D$2:$D$200,D26,$A$2:$A$200,">"&A26)=0,1,0)) -> 0
H27: =IF(OR(ISBLANK(B27),ISBLANK(D27),NOT(ISNUMBER(A27))),0,IF(COUNTIFS($B$2:$B$200,B27,$D$2:$D$200,D27,$A$2:$A$200,">"&A27)=0,1,0)) -> 0
H28: =IF(OR(ISBLANK(B28),ISBLANK(D28),NOT(ISNUMBER(A28))),0,IF(COUNTIFS($B$2:$B$200,B28,$D$2:$D$200,D28,$A$2:$A$200,">"&A28)=0,1,0)) -> 0
H29: =IF(OR(ISBLANK(B29),ISBLANK(D29),NOT(ISNUMBER(A29))),0,IF(COUNTIFS($B$2:$B$200,B29,$D$2:$D$200,D29,$A$2:$A$200,">"&A29)=0,1,0)) -> 0

Sheet Schedule
A1: Vehicle | B1: Service | C1: Every (miles) | D1: Every (months) | E1: Last done | F1: Last mileage | G1: Next due (miles) | H1: Next due (date) | I1: Miles left | J1: Days left | K1: Status
A2: CR-V | B2: Oil and filter change | C2: 5000 | D2: 6 | E2: =IF(ISBLANK(B2),"",IF(SUMIFS('Service Log'!$A$2:$A$200,'Service Log'!$B$2:$B$200,A2,'Service Log'!$D$2:$D$200,B2,'Service Log'!$H$2:$H$200,1)=0,"",SUMIFS('Service Log'!$A$2:$A$200,'Service Log'!$B$2:$B$200,A2,'Service Log'!$D$2:$D$200,B2,'Service Log'!$H$2:$H$200,1))) -> 46306 | F2: =IF(NOT(ISNUMBER(E2)),"",SUMIFS('Service Log'!$C$2:$C$200,'Service Log'!$B$2:$B$200,A2,'Service Log'!$D$2:$D$200,B2,'Service Log'!$H$2:$H$200,1)) -> 47600 | G2: =IF(AND(ISNUMBER(F2),ISNUMBER(C2)),F2+C2,"") -> 52600 | H2: =IF(AND(ISNUMBER(E2),ISNUMBER(D2)),DATE(YEAR(E2),MONTH(E2)+D2,DAY(E2)),"") -> 46488 | I2: =IF(ISNUMBER(G2),G2-IFERROR(VLOOKUP(A2,Vehicles!$A$2:$F$20,6,FALSE),0),"") -> 4390 | J2: =IF(ISNUMBER(H2),H2-Summary!$B$2,"") -> 158 | K2: =IF(ISBLANK(B2),"",IF(NOT(ISNUMBER(E2)),"No record yet",IF(OR(IF(ISNUMBER(I2),I2<0,FALSE),IF(ISNUMBER(J2),J2<0,FALSE)),"Overdue",IF(OR(IF(ISNUMBER(I2),I2<=Summary!$B$3,FALSE),IF(ISNUMBER(J2),J2<=Summary!$B$4,FALSE)),"Due soon","OK")))) -> OK
A3: CR-V | B3: Tire rotation | C3: 7500 | D3: 12 | E3: =IF(ISBLANK(B3),"",IF(SUMIFS('Service Log'!$A$2:$A$200,'Service Log'!$B$2:$B$200,A3,'Service Log'!$D$2:$D$200,B3,'Service Log'!$H$2:$H$200,1)=0,"",SUMIFS('Service Log'!$A$2:$A$200,'Service Log'!$B$2:$B$200,A3,'Service Log'!$D$2:$D$200,B3,'Service Log'!$H$2:$H$200,1))) -> 46194 | F3: =IF(NOT(ISNUMBER(E3)),"",SUMIFS('Service Log'!$C$2:$C$200,'Service Log'!$B$2:$B$200,A3,'Service Log'!$D$2:$D$200,B3,'Service Log'!$H$2:$H$200,1)) -> 43500 | G3: =IF(AND(ISNUMBER(F3),ISNUMBER(C3)),F3+C3,"") -> 51000 | H3: =IF(AND(ISNUMBER(E3),ISNUMBER(D3)),DATE(YEAR(E3),MONTH(E3)+D3,DAY(E3)),"") -> 46559 | I3: =IF(ISNUMBER(G3),G3-IFERROR(VLOOKUP(A3,Vehicles!$A$2:$F$20,6,FALSE),0),"") -> 2790 | J3: =IF(ISNUMBER(H3),H3-Summary!$B$2,"") -> 229 | K3: =IF(ISBLANK(B3),"",IF(NOT(ISNUMBER(E3)),"No record yet",IF(OR(IF(ISNUMBER(I3),I3<0,FALSE),IF(ISNUMBER(J3),J3<0,FALSE)),"Overdue",IF(OR(IF(ISNUMBER(I3),I3<=Summary!$B$3,FALSE),IF(ISNUMBER(J3),J3<=Summary!$B$4,FALSE)),"Due soon","OK")))) -> OK
A4: CR-V | B4: Engine air filter | C4: 15000 | D4: 12 | E4: =IF(ISBLANK(B4),"",IF(SUMIFS('Service Log'!$A$2:$A$200,'Service Log'!$B$2:$B$200,A4,'Service Log'!$D$2:$D$200,B4,'Service Log'!$H$2:$H$200,1)=0,"",SUMIFS('Service Log'!$A$2:$A$200,'Service Log'!$B$2:$B$200,A4,'Service Log'!$D$2:$D$200,B4,'Service Log'!$H$2:$H$200,1))) -> 46264 | F4: =IF(NOT(ISNUMBER(E4)),"",SUMIFS('Service Log'!$C$2:$C$200,'Service Log'!$B$2:$B$200,A4,'Service Log'!$D$2:$D$200,B4,'Service Log'!$H$2:$H$200,1)) -> 45900 | G4: =IF(AND(ISNUMBER(F4),ISNUMBER(C4)),F4+C4,"") -> 60900 | H4: =IF(AND(ISNUMBER(E4),ISNUMBER(D4)),DATE(YEAR(E4),MONTH(E4)+D4,DAY(E4)),"") -> 46629 | I4: =IF(ISNUMBER(G4),G4-IFERROR(VLOOKUP(A4,Vehicles!$A$2:$F$20,6,FALSE),0),"") -> 12690 | J4: =IF(ISNUMBER(H4),H4-Summary!$B$2,"") -> 299 | K4: =IF(ISBLANK(B4),"",IF(NOT(ISNUMBER(E4)),"No record yet",IF(OR(IF(ISNUMBER(I4),I4<0,FALSE),IF(ISNUMBER(J4),J4<0,FALSE)),"Overdue",IF(OR(IF(ISNUMBER(I4),I4<=Summary!$B$3,FALSE),IF(ISNUMBER(J4),J4<=Summary!$B$4,FALSE)),"Due soon","OK")))) -> OK
A5: CR-V | B5: Cabin air filter | C5: 15000 | D5: 12 | E5: =IF(ISBLANK(B5),"",IF(SUMIFS('Service Log'!$A$2:$A$200,'Service Log'!$B$2:$B$200,A5,'Service Log'!$D$2:$D$200,B5,'Service Log'!$H$2:$H$200,1)=0,"",SUMIFS('Service Log'!$A$2:$A$200,'Service Log'!$B$2:$B$200,A5,'Service Log'!$D$2:$D$200,B5,'Service Log'!$H$2:$H$200,1))) -> 46264 | F5: =IF(NOT(ISNUMBER(E5)),"",SUMIFS('Service Log'!$C$2:$C$200,'Service Log'!$B$2:$B$200,A5,'Service Log'!$D$2:$D$200,B5,'Service Log'!$H$2:$H$200,1)) -> 45900 | G5: =IF(AND(ISNUMBER(F5),ISNUMBER(C5)),F5+C5,"") -> 60900 | H5: =IF(AND(ISNUMBER(E5),ISNUMBER(D5)),DATE(YEAR(E5),MONTH(E5)+D5,DAY(E5)),"") -> 46629 | I5: =IF(ISNUMBER(G5),G5-IFERROR(VLOOKUP(A5,Vehicles!$A$2:$F$20,6,FALSE),0),"") -> 12690 | J5: =IF(ISNUMBER(H5),H5-Summary!$B$2,"") -> 299 | K5: =IF(ISBLANK(B5),"",IF(NOT(ISNUMBER(E5)),"No record yet",IF(OR(IF(ISNUMBER(I5),I5<0,FALSE),IF(ISNUMBER(J5),J5<0,FALSE)),"Overdue",IF(OR(IF(ISNUMBER(I5),I5<=Summary!$B$3,FALSE),IF(ISNUMBER(J5),J5<=Summary!$B$4,FALSE)),"Due soon","OK")))) -> OK
A6: CR-V | B6: Brake fluid change | D6: 36 | E6: =IF(ISBLANK(B6),"",IF(SUMIFS('Service Log'!$A$2:$A$200,'Service Log'!$B$2:$B$200,A6,'Service Log'!$D$2:$D$200,B6,'Service Log'!$H$2:$H$200,1)=0,"",SUMIFS('Service Log'!$A$2:$A$200,'Service Log'!$B$2:$B$200,A6,'Service Log'!$D$2:$D$200,B6,'Service Log'!$H$2:$H$200,1))) -> 45181 | F6: =IF(NOT(ISNUMBER(E6)),"",SUMIFS('Service Log'!$C$2:$C$200,'Service Log'!$B$2:$B$200,A6,'Service Log'!$D$2:$D$200,B6,'Service Log'!$H$2:$H$200,1)) -> 27400 | G6: =IF(AND(ISNUMBER(F6),ISNUMBER(C6)),F6+C6,"") | H6: =IF(AND(ISNUMBER(E6),ISNUMBER(D6)),DATE(YEAR(E6),MONTH(E6)+D6,DAY(E6)),"") -> 46277 | I6: =IF(ISNUMBER(G6),G6-IFERROR(VLOOKUP(A6,Vehicles!$A$2:$F$20,6,FALSE),0),"") | J6: =IF(ISNUMBER(H6),H6-Summary!$B$2,"") -> -53 | K6: =IF(ISBLANK(B6),"",IF(NOT(ISNUMBER(E6)),"No record yet",IF(OR(IF(ISNUMBER(I6),I6<0,FALSE),IF(ISNUMBER(J6),J6<0,FALSE)),"Overdue",IF(OR(IF(ISNUMBER(I6),I6<=Summary!$B$3,FALSE),IF(ISNUMBER(J6),J6<=Summary!$B$4,FALSE)),"Due soon","OK")))) -> Overdue
A7: CR-V | B7: Wiper blades | D7: 12 | E7: =IF(ISBLANK(B7),"",IF(SUMIFS('Service Log'!$A$2:$A$200,'Service Log'!$B$2:$B$200,A7,'Service Log'!$D$2:$D$200,B7,'Service Log'!$H$2:$H$200,1)=0,"",SUMIFS('Service Log'!$A$2:$A$200,'Service Log'!$B$2:$B$200,A7,'Service Log'!$D$2:$D$200,B7,'Service Log'!$H$2:$H$200,1))) -> 46061 | F7: =IF(NOT(ISNUMBER(E7)),"",SUMIFS('Service Log'!$C$2:$C$200,'Service Log'!$B$2:$B$200,A7,'Service Log'!$D$2:$D$200,B7,'Service Log'!$H$2:$H$200,1)) -> 39350 | G7: =IF(AND(ISNUMBER(F7),ISNUMBER(C7)),F7+C7,"") | H7: =IF(AND(ISNUMBER(E7),ISNUMBER(D7)),DATE(YEAR(E7),MONTH(E7)+D7,DAY(E7)),"") -> 46426 | I7: =IF(ISNUMBER(G7),G7-IFERROR(VLOOKUP(A7,Vehicles!$A$2:$F$20,6,FALSE),0),"") | J7: =IF(ISNUMBER(H7),H7-Summary!$B$2,"") -> 96 | K7: =IF(ISBLANK(B7),"",IF(NOT(ISNUMBER(E7)),"No record yet",IF(OR(IF(ISNUMBER(I7),I7<0,FALSE),IF(ISNUMBER(J7),J7<0,FALSE)),"Overdue",IF(OR(IF(ISNUMBER(I7),I7<=Summary!$B$3,FALSE),IF(ISNUMBER(J7),J7<=Summary!$B$4,FALSE)),"Due soon","OK")))) -> OK
A8: CR-V | B8: State inspection | D8: 12 | E8: =IF(ISBLANK(B8),"",IF(SUMIFS('Service Log'!$A$2:$A$200,'Service Log'!$B$2:$B$200,A8,'Service Log'!$D$2:$D$200,B8,'Service Log'!$H$2:$H$200,1)=0,"",SUMIFS('Service Log'!$A$2:$A$200,'Service Log'!$B$2:$B$200,A8,'Service Log'!$D$2:$D$200,B8,'Service Log'!$H$2:$H$200,1))) -> 46132 | F8: =IF(NOT(ISNUMBER(E8)),"",SUMIFS('Service Log'!$C$2:$C$200,'Service Log'!$B$2:$B$200,A8,'Service Log'!$D$2:$D$200,B8,'Service Log'!$H$2:$H$200,1)) -> 41880 | G8: =IF(AND(ISNUMBER(F8),ISNUMBER(C8)),F8+C8,"") | H8: =IF(AND(ISNUMBER(E8),ISNUMBER(D8)),DATE(YEAR(E8),MONTH(E8)+D8,DAY(E8)),"") -> 46497 | I8: =IF(ISNUMBER(G8),G8-IFERROR(VLOOKUP(A8,Vehicles!$A$2:$F$20,6,FALSE),0),"") | J8: =IF(ISNUMBER(H8),H8-Summary!$B$2,"") -> 167 | K8: =IF(ISBLANK(B8),"",IF(NOT(ISNUMBER(E8)),"No record yet",IF(OR(IF(ISNUMBER(I8),I8<0,FALSE),IF(ISNUMBER(J8),J8<0,FALSE)),"Overdue",IF(OR(IF(ISNUMBER(I8),I8<=Summary!$B$3,FALSE),IF(ISNUMBER(J8),J8<=Summary!$B$4,FALSE)),"Due soon","OK")))) -> OK
A9: F-150 | B9: Oil and filter change | C9: 5000 | D9: 6 | E9: =IF(ISBLANK(B9),"",IF(SUMIFS('Service Log'!$A$2:$A$200,'Service Log'!$B$2:$B$200,A9,'Service Log'!$D$2:$D$200,B9,'Service Log'!$H$2:$H$200,1)=0,"",SUMIFS('Service Log'!$A$2:$A$200,'Service Log'!$B$2:$B$200,A9,'Service Log'!$D$2:$D$200,B9,'Service Log'!$H$2:$H$200,1))) -> 46183 | F9: =IF(NOT(ISNUMBER(E9)),"",SUMIFS('Service Log'!$C$2:$C$200,'Service Log'!$B$2:$B$200,A9,'Service Log'!$D$2:$D$200,B9,'Service Log'!$H$2:$H$200,1)) -> 109950 | G9: =IF(AND(ISNUMBER(F9),ISNUMBER(C9)),F9+C9,"") -> 114950 | H9: =IF(AND(ISNUMBER(E9),ISNUMBER(D9)),DATE(YEAR(E9),MONTH(E9)+D9,DAY(E9)),"") -> 46366 | I9: =IF(ISNUMBER(G9),G9-IFERROR(VLOOKUP(A9,Vehicles!$A$2:$F$20,6,FALSE),0),"") -> 2310 | J9: =IF(ISNUMBER(H9),H9-Summary!$B$2,"") -> 36 | K9: =IF(ISBLANK(B9),"",IF(NOT(ISNUMBER(E9)),"No record yet",IF(OR(IF(ISNUMBER(I9),I9<0,FALSE),IF(ISNUMBER(J9),J9<0,FALSE)),"Overdue",IF(OR(IF(ISNUMBER(I9),I9<=Summary!$B$3,FALSE),IF(ISNUMBER(J9),J9<=Summary!$B$4,FALSE)),"Due soon","OK")))) -> OK
A10: F-150 | B10: Tire rotation | C10: 7500 | D10: 12 | E10: =IF(ISBLANK(B10),"",IF(SUMIFS('Service Log'!$A$2:$A$200,'Service Log'!$B$2:$B$200,A10,'Service Log'!$D$2:$D$200,B10,'Service Log'!$H$2:$H$200,1)=0,"",SUMIFS('Service Log'!$A$2:$A$200,'Service Log'!$B$2:$B$200,A10,'Service Log'!$D$2:$D$200,B10,'Service Log'!$H$2:$H$200,1))) -> 46183 | F10: =IF(NOT(ISNUMBER(E10)),"",SUMIFS('Service Log'!$C$2:$C$200,'Service Log'!$B$2:$B$200,A10,'Service Log'!$D$2:$D$200,B10,'Service Log'!$H$2:$H$200,1)) -> 109950 | G10: =IF(AND(ISNUMBER(F10),ISNUMBER(C10)),F10+C10,"") -> 117450 | H10: =IF(AND(ISNUMBER(E10),ISNUMBER(D10)),DATE(YEAR(E10),MONTH(E10)+D10,DAY(E10)),"") -> 46548 | I10: =IF(ISNUMBER(G10),G10-IFERROR(VLOOKUP(A10,Vehicles!$A$2:$F$20,6,FALSE),0),"") -> 4810 | J10: =IF(ISNUMBER(H10),H10-Summary!$B$2,"") -> 218 | K10: =IF(ISBLANK(B10),"",IF(NOT(ISNUMBER(E10)),"No record yet",IF(OR(IF(ISNUMBER(I10),I10<0,FALSE),IF(ISNUMBER(J10),J10<0,FALSE)),"Overdue",IF(OR(IF(ISNUMBER(I10),I10<=Summary!$B$3,FALSE),IF(ISNUMBER(J10),J10<=Summary!$B$4,FALSE)),"Due soon","OK")))) -> OK
A11: F-150 | B11: Engine air filter | C11: 15000 | D11: 12 | E11: =IF(ISBLANK(B11),"",IF(SUMIFS('Service Log'!$A$2:$A$200,'Service Log'!$B$2:$B$200,A11,'Service Log'!$D$2:$D$200,B11,'Service Log'!$H$2:$H$200,1)=0,"",SUMIFS('Service Log'!$A$2:$A$200,'Service Log'!$B$2:$B$200,A11,'Service Log'!$D$2:$D$200,B11,'Service Log'!$H$2:$H$200,1))) -> 45920 | F11: =IF(NOT(ISNUMBER(E11)),"",SUMIFS('Service Log'!$C$2:$C$200,'Service Log'!$B$2:$B$200,A11,'Service Log'!$D$2:$D$200,B11,'Service Log'!$H$2:$H$200,1)) -> 101000 | G11: =IF(AND(ISNUMBER(F11),ISNUMBER(C11)),F11+C11,"") -> 116000 | H11: =IF(AND(ISNUMBER(E11),ISNUMBER(D11)),DATE(YEAR(E11),MONTH(E11)+D11,DAY(E11)),"") -> 46285 | I11: =IF(ISNUMBER(G11),G11-IFERROR(VLOOKUP(A11,Vehicles!$A$2:$F$20,6,FALSE),0),"") -> 3360 | J11: =IF(ISNUMBER(H11),H11-Summary!$B$2,"") -> -45 | K11: =IF(ISBLANK(B11),"",IF(NOT(ISNUMBER(E11)),"No record yet",IF(OR(IF(ISNUMBER(I11),I11<0,FALSE),IF(ISNUMBER(J11),J11<0,FALSE)),"Overdue",IF(OR(IF(ISNUMBER(I11),I11<=Summary!$B$3,FALSE),IF(ISNUMBER(J11),J11<=Summary!$B$4,FALSE)),"Due soon","OK")))) -> Overdue
A12: F-150 | B12: Transmission fluid change | C12: 60000 | E12: =IF(ISBLANK(B12),"",IF(SUMIFS('Service Log'!$A$2:$A$200,'Service Log'!$B$2:$B$200,A12,'Service Log'!$D$2:$D$200,B12,'Service Log'!$H$2:$H$200,1)=0,"",SUMIFS('Service Log'!$A$2:$A$200,'Service Log'!$B$2:$B$200,A12,'Service Log'!$D$2:$D$200,B12,'Service Log'!$H$2:$H$200,1))) -> 44695 | F12: =IF(NOT(ISNUMBER(E12)),"",SUMIFS('Service Log'!$C$2:$C$200,'Service Log'!$B$2:$B$200,A12,'Service Log'!$D$2:$D$200,B12,'Service Log'!$H$2:$H$200,1)) -> 60800 | G12: =IF(AND(ISNUMBER(F12),ISNUMBER(C12)),F12+C12,"") -> 120800 | H12: =IF(AND(ISNUMBER(E12),ISNUMBER(D12)),DATE(YEAR(E12),MONTH(E12)+D12,DAY(E12)),"") | I12: =IF(ISNUMBER(G12),G12-IFERROR(VLOOKUP(A12,Vehicles!$A$2:$F$20,6,FALSE),0),"") -> 8160 | J12: =IF(ISNUMBER(H12),H12-Summary!$B$2,"") | K12: =IF(ISBLANK(B12),"",IF(NOT(ISNUMBER(E12)),"No record yet",IF(OR(IF(ISNUMBER(I12),I12<0,FALSE),IF(ISNUMBER(J12),J12<0,FALSE)),"Overdue",IF(OR(IF(ISNUMBER(I12),I12<=Summary!$B$3,FALSE),IF(ISNUMBER(J12),J12<=Summary!$B$4,FALSE)),"Due soon","OK")))) -> OK
A13: F-150 | B13: Spark plugs | C13: 100000 | E13: =IF(ISBLANK(B13),"",IF(SUMIFS('Service Log'!$A$2:$A$200,'Service Log'!$B$2:$B$200,A13,'Service Log'!$D$2:$D$200,B13,'Service Log'!$H$2:$H$200,1)=0,"",SUMIFS('Service Log'!$A$2:$A$200,'Service Log'!$B$2:$B$200,A13,'Service Log'!$D$2:$D$200,B13,'Service Log'!$H$2:$H$200,1))) | F13: =IF(NOT(ISNUMBER(E13)),"",SUMIFS('Service Log'!$C$2:$C$200,'Service Log'!$B$2:$B$200,A13,'Service Log'!$D$2:$D$200,B13,'Service Log'!$H$2:$H$200,1)) | G13: =IF(AND(ISNUMBER(F13),ISNUMBER(C13)),F13+C13,"") | H13: =IF(AND(ISNUMBER(E13),ISNUMBER(D13)),DATE(YEAR(E13),MONTH(E13)+D13,DAY(E13)),"") | I13: =IF(ISNUMBER(G13),G13-IFERROR(VLOOKUP(A13,Vehicles!$A$2:$F$20,6,FALSE),0),"") | J13: =IF(ISNUMBER(H13),H13-Summary!$B$2,"") | K13: =IF(ISBLANK(B13),"",IF(NOT(ISNUMBER(E13)),"No record yet",IF(OR(IF(ISNUMBER(I13),I13<0,FALSE),IF(ISNUMBER(J13),J13<0,FALSE)),"Overdue",IF(OR(IF(ISNUMBER(I13),I13<=Summary!$B$3,FALSE),IF(ISNUMBER(J13),J13<=Summary!$B$4,FALSE)),"Due soon","OK")))) -> No record yet
A14: F-150 | B14: Battery test | D14: 12 | E14: =IF(ISBLANK(B14),"",IF(SUMIFS('Service Log'!$A$2:$A$200,'Service Log'!$B$2:$B$200,A14,'Service Log'!$D$2:$D$200,B14,'Service Log'!$H$2:$H$200,1)=0,"",SUMIFS('Service Log'!$A$2:$A$200,'Service Log'!$B$2:$B$200,A14,'Service Log'!$D$2:$D$200,B14,'Service Log'!$H$2:$H$200,1))) -> 45991 | F14: =IF(NOT(ISNUMBER(E14)),"",SUMIFS('Service Log'!$C$2:$C$200,'Service Log'!$B$2:$B$200,A14,'Service Log'!$D$2:$D$200,B14,'Service Log'!$H$2:$H$200,1)) -> 103900 | G14: =IF(AND(ISNUMBER(F14),ISNUMBER(C14)),F14+C14,"") | H14: =IF(AND(ISNUMBER(E14),ISNUMBER(D14)),DATE(YEAR(E14),MONTH(E14)+D14,DAY(E14)),"") -> 46356 | I14: =IF(ISNUMBER(G14),G14-IFERROR(VLOOKUP(A14,Vehicles!$A$2:$F$20,6,FALSE),0),"") | J14: =IF(ISNUMBER(H14),H14-Summary!$B$2,"") -> 26 | K14: =IF(ISBLANK(B14),"",IF(NOT(ISNUMBER(E14)),"No record yet",IF(OR(IF(ISNUMBER(I14),I14<0,FALSE),IF(ISNUMBER(J14),J14<0,FALSE)),"Overdue",IF(OR(IF(ISNUMBER(I14),I14<=Summary!$B$3,FALSE),IF(ISNUMBER(J14),J14<=Summary!$B$4,FALSE)),"Due soon","OK")))) -> Due soon
E15: =IF(ISBLANK(B15),"",IF(SUMIFS('Service Log'!$A$2:$A$200,'Service Log'!$B$2:$B$200,A15,'Service Log'!$D$2:$D$200,B15,'Service Log'!$H$2:$H$200,1)=0,"",SUMIFS('Service Log'!$A$2:$A$200,'Service Log'!$B$2:$B$200,A15,'Service Log'!$D$2:$D$200,B15,'Service Log'!$H$2:$H$200,1))) | F15: =IF(NOT(ISNUMBER(E15)),"",SUMIFS('Service Log'!$C$2:$C$200,'Service Log'!$B$2:$B$200,A15,'Service Log'!$D$2:$D$200,B15,'Service Log'!$H$2:$H$200,1)) | G15: =IF(AND(ISNUMBER(F15),ISNUMBER(C15)),F15+C15,"") | H15: =IF(AND(ISNUMBER(E15),ISNUMBER(D15)),DATE(YEAR(E15),MONTH(E15)+D15,DAY(E15)),"") | I15: =IF(ISNUMBER(G15),G15-IFERROR(VLOOKUP(A15,Vehicles!$A$2:$F$20,6,FALSE),0),"") | J15: =IF(ISNUMBER(H15),H15-Summary!$B$2,"") | K15: =IF(ISBLANK(B15),"",IF(NOT(ISNUMBER(E15)),"No record yet",IF(OR(IF(ISNUMBER(I15),I15<0,FALSE),IF(ISNUMBER(J15),J15<0,FALSE)),"Overdue",IF(OR(IF(ISNUMBER(I15),I15<=Summary!$B$3,FALSE),IF(ISNUMBER(J15),J15<=Summary!$B$4,FALSE)),"Due soon","OK"))))
E16: =IF(ISBLANK(B16),"",IF(SUMIFS('Service Log'!$A$2:$A$200,'Service Log'!$B$2:$B$200,A16,'Service Log'!$D$2:$D$200,B16,'Service Log'!$H$2:$H$200,1)=0,"",SUMIFS('Service Log'!$A$2:$A$200,'Service Log'!$B$2:$B$200,A16,'Service Log'!$D$2:$D$200,B16,'Service Log'!$H$2:$H$200,1))) | F16: =IF(NOT(ISNUMBER(E16)),"",SUMIFS('Service Log'!$C$2:$C$200,'Service Log'!$B$2:$B$200,A16,'Service Log'!$D$2:$D$200,B16,'Service Log'!$H$2:$H$200,1)) | G16: =IF(AND(ISNUMBER(F16),ISNUMBER(C16)),F16+C16,"") | H16: =IF(AND(ISNUMBER(E16),ISNUMBER(D16)),DATE(YEAR(E16),MONTH(E16)+D16,DAY(E16)),"") | I16: =IF(ISNUMBER(G16),G16-IFERROR(VLOOKUP(A16,Vehicles!$A$2:$F$20,6,FALSE),0),"") | J16: =IF(ISNUMBER(H16),H16-Summary!$B$2,"") | K16: =IF(ISBLANK(B16),"",IF(NOT(ISNUMBER(E16)),"No record yet",IF(OR(IF(ISNUMBER(I16),I16<0,FALSE),IF(ISNUMBER(J16),J16<0,FALSE)),"Overdue",IF(OR(IF(ISNUMBER(I16),I16<=Summary!$B$3,FALSE),IF(ISNUMBER(J16),J16<=Summary!$B$4,FALSE)),"Due soon","OK"))))
E17: =IF(ISBLANK(B17),"",IF(SUMIFS('Service Log'!$A$2:$A$200,'Service Log'!$B$2:$B$200,A17,'Service Log'!$D$2:$D$200,B17,'Service Log'!$H$2:$H$200,1)=0,"",SUMIFS('Service Log'!$A$2:$A$200,'Service Log'!$B$2:$B$200,A17,'Service Log'!$D$2:$D$200,B17,'Service Log'!$H$2:$H$200,1))) | F17: =IF(NOT(ISNUMBER(E17)),"",SUMIFS('Service Log'!$C$2:$C$200,'Service Log'!$B$2:$B$200,A17,'Service Log'!$D$2:$D$200,B17,'Service Log'!$H$2:$H$200,1)) | G17: =IF(AND(ISNUMBER(F17),ISNUMBER(C17)),F17+C17,"") | H17: =IF(AND(ISNUMBER(E17),ISNUMBER(D17)),DATE(YEAR(E17),MONTH(E17)+D17,DAY(E17)),"") | I17: =IF(ISNUMBER(G17),G17-IFERROR(VLOOKUP(A17,Vehicles!$A$2:$F$20,6,FALSE),0),"") | J17: =IF(ISNUMBER(H17),H17-Summary!$B$2,"") | K17: =IF(ISBLANK(B17),"",IF(NOT(ISNUMBER(E17)),"No record yet",IF(OR(IF(ISNUMBER(I17),I17<0,FALSE),IF(ISNUMBER(J17),J17<0,FALSE)),"Overdue",IF(OR(IF(ISNUMBER(I17),I17<=Summary!$B$3,FALSE),IF(ISNUMBER(J17),J17<=Summary!$B$4,FALSE)),"Due soon","OK"))))
E18: =IF(ISBLANK(B18),"",IF(SUMIFS('Service Log'!$A$2:$A$200,'Service Log'!$B$2:$B$200,A18,'Service Log'!$D$2:$D$200,B18,'Service Log'!$H$2:$H$200,1)=0,"",SUMIFS('Service Log'!$A$2:$A$200,'Service Log'!$B$2:$B$200,A18,'Service Log'!$D$2:$D$200,B18,'Service Log'!$H$2:$H$200,1))) | F18: =IF(NOT(ISNUMBER(E18)),"",SUMIFS('Service Log'!$C$2:$C$200,'Service Log'!$B$2:$B$200,A18,'Service Log'!$D$2:$D$200,B18,'Service Log'!$H$2:$H$200,1)) | G18: =IF(AND(ISNUMBER(F18),ISNUMBER(C18)),F18+C18,"") | H18: =IF(AND(ISNUMBER(E18),ISNUMBER(D18)),DATE(YEAR(E18),MONTH(E18)+D18,DAY(E18)),"") | I18: =IF(ISNUMBER(G18),G18-IFERROR(VLOOKUP(A18,Vehicles!$A$2:$F$20,6,FALSE),0),"") | J18: =IF(ISNUMBER(H18),H18-Summary!$B$2,"") | K18: =IF(ISBLANK(B18),"",IF(NOT(ISNUMBER(E18)),"No record yet",IF(OR(IF(ISNUMBER(I18),I18<0,FALSE),IF(ISNUMBER(J18),J18<0,FALSE)),"Overdue",IF(OR(IF(ISNUMBER(I18),I18<=Summary!$B$3,FALSE),IF(ISNUMBER(J18),J18<=Summary!$B$4,FALSE)),"Due soon","OK"))))
E19: =IF(ISBLANK(B19),"",IF(SUMIFS('Service Log'!$A$2:$A$200,'Service Log'!$B$2:$B$200,A19,'Service Log'!$D$2:$D$200,B19,'Service Log'!$H$2:$H$200,1)=0,"",SUMIFS('Service Log'!$A$2:$A$200,'Service Log'!$B$2:$B$200,A19,'Service Log'!$D$2:$D$200,B19,'Service Log'!$H$2:$H$200,1))) | F19: =IF(NOT(ISNUMBER(E19)),"",SUMIFS('Service Log'!$C$2:$C$200,'Service Log'!$B$2:$B$200,A19,'Service Log'!$D$2:$D$200,B19,'Service Log'!$H$2:$H$200,1)) | G19: =IF(AND(ISNUMBER(F19),ISNUMBER(C19)),F19+C19,"") | H19: =IF(AND(ISNUMBER(E19),ISNUMBER(D19)),DATE(YEAR(E19),MONTH(E19)+D19,DAY(E19)),"") | I19: =IF(ISNUMBER(G19),G19-IFERROR(VLOOKUP(A19,Vehicles!$A$2:$F$20,6,FALSE),0),"") | J19: =IF(ISNUMBER(H19),H19-Summary!$B$2,"") | K19: =IF(ISBLANK(B19),"",IF(NOT(ISNUMBER(E19)),"No record yet",IF(OR(IF(ISNUMBER(I19),I19<0,FALSE),IF(ISNUMBER(J19),J19<0,FALSE)),"Overdue",IF(OR(IF(ISNUMBER(I19),I19<=Summary!$B$3,FALSE),IF(ISNUMBER(J19),J19<=Summary!$B$4,FALSE)),"Due soon","OK"))))

Sheet Vehicles
A1: Vehicle | B1: Year | C1: Make | D1: Model | E1: Plate | F1: Current mileage | G1: Mileage as of | H1: Registration due | I1: Spent this year | J1: Spent all time | K1: Services logged
A2: CR-V | B2: 2019 | C2: Honda | D2: CR-V EX | E2: 8KXR214 | F2: 48210 | G2: 46327 | H2: 46477 | I2: =SUMIFS('Service Log'!$F$2:$F$200,'Service Log'!$B$2:$B$200,A2,'Service Log'!$A$2:$A$200,">="&DATE(YEAR(Summary!$B$2),1,1)) -> 1093.84 | J2: =SUMIF('Service Log'!$B$2:$B$200,A2,'Service Log'!$F$2:$F$200) -> 1328.78 | K2: =COUNTIF('Service Log'!$B$2:$B$200,A2) -> 11
A3: F-150 | B3: 2015 | C3: Ford | D3: F-150 XLT | E3: 4TRK992 | F3: 112640 | G3: 46323 | H3: 46599 | I3: =SUMIFS('Service Log'!$F$2:$F$200,'Service Log'!$B$2:$B$200,A3,'Service Log'!$A$2:$A$200,">="&DATE(YEAR(Summary!$B$2),1,1)) -> 451.45 | J3: =SUMIF('Service Log'!$B$2:$B$200,A3,'Service Log'!$F$2:$F$200) -> 693.44 | K3: =COUNTIF('Service Log'!$B$2:$B$200,A3) -> 7

Sheet Summary
A1: Item | B1: Value
A2: Today's date | B2: =DATE(2026,11,4) -> 46330
A3: Due soon within (miles) | B3: 1000
A4: Due soon within (days) | B4: 30
A5: Services overdue | B5: =COUNTIF(Schedule!K2:K100,"Overdue") -> 2
A6: Services due soon | B6: =COUNTIF(Schedule!K2:K100,"Due soon") -> 1
A7: Never logged | B7: =COUNTIF(Schedule!K2:K100,"No record yet") -> 1
A8: Spent this year, all vehicles | B8: =SUM(Vehicles!I2:I20) -> 1545.29
A9: Spent, all time logged | B9: =SUM('Service Log'!F2:F200) -> 2022.22
A10: Services logged | B10: =COUNTA('Service Log'!D2:D200) -> 18
